Workbook

Sheet Maersk
H2: 縂數量
A3: 店舖 | D3: 7211 | H3: 箱 | I3: 包 | J3: 扎 | K3: 件
A4: Maersk運輸收貨日期 | D4: 45940 | H4: =SUM(D12:D36,H12:H36) -> 20 | I4: =SUM(E12:E36,I12:I36) -> 0 | J4: =SUM(F12:F36,J12:J36) -> 0 | K4: =SUM(G12:G36,K12:K36) -> 4
G5: 同事簽名 | J5: 師傅簽名
B8: 送往地點
B9: 店舖 | H9: 貨倉 | L9: 總數 | M9: 備註
B10: 數量 | H10: 數量
A11: 項目 | B11: 送往店舖 | C11: 店舖代碼 | D11: 箱 | E11: 包 | F11: 扎 | G11: 件 | H11: 箱 | I11: 包 | J11: 扎 | K11: 件
A12: 1 | B12: 7227 | C12: =VLOOKUP(B12,Sheet1!B:D,2,0) -> RYC | D12: 1 | L12: =SUM(D12:K12) -> 1 | M12: AHKAL25100593
A13: 2 | B13: 7215 | C13: =VLOOKUP(B13,Sheet1!B:D,2,0) -> RMD | D13: 1 | L13: =SUM(D13:K13) -> 1 | M13: AHKAL25100727
A14: 3 | B14: 7215 | C14: =VLOOKUP(B14,Sheet1!B:D,2,0) -> RMD | D14: 8 | L14: =SUM(D14:K14) -> 8 | M14: AHKAL25100910,AHKAL25100899, AHKAL25100898, AHKAL25100897,AHKAL25100896,AHKAL25100895, AHKAL25100893 ,AHKAL25100890
A15: 4 | B15: 1005 | C15: =VLOOKUP(B15,Sheet1!B:D,2,0) -> WHR | H15: 1 | L15: =SUM(D15:K15) -> 1 | M15: AHKWF2510000232(RMV壞貨 TO WHR)
A16: 5 | B16: 7224 | C16: =VLOOKUP(B16,Sheet1!B:D,2,0) -> RYK | G16: 3 | L16: =SUM(D16:K16) -> 3 | M16: 2部車兜/1只巴士站
A17: 6 | B17: 7215 | C17: =VLOOKUP(B17,Sheet1!B:D,2,0) -> RMD | G17: 1 | L17: =SUM(D17:K17) -> 1 | M17: 巴士站
A18: 7 | B18: 7215 | C18: =VLOOKUP(B18,Sheet1!B:D,2,0) -> RMD | D18: 5 | L18: =SUM(D18:K18) -> 5 | M18: MAtoMD#AHKAL25100884, AHKAL25100883, AHKAL25100881,AHKAL25100779, AHKAL25100778
A19: 8 | B19: 1005 | C19: =VLOOKUP(B19,Sheet1!B:D,2,0) -> WHR | H19: 1 | L19: =SUM(D19:K19) -> 1 | M19: AHKWF2510000132(RMA壞貨 TO WHR)
A20: 9 | B20: 7226 | C20: =VLOOKUP(B20,Sheet1!B:D,2,0) -> RML | D20: 3 | L20: =SUM(D20:K20) -> 3 | M20: MAtoML#AHKAL25100927,AHKAL25100928,AHKAL25100929
A21: 10 | C21: =VLOOKUP(B21,Sheet1!B:D,2,0) -> #N/A | L21: =SUM(D21:K21) -> 0
A22: 11 | C22: =VLOOKUP(B22,Sheet1!B:D,2,0) -> #N/A | L22: =SUM(D22:K22) -> 0
A23: 12 | C23: =VLOOKUP(B23,Sheet1!B:D,2,0) -> #N/A | L23: =SUM(D23:K23) -> 0
A24: 13 | C24: =VLOOKUP(B24,Sheet1!B:D,2,0) -> #N/A | L24: =SUM(D24:K24) -> 0
A25: 14 | C25: =VLOOKUP(B25,Sheet1!B:D,2,0) -> #N/A | L25: =SUM(D25:K25) -> 0
A26: 15 | C26: =VLOOKUP(B26,Sheet1!B:D,2,0) -> #N/A | L26: =SUM(D26:K26) -> 0
A27: 16 | C27: =VLOOKUP(B27,Sheet1!B:D,2,0) -> #N/A | L27: =SUM(D27:K27) -> 0
A28: 17 | C28: =VLOOKUP(B28,Sheet1!B:D,2,0) -> #N/A | L28: =SUM(D28:K28) -> 0
A29: 18 | C29: =VLOOKUP(B29,Sheet1!B:D,2,0) -> #N/A | L29: =SUM(D29:K29) -> 0
A30: 19 | C30: =VLOOKUP(B30,Sheet1!B:D,2,0) -> #N/A | L30: =SUM(D30:K30) -> 0
A31: 20 | C31: =VLOOKUP(B31,Sheet1!B:D,2,0) -> #N/A | L31: =SUM(D31:K31) -> 0
A32: 21 | C32: =VLOOKUP(B32,Sheet1!B:D,2,0) -> #N/A | L32: =SUM(D32:K32) -> 0
... A36: 25 | C36: =VLOOKUP(B36,Sheet1!B:D,2,0) -> #N/A | L36: =SUM(D36:K36) -> 0

Sheet Sheet1
A1: FILA CORE HK | B1: 店代號 | C1: 店名 | D1: Reason
A2: 旺角荷李活商業中心 | B2: 7149 | C2: RM1
A3: 尖沙咀 ISQUARE | B3: 7111 | C3: RIS
A4: 尖沙咀海港城 海運大廈 | B4: 7132 | C4: RO4
A5: Times Square 時代廣場 | B5: 7162 | C5: RT5
A6: 沙田新城市廣場 | B6: 7115 | C6: RNT
A7: 上水新都廣場 | B7: 7148 | C7: RSS
A8: 元朗YOHO Mall I | B8: 7133 | C8: RYO
A9: Telford Plaza Shop 德福廣場 | B9: 7165 | C9: RTC
A10: 又一城Festival Walk | B10: 7130 | C10: RF4
A11: 將軍澳Popcorn | B11: 7118 | C11: RPC
A12: 東涌Citygate Outlet | B12: 7152 | C12: RCG
A13: 屯門V City | B13: 7128 | C13: RVC
... A24: MOKO Pop up 新世紀廣場 | B24: 7192 | C24: SP2
A32: FILA KIDS HK
A33: Ocean Terminal Kids Shop 海港城童裝 | B33: 7150 | C33: RHK
A34: New Town Plaza Kids Shop 新城市廣場童裝 | B34: 7136 | C34: RNK
A35: Sogo Dept. Store Kids 祟光百貨 童裝 | B35: 7121 | C35: RSK
A43: FILA FUSION HK
A44: Kwun Tong apm | B44: 7138 | C44: RAF
A45: Citygate Fusion Outlet Shop 東薈城 | B45: 7158 | C45: RDF
A46: Langham Place Fusion Shop 朗豪坊 | B46: 7140 | C46: RLF
A47: V City Fusion | B47: 7157 | C47: RVF
A48: Ocean Terminal LCX Fusion | B48: 7156 | C48: ROF
A58: FILA WHR HK
A59: A1-正品主倉 | B59: 1001 | C59: WHR | D59: =A59 -> A1-正品主倉
A60: 虛擬倉-批發/寄賣業務暫存 | B60: 1002 | C60: WHR | D60: =A60 -> 虛擬倉-批發/寄賣業務暫存
A61: 虛擬倉-採購部門辦公室/殘次品倉 | B61: 1003 | C61: WHR | D61: =A61 -> 虛擬倉-採購部門辦公室/殘次品倉
A62: C1-瑕疵品倉 | B62: 1004 | C62: WHR | D62: =A62 -> C1-瑕疵品倉
A63: D1-報廢品倉 | B63: 1005 | C63: WHR | D63: =A63 -> D1-報廢品倉
A64: A2-贈品倉 | B64: 1006 | C64: WHR | D64: =A64 -> A2-贈品倉
A65: 虛擬倉-運營部制服 | B65: 1007 | C65: WHR | D65: =A65 -> 虛擬倉-運營部制服
A66: X1-中轉倉 | B66: 1009 | C66: WHR | D66: =A66 -> X1-中轉倉
A67: A3-貨品暫存倉 | B67: 1010 | C67: WHR | D67: =A67 -> A3-貨品暫存倉
A68: 虛擬倉-退貨暫存 | B68: 1011 | C68: WHR | D68: =A68 -> 虛擬倉-退貨暫存
A69: A4-制服倉 | B69: 1013 | C69: WHR | D69: =A69 -> A4-制服倉
A70: 虛擬倉-辦公室市場部貨品 | B70: 1014 | C70: WHR | D70: =A70 -> 虛擬倉-辦公室市場部貨品
... A77: 虛擬倉-工服處理倉 | B77: 1026 | C77: WHR | D77: =A77 -> 虛擬倉-工服處理倉
A78: 虛擬倉-批發/寄賣業務暫存(斐乐) | B78: M1002A | C78: WHR | D78: =A78 -> 虛擬倉-批發/寄賣業務暫存(斐乐)
A79: 虛擬倉-採購部門辦公室/殘次品倉(斐乐) | B79: M1003A | C79: WHR | D79: =A79 -> 虛擬倉-採購部門辦公室/殘次品倉(斐乐)
A80: C1-MRSK-SZ-瑕疵品倉(斐乐) | B80: M1004A | C80: WHR | D80: =A80 -> C1-MRSK-SZ-瑕疵品倉(斐乐)
A81: D1-MRSK-SZ-報廢品倉(斐乐) | B81: M1005A | C81: WHR | D81: =A81 -> D1-MRSK-SZ-報廢品倉(斐乐)
A82: A2-MRSK-SZ-贈品倉(斐乐) | B82: M1006A | C82: WHR | D82: =A82 -> A2-MRSK-SZ-贈品倉(斐乐)
A83: 虛擬倉-運營部制服(斐乐) | B83: M1007A | C83: WHR | D83: =A83 -> 虛擬倉-運營部制服(斐乐)
A84: 虛擬倉-退貨回國內暫存(斐乐) | B84: M1008A | C84: WHR | D84: =A84 -> 虛擬倉-退貨回國內暫存(斐乐)
A85: X1-MRSK-SZ-中轉倉(斐乐) | B85: M1009A | C85: WHR | D85: =A85 -> X1-MRSK-SZ-中轉倉(斐乐)
A86: A3-MRSK-SZ-貨品暫存倉MKT(斐乐) | B86: M1010A | C86: WHR | D86: =A86 -> A3-MRSK-SZ-貨品暫存倉MKT(斐乐)
A87: 虛擬倉-退貨暫存(斐乐) | B87: M1011A | C87: WHR | D87: =A87 -> 虛擬倉-退貨暫存(斐乐)
A88: A4-MRSK-SZ-制服倉(斐乐) | B88: M1013A | C88: WHR | D88: =A88 -> A4-MRSK-SZ-制服倉(斐乐)
A89: 虛擬倉-辦公室市場部貨品(斐乐) | B89: M1014A | C89: WHR | D89: =A89 -> 虛擬倉-辦公室市場部貨品(斐乐)
... A100: 虛擬倉-斐乐陈列物料(斐乐) | B100: M1028A | C100: WHR | D100: =A100 -> 虛擬倉-斐乐陈列物料(斐乐)
A117: FILA MACAU
A118: 澳門威尼斯人旗艦店 | B118: 7221 | C118: RMA
A119: 澳門威尼斯人大運河店 (大貨) | B119: 7211 | C119: RMV
A120: Londoner (大貨) | B120: 7226 | C120: RML
A121: 澳門倫敦人 (大貨) | B121: 7213 | C121: RMC
A122: 澳門板樟堂 (大貨) | B122: 7215 | C122: RMD
A123: 澳門新八佰伴 (大貨) | B123: 7227 | C123: RYC
A124: 澳門葡京人(大貨) | B124: 7225 | C124: RMB
A130: FILA MACAU KIDS
A131: 澳門倫敦人 (KIDS) | B131: 7217 | C131: RCK
A132: 澳門新八佰伴 (KIDS) | B132: 7224 | C132: RYK
A133: 澳門上葡京人 (KIDS) | B133: 7292 | C133: SPL
A139: FILA MACAU 道具
A140: 澳門威尼斯人旗艦店 | B140: 7221-1 | C140: RMA
A141: 澳門威尼斯人大運河店 (大貨) | B141: 7211-1 | C141: RMV
A142: Londoner (大貨) | B142: 7226-1 | C142: RML
A143: 澳門倫敦人 (大貨) | B143: 7213-1 | C143: RMC
A144: 澳門板樟堂 (大貨) | B144: 7215-1 | C144: RMD
A145: 澳門新八佰伴 (大貨) | B145: 7227-1 | C145: RYC
A146: 澳門葡京人(大貨) | B146: 7225-1 | C146: RMB
A152: FILA MACAU KIDS 道具
A153: 澳門倫敦人 (KIDS) | B153: 7217-1 | C153: RCK
A154: 澳門新八佰伴 (KIDS) | B154: 7224-1 | C154: RYK
A155: 澳門上葡京人 (KIDS) | B155: 7292-1 | C155: SPL
A161: 门店职员信息
A162: P2223 Eric | B162: 是 | D162: RMV 同事
A163: M2487 Mi | B163: 否 | D163: M1815 Tim
A164: M1996 Maggie | D164: M1776 Derrick
A165: M2651 Kris | D165: M2518 Silver
A166: M0471 Calvin | D166: M1980 Jessica
A167: M0924 Daniel | D167: M2798 Ryan
A168: M0990 Mia | D168: M2801 Fanny
A169: M1349 Kan | D169: M2172 Janet
A170: M1828 Iris | D170: M2767 Christy
A171: M2034 Joanna | D171: M2867 Nora
A172: M2172 Janet | D172: M2902 Carmen
A173: M2388 Queen | D173: P2223 Eric
A174: M2491 Keith | D174: P2370 Alan
A175: M2518 Silver | D175: P2351 Wendy
A176: M2521 Maggie
A177: M2595 Anson
A178: M2532 Nana
A179: M2661 Losa
A180: M2669 Yoyo
A181: M1442 Phoebe
A182: M0620 Miki
A183: M2382 Yuki
A184: M0989 Susanna
A185: M1758 May
...

Sheet 範例
G2: 數量
A3: 店舖 | C3: 7149 | G3: 箱 | H3: 扎 | I3: 袋 | J3: 件
A4: Maersk運輸收貨日期 | C4: =TODAY() -> 45939 | G4: =SUM(C12:C43,G12:G43) -> 1 | H4: =SUM(D12:D43,H12:H43) -> 10 | I4: =SUM(E12:E43,I12:I43) -> 0 | J4: =SUM(F12:F43,J12:J43) -> 2
B8: 送往地點
B9: 店舖 | G9: 貨倉 | K9: 總數 | L9: 備註
B10: 數量 | G10: 數量
A11: 項目 | B11: 送往店舖 | C11: 箱 | D11: 扎 | E11: 袋 | F11: 件 | G11: 箱 | H11: 扎 | I11: 袋 | J11: 件
A12: 1 | B12: 7169 | D12: 10 | F12: 1 | K12: =SUM(C12:J12) -> 11 | L12: AHKAL25070718，車兜-OPS
A13: 2 | G13: 1 | J13: 1 | K13: =SUM(C13:J13) -> 2 | L13: AHKWF1234567890，(OPS)車兜
A14: 3 | K14: =SUM(C14:J14) -> 0
A15: 4 | K15: =SUM(C15:J15) -> 0
A16: 5 | K16: =SUM(C16:J16) -> 0
A17: 6 | K17: =SUM(C17:J17) -> 0
A18: 7 | K18: =SUM(C18:J18) -> 0
A19: 8 | K19: =SUM(C19:J19) -> 0
A20: 9 | K20: =SUM(C20:J20) -> 0
A21: 10 | K21: =SUM(C21:J21) -> 0
A22: 11 | K22: =SUM(C22:J22) -> 0
A23: 12 | K23: =SUM(C23:J23) -> 0
A24: 13 | K24: =SUM(C24:J24) -> 0
A25: 14 | K25: =SUM(C25:J25) -> 0
... A43: 32 | K43: =SUM(C43:J43) -> 0

Sheet 門店清單
A1: 7152
A2: 7164
A3: 7169
A4: 7167
A5: 7160
A6: 7130
A7: 7111
A8: 7168
A9: 7163
A10: 7149
A11: 7115
A12: 7132
... A34: 7292
A35: B1
A36: 1019
