Workbook

Sheet 銷售匯總
A1: 1-15號 | B1: MTD | C1: 1549004
A2: 大類 | B2: QTY | C2: $$ | D2: %%
A3: 服裝 | B3: =SUMIFS(銷售小票!I:I,銷售小票!B:B,銷售小票!B3) -> 1162 | C3: =SUMIFS(銷售小票!J:J,銷售小票!B:B,銷售小票!B3) -> 1230069 | D3: =C3/C1 -> 0.79410318
A4: 配件 | B4: =SUMIFS(銷售小票!I:I,銷售小票!B:B,銷售小票!B4) -> 264 | C4: =SUMIFS(銷售小票!J:J,銷售小票!B:B,銷售小票!B4) -> 45476 | D4: =C4/C1 -> 0.02935822
A5: 鞋 | B5: =SUMIFS(銷售小票!I:I,銷售小票!B:B,銷售小票!B5) -> 303 | C5: =SUMIFS(銷售小票!J:J,銷售小票!B:B,銷售小票!B5) -> 272861 | D5: =C5/C1 -> 0.17615255
B7: 性別 | C7: QTY | D7: $$ | E7: %%
A8: 服裝 | B8: M | C8: =SUM(SUMIFS(銷售小票!I:I,銷售小票!B:B,銷售小票!B3,銷售小票!E:E,{"MALE","男"})) -> 641 | D8: =SUM(SUMIFS(銷售小票!J:J,銷售小票!B:B,銷售小票!B3,銷售小票!E:E,{"MALE","男"})) -> 664520 | E8: =D8/C3 -> 0.54022986
B9: F | C9: =SUM(SUMIFS(銷售小票!I:I,銷售小票!B:B,銷售小票!B3,銷售小票!E:E,{"FEMALE","女"})) -> 491 | D9: =SUM(SUMIFS(銷售小票!J:J,銷售小票!B:B,銷售小票!B3,銷售小票!E:E,{"FEMALE","女"})) -> 541893 | E9: =D9/C3 -> 0.4405387
B10: U | C10: =SUMIFS(銷售小票!I:I,銷售小票!B:B,銷售小票!B3,銷售小票!E:E,銷售小票!E3) -> 30 | D10: =SUMIFS(銷售小票!J:J,銷售小票!B:B,銷售小票!B3,銷售小票!E:E,銷售小票!E3) -> 23656 | E10: =D10/C3 -> 0.019231441
A11: 鞋 | B11: M | C11: =SUM(SUMIFS(銷售小票!I:I,銷售小票!B:B,銷售小票!B5,銷售小票!E:E,{"MALE","男"})) -> 135 | D11: =SUM(SUMIFS(銷售小票!J:J,銷售小票!B:B,銷售小票!B5,銷售小票!E:E,{"MALE","男"})) -> 128394 | E11: =D11/C5 -> 0.47054727
B12: F | C12: =SUM(SUMIFS(銷售小票!I:I,銷售小票!B:B,銷售小票!B5,銷售小票!E:E,{"FEMALE","女"})) -> 168 | D12: =SUM(SUMIFS(銷售小票!J:J,銷售小票!B:B,銷售小票!B5,銷售小票!E:E,{"FEMALE","女"})) -> 144467 | E12: =D12/C5 -> 0.52945273
B14: QTY | C14: $$ | D14: %%
A15: 內搭 | B15: =SUMIFS(銷售小票!I:I,銷售小票!C:C,銷售小票!C2) -> 223 | C15: =SUMIFS(銷售小票!J:J,銷售小票!C:C,銷售小票!C2) -> 168857 | D15: =C15/C3 -> 0.13727441
A16: 羽絨服 | B16: =SUMIFS(銷售小票!I:I,銷售小票!C:C,銷售小票!C3) -> 70 | C16: =SUMIFS(銷售小票!J:J,銷售小票!C:C,銷售小票!C3) -> 138126 | D16: =C16/C3 -> 0.11229126
A17: 棉服 | B17: =SUMIFS(銷售小票!I:I,銷售小票!C:C,銷售小票!C8) -> 36 | C17: =SUMIFS(銷售小票!J:J,銷售小票!C:C,銷售小票!C8) -> 66732 | D17: =C17/C3 -> 0.054250615
A18: 針織上衣 | B18: =SUMIFS(銷售小票!I:I,銷售小票!C:C,銷售小票!C4) -> 110 | C18: =SUMIFS(銷售小票!J:J,銷售小票!C:C,銷售小票!C4) -> 139044 | D18: =C18/C3 -> 0.11303756
A19: 梭織上衣 | B19: =SUMIFS(銷售小票!I:I,銷售小票!C:C,銷售小票!C6) -> 154 | C19: =SUMIFS(銷售小票!J:J,銷售小票!C:C,銷售小票!C6) -> 274979 | D19: =C19/C3 -> 0.22354762
A20: 針織褲 | B20: =SUMIFS(銷售小票!I:I,銷售小票!C:C,銷售小票!C5) -> 209 | C20: =SUMIFS(銷售小票!J:J,銷售小票!C:C,銷售小票!C5) -> 163553 | D20: =C20/C3 -> 0.13296246
A21: 梭織褲 | B21: =SUMIFS(銷售小票!I:I,銷售小票!C:C,銷售小票!C7) -> 33 | C21: =SUMIFS(銷售小票!J:J,銷售小票!C:C,銷售小票!C7) -> 35743 | D21: =C21/C3 -> 0.02905772
A22: 棒球服 | B22: =SUMIFS(銷售小票!I:I,銷售小票!C:C,銷售小票!C9) -> 10 | C22: =SUMIFS(銷售小票!J:J,銷售小票!C:C,銷售小票!C9) -> 16545 | D22: =C22/C3 -> 0.013450465
A23: 短T類 | B23: =SUMIFS(銷售小票!I:I,銷售小票!C:C,銷售小票!C10) -> 225 | C23: =SUMIFS(銷售小票!J:J,銷售小票!C:C,銷售小票!C10) -> 127279 | D23: =C23/C3 -> 0.10347306
A24: 裙裝 | B24: =SUMIFS(銷售小票!I:I,銷售小票!C:C,銷售小票!C11) -> 8 | C24: =SUMIFS(銷售小票!J:J,銷售小票!C:C,銷售小票!C11) -> 5941 | D24: =C24/C3 -> 0.0048298104
A25: 編織衫 | B25: =SUMIFS(銷售小票!I:I,銷售小票!C:C,銷售小票!C12) -> 78 | C25: =SUMIFS(銷售小票!J:J,銷售小票!C:C,銷售小票!C12) -> 87352 | D25: =C25/C3 -> 0.071013902
A26: 襯衫 | B26: =SUMIFS(銷售小票!I:I,銷售小票!C:C,銷售小票!C13) -> 6 | C26: =SUMIFS(銷售小票!J:J,銷售小票!C:C,銷售小票!C13) -> 5918 | D26: =C26/C3 -> 0.0048111122
A28: 系列占比
B29: QTY | C29: $$ | D29: %%
A30: A.P. | B30: =SUMIFS(銷售小票!I:I,銷售小票!B:B,銷售小票!B3,銷售小票!M:M,銷售小票!M2) -> 55 | C30: =SUMIFS(銷售小票!J:J,銷售小票!B:B,銷售小票!B3,銷售小票!M:M,銷售小票!M2) -> 48551 | D30: =C30/C3 -> 0.039470144
A31: BLUE | B31: =SUMIFS(銷售小票!I:I,銷售小票!B:B,銷售小票!B3,銷售小票!M:M,銷售小票!M3) -> 14 | C31: =SUMIFS(銷售小票!J:J,銷售小票!B:B,銷售小票!B3,銷售小票!M:M,銷售小票!M3) -> 19683 | D31: =C31/C3 -> 0.016001541
A32: CNY | B32: =SUMIFS(銷售小票!I:I,銷售小票!B:B,銷售小票!B3,銷售小票!M:M,銷售小票!M4) -> 90 | C32: =SUMIFS(銷售小票!J:J,銷售小票!B:B,銷售小票!B3,銷售小票!M:M,銷售小票!M4) -> 74550 | D32: =C32/C3 -> 0.060606356
A33: EXPLORE | B33: =SUMIFS(銷售小票!I:I,銷售小票!B:B,銷售小票!B3,銷售小票!M:M,銷售小票!M5) -> 42 | C33: =SUMIFS(銷售小票!J:J,銷售小票!B:B,銷售小票!B3,銷售小票!M:M,銷售小票!M5) -> 94671 | D33: =C33/C3 -> 0.076963975
A34: FILA MILANO | B34: =SUMIFS(銷售小票!I:I,銷售小票!B:B,銷售小票!B3,銷售小票!M:M,銷售小票!M6) -> 5 | C34: =SUMIFS(銷售小票!J:J,銷售小票!B:B,銷售小票!B3,銷售小票!M:M,銷售小票!M6) -> 6806 | D34: =C34/C3 -> 0.0055330229
A35: FILA ORIGINALE | B35: =SUMIFS(銷售小票!I:I,銷售小票!B:B,銷售小票!B3,銷售小票!M:M,銷售小票!M7) -> 137 | C35: =SUMIFS(銷售小票!J:J,銷售小票!B:B,銷售小票!B3,銷售小票!M:M,銷售小票!M7) -> 134333 | D35: =C35/C3 -> 0.10920769
A36: FITNESS | B36: =SUMIFS(銷售小票!I:I,銷售小票!B:B,銷售小票!B3,銷售小票!M:M,銷售小票!M8) -> 199 | C36: =SUMIFS(銷售小票!J:J,銷售小票!B:B,銷售小票!B3,銷售小票!M:M,銷售小票!M8) -> 177169 | D36: =C36/C3 -> 0.14403176
A37: GOLF | B37: =SUMIFS(銷售小票!I:I,銷售小票!B:B,銷售小票!B3,銷售小票!M:M,銷售小票!M9) -> 69 | C37: =SUMIFS(銷售小票!J:J,銷售小票!B:B,銷售小票!B3,銷售小票!M:M,銷售小票!M9) -> 127344 | D37: =C37/C3 -> 0.1035259
A38: HERITAGE | B38: =SUMIFS(銷售小票!I:I,銷售小票!B:B,銷售小票!B3,銷售小票!M:M,銷售小票!M10) -> 245 | C38: =SUMIFS(銷售小票!J:J,銷售小票!B:B,銷售小票!B3,銷售小票!M:M,銷售小票!M10) -> 245371 | D38: =C38/C3 -> 0.19947743
A39: TENNIS | B39: =SUMIFS(銷售小票!I:I,銷售小票!B:B,銷售小票!B3,銷售小票!M:M,銷售小票!M11) -> 30 | C39: =SUMIFS(銷售小票!J:J,銷售小票!B:B,銷售小票!B3,銷售小票!M:M,銷售小票!M11) -> 19562 | D39: =C39/C3 -> 0.015903173
A40: WHITE | B40: =SUMIFS(銷售小票!I:I,銷售小票!B:B,銷售小票!B3,銷售小票!M:M,銷售小票!M12) -> 231 | C40: =SUMIFS(銷售小票!J:J,銷售小票!B:B,銷售小票!B3,銷售小票!M:M,銷售小票!M12) -> 237931 | D40: =C40/C3 -> 0.19342899
A41: 潮牌 | B41: =SUMIFS(銷售小票!I:I,銷售小票!B:B,銷售小票!B3,銷售小票!M:M,銷售小票!M13) -> 45 | C41: =SUMIFS(銷售小票!J:J,銷售小票!B:B,銷售小票!B3,銷售小票!M:M,銷售小票!M13) -> 44098 | D41: =C41/C3 -> 0.035850021

Sheet 銷售小票
A1: 品牌 | B1: 大類 | C1: 中類 | D1: 貨號 | E1: 性別 | F1: 配貨季 | G1: 上市日期 | H1: 實際零售價 | I1: 銷售數量 | J1: 結算金額 | K1: 商品名稱 | L1: 營業員 | M1: 子系列
A2: 斐樂大貨 | B2: 广宣用品 | C2: 內搭 | E2: 女 | F2: 2025Q3 | K2: 上衣两件套 | L2: M0989 Susanna | M2: A.P.
A3: 斐樂潮牌 | B3: 服装 | C3: 羽絨服 | E3: 不分 | F3: 2025Q4 | K3: 女装外套 | L3: M1436 Khaki | M3: BLUE
B4: 配件 | C4: 針織上衣 | E4: 男 | F4: 2026Q1 | K4: 中长款羽绒服 | L4: M2172 Janet | M4: CNY
B5: 鞋类 | C5: 針織褲 | E5: FEMALE | F5: 2026Q2 | K5: 双面穿外套 | L5: M2798 Ryan | M5: EXPLORE
C6: 梭織上衣 | E6: MALE | K6: 长款羽绒服 | L6: M2801 Fanny | M6: FILA MILANO
C7: 梭織褲 | K7: 冲锋衣 | L7: M2902 Carmen | M7: FILA ORIGINALE
C8: 棉服 | K8: 冲锋衣两件套 | L8: M3060 Anson | M8: FITNESS
C9: 棒球服 | K9: 羽绒马甲 | L9: New Staff（待增） | M9: GOLF
C10: 短T類 | K10: 羽绒服 | M10: HERITAGE
C11: 裙裝 | K11: 羽绒服两件套 | M11: TENNIS
C12: 編織衫 | K12: 男装外套 | M12: WHITE
C13: 襯衫 | K13: 针织上衣 | M13: 潮牌
K14: 针织长袖POLO衫
K15: 针织长袖上衣
K16: 针织长袖外套
K17: 针织长袖衫
K18: 针织长裤
K19: 针织连帽上衣
K20: 针织连帽外套
K21: 针织套头衫
K22: 针织短袖POLO衫
K23: 针织短袖衫
K24: 针织裙
K25: 呢子外套
... K36: 编织衫
A55: 銷售小票複製下面 | F55: 銷售小票複製下面 | H55: 銷售小票複製下面 | K55: 銷售小票複製下面
A56: 斐樂大貨 | B56: 配件 | C56: 襪類 | D56: F13W618364FPK | E56: 女 | F56: 2026Q1 | G56: 45995 | H56: 70 | I56: 1 | J56: 70 | K56: 中腰袜 | L56: M0989 Susanna | M56: =IFERROR(VLOOKUP(D56,貨品明細!D:F,3,0),"") -> HERITAGE
A57: 斐樂大貨 | B57: 服装 | C57: 針織上衣 | D57: F11W619508FNV | E57: 女 | F57: 2026Q1 | G57: 46058 | H57: 1088 | I57: 1 | J57: 1088 | K57: 针织长袖外套 | L57: M1436 Khaki | M57: =IFERROR(VLOOKUP(D57,貨品明細!D:F,3,0),"") -> FILA ORIGINALE
A58: 斐樂大貨 | B58: 配件 | C58: 襪類 | D58: A13M531301FWT | E58: 男 | F58: 2025Q3 | G58: 45811 | H58: 51 | I58: 1 | J58: 50 | K58: 低腰袜 | L58: M1436 Khaki | M58: =IFERROR(VLOOKUP(D58,貨品明細!D:F,3,0),"") -> FITNESS
A59: 斐樂大貨 | B59: 配件 | C59: 襪類 | D59: F13M523301FBK | E59: 男 | F59: 2025Q2 | G59: 45722 | H59: 60 | I59: 2 | J59: 116 | K59: 中腰袜 | L59: M1436 Khaki | M59: =IFERROR(VLOOKUP(D59,貨品明細!D:F,3,0),"") -> WHITE
A60: 斐樂大貨 | B60: 服装 | C60: 短T類 | D60: A11M625101FNV | E60: 男 | F60: 2026Q2 | G60: 46086 | H60: 1683 | I60: 1 | J60: 1683 | K60: 梭织短袖衫 | L60: M0989 Susanna | M60: =IFERROR(VLOOKUP(D60,貨品明細!D:F,3,0),"") -> GOLF
A61: 通用 | B61: 其它 | C61: 其它 | D61: PLASTICB0000000 | E61: UNISEX | F61: 2017Q1 | H61: 1 | I61: 39 | J61: 39 | K61: PLASTIC BAG | L61: M2902 Carmen | M61: =IFERROR(VLOOKUP(D61,貨品明細!D:F,3,0),"")
A62: 斐樂大貨 | B62: 服装 | C62: 棉服 | D62: F11M613902FNV | E62: 男 | F62: 2026Q1 | G62: 46009 | H62: 2366 | I62: 1 | J62: 2366 | K62: 棉服两件套-K | L62: M2902 Carmen | M62: =IFERROR(VLOOKUP(D62,貨品明細!D:F,3,0),"") -> WHITE
A63: 斐樂大貨 | B63: 配件 | C63: 襪類 | D63: F13W549363FWI | E63: 女 | F63: 2025Q4 | G63: 45939 | H63: 70 | I63: 1 | J63: 70 | K63: 中腰袜 | L63: M0989 Susanna | M63: =IFERROR(VLOOKUP(D63,貨品明細!D:F,3,0),"") -> FILA ORIGINALE
A64: 斐樂大貨 | B64: 服装 | C64: 梭織上衣 | D64: A11W617701FPU | E64: 女 | F64: 2026Q1 | G64: 46072 | H64: 1584 | I64: 1 | J64: 1584 | K64: 梭织外套 | L64: M2902 Carmen | M64: =IFERROR(VLOOKUP(D64,貨品明細!D:F,3,0),"") -> EXPLORE
A65: 斐樂大貨 | B65: 服装 | C65: 針織褲 | D65: A11W543603FBU | E65: 女 | F65: 2025Q4 | G65: 45967 | H65: 704 | I65: 1 | J65: 704 | K65: 针织长裤 | L65: M2902 Carmen | M65: =IFERROR(VLOOKUP(D65,貨品明細!D:F,3,0),"") -> TENNIS
A66: 斐樂大貨 | B66: 服装 | C66: 內搭 | D66: F11M613214FGN | E66: 男 | F66: 2026Q1 | G66: 46009 | H66: 752 | I66: 1 | J66: 752 | K66: 针织长袖POLO衫 | L66: M2172 Janet | M66: =IFERROR(VLOOKUP(D66,貨品明細!D:F,3,0),"") -> WHITE
A67: 斐樂大貨 | B67: 配件 | C67: 襪類 | D67: F13W618363FWI | E67: 女 | F67: 2026Q1 | G67: 45995 | H67: 63 | I67: 1 | J67: 63 | K67: 中腰袜 | L67: M1436 Khaki | M67: =IFERROR(VLOOKUP(D67,貨品明細!D:F,3,0),"") -> HERITAGE
A68: 斐樂大貨 | B68: 配件 | C68: 襪類 | D68: F13W618364FPK | E68: 女 | F68: 2026Q1 | G68: 45995 | H68: 63 | I68: 1 | J68: 63 | K68: 中腰袜 | L68: M1436 Khaki | M68: =IFERROR(VLOOKUP(D68,貨品明細!D:F,3,0),"") -> HERITAGE
A69: 斐樂大貨 | B69: 服装 | C69: 針織上衣 | D69: F11M613501FNV | E69: 男 | F69: 2026Q1 | G69: 46009 | H69: 1332 | I69: 1 | J69: 1332 | K69: 针织长袖外套 | L69: M2798 Ryan | M69: =IFERROR(VLOOKUP(D69,貨品明細!D:F,3,0),"") -> WHITE
A70: 斐樂大貨 | B70: 服装 | C70: 針織上衣 | D70: A11W621508FGY | E70: 女 | F70: 2026Q2 | G70: 46086 | H70: 1173 | I70: 1 | J70: 1173 | K70: 针织连帽外套 | L70: M2172 Janet | M70: =IFERROR(VLOOKUP(D70,貨品明細!D:F,3,0),"") -> FITNESS
A71: 通用 | B71: 其它 | C71: 其它 | D71: PLASTICB0000000 | E71: UNISEX | F71: 2017Q1 | H71: 1 | I71: 17 | J71: 17 | K71: PLASTIC BAG | L71: M1436 Khaki | M71: =IFERROR(VLOOKUP(D71,貨品明細!D:F,3,0),"")
A72: 斐樂大貨 | B72: 配件 | C72: 襪類 | D72: F13M519302FNV | E72: 男 | F72: 2025Q1 | G72: 45664 | H72: 60 | I72: 2 | J72: 116 | K72: 低腰袜 | L72: M1436 Khaki | M72: =IFERROR(VLOOKUP(D72,貨品明細!D:F,3,0),"") -> FILA ORIGINALE
A73: 斐樂大貨 | B73: 服装 | C73: 內搭 | D73: F11W618207FWT | E73: 女 | F73: 2026Q1 | G73: 45995 | H73: 748 | I73: 1 | J73: 698 | K73: 针织套头衫 | L73: M2798 Ryan | M73: =IFERROR(VLOOKUP(D73,貨品明細!D:F,3,0),"") -> HERITAGE
A74: 斐樂大貨 | B74: 配件 | C74: 襪類 | D74: F13M533302FBK | E74: 男 | F74: 2025Q3 | G74: 45811 | H74: 60 | I74: 2 | J74: 110 | K74: 中腰袜 | L74: M2798 Ryan | M74: =IFERROR(VLOOKUP(D74,貨品明細!D:F,3,0),"") -> WHITE
A75: 斐樂大貨 | B75: 服装 | C75: 羽絨服 | D75: F11W543903FWT | E75: 女 | F75: 2025Q4 | G75: 45923 | H75: 1736 | I75: 1 | J75: 1736 | K75: 羽绒服两件套 | L75: M2798 Ryan | M75: =IFERROR(VLOOKUP(D75,貨品明細!D:F,3,0),"") -> WHITE
A76: 斐樂大貨 | B76: 广宣用品 | C76: 促销品 | D76: U2D251055 | E76: 不分 | F76: 2025Q5 | G76: 45812 | H76: 0 | I76: 2 | J76: 0 | K76: FILA新款拉杆箱（绿色） | L76: M2798 Ryan | M76: =IFERROR(VLOOKUP(D76,貨品明細!D:F,3,0),"") -> 0
A77: 通用 | B77: 其它 | C77: 其它 | D77: PLASTICB0000000 | E77: UNISEX | F77: 2017Q1 | H77: 1 | I77: 31 | J77: 31 | K77: PLASTIC BAG | L77: M2801 Fanny | M77: =IFERROR(VLOOKUP(D77,貨品明細!D:F,3,0),"")
A78: 斐樂大貨 | B78: 服装 | C78: 針織褲 | D78: F11M548610FNV | E78: 男 | F78: 2025Q4 | G78: 45904 | H78: 756 | I78: 1 | J78: 756 | K78: 针织长裤 | L78: M0989 Susanna | M78: =IFERROR(VLOOKUP(D78,貨品明細!D:F,3,0),"") -> HERITAGE
A79: 斐樂大貨 | B79: 服装 | C79: 梭織褲 | D79: F11W618801FBG | E79: 女 | F79: 2026Q1 | G79: 46042 | H79: 784 | I79: 1 | J79: 784 | K79: 梭织长裤 | L79: M2801 Fanny | M79: =IFERROR(VLOOKUP(D79,貨品明細!D:F,3,0),"") -> HERITAGE
A80: 斐樂大貨 | B80: 服装 | C80: 短T類 | D80: A11M621109FDY | E80: 男 | F80: 2026Q2 | G80: 46086 | H80: 612 | I80: 1 | J80: 612 | K80: 针织短袖衫 | L80: M0989 Susanna | M80: =IFERROR(VLOOKUP(D80,貨品明細!D:F,3,0),"") -> FITNESS
A81: 斐樂大貨 | B81: 服装 | C81: 內搭 | D81: A11M615227FBK | E81: 男 | F81: 2026Q1 | G81: 46042 | H81: 1344 | I81: 1 | J81: 1344 | K81: 针织长袖POLO衫 | L81: M2801 Fanny | M81: =IFERROR(VLOOKUP(D81,貨品明細!D:F,3,0),"") -> GOLF
A82: 斐樂潮牌 | B82: 服装 | C82: 棒球服 | D82: T11W612701FRD | E82: 女 | F82: 2026Q1 | G82: 46028 | H82: 1584 | I82: 1 | J82: 1584 | K82: 女装外套 | L82: M2801 Fanny | M82: =IFERROR(VLOOKUP(D82,貨品明細!D:F,3,0),"") -> 潮牌
A83: 斐樂大貨 | B83: 配件 | C83: 襪類 | D83: A13M541304FBK | E83: 男 | F83: 2025Q4 | G83: 45904 | H83: 60 | I83: 4 | J83: 240 | K83: 低腰袜 | L83: M2801 Fanny | M83: =IFERROR(VLOOKUP(D83,貨品明細!D:F,3,0),"") -> FITNESS
A84: 斐樂大貨 | B84: 服装 | C84: 梭織上衣 | D84: F11M613702FNV | E84: 男 | F84: 2026Q1 | G84: 46058 | H84: 1264 | I84: 2 | J84: 2528 | K84: 梭织外套 | L84: M2172 Janet | M84: =IFERROR(VLOOKUP(D84,貨品明細!D:F,3,0),"") -> WHITE
A85: 斐樂大貨 | B85: 配件 | C85: 襪類 | D85: F13W618364FGY | E85: 女 | F85: 2026Q1 | G85: 45995 | H85: 70 | I85: 2 | J85: 135 | K85: 中腰袜 | L85: M2172 Janet | M85: =IFERROR(VLOOKUP(D85,貨品明細!D:F,3,0),"") -> HERITAGE
A86: 斐樂大貨 | B86: 服装 | C86: 梭織上衣 | D86: A11M617729FRD | E86: 男 | F86: 2026Q1 | G86: 46028 | H86: 2784 | I86: 1 | J86: 2784 | K86: 冲锋衣两件套 | L86: M1436 Khaki | M86: =IFERROR(VLOOKUP(D86,貨品明細!D:F,3,0),"") -> EXPLORE
A87: 斐樂大貨 | B87: 广宣用品 | C87: 促销品 | D87: U2D261392 | E87: 不分 | F87: 2026Q5 | G87: 46001 | H87: 0 | I87: 1 | J87: 0 | K87: FILA马年毛绒挂件（红） | L87: M1436 Khaki | M87: =IFERROR(VLOOKUP(D87,貨品明細!D:F,3,0),"") -> 0
A88: 斐樂大貨 | B88: 广宣用品 | C88: 促销品 | D88: U2D251054 | E88: 不分 | F88: 2025Q5 | G88: 45812 | H88: 0 | I88: 2 | J88: 0 | K88: FILA新款拉杆箱（白色） | L88: M2172 Janet | M88: =IFERROR(VLOOKUP(D88,貨品明細!D:F,3,0),"") -> 0
A89: 斐樂大貨 | B89: 服装 | C89: 針織褲 | D89: F11M618607FNV | E89: 男 | F89: 2026Q1 | G89: 46042 | H89: 704 | I89: 1 | J89: 704 | K89: 针织长裤 | L89: M0989 Susanna | M89: =IFERROR(VLOOKUP(D89,貨品明細!D:F,3,0),"") -> HERITAGE
... A97: 斐樂大貨 | B97: 服装 | C97: 針織褲 | D97: F11W548609FNV | E97: 女 | F97: 2025Q4 | G97: 45904 | H97: 774 | I97: 1 | J97: 774 | K97: 针织长裤 | L97: M0989 Susanna | M97: =IFERROR(VLOOKUP(D97,貨品明細!D:F,3,0),"") -> HERITAGE
A98: 通用 | B98: 其它 | C98: 其它 | D98: PLASTICB0000000 | E98: UNISEX | F98: 2017Q1 | H98: 1 | I98: 32 | J98: 32 | K98: PLASTIC BAG | L98: M2801 Fanny | M98: =IFERROR(VLOOKUP(D98,貨品明細!D:F,3,0),"")
A99: 斐樂大貨 | B99: 服装 | C99: 針織褲 | D99: A11M611605FBK | E99: 男 | F99: 2026Q1 | G99: 46058 | H99: 865 | I99: 1 | J99: 865 | K99: 针织长裤 | L99: M2801 Fanny | M99: =IFERROR(VLOOKUP(D99,貨品明細!D:F,3,0),"") -> A.P.
A100: 斐樂大貨 | B100: 服装 | C100: 梭織上衣 | D100: A11M617729FRD | E100: 男 | F100: 2026Q1 | G100: 46028 | H100: 2784 | I100: 1 | J100: 2784 | K100: 冲锋衣两件套 | L100: M2801 Fanny | M100: =IFERROR(VLOOKUP(D100,貨品明細!D:F,3,0),"") -> EXPLORE
A101: 斐樂潮牌 | B101: 服装 | C101: 編織衫 | D101: T11U612402FWT | E101: 不分 | F101: 2026Q1 | G101: 46028 | H101: 944 | I101: 3 | J101: 2832 | K101: 编织衫 | L101: M2801 Fanny | M101: =IFERROR(VLOOKUP(D101,貨品明細!D:F,3,0),"") -> 潮牌
A102: 斐樂大貨 | B102: 服装 | C102: 棉服 | D102: F11M613905FGY | E102: 男 | F102: 2026Q1 | G102: 46009 | H102: 1526 | I102: 1 | J102: 1526 | K102: 棉服 | L102: M0989 Susanna | M102: =IFERROR(VLOOKUP(D102,貨品明細!D:F,3,0),"") -> WHITE
A103: 斐樂大貨 | B103: 服装 | C103: 梭織上衣 | D103: A11M618701FDY | E103: 男 | F103: 2026Q1 | G103: 46072 | H103: 2403 | I103: 1 | J103: 2403 | K103: 冲锋衣 | L103: M0989 Susanna | M103: =IFERROR(VLOOKUP(D103,貨品明細!D:F,3,0),"") -> EXPLORE
A104: 斐樂大貨 | B104: 配件 | C104: 襪類 | D104: F13M619304FPK | E104: 男 | F104: 2026Q1 | G104: 46028 | H104: 58 | I104: 2 | J104: 116 | K104: 中腰袜 | L104: M0989 Susanna | M104: =IFERROR(VLOOKUP(D104,貨品明細!D:F,3,0),"") -> FILA ORIGINALE
A105: 斐樂大貨 | B105: 服装 | C105: 內搭 | D105: A11W611208FBK | E105: 女 | F105: 2026Q1 | G105: 46042 | H105: 704 | I105: 1 | J105: 704 | K105: 针织长袖上衣 | L105: M2172 Janet | M105: =IFERROR(VLOOKUP(D105,貨品明細!D:F,3,0),"") -> FITNESS
A106: 斐樂大貨 | B106: 服装 | C106: 棉服 | D106: F11W618901FWT | E106: 女 | F106: 2026Q1 | G106: 45995 | H106: 1736 | I106: 1 | J106: 1736 | K106: 棉服 | L106: M2798 Ryan | M106: =IFERROR(VLOOKUP(D106,貨品明細!D:F,3,0),"") -> HERITAGE
A107: 斐樂大貨 | B107: 服装 | C107: 內搭 | D107: A11M611209FIV | E107: 男 | F107: 2026Q1 | G107: 46042 | H107: 667 | I107: 1 | J107: 667 | K107: 针织长袖上衣 | L107: M1436 Khaki | M107: =IFERROR(VLOOKUP(D107,貨品明細!D:F,3,0),"") -> FITNESS
A108: 斐樂大貨 | B108: 服装 | C108: 針織褲 | D108: A11W541607FBK | E108: 女 | F108: 2025Q4 | G108: 45953 | H108: 704 | I108: 2 | J108: 1408 | K108: 针织长裤 | L108: M3060 Anson | M108: =IFERROR(VLOOKUP(D108,貨品明細!D:F,3,0),"") -> FITNESS
A109: 斐樂大貨 | B109: 服装 | C109: 梭織褲 | D109: A11M545807FBK | E109: 男 | F109: 2025Q4 | G109: 45953 | H109: 1344 | I109: 1 | J109: 1344 | K109: 梭织长裤 | L109: M1436 Khaki | M109: =IFERROR(VLOOKUP(D109,貨品明細!D:F,3,0),"") -> GOLF
A110: 斐樂大貨 | B110: 服装 | C110: 梭織褲 | D110: A11M545807FBK | E110: 男 | F110: 2025Q4 | G110: 45953 | H110: 1344 | I110: 1 | J110: 1344 | K110: 梭织长裤 | L110: M3060 Anson | M110: =IFERROR(VLOOKUP(D110,貨品明細!D:F,3,0),"") -> GOLF
... A171: 斐樂大貨 | B171: 鞋类 | C171: 老爹鞋 | D171: F12W611113FAA | E171: 女 | F171: 2026Q1 | G171: 46028 | H171: 990 | I171: 1 | J171: 990 | K171: ORIGINALE老爹鞋 | L171: M2902 Carmen | M171: =IFERROR(VLOOKUP(D171,貨品明細!D:F,3,0),"") -> ORIGINALE
A172: 斐樂大貨 | B172: 鞋类 | D172: F12W612114FSS | E172: 女 | F172: 2026Q1 | G172: 46028 | H172: 712 | I172: 1 | J172: 712 | K172: MILANO休闲鞋 | L172: M0989 Susanna | M172: =IFERROR(VLOOKUP(D172,貨品明細!D:F,3,0),"") -> 0
A173: 斐樂大貨 | B173: 配件 | C173: 襪類 | D173: F13M543301FBK | E173: 男 | F173: 2025Q4 | G173: 45904 | H173: 60 | I173: 1 | J173: 60 | K173: 低腰袜 | L173: M2798 Ryan | M173: =IFERROR(VLOOKUP(D173,貨品明細!D:F,3,0),"") -> WHITE
A174: 斐樂大貨 | B174: 配件 | C174: 襪類 | D174: A13M531301FWT | E174: 男 | F174: 2025Q3 | G174: 45811 | H174: 60 | I174: 1 | J174: 60 | K174: 低腰袜 | L174: M2798 Ryan | M174: =IFERROR(VLOOKUP(D174,貨品明細!D:F,3,0),"") -> FITNESS
A175: 斐樂大貨 | B175: 服装 | C175: 針織褲 | D175: F11W613604FNV | E175: 女 | F175: 2026Q1 | G175: 46058 | H175: 774 | I175: 1 | J175: 774 | K175: 针织长裤 | L175: M3060 Anson | M175: =IFERROR(VLOOKUP(D175,貨品明細!D:F,3,0),"") -> WHITE
A176: 斐樂大貨 | B176: 鞋类 | C176: 老爹鞋 | D176: F12W611113FAA | E176: 女 | F176: 2026Q1 | G176: 46028 | H176: 792 | I176: 1 | J176: 792 | K176: ORIGINALE老爹鞋 | L176: M2801 Fanny | M176: =IFERROR(VLOOKUP(D176,貨品明細!D:F,3,0),"") -> ORIGINALE
A177: 斐樂大貨 | B177: 服装 | C177: 短T類 | D177: F11M619102FBN | E177: 男 | F177: 2026Q1 | G177: 46058 | H177: 510 | I177: 1 | J177: 510 | K177: 针织短袖衫 | L177: M1436 Khaki | M177: =IFERROR(VLOOKUP(D177,貨品明細!D:F,3,0),"") -> FILA ORIGINALE
A178: 斐樂大貨 | B178: 鞋类 | C178: 老爹鞋 | D178: F12W611113FVS | E178: 女 | F178: 2026Q1 | G178: 46028 | H178: 792 | I178: 1 | J178: 792 | K178: ORIGINALE老爹鞋 | L178: M2172 Janet | M178: =IFERROR(VLOOKUP(D178,貨品明細!D:F,3,0),"") -> ORIGINALE
A179: 斐樂大貨 | B179: 服装 | C179: 針織褲 | D179: F11W613602FNV | E179: 女 | F179: 2026Q1 | G179: 46009 | H179: 704 | I179: 1 | J179: 704 | K179: 针织长裤 | L179: M0989 Susanna | M179: =IFERROR(VLOOKUP(D179,貨品明細!D:F,3,0),"") -> WHITE
A180: 斐樂大貨 | B180: 鞋类 | C180: 老爹鞋 | D180: F12M611113FMW | E180: 男 | F180: 2026Q1 | G180: 46028 | H180: 792 | I180: 2 | J180: 1584 | K180: ORIGINALE老爹鞋 | L180: M2902 Carmen | M180: =IFERROR(VLOOKUP(D180,貨品明細!D:F,3,0),"") -> ORIGINALE
A181: 斐樂大貨 | B181: 鞋类 | C181: 戶外鞋 | D181: A12M611203FBB | E181: 男 | F181: 2026Q1 | G181: 46028 | H181: 952 | I181: 1 | J181: 952 | K181: EXPLORE户外鞋 | L181: M2902 Carmen | M181: =IFERROR(VLOOKUP(D181,貨品明細!D:F,3,0),"") -> EXPLORE
A182: 斐樂大貨 | B182: 配件 | C182: 襪類 | D182: F13M523302FGY | E182: 男 | F182: 2025Q2 | G182: 45722 | H182: 65 | I182: 1 | J182: 65 | K182: 低腰袜 | L182: M2172 Janet | M182: =IFERROR(VLOOKUP(D182,貨品明細!D:F,3,0),"") -> WHITE
A183: 斐樂大貨 | B183: 服装 | C183: 針織褲 | D183: F11W613604FNV | E183: 女 | F183: 2026Q1 | G183: 46058 | H183: 704 | I183: 1 | J183: 704 | K183: 针织长裤 | L183: M1436 Khaki | M183: =IFERROR(VLOOKUP(D183,貨品明細!D:F,3,0),"") -> WHITE
A184: 斐樂大貨 | B184: 服装 | C184: 短T類 | D184: F11M613103FNV | E184: 男 | F184: 2026Q1 | G184: 46058 | H184: 592 | I184: 1 | J184: 592 | K184: 针织短袖POLO衫 | L184: M1436 Khaki | M184: =IFERROR(VLOOKUP(D184,貨品明細!D:F,3,0),"") -> WHITE
... A231: 斐樂大貨 | B231: 鞋类 | C231: 老爹鞋 | D231: F12M611113FAA | E231: 男 | F231: 2026Q1 | G231: 46028 | H231: 495 | I231: 1 | J231: 495 | K231: ORIGINALE老爹鞋 | L231: M2902 Carmen | M231: =IFERROR(VLOOKUP(D231,貨品明細!D:F,3,0),"") -> ORIGINALE
A232: 斐樂大貨 | B232: 鞋类 | D232: F12W612114FSB | E232: 女 | F232: 2026Q1 | G232: 46028 | H232: 445 | I232: 1 | J232: 445 | K232: MILANO休闲鞋 | L232: M3060 Anson | M232: =IFERROR(VLOOKUP(D232,貨品明細!D:F,3,0),"") -> 0
A233: 斐樂大貨 | B233: 鞋类 | C233: 老爹鞋 | D233: F12W611113FAA | E233: 女 | F233: 2026Q1 | G233: 46028 | H233: 495 | I233: 1 | J233: 495 | K233: ORIGINALE老爹鞋 | L233: M2801 Fanny | M233: =IFERROR(VLOOKUP(D233,貨品明細!D:F,3,0),"") -> ORIGINALE
A234: 斐樂大貨 | B234: 服装 | C234: 內搭 | D234: F11W618201FWT | E234: 女 | F234: 2026Q1 | G234: 46042 | H234: 774 | I234: 1 | J234: 774 | K234: 针织连帽上衣 | L234: M2798 Ryan | M234: =IFERROR(VLOOKUP(D234,貨品明細!D:F,3,0),"") -> HERITAGE
A235: 斐樂大貨 | B235: 服装 | C235: 針織上衣 | D235: A11M611502FBK | E235: 男 | F235: 2026Q1 | G235: 45995 | H235: 1303 | I235: 1 | J235: 1303 | K235: 针织长袖外套 | L235: M2172 Janet | M235: =IFERROR(VLOOKUP(D235,貨品明細!D:F,3,0),"") -> FITNESS
A236: 斐樂大貨 | B236: 服装 | C236: 內搭 | D236: F11U619203FWT | E236: 男 | F236: 2026Q1 | G236: 46028 | H236: 880 | I236: 1 | J236: 880 | K236: 针织连帽上衣 | L236: M3060 Anson | M236: =IFERROR(VLOOKUP(D236,貨品明細!D:F,3,0),"") -> CNY
A237: 斐樂大貨 | B237: 服装 | C237: 短T類 | D237: F11M619105FIV | E237: 男 | F237: 2026Q1 | G237: 46058 | H237: 512 | I237: 1 | J237: 512 | K237: 针织短袖衫 | L237: M2798 Ryan | M237: =IFERROR(VLOOKUP(D237,貨品明細!D:F,3,0),"") -> FILA ORIGINALE
A238: 斐樂大貨 | B238: 服装 | C238: 短T類 | D238: F11M613102FNV | E238: 男 | F238: 2026Q1 | G238: 46058 | H238: 680 | I238: 1 | J238: 680 | K238: 针织短袖衫 | L238: M2172 Janet | M238: =IFERROR(VLOOKUP(D238,貨品明細!D:F,3,0),"") -> WHITE
A239: 斐樂大貨 | B239: 服装 | C239: 內搭 | D239: F11W618211FWT | E239: 女 | F239: 2026Q1 | G239: 45995 | H239: 704 | I239: 1 | J239: 704 | K239: 针织长袖上衣 | L239: M0989 Susanna | M239: =IFERROR(VLOOKUP(D239,貨品明細!D:F,3,0),"") -> HERITAGE
A240: 斐樂大貨 | B240: 配件 | C240: 襪類 | D240: F13M543301FBK | E240: 男 | F240: 2025Q4 | G240: 45904 | H240: 60 | I240: 1 | J240: 60 | K240: 低腰袜 | L240: M3060 Anson | M240: =IFERROR(VLOOKUP(D240,貨品明細!D:F,3,0),"") -> WHITE
A241: 斐樂大貨 | B241: 服装 | C241: 短T類 | D241: F11W628109FWT | E241: 女 | F241: 2026Q2 | G241: 46086 | H241: 680 | I241: 1 | J241: 680 | K241: 针织短袖衫 | L241: M2172 Janet | M241: =IFERROR(VLOOKUP(D241,貨品明細!D:F,3,0),"") -> HERITAGE
...

Sheet 貨品明細
A1: 品牌 | B1: 大類 | C1: 中類 | D1: 貨號 | E1: 性別 | F1: 子系列 | G1: 配貨季 | H1: 上市日期 | I1: 零售價 | J1: 庫存數量 | K1: 商品名稱 | L1: 季節 | M1: 上市批次
A2: 斐樂大貨 | B2: 服装 | C2: 針織褲 | D2: A11M541602FBK | E2: 男 | F2: A.P. | G2: 2025Q4 | H2: 45939 | I2: 1140 | K2: 针织长裤 | L2: 冬季 | M2: 10A
A3: 斐樂大貨 | B3: 服装 | C3: 針織褲 | D3: A11M541602FMG | E3: 男 | F3: A.P. | G3: 2025Q4 | H3: 45939 | I3: 1140 | K3: 针织长裤 | L3: 冬季 | M3: 10A
A4: 斐樂大貨 | B4: 服装 | C4: 羽絨服 | D4: A11M541906FBK | E4: 男 | F4: FITNESS | G4: 2025Q4 | H4: 45904 | I4: 1480 | K4: 羽绒马甲 | L4: 冬季 | M4: 9A
A5: 斐樂大貨 | B5: 服装 | C5: 內搭 | D5: A11M543207FWT | E5: 男 | F5: TENNIS | G5: 2025Q4 | H5: 45923 | I5: 880 | K5: 针织套头衫 | L5: 冬季 | M5: 9B
A6: 斐樂大貨 | B6: 服装 | C6: 針織褲 | D6: A11M543607FBU | E6: 男 | F6: TENNIS | G6: 2025Q4 | H6: 45967 | I6: 880 | K6: 针织长裤 | L6: 冬季 | M6: 11A
A7: 斐樂大貨 | B7: 服装 | C7: 羽絨服 | D7: A11M545917FBK | E7: 男 | F7: GOLF | G7: 2025Q4 | H7: 45904 | I7: 3440 | K7: 羽绒服两件套 | L7: 冬季 | M7: 9A
A8: 斐樂大貨 | B8: 服装 | C8: 羽絨服 | D8: A11M545925FBK | E8: 男 | F8: GOLF | G8: 2025Q4 | H8: 45904 | I8: 2140 | K8: 羽绒马甲 | L8: 冬季 | M8: 9A
A9: 斐樂大貨 | B9: 服装 | C9: 羽絨服 | D9: A11M545935FLK | E9: 男 | F9: GOLF | G9: 2025Q4 | H9: 45967 | I9: 5380 | K9: 羽绒服两件套 | L9: 冬季 | M9: 11A
A10: 斐樂大貨 | B10: 服装 | C10: 羽絨服 | D10: A11M545943FBN | E10: 男 | F10: GOLF | G10: 2025Q4 | H10: 45953 | I10: 2480 | K10: 羽绒马甲 | L10: 冬季 | M10: 10B
A11: 斐樂大貨 | B11: 服装 | C11: 內搭 | D11: A11M611209FBN | E11: 男 | F11: FITNESS | G11: 2026Q1 | H11: 46042 | I11: 780 | K11: 针织长袖上衣 | L11: 春季 | M11: 1B
A12: 斐樂大貨 | B12: 服装 | C12: 針織上衣 | D12: A11M611502FBK | E12: 男 | F12: FITNESS | G12: 2026Q1 | H12: 45995 | I12: 1480 | K12: 针织长袖外套 | L12: 春季 | M12: 12A
A13: 斐樂大貨 | B13: 服装 | C13: 針織褲 | D13: A11M611603FCC | E13: 男 | F13: A.P. | G13: 2026Q1 | H13: 45995 | I13: 1180 | K13: 针织长裤 | L13: 春季 | M13: 12A
... A63: 斐樂大貨 | B63: 鞋类 | C63: 板鞋 | D63: F12W541203FVL | E63: 女 | F63: HERITAGE | G63: 2025Q4 | H63: 45967 | I63: 980 | K63: 摩登板鞋 | L63: 冬季 | M63: 11A
A64: 斐樂大貨 | B64: 鞋类 | C64: 運動鞋 | D64: F12W543119FBI | E64: 女 | G64: 2025Q4 | H64: 45939 | I64: 1240 | K64: 先锋运动鞋 | L64: 冬季 | M64: 10A
A65: 斐樂大貨 | B65: 鞋类 | C65: 老爹鞋 | D65: F12W611113FAA | E65: 女 | F65: ORIGINALE | G65: 2026Q1 | H65: 46028 | I65: 990 | K65: ORIGINALE老爹鞋 | L65: 春季 | M65: 1A
A66: 斐樂大貨 | B66: 鞋类 | D66: F12W611125FCE | E66: 女 | G66: 2026Q1 | H66: 45995 | I66: 1190 | K66: MILANO休闲鞋 | L66: 春季 | M66: 12A
A67: 斐樂大貨 | B67: 鞋类 | C67: 老爹鞋 | D67: F12W612131FTM | E67: 女 | F67: ORIGINALE | G67: 2026Q1 | H67: 46028 | I67: 990 | K67: ORIGINALE老爹鞋 | L67: 春季 | M67: 1A
A68: 斐樂大貨 | B68: 鞋类 | C68: 板鞋 | D68: F12W612217FPA | E68: 女 | F68: HERITAGE | G68: 2026Q1 | H68: 45995 | I68: 1090 | K68: HERITAGE板鞋 | L68: 春季 | M68: 12A
A69: 斐樂大貨 | B69: 配件 | C69: 襪類 | D69: F13M523302FGY | E69: 男 | F69: WHITE | G69: 2025Q2 | H69: 45722 | I69: 65 | K69: 低腰袜 | L69: 夏季 | M69: 3A
A70: 斐樂大貨 | B70: 配件 | C70: 襪類 | D70: F13M523302FNV | E70: 男 | F70: WHITE | G70: 2025Q2 | H70: 45722 | I70: 65 | K70: 低腰袜 | L70: 夏季 | M70: 3A
A71: 斐樂大貨 | B71: 配件 | C71: 包類 | D71: F13M613102FBK | E71: 男 | F71: WHITE | G71: 2026Q1 | H71: 46009 | I71: 1780 | K71: 背包 | L71: 春季 | M71: 12B
A72: 斐樂大貨 | B72: 配件 | C72: 包類 | D72: F13M613103FBK | E72: 男 | F72: WHITE | G72: 2026Q1 | H72: 46009 | I72: 880 | K72: 背包 | L72: 春季 | M72: 12B
A73: 斐樂大貨 | B73: 配件 | C73: 包類 | D73: F13M618107FBK | E73: 男 | F73: HERITAGE | G73: 2026Q1 | H73: 45995 | I73: 680 | K73: 挎包 | L73: 春季 | M73: 12A
A74: 斐樂大貨 | B74: 配件 | C74: 襪類 | D74: F13W539361FNV | E74: 女 | F74: FILA ORIGINALE | G74: 2025Q3 | H74: 45811 | I74: 60 | K74: 低腰袜 | L74: 秋季 | M74: 6A
A75: 斐樂大貨 | B75: 配件 | C75: 包類 | D75: F13W549166FBK | E75: 女 | F75: FILA ORIGINALE | G75: 2025Q4 | H75: 45939 | I75: 740 | K75: 背包 | L75: 冬季 | M75: 10A
A76: 斐樂大貨 | B76: 配件 | C76: 襪類 | D76: F13W549363FWI | E76: 女 | F76: FILA ORIGINALE | G76: 2025Q4 | H76: 45939 | I76: 70 | K76: 中腰袜 | L76: 冬季 | M76: 10A
A77: 斐樂大貨 | B77: 配件 | C77: 包類 | D77: F13W618170FBG | E77: 女 | F77: HERITAGE | G77: 2026Q1 | H77: 45995 | I77: 780 | K77: 背包 | L77: 春季 | M77: 12A
A78: 斐樂大貨 | B78: 配件 | C78: 襪類 | D78: F13W619363FPK | E78: 女 | F78: FILA ORIGINALE | G78: 2026Q1 | H78: 45995 | I78: 70 | K78: 中腰袜 | L78: 春季 | M78: 12A
... A134: 斐樂大貨 | B134: 鞋类 | C134: 運動鞋 | D134: F12W542123FDT | E134: 女 | F134: ORIGINALE | G134: 2025Q4 | H134: 45904 | I134: 980 | K134: 复古运动鞋 | L134: 冬季 | M134: 9A
A135: 斐樂大貨 | B135: 鞋类 | C135: 運動鞋 | D135: F12W543119FBC | E135: 女 | G135: 2025Q4 | H135: 45939 | I135: 1240 | K135: 先锋运动鞋 | L135: 冬季 | M135: 10A
A136: 斐樂大貨 | B136: 鞋类 | C136: 老爹鞋 | D136: F12W611104FSF | E136: 女 | F136: ORIGINALE | G136: 2026Q1 | H136: 45995 | I136: 990 | K136: ORIGINALE老爹鞋 | L136: 春季 | M136: 12A
A137: 斐樂大貨 | B137: 鞋类 | C137: 板鞋 | D137: F12W612217FMD | E137: 女 | F137: HERITAGE | G137: 2026Q1 | H137: 45995 | I137: 1090 | K137: HERITAGE板鞋 | L137: 春季 | M137: 12A
A138: 斐樂大貨 | B138: 配件 | C138: 襪類 | D138: F13M519302FNV | E138: 男 | F138: FILA ORIGINALE | G138: 2025Q1 | H138: 45664 | I138: 60 | K138: 低腰袜 | L138: 春季 | M138: 1A
A139: 斐樂大貨 | B139: 配件 | C139: 襪類 | D139: F13M523301FWT | E139: 男 | F139: WHITE | G139: 2025Q2 | H139: 45722 | I139: 70 | K139: 中腰袜 | L139: 夏季 | M139: 3A
A140: 斐樂大貨 | B140: 配件 | C140: 襪類 | D140: F13M549301FBK | E140: 男 | F140: FILA ORIGINALE | G140: 2025Q4 | H140: 45904 | I140: 70 | K140: 中腰袜 | L140: 冬季 | M140: 9A
A141: 斐樂大貨 | B141: 配件 | C141: 帽類 | D141: F13U428232FBK | E141: 男 | F141: HERITAGE | G141: 2024Q2 | H141: 45400 | I141: 340 | K141: 棒球帽 | L141: 夏季 | M141: 4B
A142: 斐樂大貨 | B142: 配件 | C142: 包類 | D142: F13U539131FBK | E142: 不分 | F142: FILA ORIGINALE | G142: 2025Q3 | H142: 45841 | I142: 780 | K142: 背包 | L142: 秋季 | M142: 7A
A143: 斐樂大貨 | B143: 配件 | C143: 襪類 | D143: F13W539362FPK | E143: 女 | F143: FILA ORIGINALE | G143: 2025Q3 | H143: 45811 | I143: 60 | K143: 浅口袜 | L143: 秋季 | M143: 6A
A144: 斐樂大貨 | B144: 配件 | C144: 包類 | D144: F13W549162FNV | E144: 女 | F144: FILA ORIGINALE | G144: 2025Q4 | H144: 45904 | I144: 780 | K144: 背包 | L144: 冬季 | M144: 9A
A145: 斐樂大貨 | B145: 配件 | C145: 包類 | D145: F13W618171FBK | E145: 女 | F145: HERITAGE | G145: 2026Q1 | H145: 45995 | I145: 680 | K145: 挎包 | L145: 春季 | M145: 12A
A146: 斐樂大貨 | B146: 配件 | C146: 襪類 | D146: F13W618363FWT | E146: 女 | F146: HERITAGE | G146: 2026Q1 | H146: 45995 | I146: 70 | K146: 中腰袜 | L146: 春季 | M146: 12A
A147: 斐樂大貨 | B147: 服装 | C147: 針織上衣 | D147: F71W629511FBN | E147: 女 | F147: FILA ORIGINALE | G147: 2026Q2 | H147: 46045 | I147: 980 | K147: 针织上衣 | L147: 夏季 | M147: 1B
... A202: 斐樂大貨 | B202: 鞋类 | C202: 運動鞋 | D202: F12W542123FWG | E202: 女 | F202: ORIGINALE | G202: 2025Q4 | H202: 45904 | I202: 980 | K202: 复古运动鞋 | L202: 冬季 | M202: 9A
A203: 斐樂大貨 | B203: 鞋类 | C203: 運動鞋 | D203: F12W543119FGM | E203: 女 | G203: 2025Q4 | H203: 45939 | I203: 1240 | K203: 先锋运动鞋 | L203: 冬季 | M203: 10A
A204: 斐樂大貨 | B204: 鞋类 | C204: 板鞋 | D204: F12W611208FCW | E204: 女 | G204: 2026Q1 | H204: 46058 | I204: 990 | K204: MILANO板鞋 | L204: 春季 | M204: 2A
A205: 斐樂大貨 | B205: 鞋类 | C205: 老爹鞋 | D205: F12W612103FPR | E205: 女 | F205: ORIGINALE | G205: 2026Q1 | H205: 45995 | I205: 890 | K205: ORIGINALE老爹鞋 | L205: 春季 | M205: 12A
A206: 斐樂大貨 | B206: 鞋类 | C206: 老爹鞋 | D206: F12W613107FDS | E206: 女 | F206: ORIGINALE | G206: 2026Q1 | H206: 46009 | I206: 1090 | K206: ORIGINALE老爹鞋 | L206: 春季 | M206: 12B
A207: 斐樂大貨 | B207: 鞋类 | C207: 老爹鞋 | D207: F12W613119FHS | E207: 女 | F207: ORIGINALE | G207: 2026Q1 | H207: 46058 | I207: 1090 | K207: ORIGINALE老爹鞋 | L207: 春季 | M207: 2A
A208: 斐樂大貨 | B208: 配件 | C208: 襪類 | D208: F13M519302FWT | E208: 男 | F208: FILA ORIGINALE | G208: 2025Q1 | H208: 45664 | I208: 60 | K208: 低腰袜 | L208: 春季 | M208: 1A
A209: 斐樂大貨 | B209: 配件 | C209: 襪類 | D209: F13M523302FWT | E209: 男 | F209: WHITE | G209: 2025Q2 | H209: 45722 | I209: 65 | K209: 低腰袜 | L209: 夏季 | M209: 3A
A210: 斐樂大貨 | B210: 配件 | C210: 襪類 | D210: F13M533302FBK | E210: 男 | F210: WHITE | G210: 2025Q3 | H210: 45811 | I210: 70 | K210: 中腰袜 | L210: 秋季 | M210: 6A
A211: 斐樂大貨 | B211: 配件 | C211: 包類 | D211: F13M613107FBK | E211: 男 | F211: WHITE | G211: 2026Q1 | H211: 46009 | I211: 780 | K211: 挎包 | L211: 春季 | M211: 12B
A212: 斐樂大貨 | B212: 配件 | C212: 包類 | D212: F13M618103FBK | E212: 男 | F212: HERITAGE | G212: 2026Q1 | H212: 45995 | I212: 940 | K212: 背包 | L212: 春季 | M212: 12A
A213: 斐樂大貨 | B213: 配件 | C213: 帽類 | D213: F13U618234FLK | E213: 女 | F213: HERITAGE | G213: 2026Q1 | H213: 45995 | I213: 340 | K213: 棒球帽 | L213: 春季 | M213: 12A
A214: 斐樂大貨 | B214: 配件 | C214: 襪類 | D214: F13W549363FNV | E214: 女 | F214: FILA ORIGINALE | G214: 2025Q4 | H214: 45939 | I214: 70 | K214: 中腰袜 | L214: 冬季 | M214: 10A
A215: 斐樂大貨 | B215: 配件 | C215: 包類 | D215: F13W613172FBK | E215: 女 | F215: WHITE | G215: 2026Q1 | H215: 45995 | I215: 680 | K215: 挎包 | L215: 春季 | M215: 12A
A216: 斐樂大貨 | B216: 配件 | C216: 包類 | D216: F13W618169FBG | E216: 女 | F216: HERITAGE | G216: 2026Q1 | H216: 45995 | I216: 580 | K216: 挎包 | L216: 春季 | M216: 12A
... A218: 斐樂潮牌 | B218: 鞋类 | C218: 戶外鞋 | D218: T12M611527FTC | E218: 男 | F218: URBAN TECH | G218: 2026Q1 | H218: 46028 | I218: 1090 | K218: 湖系户外 | L218: 春季 | M218: 1A
A219: 斐樂大貨 | B219: 广宣用品 | C219: 促销品 | D219: U2D261392 | E219: 不分 | G219: 2026Q5 | H219: 46001 | I219: 180 | K219: FILA马年毛绒挂件（红） | L219: 常青
A220: 斐樂大貨 | B220: 服装 | C220: 內搭 | D220: A11M541217FBK | E220: 男 | F220: FITNESS | G220: 2025Q4 | H220: 45953 | I220: 880 | K220: 针织套头衫 | L220: 冬季 | M220: 10B
A221: 斐樂大貨 | B221: 服装 | C221: 編織衫 | D221: A11M545403FBN | E221: 男 | F221: GOLF | G221: 2025Q4 | H221: 45953 | I221: 1680 | K221: 编织衫 | L221: 冬季 | M221: 10B
A222: 斐樂大貨 | B222: 服装 | C222: 羽絨服 | D222: A11M545914FBN | E222: 男 | F222: GOLF | G222: 2025Q4 | H222: 45953 | I222: 4580 | K222: 羽绒服两件套 | L222: 冬季 | M222: 10B
A223: 斐樂大貨 | B223: 服装 | C223: 羽絨服 | D223: A11M545950FCC | E223: 男 | F223: GOLF | G223: 2025Q4 | H223: 45967 | I223: 3980 | K223: 羽绒服 | L223: 冬季 | M223: 11A
A224: 斐樂大貨 | B224: 服装 | C224: 針織褲 | D224: A11M611610FBK | E224: 男 | F224: FITNESS | G224: 2026Q1 | H224: 46042 | I224: 880 | K224: 针织长裤 | L224: 春季 | M224: 1B
A225: 斐樂大貨 | B225: 服装 | C225: 棉服 | D225: A11M611904FBU | E225: 男 | F225: FITNESS | G225: 2026Q1 | H225: 45995 | I225: 2180 | K225: 棉服 | L225: 春季 | M225: 12A
A226: 斐樂大貨 | B226: 服装 | C226: 梭織上衣 | D226: A11M617729FRD | E226: 男 | F226: EXPLORE | G226: 2026Q1 | H226: 46028 | I226: 3480 | K226: 冲锋衣两件套 | L226: 春季 | M226: 1A
A227: 斐樂大貨 | B227: 服装 | C227: 內搭 | D227: A11W541213AGY | E227: 女 | F227: FITNESS | G227: 2025Q4 | H227: 45904 | I227: 880 | K227: 针织长袖衫 | L227: 冬季 | M227: 9A
A228: 斐樂大貨 | B228: 服装 | C228: 針織褲 | D228: A11W541612FBK | E228: 女 | F228: FITNESS | G228: 2025Q4 | H228: 45904 | I228: 880 | K228: 针织长裤 | L228: 冬季 | M228: 9A
A229: 斐樂大貨 | B229: 服装 | C229: 羽絨服 | D229: A11W541916FPU | E229: 女 | F229: FITNESS | G229: 2025Q4 | H229: 45953 | I229: 3180 | K229: 羽绒服 | L229: 冬季 | M229: 10B
A230: 斐樂大貨 | B230: 服装 | C230: 內搭 | D230: A11W545212FWT | E230: 女 | F230: GOLF | G230: 2025Q4 | H230: 45953 | I230: 1680 | K230: 针织长袖POLO衫 | L230: 冬季 | M230: 10B
A231: 斐樂大貨 | B231: 服装 | C231: 梭織上衣 | D231: A11W611701FPU | E231: 女 | F231: FITNESS | G231: 2026Q1 | H231: 45995 | I231: 1980 | K231: 梭织外套 | L231: 春季 | M231: 12A
... A272: 斐樂大貨 | B272: 鞋类 | C272: 老爹鞋 | D272: F12M611113FAA | E272: 男 | F272: ORIGINALE | G272: 2026Q1 | H272: 46028 | I272: 990 | K272: ORIGINALE老爹鞋 | L272: 春季 | M272: 1A
A273: 斐樂大貨 | B273: 鞋类 | D273: F12M611125FCA | E273: 男 | G273: 2026Q1 | H273: 45995 | I273: 1190 | K273: MILANO休闲鞋 | L273: 春季 | M273: 12A
A274: 斐樂大貨 | B274: 鞋类 | C274: 老爹鞋 | D274: F12M612131FAA | E274: 男 | F274: ORIGINALE | G274: 2026Q1 | H274: 46028 | I274: 990 | K274: ORIGINALE老爹鞋 | L274: 春季 | M274: 1A
A275: 斐樂大貨 | B275: 鞋类 | C275: 板鞋 | D275: F12M612219FVG | E275: 男 | F275: HERITAGE | G275: 2026Q1 | H275: 46028 | I275: 990 | K275: HERITAGE板鞋 | L275: 春季 | M275: 1A
A276: 斐樂大貨 | B276: 鞋类 | C276: 老爹鞋 | D276: F12M613107FBA | E276: 男 | F276: ORIGINALE | G276: 2026Q1 | H276: 46009 | I276: 1090 | K276: ORIGINALE老爹鞋 | L276: 春季 | M276: 12B
A277: 斐樂大貨 | B277: 鞋类 | C277: 運動鞋 | D277: F12W541108FAM | E277: 女 | F277: ORIGINALE | G277: 2025Q4 | H277: 45939 | I277: 980 | K277: 摩登运动鞋 | L277: 冬季 | M277: 10A
A278: 斐樂大貨 | B278: 鞋类 | C278: 運動鞋 | D278: F12W541145FTF | E278: 女 | F278: ORIGINALE | G278: 2025Q4 | H278: 45939 | I278: 980 | K278: 摩登运动鞋 | L278: 冬季 | M278: 10A
A279: 斐樂大貨 | B279: 鞋类 | C279: 老爹鞋 | D279: F12W611104FBK | E279: 女 | F279: ORIGINALE | G279: 2026Q1 | H279: 45995 | I279: 990 | K279: ORIGINALE老爹鞋 | L279: 春季 | M279: 12A
A280: 斐樂大貨 | B280: 鞋类 | D280: F12W611125FBV | E280: 女 | G280: 2026Q1 | H280: 45995 | I280: 1190 | K280: MILANO休闲鞋 | L280: 春季 | M280: 12A
A281: 斐樂大貨 | B281: 鞋类 | C281: 老爹鞋 | D281: F12W613103FSW | E281: 女 | F281: ORIGINALE | G281: 2026Q1 | H281: 45995 | I281: 1390 | K281: ORIGINALE老爹鞋 | L281: 春季 | M281: 12A
A282: 斐樂大貨 | B282: 鞋类 | C282: 老爹鞋 | D282: F12W622168FSG | E282: 女 | F282: FILA ORIGINALE | G282: 2026Q2 | H282: 46087 | I282: 790 | K282: 老爹鞋 | L282: 夏季 | M282: 3A
A283: 斐樂大貨 | B283: 配件 | C283: 襪類 | D283: F13M539304FBK | E283: 男 | F283: FILA ORIGINALE | G283: 2025Q3 | H283: 45811 | I283: 60 | K283: 低腰袜 | L283: 秋季 | M283: 6A
A284: 斐樂大貨 | B284: 配件 | C284: 襪類 | D284: F13M543301FBK | E284: 男 | F284: WHITE | G284: 2025Q4 | H284: 45904 | I284: 60 | K284: 低腰袜 | L284: 冬季 | M284: 9A
A285: 斐樂大貨 | B285: 配件 | C285: 襪類 | D285: F13M543302FWT | E285: 男 | F285: WHITE | G285: 2025Q4 | H285: 45904 | I285: 60 | K285: 低腰袜 | L285: 冬季 | M285: 9A
A286: 斐樂大貨 | B286: 配件 | C286: 內衣類 | D286: F13M543601FNV | E286: 男 | F286: WHITE | G286: 2025Q4 | H286: 45967 | I286: 200 | K286: 内裤 | L286: 冬季 | M286: 11A
A287: 斐樂大貨 | B287: 配件 | C287: 包類 | D287: F13W548161FBK | E287: FEMALE | F287: HERITAGE | G287: 2025Q4 | H287: 45904 | I287: 680 | K287: 挎包 | L287: 冬季 | M287: 9A
A288: 斐樂大貨 | B288: 配件 | C288: 包類 | D288: F13W549165FBK | E288: 女 | F288: FILA ORIGINALE | G288: 2025Q4 | H288: 45939 | I288: 680 | K288: 挎包 | L288: 冬季 | M288: 10A
A289: 斐樂大貨 | B289: 配件 | C289: 襪類 | D289: F13W549362FWT | E289: 女 | F289: FILA ORIGINALE | G289: 2025Q4 | H289: 45904 | I289: 70 | K289: 中腰袜 | L289: 冬季 | M289: 9A
A290: 斐樂大貨 | B290: 配件 | C290: 包類 | D290: F13W618169FBK | E290: 女 | F290: HERITAGE | G290: 2026Q1 | H290: 45995 | I290: 580 | K290: 挎包 | L290: 春季 | M290: 12A
A291: 斐樂大貨 | B291: 服装 | C291: 針織褲 | D291: F71W629611FDB | E291: 女 | F291: FILA ORIGINALE | G291: 2026Q2 | H291: 46045 | I291: 880 | K291: 针织长裤 | L291: 夏季 | M291: 1B
A292: 斐樂潮牌 | B292: 配件 | C292: 包類 | D292: T13U611102FBK | E292: 不分 | G292: 2026Q1 | H292: 46009 | I292: 980 | K292: 背包 | L292: 春季 | M292: 12B
A293: 斐樂大貨 | B293: 广宣用品 | C293: 促销品 | D293: U2D251055 | E293: 不分 | G293: 2025Q5 | H293: 45812 | I293: 3280 | K293: FILA新款拉杆箱（绿色） | L293: 常青
A294: 斐樂大貨 | B294: 服装 | C294: 針織上衣 | D294: A11M545502FBK | E294: 男 | F294: GOLF | G294: 2025Q4 | H294: 45904 | I294: 2480 | K294: 针织长袖外套 | L294: 冬季 | M294: 9A
A295: 斐樂大貨 | B295: 服装 | C295: 梭織褲 | D295: A11M547803FBK | E295: 男 | F295: EXPLORE | G295: 2025Q4 | H295: 45939 | I295: 1140 | K295: 梭织长裤 | L295: 冬季 | M295: 10A
A296: 斐樂大貨 | B296: 服装 | C296: 短T類 | D296: A11M611101FBK | E296: 男 | F296: FITNESS | G296: 2026Q1 | H296: 46042 | I296: 580 | K296: 针织短袖衫 | L296: 春季 | M296: 1B
A297: 斐樂大貨 | B297: 服装 | C297: 短T類 | D297: A11M611101FWI | E297: 男 | F297: FITNESS | G297: 2026Q1 | H297: 46042 | I297: 580 | K297: 针织短袖衫 | L297: 春季 | M297: 1B
A298: 斐樂大貨 | B298: 服装 | C298: 內搭 | D298: A11M611210FBK | E298: 男 | F298: FITNESS | G298: 2026Q1 | H298: 46042 | I298: 880 | K298: 针织套头衫 | L298: 春季 | M298: 1B
A299: 斐樂大貨 | B299: 服装 | C299: 針織褲 | D299: A11M611605FDY | E299: 男 | F299: A.P. | G299: 2026Q1 | H299: 46058 | I299: 980 | K299: 针织长裤 | L299: 春季 | M299: 2A
...
