Workbook

Sheet 銷售匯總
A1: 1-15號 | B1: MTD | C1: 1549004
A2: 大類 | B2: QTY | C2: $$ | D2: %%
A3: 服裝 | B3: =SUMIFS(銷售小票!I:I,銷售小票!B:B,銷售小票!B3) -> 1162 | C3: =SUMIFS(銷售小票!J:J,銷售小票!B:B,銷售小票!B3) -> 1230069 | D3: =C3/C1 -> 0.79410318
A4: 配件 | B4: =SUMIFS(銷售小票!I:I,銷售小票!B:B,銷售小票!B4) -> 264 | C4: =SUMIFS(銷售小票!J:J,銷售小票!B:B,銷售小票!B4) -> 45476 | D4: =C4/C1 -> 0.02935822
A5: 鞋 | B5: =SUMIFS(銷售小票!I:I,銷售小票!B:B,銷售小票!B5) -> 303 | C5: =SUMIFS(銷售小票!J:J,銷售小票!B:B,銷售小票!B5) -> 272861 | D5: =C5/C1 -> 0.17615255
B7: 性別 | C7: QTY | D7: $$ | E7: %%
A8: 服裝 | B8: M | C8: =SUM(SUMIFS(銷售小票!I:I,銷售小票!B:B,銷售小票!B3,銷售小票!E:E,{"MALE","男"})) -> 641 | D8: =SUM(SUMIFS(銷售小票!J:J,銷售小票!B:B,銷售小票!B3,銷售小票!E:E,{"MALE","男"})) -> 664520 | E8: =D8/C3 -> 0.54022986
B9: F | C9: =SUM(SUMIFS(銷售小票!I:I,銷售小票!B:B,銷售小票!B3,銷售小票!E:E,{"FEMALE","女"})) -> 491 | D9: =SUM(SUMIFS(銷售小票!J:J,銷售小票!B:B,銷售小票!B3,銷售小票!E:E,{"FEMALE","女"})) -> 541893 | E9: =D9/C3 -> 0.4405387
B10: U | C10: =SUMIFS(銷售小票!I:I,銷售小票!B:B,銷售小票!B3,銷售小票!E:E,銷售小票!E3) -> 30 | D10: =SUMIFS(銷售小票!J:J,銷售小票!B:B,銷售小票!B3,銷售小票!E:E,銷售小票!E3) -> 23656 | E10: =D10/C3 -> 0.019231441
A11: 鞋 | B11: M | C11: =SUM(SUMIFS(銷售小票!I:I,銷售小票!B:B,銷售小票!B5,銷售小票!E:E,{"MALE","男"})) -> 135 | D11: =SUM(SUMIFS(銷售小票!J:J,銷售小票!B:B,銷售小票!B5,銷售小票!E:E,{"MALE","男"})) -> 128394 | E11: =D11/C5 -> 0.47054727
B12: F | C12: =SUM(SUMIFS(銷售小票!I:I,銷售小票!B:B,銷售小票!B5,銷售小票!E:E,{"FEMALE","女"})) -> 168 | D12: =SUM(SUMIFS(銷售小票!J:J,銷售小票!B:B,銷售小票!B5,銷售小票!E:E,{"FEMALE","女"})) -> 144467 | E12: =D12/C5 -> 0.52945273
B14: QTY | C14: $$ | D14: %%
A15: 內搭 | B15: =SUMIFS(銷售小票!I:I,銷售小票!C:C,銷售小票!C2) -> 223 | C15: =SUMIFS(銷售小票!J:J,銷售小票!C:C,銷售小票!C2) -> 168857 | D15: =C15/C3 -> 0.13727441
A16: 羽絨服 | B16: =SUMIFS(銷售小票!I:I,銷售小票!C:C,銷售小票!C3) -> 70 | C16: =SUMIFS(銷售小票!J:J,銷售小票!C:C,銷售小票!C3) -> 138126 | D16: =C16/C3 -> 0.11229126
A17: 棉服 | B17: =SUMIFS(銷售小票!I:I,銷售小票!C:C,銷售小票!C8) -> 36 | C17: =SUMIFS(銷售小票!J:J,銷售小票!C:C,銷售小票!C8) -> 66732 | D17: =C17/C3 -> 0.054250615
A18: 針織上衣 | B18: =SUMIFS(銷售小票!I:I,銷售小票!C:C,銷售小票!C4) -> 110 | C18: =SUMIFS(銷售小票!J:J,銷售小票!C:C,銷售小票!C4) -> 139044 | D18: =C18/C3 -> 0.11303756
A19: 梭織上衣 | B19: =SUMIFS(銷售小票!I:I,銷售小票!C:C,銷售小票!C6) -> 154 | C19: =SUMIFS(銷售小票!J:J,銷售小票!C:C,銷售小票!C6) -> 274979 | D19: =C19/C3 -> 0.22354762
A20: 針織褲 | B20: =SUMIFS(銷售小票!I:I,銷售小票!C:C,銷售小票!C5) -> 209 | C20: =SUMIFS(銷售小票!J:J,銷售小票!C:C,銷售小票!C5) -> 163553 | D20: =C20/C3 -> 0.13296246
A21: 梭織褲 | B21: =SUMIFS(銷售小票!I:I,銷售小票!C:C,銷售小票!C7) -> 33 | C21: =SUMIFS(銷售小票!J:J,銷售小票!C:C,銷售小票!C7) -> 35743 | D21: =C21/C3 -> 0.02905772
A22: 棒球服 | B22: =SUMIFS(銷售小票!I:I,銷售小票!C:C,銷售小票!C9) -> 10 | C22: =SUMIFS(銷售小票!J:J,銷售小票!C:C,銷售小票!C9) -> 16545 | D22: =C22/C3 -> 0.013450465
A23: 短T類 | B23: =SUMIFS(銷售小票!I:I,銷售小票!C:C,銷售小票!C10) -> 225 | C23: =SUMIFS(銷售小票!J:J,銷售小票!C:C,銷售小票!C10) -> 127279 | D23: =C23/C3 -> 0.10347306
A24: 裙裝 | B24: =SUMIFS(銷售小票!I:I,銷售小票!C:C,銷售小票!C11) -> 8 | C24: =SUMIFS(銷售小票!J:J,銷售小票!C:C,銷售小票!C11) -> 5941 | D24: =C24/C3 -> 0.0048298104
A25: 編織衫 | B25: =SUMIFS(銷售小票!I:I,銷售小票!C:C,銷售小票!C12) -> 78 | C25: =SUMIFS(銷售小票!J:J,銷售小票!C:C,銷售小票!C12) -> 87352 | D25: =C25/C3 -> 0.071013902
A26: 襯衫 | B26: =SUMIFS(銷售小票!I:I,銷售小票!C:C,銷售小票!C13) -> 6 | C26: =SUMIFS(銷售小票!J:J,銷售小票!C:C,銷售小票!C13) -> 5918 | D26: =C26/C3 -> 0.0048111122
A28: 系列占比
B29: QTY | C29: $$ | D29: %%
A30: A.P. | B30: =SUMIFS(銷售小票!I:I,銷售小票!B:B,銷售小票!B3,銷售小票!M:M,銷售小票!M2) -> 55 | C30: =SUMIFS(銷售小票!J:J,銷售小票!B:B,銷售小票!B3,銷售小票!M:M,銷售小票!M2) -> 48551 | D30: =C30/C3 -> 0.039470144
A31: BLUE | B31: =SUMIFS(銷售小票!I:I,銷售小票!B:B,銷售小票!B3,銷售小票!M:M,銷售小票!M3) -> 14 | C31: =SUMIFS(銷售小票!J:J,銷售小票!B:B,銷售小票!B3,銷售小票!M:M,銷售小票!M3) -> 19683 | D31: =C31/C3 -> 0.016001541
A32: CNY | B32: =SUMIFS(銷售小票!I:I,銷售小票!B:B,銷售小票!B3,銷售小票!M:M,銷售小票!M4) -> 90 | C32: =SUMIFS(銷售小票!J:J,銷售小票!B:B,銷售小票!B3,銷售小票!M:M,銷售小票!M4) -> 74550 | D32: =C32/C3 -> 0.060606356
A33: EXPLORE | B33: =SUMIFS(銷售小票!I:I,銷售小票!B:B,銷售小票!B3,銷售小票!M:M,銷售小票!M5) -> 42 | C33: =SUMIFS(銷售小票!J:J,銷售小票!B:B,銷售小票!B3,銷售小票!M:M,銷售小票!M5) -> 94671 | D33: =C33/C3 -> 0.076963975
A34: FILA MILANO | B34: =SUMIFS(銷售小票!I:I,銷售小票!B:B,銷售小票!B3,銷售小票!M:M,銷售小票!M6) -> 5 | C34: =SUMIFS(銷售小票!J:J,銷售小票!B:B,銷售小票!B3,銷售小票!M:M,銷售小票!M6) -> 6806 | D34: =C34/C3 -> 0.0055330229
A35: FILA ORIGINALE | B35: =SUMIFS(銷售小票!I:I,銷售小票!B:B,銷售小票!B3,銷售小票!M:M,銷售小票!M7) -> 137 | C35: =SUMIFS(銷售小票!J:J,銷售小票!B:B,銷售小票!B3,銷售小票!M:M,銷售小票!M7) -> 134333 | D35: =C35/C3 -> 0.10920769
A36: FITNESS | B36: =SUMIFS(銷售小票!I:I,銷售小票!B:B,銷售小票!B3,銷售小票!M:M,銷售小票!M8) -> 199 | C36: =SUMIFS(銷售小票!J:J,銷售小票!B:B,銷售小票!B3,銷售小票!M:M,銷售小票!M8) -> 177169 | D36: =C36/C3 -> 0.14403176
A37: GOLF | B37: =SUMIFS(銷售小票!I:I,銷售小票!B:B,銷售小票!B3,銷售小票!M:M,銷售小票!M9) -> 69 | C37: =SUMIFS(銷售小票!J:J,銷售小票!B:B,銷售小票!B3,銷售小票!M:M,銷售小票!M9) -> 127344 | D37: =C37/C3 -> 0.1035259
A38: HERITAGE | B38: =SUMIFS(銷售小票!I:I,銷售小票!B:B,銷售小票!B3,銷售小票!M:M,銷售小票!M10) -> 245 | C38: =SUMIFS(銷售小票!J:J,銷售小票!B:B,銷售小票!B3,銷售小票!M:M,銷售小票!M10) -> 245371 | D38: =C38/C3 -> 0.19947743
A39: TENNIS | B39: =SUMIFS(銷售小票!I:I,銷售小票!B:B,銷售小票!B3,銷售小票!M:M,銷售小票!M11) -> 30 | C39: =SUMIFS(銷售小票!J:J,銷售小票!B:B,銷售小票!B3,銷售小票!M:M,銷售小票!M11) -> 19562 | D39: =C39/C3 -> 0.015903173
A40: WHITE | B40: =SUMIFS(銷售小票!I:I,銷售小票!B:B,銷售小票!B3,銷售小票!M:M,銷售小票!M12) -> 231 | C40: =SUMIFS(銷售小票!J:J,銷售小票!B:B,銷售小票!B3,銷售小票!M:M,銷售小票!M12) -> 237931 | D40: =C40/C3 -> 0.19342899
A41: 潮牌 | B41: =SUMIFS(銷售小票!I:I,銷售小票!B:B,銷售小票!B3,銷售小票!M:M,銷售小票!M13) -> 45 | C41: =SUMIFS(銷售小票!J:J,銷售小票!B:B,銷售小票!B3,銷售小票!M:M,銷售小票!M13) -> 44098 | D41: =C41/C3 -> 0.035850021

Sheet 銷售小票
A1: 品牌 | B1: 大類 | C1: 中類 | D1: 貨號 | E1: 性別 | F1: 配貨季 | G1: 上市日期 | H1: 實際零售價 | I1: 銷售數量 | J1: 結算金額 | K1: 商品名稱 | L1: 營業員 | M1: 子系列
A2: 斐樂大貨 | B2: 广宣用品 | C2: 內搭 | E2: 女 | F2: 2025Q3 | K2: 上衣两件套 | L2: M0989 Susanna | M2: A.P.
A3: 斐樂潮牌 | B3: 服装 | C3: 羽絨服 | E3: 不分 | F3: 2025Q4 | K3: 女装外套 | L3: M1436 Khaki | M3: BLUE
B4: 配件 | C4: 針織上衣 | E4: 男 | F4: 2026Q1 | K4: 中长款羽绒服 | L4: M2172 Janet | M4: CNY
B5: 鞋类 | C5: 針織褲 | E5: FEMALE | F5: 2026Q2 | K5: 双面穿外套 | L5: M2798 Ryan | M5: EXPLORE
C6: 梭織上衣 | E6: MALE | K6: 长款羽绒服 | L6: M2801 Fanny | M6: FILA MILANO
C7: 梭織褲 | K7: 冲锋衣 | L7: M2902 Carmen | M7: FILA ORIGINALE
C8: 棉服 | K8: 冲锋衣两件套 | L8: M3060 Anson | M8: FITNESS
C9: 棒球服 | K9: 羽绒马甲 | L9: New Staff（待增） | M9: GOLF
C10: 短T類 | K10: 羽绒服 | M10: HERITAGE
C11: 裙裝 | K11: 羽绒服两件套 | M11: TENNIS
C12: 編織衫 | K12: 男装外套 | M12: WHITE
C13: 襯衫 | K13: 针织上衣 | M13: 潮牌
K14: 针织长袖POLO衫
K15: 针织长袖上衣
K16: 针织长袖外套
K17: 针织长袖衫
K18: 针织长裤
K19: 针织连帽上衣
K20: 针织连帽外套
K21: 针织套头衫
K22: 针织短袖POLO衫
K23: 针织短袖衫
K24: 针织裙
K25: 呢子外套
... K36: 编织衫
A55: 銷售小票複製下面 | F55: 銷售小票複製下面 | H55: 銷售小票複製下面 | K55: 銷售小票複製下面
A56: 斐樂大貨 | B56: 配件 | C56: 襪類 | D56: F13W618364FPK | E56: 女 | F56: 2026Q1 | G56: 45995 | H56: 70 | I56: 1 | J56: 70 | K56: 中腰袜 | L56: M0989 Susanna | M56: =IFERROR(VLOOKUP(D56,貨品明細!D:F,3,0),"") -> HERITAGE
A57: 斐樂大貨 | B57: 服装 | C57: 針織上衣 | D57: F11W619508FNV | E57: 女 | F57: 2026Q1 | G57: 46058 | H57: 1088 | I57: 1 | J57: 1088 | K57: 针织长袖外套 | L57: M1436 Khaki | M57: =IFERROR(VLOOKUP(D57,貨品明細!D:F,3,0),"") -> FILA ORIGINALE
A58: 斐樂大貨 | B58: 配件 | C58: 襪類 | D58: A13M531301FWT | E58: 男 | F58: 2025Q3 | G58: 45811 | H58: 51 | I58: 1 | J58: 50 | K58: 低腰袜 | L58: M1436 Khaki | M58: =IFERROR(VLOOKUP(D58,貨品明細!D:F,3,0),"") -> FITNESS
A59: 斐樂大貨 | B59: 配件 | C59: 襪類 | D59: F13M523301FBK | E59: 男 | F59: 2025Q2 | G59: 45722 | H59: 60 | I59: 2 | J59: 116 | K59: 中腰袜 | L59: M1436 Khaki | M59: =IFERROR(VLOOKUP(D59,貨品明細!D:F,3,0),"") -> WHITE
A60: 斐樂大貨 | B60: 服装 | C60: 短T類 | D60: A11M625101FNV | E60: 男 | F60: 2026Q2 | G60: 46086 | H60: 1683 | I60: 1 | J60: 1683 | K60: 梭织短袖衫 | L60: M0989 Susanna | M60: =IFERROR(VLOOKUP(D60,貨品明細!D:F,3,0),"") -> GOLF
A61: 通用 | B61: 其它 | C61: 其它 | D61: PLASTICB0000000 | E61: UNISEX | F61: 2017Q1 | H61: 1 | I61: 39 | J61: 39 | K61: PLASTIC BAG | L61: M2902 Carmen | M61: =IFERROR(VLOOKUP(D61,貨品明細!D:F,3,0),"")
A62: 斐樂大貨 | B62: 服装 | C62: 棉服 | D62: F11M613902FNV | E62: 男 | F62: 2026Q1 | G62: 46009 | H62: 2366 | I62: 1 | J62: 2366 | K62: 棉服两件套-K | L62: M2902 Carmen | M62: =IFERROR(VLOOKUP(D62,貨品明細!D:F,3,0),"") -> WHITE
A63: 斐樂大貨 | B63: 配件 | C63: 襪類 | D63: F13W549363FWI | E63: 女 | F63: 2025Q4 | G63: 45939 | H63: 70 | I63: 1 | J63: 70 | K63: 中腰袜 | L63: M0989 Susanna | M63: =IFERROR(VLOOKUP(D63,貨品明細!D:F,3,0),"") -> FILA ORIGINALE
A64: 斐樂大貨 | B64: 服装 | C64: 梭織上衣 | D64: A11W617701FPU | E64: 女 | F64: 2026Q1 | G64: 46072 | H64: 1584 | I64: 1 | J64: 1584 | K64: 梭织外套 | L64: M2902 Carmen | M64: =IFERROR(VLOOKUP(D64,貨品明細!D:F,3,0),"") -> EXPLORE
A65: 斐樂大貨 | B65: 服装 | C65: 針織褲 | D65: A11W543603FBU | E65: 女 | F65: 2025Q4 | G65: 45967 | H65: 704 | I65: 1 | J65: 704 | K65: 针织长裤 | L65: M2902 Carmen | M65: =IFERROR(VLOOKUP(D65,貨品明細!D:F,3,0),"") -> TENNIS
A66: 斐樂大貨 | B66: 服装 | C66: 內搭 | D66: F11M613214FGN | E66: 男 | F66: 2026Q1 | G66: 46009 | H66: 752 | I66: 1 | J66: 752 | K66: 针织长袖POLO衫 | L66: M2172 Janet | M66: =IFERROR(VLOOKUP(D66,貨品明細!D:F,3,0),"") -> WHITE
A67: 斐樂大貨 | B67: 配件 | C67: 襪類 | D67: F13W618363FWI | E67: 女 | F67: 2026Q1 | G67: 45995 | H67: 63 | I67: 1 | J67: 63 | K67: 中腰袜 | L67: M1436 Khaki | M67: =IFERROR(VLOOKUP(D67,貨品明細!D:F,3,0),"") -> HERITAGE
A68: 斐樂大貨 | B68: 配件 | C68: 襪類 | D68: F13W618364FPK | E68: 女 | F68: 2026Q1 | G68: 45995 | H68: 63 | I68: 1 | J68: 63 | K68: 中腰袜 | L68: M1436 Khaki | M68: =IFERROR(VLOOKUP(D68,貨品明細!D:F,3,0),"") -> HERITAGE
...

Sheet 貨品明細
A1: 品牌 | B1: 大類 | C1: 中類 | D1: 貨號 | E1: 性別 | F1: 子系列 | G1: 配貨季 | H1: 上市日期 | I1: 零售價 | J1: 庫存數量 | K1: 商品名稱 | L1: 季節 | M1: 上市批次
A2: 斐樂大貨 | B2: 服装 | C2: 針織褲 | D2: A11M541602FBK | E2: 男 | F2: A.P. | G2: 2025Q4 | H2: 45939 | I2: 1140 | K2: 针织长裤 | L2: 冬季 | M2: 10A
A3: 斐樂大貨 | B3: 服装 | C3: 針織褲 | D3: A11M541602FMG | E3: 男 | F3: A.P. | G3: 2025Q4 | H3: 45939 | I3: 1140 | K3: 针织长裤 | L3: 冬季 | M3: 10A
A4: 斐樂大貨 | B4: 服装 | C4: 羽絨服 | D4: A11M541906FBK | E4: 男 | F4: FITNESS | G4: 2025Q4 | H4: 45904 | I4: 1480 | K4: 羽绒马甲 | L4: 冬季 | M4: 9A
A5: 斐樂大貨 | B5: 服装 | C5: 內搭 | D5: A11M543207FWT | E5: 男 | F5: TENNIS | G5: 2025Q4 | H5: 45923 | I5: 880 | K5: 针织套头衫 | L5: 冬季 | M5: 9B
A6: 斐樂大貨 | B6: 服装 | C6: 針織褲 | D6: A11M543607FBU | E6: 男 | F6: TENNIS | G6: 2025Q4 | H6: 45967 | I6: 880 | K6: 针织长裤 | L6: 冬季 | M6: 11A
A7: 斐樂大貨 | B7: 服装 | C7: 羽絨服 | D7: A11M545917FBK | E7: 男 | F7: GOLF | G7: 2025Q4 | H7: 45904 | I7: 3440 | K7: 羽绒服两件套 | L7: 冬季 | M7: 9A
A8: 斐樂大貨 | B8: 服装 | C8: 羽絨服 | D8: A11M545925FBK | E8: 男 | F8: GOLF | G8: 2025Q4 | H8: 45904 | I8: 2140 | K8: 羽绒马甲 | L8: 冬季 | M8: 9A
A9: 斐樂大貨 | B9: 服装 | C9: 羽絨服 | D9: A11M545935FLK | E9: 男 | F9: GOLF | G9: 2025Q4 | H9: 45967 | I9: 5380 | K9: 羽绒服两件套 | L9: 冬季 | M9: 11A
A10: 斐樂大貨 | B10: 服装 | C10: 羽絨服 | D10: A11M545943FBN | E10: 男 | F10: GOLF | G10: 2025Q4 | H10: 45953 | I10: 2480 | K10: 羽绒马甲 | L10: 冬季 | M10: 10B
A11: 斐樂大貨 | B11: 服装 | C11: 內搭 | D11: A11M611209FBN | E11: 男 | F11: FITNESS | G11: 2026Q1 | H11: 46042 | I11: 780 | K11: 针织长袖上衣 | L11: 春季 | M11: 1B
A12: 斐樂大貨 | B12: 服装 | C12: 針織上衣 | D12: A11M611502FBK | E12: 男 | F12: FITNESS | G12: 2026Q1 | H12: 45995 | I12: 1480 | K12: 针织长袖外套 | L12: 春季 | M12: 12A
A13: 斐樂大貨 | B13: 服装 | C13: 針織褲 | D13: A11M611603FCC | E13: 男 | F13: A.P. | G13: 2026Q1 | H13: 45995 | I13: 1180 | K13: 针织长裤 | L13: 春季 | M13: 12A
... A63: 斐樂大貨 | B63: 鞋类 | C63: 板鞋 | D63: F12W541203FVL | E63: 女 | F63: HERITAGE | G63: 2025Q4 | H63: 45967 | I63: 980 | K63: 摩登板鞋 | L63: 冬季 | M63: 11A
A64: 斐樂大貨 | B64: 鞋类 | C64: 運動鞋 | D64: F12W543119FBI | E64: 女 | G64: 2025Q4 | H64: 45939 | I64: 1240 | K64: 先锋运动鞋 | L64: 冬季 | M64: 10A
A65: 斐樂大貨 | B65: 鞋类 | C65: 老爹鞋 | D65: F12W611113FAA | E65: 女 | F65: ORIGINALE | G65: 2026Q1 | H65: 46028 | I65: 990 | K65: ORIGINALE老爹鞋 | L65: 春季 | M65: 1A
A66: 斐樂大貨 | B66: 鞋类 | D66: F12W611125FCE | E66: 女 | G66: 2026Q1 | H66: 45995 | I66: 1190 | K66: MILANO休闲鞋 | L66: 春季 | M66: 12A
A67: 斐樂大貨 | B67: 鞋类 | C67: 老爹鞋 | D67: F12W612131FTM | E67: 女 | F67: ORIGINALE | G67: 2026Q1 | H67: 46028 | I67: 990 | K67: ORIGINALE老爹鞋 | L67: 春季 | M67: 1A
A68: 斐樂大貨 | B68: 鞋类 | C68: 板鞋 | D68: F12W612217FPA | E68: 女 | F68: HERITAGE | G68: 2026Q1 | H68: 45995 | I68: 1090 | K68: HERITAGE板鞋 | L68: 春季 | M68: 12A
A69: 斐樂大貨 | B69: 配件 | C69: 襪類 | D69: F13M523302FGY | E69: 男 | F69: WHITE | G69: 2025Q2 | H69: 45722 | I69: 65 | K69: 低腰袜 | L69: 夏季 | M69: 3A
A70: 斐樂大貨 | B70: 配件 | C70: 襪類 | D70: F13M523302FNV | E70: 男 | F70: WHITE | G70: 2025Q2 | H70: 45722 | I70: 65 | K70: 低腰袜 | L70: 夏季 | M70: 3A
A71: 斐樂大貨 | B71: 配件 | C71: 包類 | D71: F13M613102FBK | E71: 男 | F71: WHITE | G71: 2026Q1 | H71: 46009 | I71: 1780 | K71: 背包 | L71: 春季 | M71: 12B
A72: 斐樂大貨 | B72: 配件 | C72: 包類 | D72: F13M613103FBK | E72: 男 | F72: WHITE | G72: 2026Q1 | H72: 46009 | I72: 880 | K72: 背包 | L72: 春季 | M72: 12B
A73: 斐樂大貨 | B73: 配件 | C73: 包類 | D73: F13M618107FBK | E73: 男 | F73: HERITAGE | G73: 2026Q1 | H73: 45995 | I73: 680 | K73: 挎包 | L73: 春季 | M73: 12A
A74: 斐樂大貨 | B74: 配件 | C74: 襪類 | D74: F13W539361FNV | E74: 女 | F74: FILA ORIGINALE | G74: 2025Q3 | H74: 45811 | I74: 60 | K74: 低腰袜 | L74: 秋季 | M74: 6A
A75: 斐樂大貨 | B75: 配件 | C75: 包類 | D75: F13W549166FBK | E75: 女 | F75: FILA ORIGINALE | G75: 2025Q4 | H75: 45939 | I75: 740 | K75: 背包 | L75: 冬季 | M75: 10A
A76: 斐樂大貨 | B76: 配件 | C76: 襪類 | D76: F13W549363FWI | E76: 女 | F76: FILA ORIGINALE | G76: 2025Q4 | H76: 45939 | I76: 70 | K76: 中腰袜 | L76: 冬季 | M76: 10A
A77: 斐樂大貨 | B77: 配件 | C77: 包類 | D77: F13W618170FBG | E77: 女 | F77: HERITAGE | G77: 2026Q1 | H77: 45995 | I77: 780 | K77: 背包 | L77: 春季 | M77: 12A
A78: 斐樂大貨 | B78: 配件 | C78: 襪類 | D78: F13W619363FPK | E78: 女 | F78: FILA ORIGINALE | G78: 2026Q1 | H78: 45995 | I78: 70 | K78: 中腰袜 | L78: 春季 | M78: 12A
... A134: 斐樂大貨 | B134: 鞋类 | C134: 運動鞋 | D134: F12W542123FDT | E134: 女 | F134: ORIGINALE | G134: 2025Q4 | H134: 45904 | I134: 980 | K134: 复古运动鞋 | L134: 冬季 | M134: 9A
A135: 斐樂大貨 | B135: 鞋类 | C135: 運動鞋 | D135: F12W543119FBC | E135: 女 | G135: 2025Q4 | H135: 45939 | I135: 1240 | K135: 先锋运动鞋 | L135: 冬季 | M135: 10A
A136: 斐樂大貨 | B136: 鞋类 | C136: 老爹鞋 | D136: F12W611104FSF | E136: 女 | F136: ORIGINALE | G136: 2026Q1 | H136: 45995 | I136: 990 | K136: ORIGINALE老爹鞋 | L136: 春季 | M136: 12A
A137: 斐樂大貨 | B137: 鞋类 | C137: 板鞋 | D137: F12W612217FMD | E137: 女 | F137: HERITAGE | G137: 2026Q1 | H137: 45995 | I137: 1090 | K137: HERITAGE板鞋 | L137: 春季 | M137: 12A
A138: 斐樂大貨 | B138: 配件 | C138: 襪類 | D138: F13M519302FNV | E138: 男 | F138: FILA ORIGINALE | G138: 2025Q1 | H138: 45664 | I138: 60 | K138: 低腰袜 | L138: 春季 | M138: 1A
A139: 斐樂大貨 | B139: 配件 | C139: 襪類 | D139: F13M523301FWT | E139: 男 | F139: WHITE | G139: 2025Q2 | H139: 45722 | I139: 70 | K139: 中腰袜 | L139: 夏季 | M139: 3A
A140: 斐樂大貨 | B140: 配件 | C140: 襪類 | D140: F13M549301FBK | E140: 男 | F140: FILA ORIGINALE | G140: 2025Q4 | H140: 45904 | I140: 70 | K140: 中腰袜 | L140: 冬季 | M140: 9A
A141: 斐樂大貨 | B141: 配件 | C141: 帽類 | D141: F13U428232FBK | E141: 男 | F141: HERITAGE | G141: 2024Q2 | H141: 45400 | I141: 340 | K141: 棒球帽 | L141: 夏季 | M141: 4B
A142: 斐樂大貨 | B142: 配件 | C142: 包類 | D142: F13U539131FBK | E142: 不分 | F142: FILA ORIGINALE | G142: 2025Q3 | H142: 45841 | I142: 780 | K142: 背包 | L142: 秋季 | M142: 7A
A143: 斐樂大貨 | B143: 配件 | C143: 襪類 | D143: F13W539362FPK | E143: 女 | F143: FILA ORIGINALE | G143: 2025Q3 | H143: 45811 | I143: 60 | K143: 浅口袜 | L143: 秋季 | M143: 6A
A144: 斐樂大貨 | B144: 配件 | C144: 包類 | D144: F13W549162FNV | E144: 女 | F144: FILA ORIGINALE | G144: 2025Q4 | H144: 45904 | I144: 780 | K144: 背包 | L144: 冬季 | M144: 9A
...
