Workbook

Sheet Sheet1
A1: 大類 | B1: 貨號 | C1: 零售價 | D1: 庫存數量 | E1: 9-12月賣出 | F1: 商品名稱 | G1: XS | H1: S | I1: M | J1: L | K1: XL | L1: 2XL | M1: 3XL | N1: 中類 | O1: 性別 | P1: 子系列 | Q1: 配貨季 | R1: 上市日期
A2: 服装 | B2: F11M542904FBK | C2: 2880 | D2: 7 | E2: =VLOOKUP(B2,Sheet2!A:B,2,0) -> 11 | F2: 棉服 | I2: 1 | J2: 5 | L2: 1 | N2: 棉服 | O2: 男 | P2: BLUE | Q2: 2025Q4 | R2: 45904
A3: 服装 | B3: F11M542711FBK | C3: 2880 | D3: 8 | E3: =VLOOKUP(B3,Sheet2!A:B,2,0) -> 31 | F3: 梭织外套 | I3: 6 | J3: 2 | N3: 梭織上衣 | O3: 男 | P3: BLUE | Q3: 2025Q4 | R3: 45904
A4: 服装 | B4: F11M542711FGY | C4: 2880 | D4: 8 | E4: =VLOOKUP(B4,Sheet2!A:B,2,0) -> 7 | F4: 梭织外套 | I4: 2 | J4: 2 | K4: 2 | L4: 1 | M4: 1 | N4: 梭織上衣 | O4: 男 | P4: BLUE | Q4: 2025Q4 | R4: 45904
A5: 服装 | B5: F11M549208FBK | C5: 680 | D5: 12 | E5: =VLOOKUP(B5,Sheet2!A:B,2,0) -> 13 | F5: 针织长袖衫 | I5: 2 | J5: 3 | K5: 5 | L5: 2 | N5: 內搭 | O5: 男 | P5: FILA ORIGINALE | Q5: 2025Q4 | R5: 45923
A6: 服装 | B6: F11M549212FIV | C6: 780 | D6: 16 | E6: =VLOOKUP(B6,Sheet2!A:B,2,0) -> 23 | F6: 针织套头衫 | I6: 4 | J6: 3 | K6: 5 | L6: 4 | N6: 內搭 | O6: 男 | P6: FILA ORIGINALE | Q6: 2025Q4 | R6: 45923
A7: 服装 | B7: F11M549212FBK | C7: 780 | D7: 7 | E7: =VLOOKUP(B7,Sheet2!A:B,2,0) -> 41 | F7: 针织套头衫 | I7: 3 | K7: 2 | L7: 2 | N7: 內搭 | O7: 男 | P7: FILA ORIGINALE | Q7: 2025Q4 | R7: 45923
A8: 服装 | B8: F11M549208FIV | C8: 680 | D8: 16 | E8: =VLOOKUP(B8,Sheet2!A:B,2,0) -> 9 | F8: 针织长袖衫 | I8: 2 | J8: 8 | K8: 5 | L8: 1 | N8: 內搭 | O8: 男 | P8: FILA ORIGINALE | Q8: 2025Q4 | R8: 45923
A9: 服装 | B9: F11M549709FBK | C9: 1940 | D9: 10 | E9: =VLOOKUP(B9,Sheet2!A:B,2,0) -> 34 | F9: 梭织外套 | I9: 4 | J9: 2 | L9: 4 | N9: 梭織上衣 | O9: 男 | P9: FILA ORIGINALE | Q9: 2025Q4 | R9: 45923
A10: 服装 | B10: F11M549507FBK | C10: 1480 | D10: 15 | E10: =VLOOKUP(B10,Sheet2!A:B,2,0) -> 8 | F10: 针织长袖外套 | I10: 1 | J10: 3 | K10: 8 | L10: 3 | N10: 針織上衣 | O10: 男 | P10: FILA ORIGINALE | Q10: 2025Q4 | R10: 45923
A11: 服装 | B11: F11M549209FGY | C11: 880 | D11: 13 | E11: =VLOOKUP(B11,Sheet2!A:B,2,0) -> 6 | F11: 针织长袖POLO衫 | I11: 4 | J11: 6 | K11: 3 | N11: 內搭 | O11: 男 | P11: FILA ORIGINALE | Q11: 2025Q4 | R11: 45923
A12: 服装 | B12: F11M549606FBK | C12: 780 | D12: 14 | E12: =VLOOKUP(B12,Sheet2!A:B,2,0) -> 24 | F12: 针织长裤 | I12: 4 | J12: 6 | K12: 2 | L12: 2 | N12: 針織褲 | O12: 男 | P12: FILA ORIGINALE | Q12: 2025Q4 | R12: 45923
A13: 服装 | B13: A11M541608FBK | C13: 880 | D13: 9 | E13: =VLOOKUP(B13,Sheet2!A:B,2,0) -> 30 | F13: 针织长裤 | I13: 3 | K13: 2 | L13: 4 | N13: 針織褲 | O13: 男 | P13: FITNESS | Q13: 2025Q4 | R13: 45904
B14: A11M541214FBK | C14: 780 | D14: 4 | E14: =VLOOKUP(B14,Sheet2!A:B,2,0) -> 29 | F14: 针织长袖上衣 | J14: 2 | K14: 1 | L14: 1 | N14: 內搭 | O14: 男 | P14: FITNESS | Q14: 2025Q4 | R14: 45904
A15: 服装 | B15: A11M541504FKK | C15: 1480 | D15: 9 | E15: =VLOOKUP(B15,Sheet2!A:B,2,0) -> 17 | F15: 针织长袖外套 | I15: 2 | J15: 2 | L15: 2 | M15: 3 | N15: 針織上衣 | O15: 男 | P15: FITNESS | Q15: 2025Q4 | R15: 45904
A16: 服装 | B16: A11M541504FBK | C16: 1480 | D16: 22 | E16: =VLOOKUP(B16,Sheet2!A:B,2,0) -> 33 | F16: 针织长袖外套 | I16: 6 | J16: 4 | K16: 6 | L16: 4 | M16: 2 | N16: 針織上衣 | O16: 男 | P16: FITNESS | Q16: 2025Q4 | R16: 45904
A17: 服装 | B17: A11M541215FBK | C17: 880 | D17: 2 | E17: =VLOOKUP(B17,Sheet2!A:B,2,0) -> 29 | F17: 针织长袖上衣 | J17: 1 | L17: 1 | N17: 內搭 | O17: 男 | P17: FITNESS | Q17: 2025Q4 | R17: 45904
A18: 服装 | B18: A11M541609FBK | C18: 880 | D18: 11 | E18: =VLOOKUP(B18,Sheet2!A:B,2,0) -> 60 | F18: 针织长裤 | I18: 3 | J18: 1 | K18: 3 | L18: 1 | M18: 3 | N18: 針織褲 | O18: 男 | P18: FITNESS | Q18: 2025Q4 | R18: 45904
A19: 服装 | B19: A11M541214FLK | C19: 780 | D19: 7 | E19: =VLOOKUP(B19,Sheet2!A:B,2,0) -> 8 | F19: 针织长袖上衣 | I19: 1 | J19: 1 | K19: 3 | L19: 2 | N19: 內搭 | O19: 男 | P19: FITNESS | Q19: 2025Q4 | R19: 45904
A20: 服装 | B20: A11M541215FLK | C20: 880 | D20: 4 | E20: =VLOOKUP(B20,Sheet2!A:B,2,0) -> 19 | F20: 针织长袖上衣 | J20: 2 | K20: 1 | L20: 1 | N20: 內搭 | O20: 男 | P20: FITNESS | Q20: 2025Q4 | R20: 45904
A21: 服装 | B21: A11M541214FOR | C21: 780 | D21: 11 | E21: =VLOOKUP(B21,Sheet2!A:B,2,0) -> 13 | F21: 针织长袖上衣 | I21: 1 | J21: 2 | K21: 4 | L21: 4 | N21: 內搭 | O21: 男 | P21: FITNESS | Q21: 2025Q4 | R21: 45904
A22: 服装 | B22: A11M541707FBK | C22: 2140 | D22: 16 | E22: =VLOOKUP(B22,Sheet2!A:B,2,0) -> 15 | F22: 梭织外套 | J22: 5 | K22: 8 | L22: 2 | M22: 1 | N22: 梭織上衣 | O22: 男 | P22: FITNESS | Q22: 2025Q4 | R22: 45904
A23: 服装 | B23: A11M541906FBK | C23: 1480 | D23: 17 | E23: =VLOOKUP(B23,Sheet2!A:B,2,0) -> 51 | F23: 羽绒马甲 | I23: 4 | J23: 7 | K23: 1 | L23: 4 | M23: 1 | N23: 羽絨服 | O23: 男 | P23: FITNESS | Q23: 2025Q4 | R23: 45904
A24: 服装 | B24: A11M545701FBK | C24: 2880 | D24: 29 | E24: =VLOOKUP(B24,Sheet2!A:B,2,0) -> 7 | F24: 梭织外套 | I24: 6 | J24: 8 | K24: 8 | L24: 5 | M24: 2 | N24: 梭織上衣 | O24: 男 | P24: GOLF | Q24: 2025Q4 | R24: 45904
A25: 服装 | B25: A11M545407FWT | C25: 1480 | D25: 9 | E25: =VLOOKUP(B25,Sheet2!A:B,2,0) -> 23 | F25: 编织衫 | J25: 6 | K25: 1 | M25: 2 | N25: 編織衫 | O25: 男 | P25: GOLF | Q25: 2025Q4 | R25: 45904
A26: 服装 | B26: A11M545220FWT | C26: 1480 | D26: 14 | E26: =VLOOKUP(B26,Sheet2!A:B,2,0) -> 16 | F26: 针织长袖POLO衫 | I26: 7 | J26: 3 | K26: 3 | M26: 1 | N26: 內搭 | O26: 男 | P26: GOLF | Q26: 2025Q4 | R26: 45904
A27: 服装 | B27: A11M545502FBK | C27: 2480 | D27: 26 | E27: =VLOOKUP(B27,Sheet2!A:B,2,0) -> 21 | F27: 针织长袖外套 | I27: 5 | J27: 14 | K27: 5 | L27: 1 | M27: 1 | N27: 針織上衣 | O27: 男 | P27: GOLF | Q27: 2025Q4 | R27: 45904
A28: 服装 | B28: A11M545925FBK | C28: 2140 | D28: 18 | E28: =VLOOKUP(B28,Sheet2!A:B,2,0) -> 28 | F28: 羽绒马甲 | I28: 3 | J28: 3 | K28: 5 | L28: 4 | M28: 3 | N28: 羽絨服 | O28: 男 | P28: GOLF | Q28: 2025Q4 | R28: 45904
A29: 服装 | B29: A11M545221FWT | C29: 1480 | D29: 9 | E29: =VLOOKUP(B29,Sheet2!A:B,2,0) -> 31 | F29: 针织长袖上衣 | I29: 4 | J29: 2 | L29: 2 | M29: 1 | N29: 內搭 | O29: 男 | P29: GOLF | Q29: 2025Q4 | R29: 45904
A30: 服装 | B30: A11M545810FGY | C30: 1680 | D30: 3 | E30: =VLOOKUP(B30,Sheet2!A:B,2,0) -> 31 | F30: 梭织长裤 | L30: 3 | N30: 梭織褲 | O30: 男 | P30: GOLF | Q30: 2025Q4 | R30: 45904
A31: 服装 | B31: A11M545947FBK | C31: 2140 | D31: 1 | E31: =VLOOKUP(B31,Sheet2!A:B,2,0) -> 17 | F31: 棉马甲 | L31: 1 | N31: 棉服 | O31: 男 | P31: GOLF | Q31: 2025Q4 | R31: 45923
A32: 服装 | B32: A11M545201FBK | C32: 1680 | D32: 3 | E32: =VLOOKUP(B32,Sheet2!A:B,2,0) -> 41 | F32: 针织长袖POLO衫 | I32: 2 | L32: 1 | N32: 內搭 | O32: 男 | P32: GOLF | Q32: 2025Q4 | R32: 45904
A33: 服装 | B33: A11M545917FBK | C33: 3440 | D33: 29 | E33: =VLOOKUP(B33,Sheet2!A:B,2,0) -> 6 | F33: 羽绒服两件套 | I33: 5 | J33: 8 | K33: 8 | L33: 6 | M33: 2 | N33: 羽絨服 | O33: 男 | P33: GOLF | Q33: 2025Q4 | R33: 45904
A34: 服装 | B34: A11M545928FBK | C34: 3380 | D34: 24 | E34: =VLOOKUP(B34,Sheet2!A:B,2,0) -> 13 | F34: 羽绒服 | I34: 3 | J34: 7 | K34: 3 | L34: 7 | M34: 4 | N34: 羽絨服 | O34: 男 | P34: GOLF | Q34: 2025Q4 | R34: 45904
A35: 服装 | B35: A11M545905FGY | C35: 2140 | D35: 13 | E35: =VLOOKUP(B35,Sheet2!A:B,2,0) -> 23 | F35: 羽绒马甲 | I35: 1 | J35: 1 | K35: 1 | L35: 8 | M35: 2 | N35: 羽絨服 | O35: 男 | P35: GOLF | Q35: 2025Q4 | R35: 45904
A36: 服装 | B36: A11M545601FBK | C36: 1680 | D36: 7 | E36: =VLOOKUP(B36,Sheet2!A:B,2,0) -> 31 | F36: 针织长裤 | I36: 1 | J36: 1 | K36: 2 | L36: 3 | N36: 針織褲 | O36: 男 | P36: GOLF | Q36: 2025Q4 | R36: 45904
A37: 服装 | B37: F11M548101FWT | C37: 580 | D37: 14 | E37: =VLOOKUP(B37,Sheet2!A:B,2,0) -> 54 | F37: 针织短袖衫 | I37: 4 | K37: 3 | L37: 3 | M37: 4 | N37: 短T類 | O37: 男 | P37: HERITAGE | Q37: 2025Q4 | R37: 45904
A38: 服装 | B38: F11M548101FNV | C38: 580 | D38: 13 | E38: =VLOOKUP(B38,Sheet2!A:B,2,0) -> 36 | F38: 针织短袖衫 | I38: 4 | J38: 2 | K38: 3 | L38: 2 | M38: 2 | N38: 短T類 | O38: 男 | P38: HERITAGE | Q38: 2025Q4 | R38: 45904
A39: 服装 | B39: F11M548703FLK | C39: 1940 | D39: 5 | E39: =VLOOKUP(B39,Sheet2!A:B,2,0) -> 27 | F39: 梭织外套 | J39: 1 | K39: 1 | L39: 3 | N39: 梭織上衣 | O39: 男 | P39: HERITAGE | Q39: 2025Q4 | R39: 45904
A40: 服装 | B40: F11M548403FLK | C40: 1140 | D40: 8 | E40: =VLOOKUP(B40,Sheet2!A:B,2,0) -> 9 | F40: 梭织长袖衬衫 | I40: 1 | J40: 4 | K40: 2 | L40: 1 | N40: 襯衫 | O40: 男 | P40: HERITAGE | Q40: 2025Q4 | R40: 45904
A41: 服装 | B41: F11M548610FNV | C41: 840 | D41: 13 | E41: =VLOOKUP(B41,Sheet2!A:B,2,0) -> 38 | F41: 针织长裤 | I41: 4 | J41: 2 | K41: 2 | L41: 3 | M41: 2 | N41: 針織褲 | O41: 男 | P41: HERITAGE | Q41: 2025Q4 | R41: 45904
A42: 服装 | B42: F11M548606FNV | C42: 880 | D42: 17 | E42: =VLOOKUP(B42,Sheet2!A:B,2,0) -> 37 | F42: 针织长裤 | I42: 3 | K42: 6 | L42: 6 | M42: 2 | N42: 針織褲 | O42: 男 | P42: HERITAGE | Q42: 2025Q4 | R42: 45904
A43: 服装 | B43: F11M548102FWT | C43: 740 | D43: 6 | E43: =VLOOKUP(B43,Sheet2!A:B,2,0) -> 12 | F43: 针织短袖POLO衫 | J43: 1 | K43: 1 | L43: 4 | N43: 短T類 | O43: 男 | P43: HERITAGE | Q43: 2025Q4 | R43: 45904
A44: 服装 | B44: F11M548102FNV | C44: 740 | D44: 8 | E44: =VLOOKUP(B44,Sheet2!A:B,2,0) -> 12 | F44: 针织短袖POLO衫 | I44: 3 | J44: 1 | K44: 3 | L44: 1 | N44: 短T類 | O44: 男 | P44: HERITAGE | Q44: 2025Q4 | R44: 45904
A45: 服装 | B45: A11M543207FWT | C45: 880 | D45: 26 | E45: =VLOOKUP(B45,Sheet2!A:B,2,0) -> 7 | F45: 针织套头衫 | I45: 6 | J45: 9 | K45: 7 | L45: 4 | N45: 內搭 | O45: 男 | P45: TENNIS | Q45: 2025Q4 | R45: 45923
A46: 服装 | B46: F11M543205FBK | C46: 880 | D46: 17 | E46: =VLOOKUP(B46,Sheet2!A:B,2,0) -> 18 | F46: 针织套头衫 | I46: 4 | J46: 6 | K46: 4 | L46: 3 | N46: 內搭 | O46: 男 | P46: WHITE | Q46: 2025Q4 | R46: 45923
A47: 服装 | B47: F11M543901FBK | C47: 1480 | D47: 40 | E47: =VLOOKUP(B47,Sheet2!A:B,2,0) -> 4 | F47: 羽绒马甲 | I47: 2 | J47: 13 | K47: 11 | L47: 8 | M47: 6 | N47: 羽絨服 | O47: 男 | P47: WHITE | Q47: 2025Q4 | R47: 45923
A48: 服装 | B48: F11M543701FLG | C48: 1680 | D48: 9 | E48: =VLOOKUP(B48,Sheet2!A:B,2,0) -> 23 | F48: 梭织外套 | I48: 2 | J48: 3 | K48: 2 | L48: 2 | N48: 梭織上衣 | O48: 男 | P48: WHITE | Q48: 2025Q4 | R48: 45923
A49: 服装 | B49: F11M543701FBK | C49: 1680 | D49: 12 | E49: =VLOOKUP(B49,Sheet2!A:B,2,0) -> 28 | F49: 梭织外套 | J49: 4 | K49: 3 | L49: 5 | N49: 梭織上衣 | O49: 男 | P49: WHITE | Q49: 2025Q4 | R49: 45923
A50: 服装 | B50: F11M543903FBK | C50: 2380 | D50: 8 | E50: =VLOOKUP(B50,Sheet2!A:B,2,0) -> 23 | F50: 羽绒服 | J50: 2 | K50: 2 | L50: 2 | M50: 2 | N50: 羽絨服 | O50: 男 | P50: WHITE | Q50: 2025Q4 | R50: 45923
A51: 服装 | B51: F11M543905FBK | C51: 3380 | D51: 13 | E51: =VLOOKUP(B51,Sheet2!A:B,2,0) -> 6 | F51: 羽绒服两件套 | I51: 1 | J51: 6 | K51: 3 | L51: 1 | M51: 2 | N51: 羽絨服 | O51: 男 | P51: WHITE | Q51: 2025Q4 | R51: 45923
A52: 服装 | B52: F11M543703FBK | C52: 1480 | D52: 31 | E52: =VLOOKUP(B52,Sheet2!A:B,2,0) -> 15 | F52: 梭织外套 | I52: 3 | J52: 9 | K52: 6 | L52: 7 | M52: 6 | N52: 梭織上衣 | O52: 男 | P52: WHITE | Q52: 2025Q4 | R52: 45923
A53: 服装 | B53: F11M543601FBK | C53: 880 | D53: 6 | E53: =VLOOKUP(B53,Sheet2!A:B,2,0) -> 24 | F53: 针织长裤 | I53: 1 | J53: 1 | K53: 2 | M53: 2 | N53: 針織褲 | O53: 男 | P53: WHITE | Q53: 2025Q4 | R53: 45923
A54: 服装 | B54: F11M543205FWT | C54: 880 | D54: 8 | E54: =VLOOKUP(B54,Sheet2!A:B,2,0) -> 22 | F54: 针织套头衫 | I54: 1 | J54: 2 | K54: 2 | L54: 3 | N54: 內搭 | O54: 男 | P54: WHITE | Q54: 2025Q4 | R54: 45923
A55: 服装 | B55: F11M543606FBK | C55: 940 | D55: 5 | E55: =VLOOKUP(B55,Sheet2!A:B,2,0) -> 36 | F55: 针织长裤 | I55: 1 | J55: 3 | K55: 1 | N55: 針織褲 | O55: 男 | P55: WHITE | Q55: 2025Q4 | R55: 45923
A56: 服装 | B56: F11M543208FKK | C56: 840 | D56: 2 | E56: =VLOOKUP(B56,Sheet2!A:B,2,0) -> 15 | F56: 针织长袖衫 | I56: 1 | J56: 1 | N56: 內搭 | O56: 男 | P56: WHITE | Q56: 2025Q4 | R56: 45923
A57: 服装 | B57: F11M543902FBK | C57: 1940 | D57: 31 | E57: =VLOOKUP(B57,Sheet2!A:B,2,0) -> 10 | F57: 羽绒马甲 | I57: 6 | J57: 6 | K57: 8 | L57: 7 | M57: 4 | N57: 羽絨服 | O57: 男 | P57: WHITE | Q57: 2025Q4 | R57: 45923
A58: 服装 | B58: F11M543907FBK | C58: 2880 | D58: 23 | E58: =VLOOKUP(B58,Sheet2!A:B,2,0) -> 15 | F58: 羽绒服 | I58: 3 | J58: 5 | K58: 6 | L58: 5 | M58: 4 | N58: 羽絨服 | O58: 男 | P58: WHITE | Q58: 2025Q4 | R58: 45923
A59: 服装 | B59: F11M543907FDG | C59: 2880 | D59: 17 | E59: =VLOOKUP(B59,Sheet2!A:B,2,0) -> 9 | F59: 羽绒服 | I59: 3 | J59: 6 | K59: 6 | L59: 2 | N59: 羽絨服 | O59: 男 | P59: WHITE | Q59: 2025Q4 | R59: 45923
A60: 服装 | B60: F11W549207FRD | C60: 780 | D60: 10 | E60: =VLOOKUP(B60,Sheet2!A:B,2,0) -> 8 | F60: 针织套头衫 | H60: 4 | I60: 2 | J60: 3 | K60: 1 | N60: 內搭 | O60: 女 | P60: FILA ORIGINALE | Q60: 2025Q4 | R60: 45923
A61: 服装 | B61: F11W549804FLK | C61: 880 | D61: 8 | E61: =VLOOKUP(B61,Sheet2!A:B,2,0) -> 8 | F61: 梭织长裤 | H61: 5 | I61: 1 | J61: 1 | K61: 1 | N61: 梭織褲 | O61: 女 | P61: FILA ORIGINALE | Q61: 2025Q4 | R61: 45923
A62: 服装 | B62: F11W549208FIV | C62: 680 | D62: 6 | E62: =VLOOKUP(B62,Sheet2!A:B,2,0) -> 9 | F62: 针织长袖衫 | I62: 1 | J62: 2 | K62: 3 | N62: 內搭 | O62: 女 | P62: FILA ORIGINALE | Q62: 2025Q4 | R62: 45923
A63: 服装 | B63: F11W549604FBK | C63: 840 | D63: 20 | E63: =VLOOKUP(B63,Sheet2!A:B,2,0) -> 12 | F63: 针织长裤 | H63: 4 | I63: 8 | J63: 6 | K63: 2 | N63: 針織褲 | O63: 女 | P63: FILA ORIGINALE | Q63: 2025Q4 | R63: 45923
A64: 服装 | B64: F11W549206FMG | C64: 840 | D64: 20 | E64: =VLOOKUP(B64,Sheet2!A:B,2,0) -> 9 | F64: 针织连帽上衣 | H64: 5 | I64: 4 | J64: 7 | K64: 4 | N64: 內搭 | O64: 女 | P64: FILA ORIGINALE | Q64: 2025Q4 | R64: 45923
A65: 服装 | B65: F11W549206FBK | C65: 840 | D65: 9 | E65: =VLOOKUP(B65,Sheet2!A:B,2,0) -> 9 | F65: 针织连帽上衣 | H65: 1 | I65: 2 | J65: 5 | K65: 1 | N65: 內搭 | O65: 女 | P65: FILA ORIGINALE | Q65: 2025Q4 | R65: 45923
A66: 服装 | B66: F11W549220FBU | C66: 880 | D66: 8 | E66: =VLOOKUP(B66,Sheet2!A:B,2,0) -> 12 | F66: 针织长袖上衣 | H66: 2 | I66: 4 | J66: 1 | K66: 1 | N66: 內搭 | O66: 女 | P66: FILA ORIGINALE | Q66: 2025Q4 | R66: 45923
A67: 服装 | B67: F11W549220FIV | C67: 880 | D67: 13 | E67: =VLOOKUP(B67,Sheet2!A:B,2,0) -> 6 | F67: 针织长袖上衣 | H67: 4 | I67: 6 | J67: 2 | K67: 1 | N67: 內搭 | O67: 女 | P67: FILA ORIGINALE | Q67: 2025Q4 | R67: 45923
A68: 服装 | B68: F11W549802FGY | C68: 940 | D68: 5 | E68: =VLOOKUP(B68,Sheet2!A:B,2,0) -> 11 | F68: 梭织长裤 | H68: 3 | I68: 2 | N68: 梭織褲 | O68: 女 | P68: FILA ORIGINALE | Q68: 2025Q4 | R68: 45923
A69: 服装 | B69: F11W549220FGY | C69: 880 | D69: 16 | E69: =VLOOKUP(B69,Sheet2!A:B,2,0) -> 7 | F69: 针织长袖上衣 | H69: 7 | I69: 5 | J69: 4 | N69: 內搭 | O69: 女 | P69: FILA ORIGINALE | Q69: 2025Q4 | R69: 45923
A70: 服装 | B70: F11W549703FLK | C70: 1680 | D70: 7 | E70: =VLOOKUP(B70,Sheet2!A:B,2,0) -> 12 | F70: 梭织外套 | H70: 2 | I70: 3 | J70: 1 | K70: 1 | N70: 梭織上衣 | O70: 女 | P70: FILA ORIGINALE | Q70: 2025Q4 | R70: 45923
A71: 服装 | B71: F11W549502FIV | C71: 1480 | D71: 6 | E71: =VLOOKUP(B71,Sheet2!A:B,2,0) -> 10 | F71: 针织长袖外套 | H71: 3 | I71: 3 | N71: 針織上衣 | O71: 女 | P71: FILA ORIGINALE | Q71: 2025Q4 | R71: 45923
A72: 服装 | B72: A11W541213FGY | C72: 880 | D72: 9 | E72: =VLOOKUP(B72,Sheet2!A:B,2,0) -> 9 | F72: 针织长袖衫 | I72: 3 | J72: 2 | K72: 1 | L72: 3 | N72: 內搭 | O72: 女 | P72: FITNESS | Q72: 2025Q4 | R72: 45904
A73: 服装 | B73: A11W541505ADP | C73: 1240 | D73: 1 | E73: 0 | F73: 针织连帽外套 | J73: 1 | N73: 針織上衣 | O73: 女 | P73: FITNESS | Q73: 2025Q4 | R73: 45904
A74: 服装 | B74: A11W541213AGY | C74: 880 | D74: 1 | E74: 0 | F74: 针织长袖衫 | K74: 1 | N74: 內搭 | O74: 女 | P74: FITNESS | Q74: 2025Q4 | R74: 45904
A75: 服装 | B75: A11W541505FGY | C75: 1240 | D75: 8 | E75: =VLOOKUP(B75,Sheet2!A:B,2,0) -> 38 | F75: 针织连帽外套 | J75: 2 | K75: 6 | N75: 針織上衣 | O75: 女 | P75: FITNESS | Q75: 2025Q4 | R75: 45904
A76: 服装 | B76: A11W541908FGY | C76: 2480 | D76: 12 | E76: =VLOOKUP(B76,Sheet2!A:B,2,0) -> 11 | F76: 女装外套 | H76: 4 | I76: 4 | J76: 3 | K76: 1 | N76: 羽絨服 | O76: 女 | P76: FITNESS | Q76: 2025Q4 | R76: 45904
A77: 服装 | B77: A11W541213FBK | C77: 880 | D77: 11 | E77: =VLOOKUP(B77,Sheet2!A:B,2,0) -> 7 | F77: 针织长袖衫 | H77: 2 | I77: 1 | J77: 3 | K77: 1 | L77: 4 | N77: 內搭 | O77: 女 | P77: FITNESS | Q77: 2025Q4 | R77: 45904
A78: 服装 | B78: A11W541207FGY | C78: 780 | D78: 18 | E78: =VLOOKUP(B78,Sheet2!A:B,2,0) -> 10 | F78: 针织长袖上衣 | H78: 6 | I78: 6 | J78: 4 | K78: 2 | N78: 內搭 | O78: 女 | P78: FITNESS | Q78: 2025Q4 | R78: 45904
A79: 服装 | B79: A11W541613FBK | C79: 880 | D79: 9 | E79: =VLOOKUP(B79,Sheet2!A:B,2,0) -> 30 | F79: 针织长裤 | H79: 3 | I79: 2 | J79: 4 | N79: 針織褲 | O79: 女 | P79: FITNESS | Q79: 2025Q4 | R79: 45904
A80: 服装 | B80: A11W541618FDP | C80: 780 | D80: 8 | E80: =VLOOKUP(B80,Sheet2!A:B,2,0) -> 16 | F80: 针织长裤 | I80: 1 | J80: 5 | K80: 2 | N80: 針織褲 | O80: 女 | P80: FITNESS | Q80: 2025Q4 | R80: 45904
A81: 服装 | B81: A11W541614FBN | C81: 980 | D81: 14 | E81: =VLOOKUP(B81,Sheet2!A:B,2,0) -> 10 | F81: 针织长裤 | H81: 1 | I81: 3 | J81: 8 | K81: 2 | N81: 針織褲 | O81: 女 | P81: FITNESS | Q81: 2025Q4 | R81: 45904
A82: 服装 | B82: A11W541502FBN | C82: 1480 | D82: 7 | E82: =VLOOKUP(B82,Sheet2!A:B,2,0) -> 14 | F82: 针织长袖外套 | H82: 1 | I82: 1 | J82: 2 | K82: 3 | N82: 針織上衣 | O82: 女 | P82: FITNESS | Q82: 2025Q4 | R82: 45904
A83: 服装 | B83: A11W541612FBK | C83: 880 | D83: 17 | E83: =VLOOKUP(B83,Sheet2!A:B,2,0) -> 10 | F83: 针织长裤 | H83: 2 | I83: 6 | J83: 5 | K83: 4 | N83: 針織褲 | O83: 女 | P83: FITNESS | Q83: 2025Q4 | R83: 45904
A84: 服装 | B84: A11W541612ABK | C84: 880 | D84: 1 | E84: 0 | F84: 针织长裤 | K84: 1 | N84: 針織褲 | O84: 女 | P84: FITNESS | Q84: 2025Q4 | R84: 45904
A85: 服装 | B85: A11W541503FBK | C85: 1480 | D85: 7 | E85: =VLOOKUP(B85,Sheet2!A:B,2,0) -> 35 | F85: 针织长袖外套 | H85: 1 | I85: 1 | K85: 5 | N85: 針織上衣 | O85: 女 | P85: FITNESS | Q85: 2025Q4 | R85: 45904
A86: 服装 | B86: A11W545904FWT | C86: 2140 | D86: 6 | E86: =VLOOKUP(B86,Sheet2!A:B,2,0) -> 31 | F86: 羽绒马甲 | H86: 1 | I86: 3 | J86: 2 | N86: 羽絨服 | O86: 女 | P86: GOLF | Q86: 2025Q4 | R86: 45904
A87: 服装 | B87: A11W545503FNV | C87: 2140 | D87: 17 | E87: =VLOOKUP(B87,Sheet2!A:B,2,0) -> 14 | F87: 针织连帽外套 | H87: 3 | I87: 6 | J87: 6 | K87: 2 | N87: 針織上衣 | O87: 女 | P87: GOLF | Q87: 2025Q4 | R87: 45923
A88: 服装 | B88: A11W545903FGY | C88: 2880 | D88: 15 | E88: =VLOOKUP(B88,Sheet2!A:B,2,0) -> 8 | F88: 羽绒马甲 | H88: 1 | I88: 5 | J88: 7 | K88: 2 | N88: 羽絨服 | O88: 女 | P88: GOLF | Q88: 2025Q4 | R88: 45904
A89: 服装 | B89: A11W545613FNV | C89: 1480 | D89: 11 | E89: =VLOOKUP(B89,Sheet2!A:B,2,0) -> 26 | F89: 针织长裤 | H89: 4 | I89: 1 | J89: 3 | K89: 3 | N89: 針織褲 | O89: 女 | P89: GOLF | Q89: 2025Q4 | R89: 45923
A90: 服装 | B90: A11W545601FBK | C90: 1680 | D90: 19 | E90: =VLOOKUP(B90,Sheet2!A:B,2,0) -> 10 | F90: 针织长裤 | H90: 4 | I90: 9 | J90: 3 | K90: 3 | N90: 針織褲 | O90: 女 | P90: GOLF | Q90: 2025Q4 | R90: 45904
A91: 服装 | B91: A11W545502FBK | C91: 2140 | D91: 4 | E91: =VLOOKUP(B91,Sheet2!A:B,2,0) -> 9 | F91: 针织长袖外套 | H91: 1 | K91: 2 | L91: 1 | N91: 針織上衣 | O91: 女 | P91: GOLF | Q91: 2025Q4 | R91: 45904
A92: 服装 | B92: A11W545225FWT | C92: 1480 | D92: 4 | E92: =VLOOKUP(B92,Sheet2!A:B,2,0) -> 7 | F92: 针织长袖衫 | H92: 1 | I92: 1 | J92: 2 | N92: 內搭 | O92: 女 | P92: GOLF | Q92: 2025Q4 | R92: 45904
A93: 服装 | B93: A11W545307FBK | C93: 1680 | D93: 1 | E93: =VLOOKUP(B93,Sheet2!A:B,2,0) -> 12 | F93: 梭织裙 | I93: 1 | N93: 裙裝 | O93: 女 | P93: GOLF | Q93: 2025Q4 | R93: 45904
A94: 服装 | B94: F11W548408FWT | C94: 980 | D94: 16 | E94: =VLOOKUP(B94,Sheet2!A:B,2,0) -> 13 | F94: 编织衫 | H94: 3 | I94: 6 | J94: 3 | K94: 4 | N94: 編織衫 | O94: 女 | P94: HERITAGE | Q94: 2025Q4 | R94: 45904
A95: 服装 | B95: F11W548407FNV | C95: 1480 | D95: 3 | E95: =VLOOKUP(B95,Sheet2!A:B,2,0) -> 17 | F95: 编织外套 | J95: 2 | K95: 1 | N95: 編織衫 | O95: 女 | P95: HERITAGE | Q95: 2025Q4 | R95: 45904
A96: 服装 | B96: F11W548214FWT | C96: 680 | D96: 18 | E96: =VLOOKUP(B96,Sheet2!A:B,2,0) -> 21 | F96: 针织长袖衫 | H96: 4 | I96: 4 | J96: 6 | K96: 4 | N96: 內搭 | O96: 女 | P96: HERITAGE | Q96: 2025Q4 | R96: 45904
A97: 服装 | B97: F11W548606FNV | C97: 840 | D97: 10 | E97: =VLOOKUP(B97,Sheet2!A:B,2,0) -> 6 | F97: 针织长裤 | H97: 3 | I97: 1 | J97: 5 | K97: 1 | N97: 針織褲 | O97: 女 | P97: HERITAGE | Q97: 2025Q4 | R97: 45904
A98: 服装 | B98: F11W548709FWT | C98: 1480 | D98: 17 | E98: =VLOOKUP(B98,Sheet2!A:B,2,0) -> 21 | F98: 梭织外套 | H98: 8 | I98: 7 | J98: 1 | K98: 1 | N98: 梭織上衣 | O98: 女 | P98: HERITAGE | Q98: 2025Q4 | R98: 45904
A99: 服装 | B99: F11W548217FWT | C99: 880 | D99: 19 | E99: =VLOOKUP(B99,Sheet2!A:B,2,0) -> 12 | F99: 针织连帽上衣 | H99: 4 | I99: 5 | J99: 7 | K99: 3 | N99: 內搭 | O99: 女 | P99: HERITAGE | Q99: 2025Q4 | R99: 45904
A100: 服装 | B100: F11W548217FLB | C100: 880 | D100: 12 | E100: =VLOOKUP(B100,Sheet2!A:B,2,0) -> 21 | F100: 针织连帽上衣 | H100: 3 | I100: 2 | J100: 6 | K100: 1 | N100: 內搭 | O100: 女 | P100: HERITAGE | Q100: 2025Q4 | R100: 45904
...

Sheet Sheet2
A1: 貨號 | B1: 移出/銷售 | C1: 備注
A2: F13U449232FWI | B2: 1 | C2: 销售小票入账
A3: F13M523303FNV | B3: 23 | C3: 销售小票入账
A4: A13M521302FWT | B4: 10 | C4: 销售小票入账
A5: F11M533106FWT | B5: 9 | C5: 销售小票入账
A6: A11W531111FWT | B6: 6 | C6: 销售小票入账
A7: A12M531115FBB | B7: 1 | C7: 销售小票入账
A8: A11M547803FBK | B8: 6 | C8: 销售小票入账
A9: A11M548705FBK | B9: 6 | C9: 销售小票入账
A10: U2D250960 | B10: 3 | C10: 销售小票入账
A11: U2D251043 | B11: 70 | C11: 销售小票入账
A12: F11M548217FWT | B12: 32 | C12: 销售小票入账
A13: F11M548403FLK | B13: 9 | C13: 销售小票入账
... A699: F11W549915FPK | B699: 2 | C699: 销售小票入账
