Workbook

Sheet Sheet1
A1: 大類 | B1: 貨號 | C1: 零售價 | D1: 庫存數量 | E1: 9-12月賣出 | F1: 商品名稱 | G1: XS | H1: S | I1: M | J1: L | K1: XL | L1: 2XL | M1: 3XL | N1: 中類 | O1: 性別 | P1: 子系列 | Q1: 配貨季 | R1: 上市日期
A2: 服装 | B2: F11M542904FBK | C2: 2880 | D2: 7 | E2: =VLOOKUP(B2,Sheet2!A:B,2,0) -> 11 | F2: 棉服 | I2: 1 | J2: 5 | L2: 1 | N2: 棉服 | O2: 男 | P2: BLUE | Q2: 2025Q4 | R2: 45904
A3: 服装 | B3: F11M542711FBK | C3: 2880 | D3: 8 | E3: =VLOOKUP(B3,Sheet2!A:B,2,0) -> 31 | F3: 梭织外套 | I3: 6 | J3: 2 | N3: 梭織上衣 | O3: 男 | P3: BLUE | Q3: 2025Q4 | R3: 45904
A4: 服装 | B4: F11M542711FGY | C4: 2880 | D4: 8 | E4: =VLOOKUP(B4,Sheet2!A:B,2,0) -> 7 | F4: 梭织外套 | I4: 2 | J4: 2 | K4: 2 | L4: 1 | M4: 1 | N4: 梭織上衣 | O4: 男 | P4: BLUE | Q4: 2025Q4 | R4: 45904
A5: 服装 | B5: F11M549208FBK | C5: 680 | D5: 12 | E5: =VLOOKUP(B5,Sheet2!A:B,2,0) -> 13 | F5: 针织长袖衫 | I5: 2 | J5: 3 | K5: 5 | L5: 2 | N5: 內搭 | O5: 男 | P5: FILA ORIGINALE | Q5: 2025Q4 | R5: 45923
A6: 服装 | B6: F11M549212FIV | C6: 780 | D6: 16 | E6: =VLOOKUP(B6,Sheet2!A:B,2,0) -> 23 | F6: 针织套头衫 | I6: 4 | J6: 3 | K6: 5 | L6: 4 | N6: 內搭 | O6: 男 | P6: FILA ORIGINALE | Q6: 2025Q4 | R6: 45923
A7: 服装 | B7: F11M549212FBK | C7: 780 | D7: 7 | E7: =VLOOKUP(B7,Sheet2!A:B,2,0) -> 41 | F7: 针织套头衫 | I7: 3 | K7: 2 | L7: 2 | N7: 內搭 | O7: 男 | P7: FILA ORIGINALE | Q7: 2025Q4 | R7: 45923
A8: 服装 | B8: F11M549208FIV | C8: 680 | D8: 16 | E8: =VLOOKUP(B8,Sheet2!A:B,2,0) -> 9 | F8: 针织长袖衫 | I8: 2 | J8: 8 | K8: 5 | L8: 1 | N8: 內搭 | O8: 男 | P8: FILA ORIGINALE | Q8: 2025Q4 | R8: 45923
A9: 服装 | B9: F11M549709FBK | C9: 1940 | D9: 10 | E9: =VLOOKUP(B9,Sheet2!A:B,2,0) -> 34 | F9: 梭织外套 | I9: 4 | J9: 2 | L9: 4 | N9: 梭織上衣 | O9: 男 | P9: FILA ORIGINALE | Q9: 2025Q4 | R9: 45923
A10: 服装 | B10: F11M549507FBK | C10: 1480 | D10: 15 | E10: =VLOOKUP(B10,Sheet2!A:B,2,0) -> 8 | F10: 针织长袖外套 | I10: 1 | J10: 3 | K10: 8 | L10: 3 | N10: 針織上衣 | O10: 男 | P10: FILA ORIGINALE | Q10: 2025Q4 | R10: 45923
A11: 服装 | B11: F11M549209FGY | C11: 880 | D11: 13 | E11: =VLOOKUP(B11,Sheet2!A:B,2,0) -> 6 | F11: 针织长袖POLO衫 | I11: 4 | J11: 6 | K11: 3 | N11: 內搭 | O11: 男 | P11: FILA ORIGINALE | Q11: 2025Q4 | R11: 45923
A12: 服装 | B12: F11M549606FBK | C12: 780 | D12: 14 | E12: =VLOOKUP(B12,Sheet2!A:B,2,0) -> 24 | F12: 针织长裤 | I12: 4 | J12: 6 | K12: 2 | L12: 2 | N12: 針織褲 | O12: 男 | P12: FILA ORIGINALE | Q12: 2025Q4 | R12: 45923
A13: 服装 | B13: A11M541608FBK | C13: 880 | D13: 9 | E13: =VLOOKUP(B13,Sheet2!A:B,2,0) -> 30 | F13: 针织长裤 | I13: 3 | K13: 2 | L13: 4 | N13: 針織褲 | O13: 男 | P13: FITNESS | Q13: 2025Q4 | R13: 45904
B14: A11M541214FBK | C14: 780 | D14: 4 | E14: =VLOOKUP(B14,Sheet2!A:B,2,0) -> 29 | F14: 针织长袖上衣 | J14: 2 | K14: 1 | L14: 1 | N14: 內搭 | O14: 男 | P14: FITNESS | Q14: 2025Q4 | R14: 45904
A15: 服装 | B15: A11M541504FKK | C15: 1480 | D15: 9 | E15: =VLOOKUP(B15,Sheet2!A:B,2,0) -> 17 | F15: 针织长袖外套 | I15: 2 | J15: 2 | L15: 2 | M15: 3 | N15: 針織上衣 | O15: 男 | P15: FITNESS | Q15: 2025Q4 | R15: 45904
A16: 服装 | B16: A11M541504FBK | C16: 1480 | D16: 22 | E16: =VLOOKUP(B16,Sheet2!A:B,2,0) -> 33 | F16: 针织长袖外套 | I16: 6 | J16: 4 | K16: 6 | L16: 4 | M16: 2 | N16: 針織上衣 | O16: 男 | P16: FITNESS | Q16: 2025Q4 | R16: 45904
A17: 服装 | B17: A11M541215FBK | C17: 880 | D17: 2 | E17: =VLOOKUP(B17,Sheet2!A:B,2,0) -> 29 | F17: 针织长袖上衣 | J17: 1 | L17: 1 | N17: 內搭 | O17: 男 | P17: FITNESS | Q17: 2025Q4 | R17: 45904
A18: 服装 | B18: A11M541609FBK | C18: 880 | D18: 11 | E18: =VLOOKUP(B18,Sheet2!A:B,2,0) -> 60 | F18: 针织长裤 | I18: 3 | J18: 1 | K18: 3 | L18: 1 | M18: 3 | N18: 針織褲 | O18: 男 | P18: FITNESS | Q18: 2025Q4 | R18: 45904
A19: 服装 | B19: A11M541214FLK | C19: 780 | D19: 7 | E19: =VLOOKUP(B19,Sheet2!A:B,2,0) -> 8 | F19: 针织长袖上衣 | I19: 1 | J19: 1 | K19: 3 | L19: 2 | N19: 內搭 | O19: 男 | P19: FITNESS | Q19: 2025Q4 | R19: 45904
A20: 服装 | B20: A11M541215FLK | C20: 880 | D20: 4 | E20: =VLOOKUP(B20,Sheet2!A:B,2,0) -> 19 | F20: 针织长袖上衣 | J20: 2 | K20: 1 | L20: 1 | N20: 內搭 | O20: 男 | P20: FITNESS | Q20: 2025Q4 | R20: 45904
A21: 服装 | B21: A11M541214FOR | C21: 780 | D21: 11 | E21: =VLOOKUP(B21,Sheet2!A:B,2,0) -> 13 | F21: 针织长袖上衣 | I21: 1 | J21: 2 | K21: 4 | L21: 4 | N21: 內搭 | O21: 男 | P21: FITNESS | Q21: 2025Q4 | R21: 45904
A22: 服装 | B22: A11M541707FBK | C22: 2140 | D22: 16 | E22: =VLOOKUP(B22,Sheet2!A:B,2,0) -> 15 | F22: 梭织外套 | J22: 5 | K22: 8 | L22: 2 | M22: 1 | N22: 梭織上衣 | O22: 男 | P22: FITNESS | Q22: 2025Q4 | R22: 45904
A23: 服装 | B23: A11M541906FBK | C23: 1480 | D23: 17 | E23: =VLOOKUP(B23,Sheet2!A:B,2,0) -> 51 | F23: 羽绒马甲 | I23: 4 | J23: 7 | K23: 1 | L23: 4 | M23: 1 | N23: 羽絨服 | O23: 男 | P23: FITNESS | Q23: 2025Q4 | R23: 45904
A24: 服装 | B24: A11M545701FBK | C24: 2880 | D24: 29 | E24: =VLOOKUP(B24,Sheet2!A:B,2,0) -> 7 | F24: 梭织外套 | I24: 6 | J24: 8 | K24: 8 | L24: 5 | M24: 2 | N24: 梭織上衣 | O24: 男 | P24: GOLF | Q24: 2025Q4 | R24: 45904
A25: 服装 | B25: A11M545407FWT | C25: 1480 | D25: 9 | E25: =VLOOKUP(B25,Sheet2!A:B,2,0) -> 23 | F25: 编织衫 | J25: 6 | K25: 1 | M25: 2 | N25: 編織衫 | O25: 男 | P25: GOLF | Q25: 2025Q4 | R25: 45904
A26: 服装 | B26: A11M545220FWT | C26: 1480 | D26: 14 | E26: =VLOOKUP(B26,Sheet2!A:B,2,0) -> 16 | F26: 针织长袖POLO衫 | I26: 7 | J26: 3 | K26: 3 | M26: 1 | N26: 內搭 | O26: 男 | P26: GOLF | Q26: 2025Q4 | R26: 45904
A27: 服装 | B27: A11M545502FBK | C27: 2480 | D27: 26 | E27: =VLOOKUP(B27,Sheet2!A:B,2,0) -> 21 | F27: 针织长袖外套 | I27: 5 | J27: 14 | K27: 5 | L27: 1 | M27: 1 | N27: 針織上衣 | O27: 男 | P27: GOLF | Q27: 2025Q4 | R27: 45904
A28: 服装 | B28: A11M545925FBK | C28: 2140 | D28: 18 | E28: =VLOOKUP(B28,Sheet2!A:B,2,0) -> 28 | F28: 羽绒马甲 | I28: 3 | J28: 3 | K28: 5 | L28: 4 | M28: 3 | N28: 羽絨服 | O28: 男 | P28: GOLF | Q28: 2025Q4 | R28: 45904
A29: 服装 | B29: A11M545221FWT | C29: 1480 | D29: 9 | E29: =VLOOKUP(B29,Sheet2!A:B,2,0) -> 31 | F29: 针织长袖上衣 | I29: 4 | J29: 2 | L29: 2 | M29: 1 | N29: 內搭 | O29: 男 | P29: GOLF | Q29: 2025Q4 | R29: 45904
A30: 服装 | B30: A11M545810FGY | C30: 1680 | D30: 3 | E30: =VLOOKUP(B30,Sheet2!A:B,2,0) -> 31 | F30: 梭织长裤 | L30: 3 | N30: 梭織褲 | O30: 男 | P30: GOLF | Q30: 2025Q4 | R30: 45904
A31: 服装 | B31: A11M545947FBK | C31: 2140 | D31: 1 | E31: =VLOOKUP(B31,Sheet2!A:B,2,0) -> 17 | F31: 棉马甲 | L31: 1 | N31: 棉服 | O31: 男 | P31: GOLF | Q31: 2025Q4 | R31: 45923
A32: 服装 | B32: A11M545201FBK | C32: 1680 | D32: 3 | E32: =VLOOKUP(B32,Sheet2!A:B,2,0) -> 41 | F32: 针织长袖POLO衫 | I32: 2 | L32: 1 | N32: 內搭 | O32: 男 | P32: GOLF | Q32: 2025Q4 | R32: 45904
A33: 服装 | B33: A11M545917FBK | C33: 3440 | D33: 29 | E33: =VLOOKUP(B33,Sheet2!A:B,2,0) -> 6 | F33: 羽绒服两件套 | I33: 5 | J33: 8 | K33: 8 | L33: 6 | M33: 2 | N33: 羽絨服 | O33: 男 | P33: GOLF | Q33: 2025Q4 | R33: 45904
A34: 服装 | B34: A11M545928FBK | C34: 3380 | D34: 24 | E34: =VLOOKUP(B34,Sheet2!A:B,2,0) -> 13 | F34: 羽绒服 | I34: 3 | J34: 7 | K34: 3 | L34: 7 | M34: 4 | N34: 羽絨服 | O34: 男 | P34: GOLF | Q34: 2025Q4 | R34: 45904
A35: 服装 | B35: A11M545905FGY | C35: 2140 | D35: 13 | E35: =VLOOKUP(B35,Sheet2!A:B,2,0) -> 23 | F35: 羽绒马甲 | I35: 1 | J35: 1 | K35: 1 | L35: 8 | M35: 2 | N35: 羽絨服 | O35: 男 | P35: GOLF | Q35: 2025Q4 | R35: 45904
A36: 服装 | B36: A11M545601FBK | C36: 1680 | D36: 7 | E36: =VLOOKUP(B36,Sheet2!A:B,2,0) -> 31 | F36: 针织长裤 | I36: 1 | J36: 1 | K36: 2 | L36: 3 | N36: 針織褲 | O36: 男 | P36: GOLF | Q36: 2025Q4 | R36: 45904
A37: 服装 | B37: F11M548101FWT | C37: 580 | D37: 14 | E37: =VLOOKUP(B37,Sheet2!A:B,2,0) -> 54 | F37: 针织短袖衫 | I37: 4 | K37: 3 | L37: 3 | M37: 4 | N37: 短T類 | O37: 男 | P37: HERITAGE | Q37: 2025Q4 | R37: 45904
A38: 服装 | B38: F11M548101FNV | C38: 580 | D38: 13 | E38: =VLOOKUP(B38,Sheet2!A:B,2,0) -> 36 | F38: 针织短袖衫 | I38: 4 | J38: 2 | K38: 3 | L38: 2 | M38: 2 | N38: 短T類 | O38: 男 | P38: HERITAGE | Q38: 2025Q4 | R38: 45904
A39: 服装 | B39: F11M548703FLK | C39: 1940 | D39: 5 | E39: =VLOOKUP(B39,Sheet2!A:B,2,0) -> 27 | F39: 梭织外套 | J39: 1 | K39: 1 | L39: 3 | N39: 梭織上衣 | O39: 男 | P39: HERITAGE | Q39: 2025Q4 | R39: 45904
A40: 服装 | B40: F11M548403FLK | C40: 1140 | D40: 8 | E40: =VLOOKUP(B40,Sheet2!A:B,2,0) -> 9 | F40: 梭织长袖衬衫 | I40: 1 | J40: 4 | K40: 2 | L40: 1 | N40: 襯衫 | O40: 男 | P40: HERITAGE | Q40: 2025Q4 | R40: 45904
...

Sheet Sheet2
A1: 貨號 | B1: 移出/銷售 | C1: 備注
A2: F13U449232FWI | B2: 1 | C2: 销售小票入账
A3: F13M523303FNV | B3: 23 | C3: 销售小票入账
A4: A13M521302FWT | B4: 10 | C4: 销售小票入账
A5: F11M533106FWT | B5: 9 | C5: 销售小票入账
A6: A11W531111FWT | B6: 6 | C6: 销售小票入账
A7: A12M531115FBB | B7: 1 | C7: 销售小票入账
A8: A11M547803FBK | B8: 6 | C8: 销售小票入账
A9: A11M548705FBK | B9: 6 | C9: 销售小票入账
A10: U2D250960 | B10: 3 | C10: 销售小票入账
A11: U2D251043 | B11: 70 | C11: 销售小票入账
A12: F11M548217FWT | B12: 32 | C12: 销售小票入账
A13: F11M548403FLK | B13: 9 | C13: 销售小票入账
... A699: F11W549915FPK | B699: 2 | C699: 销售小票入账
