Workbook

Sheet 2026-04-01
H2: 縂數量
A3: 店舖 | C3: 7211 | H3: 箱 | I3: 包 | J3: 扎 | K3: 件
A4: Maersk運輸收貨日期 | C4: 46113 | H4: =SUM(D12:D36,H12:H36) -> 17 | I4: =SUM(E12:E36,I12:I36) -> 0 | J4: =SUM(F12:F36,J12:J36) -> 0 | K4: =SUM(G12:G36,K12:K36) -> 0
F6: 同事簽名 | J6: 師傅簽名
B8: 送往地點
B9: 店舖 | H9: 貨倉 | L9: 總數 | M9: 備註 | N9: 送對家店指定日期
B10: 數量 | H10: 數量
A11: 項目 | B11: 送往店舖 | C11: 店鋪名 | D11: 箱 | E11: 包 | F11: 扎 | G11: 件 | H11: 箱 | I11: 包 | J11: 扎 | K11: 件
A12: 1 | B12: 7227 | C12: =_xlfn.IFNA(VLOOKUP(B12,門店清單!A:B,2,0),"") -> 澳門新八佰伴Core | D12: 2 | L12: =SUM(D12:K12) -> 2 | M12: AHKAL26033929 （内有單AHKAL26034134），AHKAL26034229
A13: 2 | B13: 7215 | C13: =_xlfn.IFNA(VLOOKUP(B13,門店清單!A:B,2,0),"") -> 板樟堂 | D13: 3 | L13: =SUM(D13:K13) -> 3 | M13: AHKAL26034031，AHKAL26034233，AHKAL26034237
A14: 3 | B14: 7215 | C14: =_xlfn.IFNA(VLOOKUP(B14,門店清單!A:B,2,0),"") -> 板樟堂 | D14: 1 | L14: =SUM(D14:K14) -> 1 | M14: 無紡細紙袋
A15: 4 | B15: 1019 | C15: =_xlfn.IFNA(VLOOKUP(B15,門店清單!A:B,2,0),"") -> WHR | H15: 3 | L15: =SUM(D15:K15) -> 3 | M15: AHKWF2603008327，AHKWF2603008326，AHKWF2603008329
A16: 5 | B16: 1019 | C16: =_xlfn.IFNA(VLOOKUP(B16,門店清單!A:B,2,0),"") -> WHR | H16: 3 | L16: =SUM(D16:K16) -> 3 | M16: AHKWF2603008328，AHKWF2603008355，AHKWF2603008359
A17: 6 | B17: 7215 | C17: =_xlfn.IFNA(VLOOKUP(B17,門店清單!A:B,2,0),"") -> 板樟堂 | D17: 2 | L17: =SUM(D17:K17) -> 2 | M17: AHKAL26034255，AHKAL26034314
A18: 7 | B18: 1019 | C18: =_xlfn.IFNA(VLOOKUP(B18,門店清單!A:B,2,0),"") -> WHR | H18: 3 | L18: =SUM(D18:K18) -> 3 | M18: AHKWF2603008370，AHKWF2603008371，AHKWF2603008373
A19: 8 | C19: =_xlfn.IFNA(VLOOKUP(B19,門店清單!A:B,2,0),"") | L19: =SUM(D19:K19) -> 0
A20: 9 | C20: =_xlfn.IFNA(VLOOKUP(B20,門店清單!A:B,2,0),"") | L20: =SUM(D20:K20) -> 0
A21: 10 | C21: =_xlfn.IFNA(VLOOKUP(B21,門店清單!A:B,2,0),"") | L21: =SUM(D21:K21) -> 0
A22: 11 | C22: =_xlfn.IFNA(VLOOKUP(B22,門店清單!A:B,2,0),"") | L22: =SUM(D22:K22) -> 0
A23: 12 | C23: =_xlfn.IFNA(VLOOKUP(B23,門店清單!A:B,2,0),"") | L23: =SUM(D23:K23) -> 0
A24: 13 | C24: =_xlfn.IFNA(VLOOKUP(B24,門店清單!A:B,2,0),"") | L24: =SUM(D24:K24) -> 0
A25: 14 | C25: =_xlfn.IFNA(VLOOKUP(B25,門店清單!A:B,2,0),"") | L25: =SUM(D25:K25) -> 0
A26: 15 | C26: =_xlfn.IFNA(VLOOKUP(B26,門店清單!A:B,2,0),"") | L26: =SUM(D26:K26) -> 0
A27: 16 | C27: =_xlfn.IFNA(VLOOKUP(B27,門店清單!A:B,2,0),"") | L27: =SUM(D27:K27) -> 0
A28: 17 | C28: =_xlfn.IFNA(VLOOKUP(B28,門店清單!A:B,2,0),"") | L28: =SUM(D28:K28) -> 0
A29: 18 | C29: =_xlfn.IFNA(VLOOKUP(B29,門店清單!A:B,2,0),"") | L29: =SUM(D29:K29) -> 0
A30: 19 | C30: =_xlfn.IFNA(VLOOKUP(B30,門店清單!A:B,2,0),"") | L30: =SUM(D30:K30) -> 0
... A36: 25 | C36: =_xlfn.IFNA(VLOOKUP(B36,門店清單!A:B,2,0),"") | L36: =SUM(D36:K36) -> 0

Sheet 2026-04-03
H2: 縂數量
A3: 店舖 | C3: 7211 | H3: 箱 | I3: 包 | J3: 扎 | K3: 件
A4: Maersk運輸收貨日期 | C4: 46115 | H4: =SUM(D12:D36,H12:H36) -> 19 | I4: =SUM(E12:E36,I12:I36) -> 0 | J4: =SUM(F12:F36,J12:J36) -> 0 | K4: =SUM(G12:G36,K12:K36) -> 0
F6: 同事簽名 | J6: 師傅簽名
B8: 送往地點
B9: 店舖 | H9: 貨倉 | L9: 總數 | M9: 備註 | N9: 送對家店指定日期
B10: 數量 | H10: 數量
A11: 項目 | B11: 送往店舖 | C11: 店鋪名 | D11: 箱 | E11: 包 | F11: 扎 | G11: 件 | H11: 箱 | I11: 包 | J11: 扎 | K11: 件
A12: 1 | B12: 7215 | C12: =_xlfn.IFNA(VLOOKUP(B12,門店清單!A:B,2,0),"") -> 板樟堂 | D12: 1 | L12: =SUM(D12:K12) -> 1 | M12: AHKAL26040123（内有單AHKAL26040115）
A13: 2 | B13: 7227 | C13: =_xlfn.IFNA(VLOOKUP(B13,門店清單!A:B,2,0),"") -> 澳門新八佰伴Core | D13: 1 | L13: =SUM(D13:K13) -> 1 | M13: AHKAL26040127
A14: 3 | B14: 1019 | C14: =_xlfn.IFNA(VLOOKUP(B14,門店清單!A:B,2,0),"") -> WHR | H14: 3 | L14: =SUM(D14:K14) -> 3 | M14: AHKWF2604001739，AHKWF2604001742，AHKWF2604001741
A15: 4 | B15: 1019 | C15: =_xlfn.IFNA(VLOOKUP(B15,門店清單!A:B,2,0),"") -> WHR | H15: 3 | L15: =SUM(D15:K15) -> 3 | M15: AHKWF2604001740，AHKWF2604001763，AHKWF2604001764
A16: 5 | B16: 7215 | C16: =_xlfn.IFNA(VLOOKUP(B16,門店清單!A:B,2,0),"") -> 板樟堂 | D16: 10 | L16: =SUM(D16:K16) -> 10 | M16: AHKAL26040158（10個行李箱1張單）
A17: 6 | B17: 1019 | C17: =_xlfn.IFNA(VLOOKUP(B17,門店清單!A:B,2,0),"") -> WHR | H17: 1 | L17: =SUM(D17:K17) -> 1 | M17: AHKWF2604001821
A18: 7 | C18: =_xlfn.IFNA(VLOOKUP(B18,門店清單!A:B,2,0),"") | L18: =SUM(D18:K18) -> 0
A19: 8 | C19: =_xlfn.IFNA(VLOOKUP(B19,門店清單!A:B,2,0),"") | L19: =SUM(D19:K19) -> 0
A20: 9 | C20: =_xlfn.IFNA(VLOOKUP(B20,門店清單!A:B,2,0),"") | L20: =SUM(D20:K20) -> 0
A21: 10 | C21: =_xlfn.IFNA(VLOOKUP(B21,門店清單!A:B,2,0),"") | L21: =SUM(D21:K21) -> 0
A22: 11 | C22: =_xlfn.IFNA(VLOOKUP(B22,門店清單!A:B,2,0),"") | L22: =SUM(D22:K22) -> 0
A23: 12 | C23: =_xlfn.IFNA(VLOOKUP(B23,門店清單!A:B,2,0),"") | L23: =SUM(D23:K23) -> 0
A24: 13 | C24: =_xlfn.IFNA(VLOOKUP(B24,門店清單!A:B,2,0),"") | L24: =SUM(D24:K24) -> 0
A25: 14 | C25: =_xlfn.IFNA(VLOOKUP(B25,門店清單!A:B,2,0),"") | L25: =SUM(D25:K25) -> 0
A26: 15 | C26: =_xlfn.IFNA(VLOOKUP(B26,門店清單!A:B,2,0),"") | L26: =SUM(D26:K26) -> 0
A27: 16 | C27: =_xlfn.IFNA(VLOOKUP(B27,門店清單!A:B,2,0),"") | L27: =SUM(D27:K27) -> 0
A28: 17 | C28: =_xlfn.IFNA(VLOOKUP(B28,門店清單!A:B,2,0),"") | L28: =SUM(D28:K28) -> 0
A29: 18 | C29: =_xlfn.IFNA(VLOOKUP(B29,門店清單!A:B,2,0),"") | L29: =SUM(D29:K29) -> 0
... A36: 25 | C36: =_xlfn.IFNA(VLOOKUP(B36,門店清單!A:B,2,0),"") | L36: =SUM(D36:K36) -> 0

Sheet 2026-04-08
H2: 縂數量
A3: 店舖 | C3: 7211 | H3: 箱 | I3: 包 | J3: 扎 | K3: 件
A4: Maersk運輸收貨日期 | C4: 46120 | H4: =SUM(D12:D36,H12:H36) -> 26 | I4: =SUM(E12:E36,I12:I36) -> 0 | J4: =SUM(F12:F36,J12:J36) -> 0 | K4: =SUM(G12:G36,K12:K36) -> 0
F6: 同事簽名 | J6: 師傅簽名
B8: 送往地點
B9: 店舖 | H9: 貨倉 | L9: 總數 | M9: 備註 | N9: 送對家店指定日期
B10: 數量 | H10: 數量
A11: 項目 | B11: 送往店舖 | C11: 店鋪名 | D11: 箱 | E11: 包 | F11: 扎 | G11: 件 | H11: 箱 | I11: 包 | J11: 扎 | K11: 件
A12: 1 | B12: 1019 | C12: =_xlfn.IFNA(VLOOKUP(B12,門店清單!A:B,2,0),"") -> WHR | H12: 1 | L12: =SUM(D12:K12) -> 1 | M12: AHKWF2604001826
A13: 2 | B13: 1019 | C13: =_xlfn.IFNA(VLOOKUP(B13,門店清單!A:B,2,0),"") -> WHR | H13: 3 | L13: =SUM(D13:K13) -> 3 | M13: AHKWF2604001866,AHKWF2604001867,AHKWF2604001870
A14: 3 | B14: 1019 | C14: =_xlfn.IFNA(VLOOKUP(B14,門店清單!A:B,2,0),"") -> WHR | H14: 3 | L14: =SUM(D14:K14) -> 3 | M14: AHKWF2604001868,AHKWF2604001869,AHKWF2604001865
A15: 4 | B15: 1019 | C15: =_xlfn.IFNA(VLOOKUP(B15,門店清單!A:B,2,0),"") -> WHR | H15: 1 | L15: =SUM(D15:K15) -> 1 | M15: AHKWF2604001874
A16: 5 | B16: 7227 | C16: =_xlfn.IFNA(VLOOKUP(B16,門店清單!A:B,2,0),"") -> 澳門新八佰伴Core | D16: 1 | L16: =SUM(D16:K16) -> 1 | M16: AHKAL26040473（内有AHKAL26040546）
A17: 6 | B17: 1019 | C17: =_xlfn.IFNA(VLOOKUP(B17,門店清單!A:B,2,0),"") -> WHR | H17: 3 | L17: =SUM(D17:K17) -> 3 | M17: AHKWF2604001879,AHKWF2604001886，AHKWF2604001917
A18: 7 | B18: 7215 | C18: =_xlfn.IFNA(VLOOKUP(B18,門店清單!A:B,2,0),"") -> 板樟堂 | D18: 6 | L18: =SUM(D18:K18) -> 6 | M18: AHKAL26040530,AHKAL26040615,AHKAL26040610,AHKAL26040613,AHKAL26040614,AHKAL26040460
A19: 8 | B19: 1019 | C19: =_xlfn.IFNA(VLOOKUP(B19,門店清單!A:B,2,0),"") -> WHR | H19: 2 | L19: =SUM(D19:K19) -> 2 | M19: AHKWF2604001921，AHKWF2604001922
A20: 9 | B20: 1019 | C20: =_xlfn.IFNA(VLOOKUP(B20,門店清單!A:B,2,0),"") -> WHR | H20: 6 | L20: =SUM(D20:K20) -> 6 | M20: AHKWF2604001950,AHKWF2604001966,AHKWF2604001996,AHKWF2604001978,AHKF2604002005,AHKWF2604001977
A21: 10 | C21: =_xlfn.IFNA(VLOOKUP(B21,門店清單!A:B,2,0),"") | L21: =SUM(D21:K21) -> 0
A22: 11 | C22: =_xlfn.IFNA(VLOOKUP(B22,門店清單!A:B,2,0),"") | L22: =SUM(D22:K22) -> 0
A23: 12 | C23: =_xlfn.IFNA(VLOOKUP(B23,門店清單!A:B,2,0),"") | L23: =SUM(D23:K23) -> 0
A24: 13 | C24: =_xlfn.IFNA(VLOOKUP(B24,門店清單!A:B,2,0),"") | L24: =SUM(D24:K24) -> 0
A25: 14 | C25: =_xlfn.IFNA(VLOOKUP(B25,門店清單!A:B,2,0),"") | L25: =SUM(D25:K25) -> 0
A26: 15 | C26: =_xlfn.IFNA(VLOOKUP(B26,門店清單!A:B,2,0),"") | L26: =SUM(D26:K26) -> 0
A27: 16 | C27: =_xlfn.IFNA(VLOOKUP(B27,門店清單!A:B,2,0),"") | L27: =SUM(D27:K27) -> 0
A28: 17 | C28: =_xlfn.IFNA(VLOOKUP(B28,門店清單!A:B,2,0),"") | L28: =SUM(D28:K28) -> 0
A29: 18 | C29: =_xlfn.IFNA(VLOOKUP(B29,門店清單!A:B,2,0),"") | L29: =SUM(D29:K29) -> 0
A30: 19 | C30: =_xlfn.IFNA(VLOOKUP(B30,門店清單!A:B,2,0),"") | L30: =SUM(D30:K30) -> 0
A31: 20 | C31: =_xlfn.IFNA(VLOOKUP(B31,門店清單!A:B,2,0),"") | L31: =SUM(D31:K31) -> 0
A32: 21 | C32: =_xlfn.IFNA(VLOOKUP(B32,門店清單!A:B,2,0),"") | L32: =SUM(D32:K32) -> 0
... A36: 25 | C36: =_xlfn.IFNA(VLOOKUP(B36,門店清單!A:B,2,0),"") | L36: =SUM(D36:K36) -> 0

Sheet 工作表4
H2: 縂數量
A3: 店舖 | C3: 7211 | H3: 箱 | I3: 包 | J3: 扎 | K3: 件
A4: Maersk運輸收貨日期 | H4: =SUM(D12:D36,H12:H36) -> 0 | I4: =SUM(E12:E36,I12:I36) -> 0 | J4: =SUM(F12:F36,J12:J36) -> 0 | K4: =SUM(G12:G36,K12:K36) -> 0
F6: 同事簽名 | J6: 師傅簽名
B8: 送往地點
B9: 店舖 | H9: 貨倉 | L9: 總數 | M9: 備註 | N9: 送對家店指定日期
B10: 數量 | H10: 數量
A11: 項目 | B11: 送往店舖 | C11: 店鋪名 | D11: 箱 | E11: 包 | F11: 扎 | G11: 件 | H11: 箱 | I11: 包 | J11: 扎 | K11: 件
A12: 1 | C12: =_xlfn.IFNA(VLOOKUP(B12,門店清單!A:B,2,0),"") | L12: =SUM(D12:K12) -> 0
A13: 2 | C13: =_xlfn.IFNA(VLOOKUP(B13,門店清單!A:B,2,0),"") | L13: =SUM(D13:K13) -> 0
A14: 3 | C14: =_xlfn.IFNA(VLOOKUP(B14,門店清單!A:B,2,0),"") | L14: =SUM(D14:K14) -> 0
A15: 4 | C15: =_xlfn.IFNA(VLOOKUP(B15,門店清單!A:B,2,0),"") | L15: =SUM(D15:K15) -> 0
A16: 5 | C16: =_xlfn.IFNA(VLOOKUP(B16,門店清單!A:B,2,0),"") | L16: =SUM(D16:K16) -> 0
A17: 6 | C17: =_xlfn.IFNA(VLOOKUP(B17,門店清單!A:B,2,0),"") | L17: =SUM(D17:K17) -> 0
A18: 7 | C18: =_xlfn.IFNA(VLOOKUP(B18,門店清單!A:B,2,0),"") | L18: =SUM(D18:K18) -> 0
A19: 8 | C19: =_xlfn.IFNA(VLOOKUP(B19,門店清單!A:B,2,0),"") | L19: =SUM(D19:K19) -> 0
A20: 9 | C20: =_xlfn.IFNA(VLOOKUP(B20,門店清單!A:B,2,0),"") | L20: =SUM(D20:K20) -> 0
A21: 10 | C21: =_xlfn.IFNA(VLOOKUP(B21,門店清單!A:B,2,0),"") | L21: =SUM(D21:K21) -> 0
A22: 11 | C22: =_xlfn.IFNA(VLOOKUP(B22,門店清單!A:B,2,0),"") | L22: =SUM(D22:K22) -> 0
A23: 12 | C23: =_xlfn.IFNA(VLOOKUP(B23,門店清單!A:B,2,0),"") | L23: =SUM(D23:K23) -> 0
... A36: 25 | C36: =_xlfn.IFNA(VLOOKUP(B36,門店清單!A:B,2,0),"") | L36: =SUM(D36:K36) -> 0

Sheet 工作表1
H2: 縂數量
A3: 店舖 | C3: 7211 | H3: 箱 | I3: 包 | J3: 扎 | K3: 件
A4: Maersk運輸收貨日期 | H4: =SUM(D12:D36,H12:H36) -> 0 | I4: =SUM(E12:E36,I12:I36) -> 0 | J4: =SUM(F12:F36,J12:J36) -> 0 | K4: =SUM(G12:G36,K12:K36) -> 0
F6: 同事簽名 | J6: 師傅簽名
B8: 送往地點
B9: 店舖 | H9: 貨倉 | L9: 總數 | M9: 備註 | N9: 送對家店指定日期
B10: 數量 | H10: 數量
A11: 項目 | B11: 送往店舖 | C11: 店鋪名 | D11: 箱 | E11: 包 | F11: 扎 | G11: 件 | H11: 箱 | I11: 包 | J11: 扎 | K11: 件
A12: 1 | C12: =_xlfn.IFNA(VLOOKUP(B12,門店清單!A:B,2,0),"") | L12: =SUM(D12:K12) -> 0
A13: 2 | C13: =_xlfn.IFNA(VLOOKUP(B13,門店清單!A:B,2,0),"") | L13: =SUM(D13:K13) -> 0
A14: 3 | C14: =_xlfn.IFNA(VLOOKUP(B14,門店清單!A:B,2,0),"") | L14: =SUM(D14:K14) -> 0
A15: 4 | C15: =_xlfn.IFNA(VLOOKUP(B15,門店清單!A:B,2,0),"") | L15: =SUM(D15:K15) -> 0
A16: 5 | C16: =_xlfn.IFNA(VLOOKUP(B16,門店清單!A:B,2,0),"") | L16: =SUM(D16:K16) -> 0
A17: 6 | C17: =_xlfn.IFNA(VLOOKUP(B17,門店清單!A:B,2,0),"") | L17: =SUM(D17:K17) -> 0
A18: 7 | C18: =_xlfn.IFNA(VLOOKUP(B18,門店清單!A:B,2,0),"") | L18: =SUM(D18:K18) -> 0
A19: 8 | C19: =_xlfn.IFNA(VLOOKUP(B19,門店清單!A:B,2,0),"") | L19: =SUM(D19:K19) -> 0
A20: 9 | C20: =_xlfn.IFNA(VLOOKUP(B20,門店清單!A:B,2,0),"") | L20: =SUM(D20:K20) -> 0
A21: 10 | C21: =_xlfn.IFNA(VLOOKUP(B21,門店清單!A:B,2,0),"") | L21: =SUM(D21:K21) -> 0
A22: 11 | C22: =_xlfn.IFNA(VLOOKUP(B22,門店清單!A:B,2,0),"") | L22: =SUM(D22:K22) -> 0
A23: 12 | C23: =_xlfn.IFNA(VLOOKUP(B23,門店清單!A:B,2,0),"") | L23: =SUM(D23:K23) -> 0
... A36: 25 | C36: =_xlfn.IFNA(VLOOKUP(B36,門店清單!A:B,2,0),"") | L36: =SUM(D36:K36) -> 0

Sheet 工作表3
H2: 縂數量
A3: 店舖 | C3: 7211 | H3: 箱 | I3: 包 | J3: 扎 | K3: 件
A4: Maersk運輸收貨日期 | H4: =SUM(D12:D36,H12:H36) -> 0 | I4: =SUM(E12:E36,I12:I36) -> 0 | J4: =SUM(F12:F36,J12:J36) -> 0 | K4: =SUM(G12:G36,K12:K36) -> 0
F6: 同事簽名 | J6: 師傅簽名
B8: 送往地點
B9: 店舖 | H9: 貨倉 | L9: 總數 | M9: 備註 | N9: 送對家店指定日期
B10: 數量 | H10: 數量
A11: 項目 | B11: 送往店舖 | C11: 店鋪名 | D11: 箱 | E11: 包 | F11: 扎 | G11: 件 | H11: 箱 | I11: 包 | J11: 扎 | K11: 件
A12: 1 | C12: =_xlfn.IFNA(VLOOKUP(B12,門店清單!A:B,2,0),"") | L12: =SUM(D12:K12) -> 0
A13: 2 | C13: =_xlfn.IFNA(VLOOKUP(B13,門店清單!A:B,2,0),"") | L13: =SUM(D13:K13) -> 0
A14: 3 | C14: =_xlfn.IFNA(VLOOKUP(B14,門店清單!A:B,2,0),"") | L14: =SUM(D14:K14) -> 0
A15: 4 | C15: =_xlfn.IFNA(VLOOKUP(B15,門店清單!A:B,2,0),"") | L15: =SUM(D15:K15) -> 0
A16: 5 | C16: =_xlfn.IFNA(VLOOKUP(B16,門店清單!A:B,2,0),"") | L16: =SUM(D16:K16) -> 0
A17: 6 | C17: =_xlfn.IFNA(VLOOKUP(B17,門店清單!A:B,2,0),"") | L17: =SUM(D17:K17) -> 0
A18: 7 | C18: =_xlfn.IFNA(VLOOKUP(B18,門店清單!A:B,2,0),"") | L18: =SUM(D18:K18) -> 0
A19: 8 | C19: =_xlfn.IFNA(VLOOKUP(B19,門店清單!A:B,2,0),"") | L19: =SUM(D19:K19) -> 0
A20: 9 | C20: =_xlfn.IFNA(VLOOKUP(B20,門店清單!A:B,2,0),"") | L20: =SUM(D20:K20) -> 0
A21: 10 | C21: =_xlfn.IFNA(VLOOKUP(B21,門店清單!A:B,2,0),"") | L21: =SUM(D21:K21) -> 0
A22: 11 | C22: =_xlfn.IFNA(VLOOKUP(B22,門店清單!A:B,2,0),"") | L22: =SUM(D22:K22) -> 0
A23: 12 | C23: =_xlfn.IFNA(VLOOKUP(B23,門店清單!A:B,2,0),"") | L23: =SUM(D23:K23) -> 0
... A36: 25 | C36: =_xlfn.IFNA(VLOOKUP(B36,門店清單!A:B,2,0),"") | L36: =SUM(D36:K36) -> 0

Sheet 範例
G2: 數量
A3: 店舖 | C3: 7149 | G3: 箱 | H3: 扎 | I3: 袋 | J3: 件
A4: Maersk運輸收貨日期 | C4: =TODAY() -> 46120 | G4: =SUM(C12:C43,G12:G43) -> 1 | H4: =SUM(D12:D43,H12:H43) -> 10 | I4: =SUM(E12:E43,I12:I43) -> 0 | J4: =SUM(F12:F43,J12:J43) -> 2
B8: 送往地點
B9: 店舖 | G9: 貨倉 | K9: 總數 | L9: 備註
B10: 數量 | G10: 數量
A11: 項目 | B11: 送往店舖 | C11: 箱 | D11: 扎 | E11: 袋 | F11: 件 | G11: 箱 | H11: 扎 | I11: 袋 | J11: 件
A12: 1 | B12: 7169 | D12: 10 | F12: 1 | K12: =SUM(C12:J12) -> 11 | L12: AHKAL25070718，車兜-OPS
A13: 2 | G13: 1 | J13: 1 | K13: =SUM(C13:J13) -> 2 | L13: AHKWF1234567890，(OPS)車兜
A14: 3 | K14: =SUM(C14:J14) -> 0
A15: 4 | K15: =SUM(C15:J15) -> 0
A16: 5 | K16: =SUM(C16:J16) -> 0
A17: 6 | K17: =SUM(C17:J17) -> 0
A18: 7 | K18: =SUM(C18:J18) -> 0
A19: 8 | K19: =SUM(C19:J19) -> 0
A20: 9 | K20: =SUM(C20:J20) -> 0
A21: 10 | K21: =SUM(C21:J21) -> 0
A22: 11 | K22: =SUM(C22:J22) -> 0
A23: 12 | K23: =SUM(C23:J23) -> 0
A24: 13 | K24: =SUM(C24:J24) -> 0
A25: 14 | K25: =SUM(C25:J25) -> 0
... A43: 32 | K43: =SUM(C43:J43) -> 0

Sheet 門店清單
A1: 7152 | B1: 東薈城 - Outlet
A2: 7164 | B2: 東薈城 - 鞋Outlet
A3: 7169 | B3: City Plaza
A4: 7167 | B4: CityWalk
A5: 7160 | B5: 東港城
A6: 7130 | B6: 又一城
A7: 7111 | B7: 國際廣場
A8: 7168 | B8: Sogo KT
A9: 7163 | B9: Kai Tak Sports Park
A10: 7149 | B10: 荷里活 Mega
A11: 7115 | B11: 沙田新城市
A12: 7132 | B12: 海港城
... A34: 7292 | B34: 澳門上葡京新八佰伴童裝Popup
A35: B1
A36: R3NU | B36: 美丽华旗舰店
A37: R3ZV | B37: 沙田新城市
A38: 1019 | B38: WHR
A39: WHR | B39: WHR
A40: 1005 | B40: 虛擬倉-報廢處理倉(斐乐)
A41: 1013 | B41: A4-MRSK-SZ-制服倉(斐乐)
A42: 1006 | B42: A2-MRSK-SZ-贈品倉(斐乐)

Sheet 走貨紙
A2: FROM: | C2: 7211(RMV)
A4: TO: | B4: 7215(RMD)
A5: NO.OF CTN : | F5: 10 | H5: OF | J5: 10
A6: T/O NO. ： | E6: AHKAL26040158
A7: Date ： | E7: =TODAY() -> 46120
A8: Remarks ： | E8: 行李箱 TO RMD

Sheet Sales Memo
A2: FROM: | C2: 7211(RMV)
A4: TO: | B4: WHR
A5: NO.OF CTN : | E5: 1 OF 1
A6: T/O NO. ： | E6: /
A7: Date ： | E7: 46006
A8: RMV Sales Memo TO WHR, FIN-1242 (Doc)
A9: Remarks ： | E9: 記錄 e.g 25年9月,10月,11月
