Workbook

Sheet SEP
E1: D58 | F1: E58 | H1: F58 | I1: G58 | K1: H58 | L1: I58 | N1: J58 | O1: K58 | Q1: L58 | R1: M58 | T1: N58 | U1: O58 | AI1: X58 | AJ1: Y58 | AL1: Z58 | AM1: AA58 | AO1: AB58 | AP1: AC58 | AR1: AD58 | AS1: AE58 | AU1: AF58 | AV1: AG58 | AX1: AH58 | AY1: AI58 | BA1: AJ58 | BB1: AK58 | BD1: AL58 | BE1: AM58 | BG1: AN58 | BH1: AO58 | BI1: AP58 | BK1: AQ58 | BL1: AR58 | BM1: AS58 | BO1: AT58 | BP1: AV58 | BQ1: AW58 | BS1: AX58 | BT1: AZ58 | BU1: BA58
A2: OCT | E2: 丁單 | H2: NEW WHITE VIP | K2: NEW RED VIP | N2: 回流VIP 9折 | Q2: 回流VIP 85折 | T2: 萬元單 | W2: 2件88 | Z2: 3件85 | AC2: 4件8折 | AF2: 3000-350 | AI2: 5000-800 | AL2: 7000-1200 | AO2: 12000-2000 | AR2: 2对鞋85折 | AU2: 待增 | AX2: 待增 | BA2: 待增 | BD2: 待增 | BG2: 待增 | BK2: 待增 | BO2: 待增 | BS2: 待增
A4: Day | B4: / | C4: Sales | D4: NO | E4: Sales | F4: NO | G4: Tar % | H4: Sales | I4: NO | J4: Tar % | K4: Sales | L4: NO | M4: Tar % | N4: Sales | O4: NO | P4: Tar % | Q4: Sales | R4: NO | S4: Tar % | T4: Sales | U4: NO | V4: Tar % | W4: Sales | X4: NO | Y4: Tar % | Z4: Sales | AA4: NO | AB4: Tar % | AC4: Sales | AD4: 個數 | AE4: Tar % | AF4: Sales | AG4: 個數 | AH4: Tar % | AI4: Sales | AJ4: NO | AK4: Tar % | AL4: Sales | AM4: NO | AN4: Tar % | AO4: Sales | AP4: NO | AQ4: Tar % | AR4: Sales | AS4: NO | AT4: Tar % | AU4: Sales | AV4: NO | AW4: Tar % | AX4: Sales | AY4: NO | AZ4: Tar % | BA4: Sales | BB4: NO | BC4: Tar % | BD4: Sales | BE4: NO | BF4: Tar % | BG4: Sales | BH4: NO | BI4: QTY | BJ4: Tar % | BK4: Sales | BL4: NO | BM4: QTY | BN4: Tar % | BO4: Sales | BP4: NO | BQ4: QTY | BR4: Tar % | BS4: Sales | BT4: NO | BU4: QTY | BV4: Tar %
B5: M | E5: {=IFERROR(INDIRECT("'"&$A5&"'!"&E$1),"")} | F5: =IFERROR(INDIRECT("'"&$A5&"'!"&$F$1),"") | G5: =F5/D5 -> #VALUE! | H5: {=IFERROR(INDIRECT("'"&$A5&"'!"&H$1),"")} | I5: =IFERROR(INDIRECT("'"&$A5&"'!"&$I$1),"") | J5: =H5/C5 -> #VALUE! | K5: {=IFERROR(INDIRECT("'"&$A5&"'!"&K$1),"")} | L5: =IFERROR(INDIRECT("'"&$A5&"'!"&$L$1),"") | M5: =K5/C5 -> #VALUE! | N5: {=IFERROR(INDIRECT("'"&$A5&"'!"&N$1),"")} | O5: =IFERROR(INDIRECT("'"&$A5&"'!"&$O$1),"") | P5: =N5/C5 -> #VALUE! | Q5: {=IFERROR(INDIRECT("'"&$A5&"'!"&Q$1),"")} | R5: =IFERROR(INDIRECT("'"&$A5&"'!"&$R$1),"") | S5: =Q5/C5 -> #VALUE! | T5: {=IFERROR(INDIRECT("'"&$A5&"'!"&T$1),"")} | U5: =IFERROR(INDIRECT("'"&$A5&"'!"&$U$1),"") | V5: =T5/C5 -> #VALUE! | W5: {=IFERROR(INDIRECT("'"&$A5&"'!"&W$1),"")} | X5: =IFERROR(INDIRECT("'"&$A5&"'!"&$X$1),"") | Y5: =W5/C5 -> #VALUE! | Z5: {=IFERROR(INDIRECT("'"&$A5&"'!"&Z$1),"")} | AA5: =IFERROR(INDIRECT("'"&$A5&"'!"&$AA$1),"") | AB5: =Z5/C5 -> #VALUE! | AC5: {=IFERROR(INDIRECT("'"&$A5&"'!"&AC$1),"")} | AD5: =IFERROR(INDIRECT("'"&$A5&"'!"&$AD$1),"") | AE5: =AC5/C5 -> #VALUE! | AF5: {=IFERROR(INDIRECT("'"&$A5&"'!"&AF$1),"")} | AG5: =IFERROR(INDIRECT("'"&$A5&"'!"&$AG$1),"") | AH5: =AF5/C5 -> #VALUE! | AI5: {=IFERROR(INDIRECT("'"&$A5&"'!"&AI$1),"")} | AJ5: =IFERROR(INDIRECT("'"&$A5&"'!"&$AJ$1),"") | AK5: =AI5/C5 -> #VALUE! | AL5: {=IFERROR(INDIRECT("'"&$A5&"'!"&AL$1),"")} | AM5: =IFERROR(INDIRECT("'"&$A5&"'!"&$AM$1),"") | AN5: =AL5/C5 -> #VALUE! | AO5: {=IFERROR(INDIRECT("'"&$A5&"'!"&AO$1),"")} | AP5: =IFERROR(INDIRECT("'"&$A5&"'!"&$AP$1),"") | AQ5: =AO5/C5 -> #VALUE! | AR5: {=IFERROR(INDIRECT("'"&$A5&"'!"&AR$1),"")} | AS5: =IFERROR(INDIRECT("'"&$A5&"'!"&$AS$1),"") | AT5: =AR5/C5 -> #VALUE! | AU5: {=IFERROR(INDIRECT("'"&$A5&"'!"&AU$1),"")} | AV5: =IFERROR(INDIRECT("'"&$A5&"'!"&$AV$1),"") | AW5: =AU5/C5 -> #VALUE! | AX5: {=IFERROR(INDIRECT("'"&$A5&"'!"&AX$1),"")} | AY5: =IFERROR(INDIRECT("'"&$A5&"'!"&$AY$1),"") | AZ5: =AX5/C5 -> #VALUE! | BA5: {=IFERROR(INDIRECT("'"&$A5&"'!"&BA$1),"")} | BB5: =IFERROR(INDIRECT("'"&$A5&"'!"&$BB$1),"") | BC5: =BA5/C5 -> #VALUE! | BD5: {=IFERROR(INDIRECT("'"&$A5&"'!"&BD$1),"")} | BE5: =IFERROR(INDIRECT("'"&$A5&"'!"&$BE$1),"") | BF5: =BD5/C5 -> #VALUE! | BG5: {=IFERROR(INDIRECT("'"&$A5&"'!"&BG$1),"")} | BH5: =IFERROR(INDIRECT("'"&$A5&"'!"&$BH$1),"") | BI5: =IFERROR(INDIRECT("'"&$A5&"'!"&$BI$1),"") | BJ5: =BG5/C5 -> #VALUE! | BK5: {=IFERROR(INDIRECT("'"&$A5&"'!"&BK$1),"")} | BL5: =IFERROR(INDIRECT("'"&$A5&"'!"&$BL$1),"") | BM5: =IFERROR(INDIRECT("'"&$A5&"'!"&$BM$1),"") | BN5: =BK5/C5 -> #VALUE! | BO5: {=IFERROR(INDIRECT("'"&$A5&"'!"&BO$1),"")} | BP5: =IFERROR(INDIRECT("'"&$A5&"'!"&$BP$1),"") | BQ5: =IFERROR(INDIRECT("'"&$A5&"'!"&$BQ$1),"") | BR5: =BO5/C5 -> #VALUE! | BS5: {=IFERROR(INDIRECT("'"&$A5&"'!"&BS$1),"")} | BT5: =IFERROR(INDIRECT("'"&$A5&"'!"&$BT$1),"") | BU5: =IFERROR(INDIRECT("'"&$A5&"'!"&$BU$1),"") | BV5: =BS5/C5 -> #VALUE!
B6: T | E6: {=IFERROR(INDIRECT("'"&$A6&"'!"&E$1),"")} | F6: =IFERROR(INDIRECT("'"&$A6&"'!"&$F$1),"") | G6: =F6/D6 -> #VALUE! | H6: {=IFERROR(INDIRECT("'"&$A6&"'!"&H$1),"")} | I6: =IFERROR(INDIRECT("'"&$A6&"'!"&$I$1),"") | J6: =H6/C6 -> #VALUE! | K6: {=IFERROR(INDIRECT("'"&$A6&"'!"&K$1),"")} | L6: =IFERROR(INDIRECT("'"&$A6&"'!"&$L$1),"") | M6: =K6/C6 -> #VALUE! | N6: {=IFERROR(INDIRECT("'"&$A6&"'!"&N$1),"")} | O6: =IFERROR(INDIRECT("'"&$A6&"'!"&$O$1),"") | P6: =N6/C6 -> #VALUE! | Q6: {=IFERROR(INDIRECT("'"&$A6&"'!"&Q$1),"")} | R6: =IFERROR(INDIRECT("'"&$A6&"'!"&$R$1),"") | S6: =Q6/C6 -> #VALUE! | T6: {=IFERROR(INDIRECT("'"&$A6&"'!"&T$1),"")} | U6: =IFERROR(INDIRECT("'"&$A6&"'!"&$U$1),"") | V6: =T6/C6 -> #VALUE! | W6: {=IFERROR(INDIRECT("'"&$A6&"'!"&W$1),"")} | X6: =IFERROR(INDIRECT("'"&$A6&"'!"&$X$1),"") | Y6: =W6/C6 -> #VALUE! | Z6: {=IFERROR(INDIRECT("'"&$A6&"'!"&Z$1),"")} | AA6: =IFERROR(INDIRECT("'"&$A6&"'!"&$AA$1),"") | AB6: =Z6/C6 -> #VALUE! | AC6: {=IFERROR(INDIRECT("'"&$A6&"'!"&AC$1),"")} | AD6: =IFERROR(INDIRECT("'"&$A6&"'!"&$AD$1),"") | AE6: =AC6/C6 -> #VALUE! | AF6: {=IFERROR(INDIRECT("'"&$A6&"'!"&AF$1),"")} | AG6: =IFERROR(INDIRECT("'"&$A6&"'!"&$AG$1),"") | AH6: =AF6/C6 -> #VALUE! | AI6: {=IFERROR(INDIRECT("'"&$A6&"'!"&AI$1),"")} | AJ6: =IFERROR(INDIRECT("'"&$A6&"'!"&$AJ$1),"") | AK6: =AI6/C6 -> #VALUE! | AL6: {=IFERROR(INDIRECT("'"&$A6&"'!"&AL$1),"")} | AM6: =IFERROR(INDIRECT("'"&$A6&"'!"&$AM$1),"") | AN6: =AL6/C6 -> #VALUE! | AO6: {=IFERROR(INDIRECT("'"&$A6&"'!"&AO$1),"")} | AP6: =IFERROR(INDIRECT("'"&$A6&"'!"&$AP$1),"") | AQ6: =AO6/C6 -> #VALUE! | AR6: {=IFERROR(INDIRECT("'"&$A6&"'!"&AR$1),"")} | AS6: =IFERROR(INDIRECT("'"&$A6&"'!"&$AS$1),"") | AT6: =AR6/C6 -> #VALUE! | AU6: {=IFERROR(INDIRECT("'"&$A6&"'!"&AU$1),"")} | AV6: =IFERROR(INDIRECT("'"&$A6&"'!"&$AV$1),"") | AW6: =AU6/C6 -> #VALUE! | AX6: {=IFERROR(INDIRECT("'"&$A6&"'!"&AX$1),"")} | AY6: =IFERROR(INDIRECT("'"&$A6&"'!"&$AY$1),"") | AZ6: =AX6/C6 -> #VALUE! | BA6: {=IFERROR(INDIRECT("'"&$A6&"'!"&BA$1),"")} | BB6: =IFERROR(INDIRECT("'"&$A6&"'!"&$BB$1),"") | BC6: =BA6/C6 -> #VALUE! | BD6: {=IFERROR(INDIRECT("'"&$A6&"'!"&BD$1),"")} | BE6: =IFERROR(INDIRECT("'"&$A6&"'!"&$BE$1),"") | BF6: =BD6/C6 -> #VALUE! | BG6: {=IFERROR(INDIRECT("'"&$A6&"'!"&BG$1),"")} | BH6: =IFERROR(INDIRECT("'"&$A6&"'!"&$BH$1),"") | BI6: =IFERROR(INDIRECT("'"&$A6&"'!"&$BI$1),"") | BJ6: =BG6/C6 -> #VALUE! | BK6: {=IFERROR(INDIRECT("'"&$A6&"'!"&BK$1),"")} | BL6: =IFERROR(INDIRECT("'"&$A6&"'!"&$BL$1),"") | BM6: =IFERROR(INDIRECT("'"&$A6&"'!"&$BM$1),"") | BN6: =BK6/C6 -> #VALUE! | BO6: {=IFERROR(INDIRECT("'"&$A6&"'!"&BO$1),"")} | BP6: =IFERROR(INDIRECT("'"&$A6&"'!"&$BP$1),"") | BQ6: =IFERROR(INDIRECT("'"&$A6&"'!"&$BQ$1),"") | BR6: =BO6/C6 -> #VALUE! | BS6: {=IFERROR(INDIRECT("'"&$A6&"'!"&BS$1),"")} | BT6: =IFERROR(INDIRECT("'"&$A6&"'!"&$BT$1),"") | BU6: =IFERROR(INDIRECT("'"&$A6&"'!"&$BU$1),"") | BV6: =BS6/C6 -> #VALUE!
B7: W | E7: {=IFERROR(INDIRECT("'"&$A7&"'!"&E$1),"")} | F7: =IFERROR(INDIRECT("'"&$A7&"'!"&$F$1),"") | G7: =F7/D7 -> #VALUE! | H7: {=IFERROR(INDIRECT("'"&$A7&"'!"&H$1),"")} | I7: =IFERROR(INDIRECT("'"&$A7&"'!"&$I$1),"") | J7: =H7/C7 -> #VALUE! | K7: {=IFERROR(INDIRECT("'"&$A7&"'!"&K$1),"")} | L7: =IFERROR(INDIRECT("'"&$A7&"'!"&$L$1),"") | M7: =K7/C7 -> #VALUE! | N7: {=IFERROR(INDIRECT("'"&$A7&"'!"&N$1),"")} | O7: =IFERROR(INDIRECT("'"&$A7&"'!"&$O$1),"") | P7: =N7/C7 -> #VALUE! | Q7: {=IFERROR(INDIRECT("'"&$A7&"'!"&Q$1),"")} | R7: =IFERROR(INDIRECT("'"&$A7&"'!"&$R$1),"") | S7: =Q7/C7 -> #VALUE! | T7: =IFERROR(INDIRECT("'"&$A7&"'!"&T$1),"") | U7: =IFERROR(INDIRECT("'"&$A7&"'!"&$U$1),"") | V7: =T7/C7 -> #VALUE! | W7: {=IFERROR(INDIRECT("'"&$A7&"'!"&W$1),"")} | X7: =IFERROR(INDIRECT("'"&$A7&"'!"&$X$1),"") | Y7: =W7/C7 -> #VALUE! | Z7: =IFERROR(INDIRECT("'"&$A7&"'!"&Z$1),"") | AA7: =IFERROR(INDIRECT("'"&$A7&"'!"&$AA$1),"") | AB7: =Z7/C7 -> #VALUE! | AC7: {=IFERROR(INDIRECT("'"&$A7&"'!"&AC$1),"")} | AD7: =IFERROR(INDIRECT("'"&$A7&"'!"&$AD$1),"") | AE7: =AC7/C7 -> #VALUE! | AF7: {=IFERROR(INDIRECT("'"&$A7&"'!"&AF$1),"")} | AG7: =IFERROR(INDIRECT("'"&$A7&"'!"&$AG$1),"") | AH7: =AF7/C7 -> #VALUE! | AI7: {=IFERROR(INDIRECT("'"&$A7&"'!"&AI$1),"")} | AJ7: =IFERROR(INDIRECT("'"&$A7&"'!"&$AJ$1),"") | AK7: =AI7/C7 -> #VALUE! | AL7: {=IFERROR(INDIRECT("'"&$A7&"'!"&AL$1),"")} | AM7: =IFERROR(INDIRECT("'"&$A7&"'!"&$AM$1),"") | AN7: =AL7/C7 -> #VALUE! | AO7: {=IFERROR(INDIRECT("'"&$A7&"'!"&AO$1),"")} | AP7: =IFERROR(INDIRECT("'"&$A7&"'!"&$AP$1),"") | AQ7: =AO7/C7 -> #VALUE! | AR7: {=IFERROR(INDIRECT("'"&$A7&"'!"&AR$1),"")} | AS7: =IFERROR(INDIRECT("'"&$A7&"'!"&$AS$1),"") | AT7: =AR7/C7 -> #VALUE! | AU7: {=IFERROR(INDIRECT("'"&$A7&"'!"&AU$1),"")} | AV7: =IFERROR(INDIRECT("'"&$A7&"'!"&$AV$1),"") | AW7: =AU7/C7 -> #VALUE! | AX7: {=IFERROR(INDIRECT("'"&$A7&"'!"&AX$1),"")} | AY7: =IFERROR(INDIRECT("'"&$A7&"'!"&$AY$1),"") | AZ7: =AX7/C7 -> #VALUE! | BA7: {=IFERROR(INDIRECT("'"&$A7&"'!"&BA$1),"")} | BB7: =IFERROR(INDIRECT("'"&$A7&"'!"&$BB$1),"") | BC7: =BA7/C7 -> #VALUE! | BD7: {=IFERROR(INDIRECT("'"&$A7&"'!"&BD$1),"")} | BE7: =IFERROR(INDIRECT("'"&$A7&"'!"&$BE$1),"") | BF7: =BD7/C7 -> #VALUE! | BG7: {=IFERROR(INDIRECT("'"&$A7&"'!"&BG$1),"")} | BH7: =IFERROR(INDIRECT("'"&$A7&"'!"&$BH$1),"") | BI7: =IFERROR(INDIRECT("'"&$A7&"'!"&$BI$1),"") | BJ7: =BG7/C7 -> #VALUE! | BK7: {=IFERROR(INDIRECT("'"&$A7&"'!"&BK$1),"")} | BL7: =IFERROR(INDIRECT("'"&$A7&"'!"&$BL$1),"") | BM7: =IFERROR(INDIRECT("'"&$A7&"'!"&$BM$1),"") | BN7: =BK7/C7 -> #VALUE! | BO7: {=IFERROR(INDIRECT("'"&$A7&"'!"&BO$1),"")} | BP7: =IFERROR(INDIRECT("'"&$A7&"'!"&$BP$1),"") | BQ7: =IFERROR(INDIRECT("'"&$A7&"'!"&$BQ$1),"") | BR7: =BO7/C7 -> #VALUE! | BS7: {=IFERROR(INDIRECT("'"&$A7&"'!"&BS$1),"")} | BT7: =IFERROR(INDIRECT("'"&$A7&"'!"&$BT$1),"") | BU7: =IFERROR(INDIRECT("'"&$A7&"'!"&$BU$1),"") | BV7: =BS7/C7 -> #VALUE!
A8: 1 | B8: T | C8: 79809 | D8: 43 | E8: {=IFERROR(INDIRECT("'"&$A8&"'!"&E$1),"")} -> 9842 | F8: =IFERROR(INDIRECT("'"&$A8&"'!"&$F$1),"") -> 11 | G8: =F8/D8 -> 0.25581395 | H8: {=IFERROR(INDIRECT("'"&$A8&"'!"&H$1),"")} -> 19421 | I8: =IFERROR(INDIRECT("'"&$A8&"'!"&$I$1),"") -> 6 | J8: =H8/C8 -> 0.24334348 | K8: {=IFERROR(INDIRECT("'"&$A8&"'!"&K$1),"")} -> 0 | L8: =IFERROR(INDIRECT("'"&$A8&"'!"&$L$1),"") -> 0 | M8: =K8/C8 -> 0 | N8: {=IFERROR(INDIRECT("'"&$A8&"'!"&N$1),"")} -> 3797 | O8: =IFERROR(INDIRECT("'"&$A8&"'!"&$O$1),"") -> 2 | P8: =N8/C8 -> 0.047576088 | Q8: {=IFERROR(INDIRECT("'"&$A8&"'!"&Q$1),"")} -> 2900 | R8: =IFERROR(INDIRECT("'"&$A8&"'!"&$R$1),"") -> 1 | S8: =Q8/C8 -> 0.036336754 | T8: {=IFERROR(INDIRECT("'"&$A8&"'!"&T$1),"")} -> 0 | U8: =IFERROR(INDIRECT("'"&$A8&"'!"&$U$1),"") -> 0 | V8: =T8/C8 -> 0 | W8: {=IFERROR(INDIRECT("'"&$A8&"'!"&W$1),"")} | X8: =IFERROR(INDIRECT("'"&$A8&"'!"&$X$1),"") | Y8: =W8/C8 -> #VALUE! | Z8: {=IFERROR(INDIRECT("'"&$A8&"'!"&Z$1),"")} | AA8: =IFERROR(INDIRECT("'"&$A8&"'!"&$AA$1),"") | AB8: =Z8/C8 -> #VALUE! | AC8: {=IFERROR(INDIRECT("'"&$A8&"'!"&AC$1),"")} | AD8: =IFERROR(INDIRECT("'"&$A8&"'!"&$AD$1),"") | AE8: =AC8/C8 -> #VALUE! | AF8: {=IFERROR(INDIRECT("'"&$A8&"'!"&AF$1),"")} | AG8: =IFERROR(INDIRECT("'"&$A8&"'!"&$AG$1),"") | AH8: =AF8/C8 -> #VALUE! | AI8: {=IFERROR(INDIRECT("'"&$A8&"'!"&AI$1),"")} -> 5040 | AJ8: =IFERROR(INDIRECT("'"&$A8&"'!"&$AJ$1),"") -> 1 | AK8: =AI8/C8 -> 0.063150772 | AL8: {=IFERROR(INDIRECT("'"&$A8&"'!"&AL$1),"")} -> 0 | AM8: =IFERROR(INDIRECT("'"&$A8&"'!"&$AM$1),"") -> 0 | AN8: =AL8/C8 -> 0 | AO8: {=IFERROR(INDIRECT("'"&$A8&"'!"&AO$1),"")} -> 0 | AP8: =IFERROR(INDIRECT("'"&$A8&"'!"&$AP$1),"") -> 0 | AQ8: =AO8/C8 -> 0 | AR8: {=IFERROR(INDIRECT("'"&$A8&"'!"&AR$1),"")} -> 13740 | AS8: =IFERROR(INDIRECT("'"&$A8&"'!"&$AS$1),"") -> 9 | AT8: =AR8/C8 -> 0.17216103 | AU8: {=IFERROR(INDIRECT("'"&$A8&"'!"&AU$1),"")} -> 0 | AV8: =IFERROR(INDIRECT("'"&$A8&"'!"&$AV$1),"") -> 0 | AW8: =AU8/C8 -> 0 | AX8: {=IFERROR(INDIRECT("'"&$A8&"'!"&AX$1),"")} -> 0 | AY8: =IFERROR(INDIRECT("'"&$A8&"'!"&$AY$1),"") -> 0 | AZ8: =AX8/C8 -> 0 | BA8: {=IFERROR(INDIRECT("'"&$A8&"'!"&BA$1),"")} -> 0 | BB8: =IFERROR(INDIRECT("'"&$A8&"'!"&$BB$1),"") -> 0 | BC8: =BA8/C8 -> 0 | BD8: {=IFERROR(INDIRECT("'"&$A8&"'!"&BD$1),"")} -> 0 | BE8: =IFERROR(INDIRECT("'"&$A8&"'!"&$BE$1),"") -> 0 | BF8: =BD8/C8 -> 0 | BG8: {=IFERROR(INDIRECT("'"&$A8&"'!"&BG$1),"")} -> 0 | BH8: =IFERROR(INDIRECT("'"&$A8&"'!"&$BH$1),"") -> 0 | BI8: =IFERROR(INDIRECT("'"&$A8&"'!"&$BI$1),"") -> 0 | BJ8: =BG8/C8 -> 0 | BK8: {=IFERROR(INDIRECT("'"&$A8&"'!"&BK$1),"")} -> 0 | BL8: =IFERROR(INDIRECT("'"&$A8&"'!"&$BL$1),"") -> 0 | BM8: =IFERROR(INDIRECT("'"&$A8&"'!"&$BM$1),"") -> 0 | BN8: =BK8/C8 -> 0 | BO8: {=IFERROR(INDIRECT("'"&$A8&"'!"&BO$1),"")} -> 0 | BP8: =IFERROR(INDIRECT("'"&$A8&"'!"&$BP$1),"") -> 0 | BQ8: =IFERROR(INDIRECT("'"&$A8&"'!"&$BQ$1),"") -> 0 | BR8: =BO8/C8 -> 0 | BS8: {=IFERROR(INDIRECT("'"&$A8&"'!"&BS$1),"")} -> 0 | BT8: =IFERROR(INDIRECT("'"&$A8&"'!"&$BT$1),"") -> 0 | BU8: =IFERROR(INDIRECT("'"&$A8&"'!"&$BU$1),"") -> 0 | BV8: =BS8/C8 -> 0
A9: 2 | B9: F | E9: {=IFERROR(INDIRECT("'"&$A9&"'!"&E$1),"")} -> 1570 | F9: =IFERROR(INDIRECT("'"&$A9&"'!"&$F$1),"") -> 2 | G9: =F9/D9 -> #DIV/0! | H9: {=IFERROR(INDIRECT("'"&$A9&"'!"&H$1),"")} -> 0 | I9: =IFERROR(INDIRECT("'"&$A9&"'!"&$I$1),"") -> 0 | J9: =H9/C9 -> #DIV/0! | K9: {=IFERROR(INDIRECT("'"&$A9&"'!"&K$1),"")} -> 0 | L9: =IFERROR(INDIRECT("'"&$A9&"'!"&$L$1),"") -> 0 | M9: =K9/C9 -> #DIV/0! | N9: {=IFERROR(INDIRECT("'"&$A9&"'!"&N$1),"")} -> 0 | O9: =IFERROR(INDIRECT("'"&$A9&"'!"&$O$1),"") -> 0 | P9: =N9/C9 -> #DIV/0! | Q9: {=IFERROR(INDIRECT("'"&$A9&"'!"&Q$1),"")} -> 0 | R9: =IFERROR(INDIRECT("'"&$A9&"'!"&$R$1),"") -> 0 | S9: =Q9/C9 -> #DIV/0! | T9: {=IFERROR(INDIRECT("'"&$A9&"'!"&T$1),"")} -> 0 | U9: =IFERROR(INDIRECT("'"&$A9&"'!"&$U$1),"") -> 0 | V9: =T9/C9 -> #DIV/0! | W9: {=IFERROR(INDIRECT("'"&$A9&"'!"&W$1),"")} | X9: =IFERROR(INDIRECT("'"&$A9&"'!"&$X$1),"") | Y9: =W9/C9 -> #VALUE! | Z9: {=IFERROR(INDIRECT("'"&$A9&"'!"&Z$1),"")} | AA9: =IFERROR(INDIRECT("'"&$A9&"'!"&$AA$1),"") | AB9: =Z9/C9 -> #VALUE! | AC9: {=IFERROR(INDIRECT("'"&$A9&"'!"&AC$1),"")} | AD9: =IFERROR(INDIRECT("'"&$A9&"'!"&$AD$1),"") | AE9: =AC9/C9 -> #VALUE! | AF9: {=IFERROR(INDIRECT("'"&$A9&"'!"&AF$1),"")} | AG9: =IFERROR(INDIRECT("'"&$A9&"'!"&$AG$1),"") | AH9: =AF9/C9 -> #VALUE! | AI9: {=IFERROR(INDIRECT("'"&$A9&"'!"&AI$1),"")} -> 0 | AJ9: =IFERROR(INDIRECT("'"&$A9&"'!"&$AJ$1),"") -> 0 | AK9: =AI9/C9 -> #DIV/0! | AL9: {=IFERROR(INDIRECT("'"&$A9&"'!"&AL$1),"")} -> 0 | AM9: =IFERROR(INDIRECT("'"&$A9&"'!"&$AM$1),"") -> 0 | AN9: =AL9/C9 -> #DIV/0! | AO9: {=IFERROR(INDIRECT("'"&$A9&"'!"&AO$1),"")} -> 0 | AP9: =IFERROR(INDIRECT("'"&$A9&"'!"&$AP$1),"") -> 0 | AQ9: =AO9/C9 -> #DIV/0! | AR9: {=IFERROR(INDIRECT("'"&$A9&"'!"&AR$1),"")} -> 0 | AS9: =IFERROR(INDIRECT("'"&$A9&"'!"&$AS$1),"") -> 0 | AT9: =AR9/C9 -> #DIV/0! | AU9: {=IFERROR(INDIRECT("'"&$A9&"'!"&AU$1),"")} -> 0 | AV9: =IFERROR(INDIRECT("'"&$A9&"'!"&$AV$1),"") -> 0 | AW9: =AU9/C9 -> #DIV/0! | AX9: {=IFERROR(INDIRECT("'"&$A9&"'!"&AX$1),"")} -> 0 | AY9: =IFERROR(INDIRECT("'"&$A9&"'!"&$AY$1),"") -> 0 | AZ9: =AX9/C9 -> #DIV/0! | BA9: {=IFERROR(INDIRECT("'"&$A9&"'!"&BA$1),"")} -> 0 | BB9: =IFERROR(INDIRECT("'"&$A9&"'!"&$BB$1),"") -> 0 | BC9: =BA9/C9 -> #DIV/0! | BD9: {=IFERROR(INDIRECT("'"&$A9&"'!"&BD$1),"")} -> 0 | BE9: =IFERROR(INDIRECT("'"&$A9&"'!"&$BE$1),"") -> 0 | BF9: =BD9/C9 -> #DIV/0! | BG9: {=IFERROR(INDIRECT("'"&$A9&"'!"&BG$1),"")} -> 0 | BH9: =IFERROR(INDIRECT("'"&$A9&"'!"&$BH$1),"") -> 0 | BI9: =IFERROR(INDIRECT("'"&$A9&"'!"&$BI$1),"") -> 0 | BJ9: =BG9/C9 -> #DIV/0! | BK9: {=IFERROR(INDIRECT("'"&$A9&"'!"&BK$1),"")} -> 0 | BL9: =IFERROR(INDIRECT("'"&$A9&"'!"&$BL$1),"") -> 0 | BM9: =IFERROR(INDIRECT("'"&$A9&"'!"&$BM$1),"") -> 0 | BN9: =BK9/C9 -> #DIV/0! | BO9: {=IFERROR(INDIRECT("'"&$A9&"'!"&BO$1),"")} -> 0 | BP9: =IFERROR(INDIRECT("'"&$A9&"'!"&$BP$1),"") -> 0 | BQ9: =IFERROR(INDIRECT("'"&$A9&"'!"&$BQ$1),"") -> 0 | BR9: =BO9/C9 -> #DIV/0! | BS9: {=IFERROR(INDIRECT("'"&$A9&"'!"&BS$1),"")} -> 0 | BT9: =IFERROR(INDIRECT("'"&$A9&"'!"&$BT$1),"") -> 0 | BU9: =IFERROR(INDIRECT("'"&$A9&"'!"&$BU$1),"") -> 0 | BV9: =BS9/C9 -> #DIV/0!
A10: 3 | B10: S | E10: {=IFERROR(INDIRECT("'"&$A10&"'!"&E$1),"")} -> 0 | F10: =IFERROR(INDIRECT("'"&$A10&"'!"&$F$1),"") -> 0 | G10: =F10/D10 -> #DIV/0! | H10: {=IFERROR(INDIRECT("'"&$A10&"'!"&H$1),"")} -> 0 | I10: =IFERROR(INDIRECT("'"&$A10&"'!"&$I$1),"") -> 0 | J10: =H10/C10 -> #DIV/0! | K10: {=IFERROR(INDIRECT("'"&$A10&"'!"&K$1),"")} -> 0 | L10: =IFERROR(INDIRECT("'"&$A10&"'!"&$L$1),"") -> 0 | M10: =K10/C10 -> #DIV/0! | N10: {=IFERROR(INDIRECT("'"&$A10&"'!"&N$1),"")} -> 0 | O10: =IFERROR(INDIRECT("'"&$A10&"'!"&$O$1),"") -> 0 | P10: =N10/C10 -> #DIV/0! | Q10: {=IFERROR(INDIRECT("'"&$A10&"'!"&Q$1),"")} -> 0 | R10: =IFERROR(INDIRECT("'"&$A10&"'!"&$R$1),"") -> 0 | S10: =Q10/C10 -> #DIV/0! | T10: {=IFERROR(INDIRECT("'"&$A10&"'!"&T$1),"")} -> 0 | U10: =IFERROR(INDIRECT("'"&$A10&"'!"&$U$1),"") -> 0 | V10: =T10/C10 -> #DIV/0! | W10: {=IFERROR(INDIRECT("'"&$A10&"'!"&W$1),"")} | X10: =IFERROR(INDIRECT("'"&$A10&"'!"&$X$1),"") | Y10: =W10/C10 -> #VALUE! | Z10: {=IFERROR(INDIRECT("'"&$A10&"'!"&Z$1),"")} | AA10: =IFERROR(INDIRECT("'"&$A10&"'!"&$AA$1),"") | AB10: =Z10/C10 -> #VALUE! | AC10: {=IFERROR(INDIRECT("'"&$A10&"'!"&AC$1),"")} | AD10: =IFERROR(INDIRECT("'"&$A10&"'!"&$AD$1),"") | AE10: =AC10/C10 -> #VALUE! | AF10: {=IFERROR(INDIRECT("'"&$A10&"'!"&AF$1),"")} | AG10: =IFERROR(INDIRECT("'"&$A10&"'!"&$AG$1),"") | AH10: =AF10/C10 -> #VALUE! | AI10: {=IFERROR(INDIRECT("'"&$A10&"'!"&AI$1),"")} -> 0 | AJ10: =IFERROR(INDIRECT("'"&$A10&"'!"&$AJ$1),"") -> 0 | AK10: =AI10/C10 -> #DIV/0! | AL10: {=IFERROR(INDIRECT("'"&$A10&"'!"&AL$1),"")} -> 0 | AM10: =IFERROR(INDIRECT("'"&$A10&"'!"&$AM$1),"") -> 0 | AN10: =AL10/C10 -> #DIV/0! | AO10: {=IFERROR(INDIRECT("'"&$A10&"'!"&AO$1),"")} -> 0 | AP10: =IFERROR(INDIRECT("'"&$A10&"'!"&$AP$1),"") -> 0 | AQ10: =AO10/C10 -> #DIV/0! | AR10: {=IFERROR(INDIRECT("'"&$A10&"'!"&AR$1),"")} -> 0 | AS10: =IFERROR(INDIRECT("'"&$A10&"'!"&$AS$1),"") -> 0 | AT10: =AR10/C10 -> #DIV/0! | AU10: {=IFERROR(INDIRECT("'"&$A10&"'!"&AU$1),"")} -> 0 | AV10: =IFERROR(INDIRECT("'"&$A10&"'!"&$AV$1),"") -> 0 | AW10: =AU10/C10 -> #DIV/0! | AX10: {=IFERROR(INDIRECT("'"&$A10&"'!"&AX$1),"")} -> 0 | AY10: =IFERROR(INDIRECT("'"&$A10&"'!"&$AY$1),"") -> 0 | AZ10: =AX10/C10 -> #DIV/0! | BA10: {=IFERROR(INDIRECT("'"&$A10&"'!"&BA$1),"")} -> 0 | BB10: =IFERROR(INDIRECT("'"&$A10&"'!"&$BB$1),"") -> 0 | BC10: =BA10/C10 -> #DIV/0! | BD10: {=IFERROR(INDIRECT("'"&$A10&"'!"&BD$1),"")} -> 0 | BE10: =IFERROR(INDIRECT("'"&$A10&"'!"&$BE$1),"") -> 0 | BF10: =BD10/C10 -> #DIV/0! | BG10: {=IFERROR(INDIRECT("'"&$A10&"'!"&BG$1),"")} -> 0 | BH10: =IFERROR(INDIRECT("'"&$A10&"'!"&$BH$1),"") -> 0 | BI10: =IFERROR(INDIRECT("'"&$A10&"'!"&$BI$1),"") -> 0 | BJ10: =BG10/C10 -> #DIV/0! | BK10: {=IFERROR(INDIRECT("'"&$A10&"'!"&BK$1),"")} -> 0 | BL10: =IFERROR(INDIRECT("'"&$A10&"'!"&$BL$1),"") -> 0 | BM10: =IFERROR(INDIRECT("'"&$A10&"'!"&$BM$1),"") -> 0 | BN10: =BK10/C10 -> #DIV/0! | BO10: {=IFERROR(INDIRECT("'"&$A10&"'!"&BO$1),"")} -> 0 | BP10: =IFERROR(INDIRECT("'"&$A10&"'!"&$BP$1),"") -> 0 | BQ10: =IFERROR(INDIRECT("'"&$A10&"'!"&$BQ$1),"") -> 0 | BR10: =BO10/C10 -> #DIV/0! | BS10: {=IFERROR(INDIRECT("'"&$A10&"'!"&BS$1),"")} -> 0 | BT10: =IFERROR(INDIRECT("'"&$A10&"'!"&$BT$1),"") -> 0 | BU10: =IFERROR(INDIRECT("'"&$A10&"'!"&$BU$1),"") -> 0 | BV10: =BS10/C10 -> #DIV/0!
A11: 4 | B11: S | E11: {=IFERROR(INDIRECT("'"&$A11&"'!"&E$1),"")} -> 0 | F11: =IFERROR(INDIRECT("'"&$A11&"'!"&$F$1),"") -> 0 | G11: =F11/D11 -> #DIV/0! | H11: {=IFERROR(INDIRECT("'"&$A11&"'!"&H$1),"")} -> 0 | I11: =IFERROR(INDIRECT("'"&$A11&"'!"&$I$1),"") -> 0 | J11: =H11/C11 -> #DIV/0! | K11: {=IFERROR(INDIRECT("'"&$A11&"'!"&K$1),"")} -> 0 | L11: =IFERROR(INDIRECT("'"&$A11&"'!"&$L$1),"") -> 0 | M11: =K11/C11 -> #DIV/0! | N11: {=IFERROR(INDIRECT("'"&$A11&"'!"&N$1),"")} -> 0 | O11: =IFERROR(INDIRECT("'"&$A11&"'!"&$O$1),"") -> 0 | P11: =N11/C11 -> #DIV/0! | Q11: {=IFERROR(INDIRECT("'"&$A11&"'!"&Q$1),"")} -> 0 | R11: =IFERROR(INDIRECT("'"&$A11&"'!"&$R$1),"") -> 0 | S11: =Q11/C11 -> #DIV/0! | T11: {=IFERROR(INDIRECT("'"&$A11&"'!"&T$1),"")} -> 0 | U11: =IFERROR(INDIRECT("'"&$A11&"'!"&$U$1),"") -> 0 | V11: =T11/C11 -> #DIV/0! | W11: {=IFERROR(INDIRECT("'"&$A11&"'!"&W$1),"")} | X11: =IFERROR(INDIRECT("'"&$A11&"'!"&$X$1),"") | Y11: =W11/C11 -> #VALUE! | Z11: {=IFERROR(INDIRECT("'"&$A11&"'!"&Z$1),"")} | AA11: =IFERROR(INDIRECT("'"&$A11&"'!"&$AA$1),"") | AB11: =Z11/C11 -> #VALUE! | AC11: {=IFERROR(INDIRECT("'"&$A11&"'!"&AC$1),"")} | AD11: =IFERROR(INDIRECT("'"&$A11&"'!"&$AD$1),"") | AE11: =AC11/C11 -> #VALUE! | AF11: {=IFERROR(INDIRECT("'"&$A11&"'!"&AF$1),"")} | AG11: =IFERROR(INDIRECT("'"&$A11&"'!"&$AG$1),"") | AH11: =AF11/C11 -> #VALUE! | AI11: {=IFERROR(INDIRECT("'"&$A11&"'!"&AI$1),"")} -> 0 | AJ11: =IFERROR(INDIRECT("'"&$A11&"'!"&$AJ$1),"") -> 0 | AK11: =AI11/C11 -> #DIV/0! | AL11: {=IFERROR(INDIRECT("'"&$A11&"'!"&AL$1),"")} -> 0 | AM11: =IFERROR(INDIRECT("'"&$A11&"'!"&$AM$1),"") -> 0 | AN11: =AL11/C11 -> #DIV/0! | AO11: {=IFERROR(INDIRECT("'"&$A11&"'!"&AO$1),"")} -> 0 | AP11: =IFERROR(INDIRECT("'"&$A11&"'!"&$AP$1),"") -> 0 | AQ11: =AO11/C11 -> #DIV/0! | AR11: {=IFERROR(INDIRECT("'"&$A11&"'!"&AR$1),"")} -> 0 | AS11: =IFERROR(INDIRECT("'"&$A11&"'!"&$AS$1),"") -> 0 | AT11: =AR11/C11 -> #DIV/0! | AU11: {=IFERROR(INDIRECT("'"&$A11&"'!"&AU$1),"")} -> 0 | AV11: =IFERROR(INDIRECT("'"&$A11&"'!"&$AV$1),"") -> 0 | AW11: =AU11/C11 -> #DIV/0! | AX11: {=IFERROR(INDIRECT("'"&$A11&"'!"&AX$1),"")} -> 0 | AY11: =IFERROR(INDIRECT("'"&$A11&"'!"&$AY$1),"") -> 0 | AZ11: =AX11/C11 -> #DIV/0! | BA11: {=IFERROR(INDIRECT("'"&$A11&"'!"&BA$1),"")} -> 0 | BB11: =IFERROR(INDIRECT("'"&$A11&"'!"&$BB$1),"") -> 0 | BC11: =BA11/C11 -> #DIV/0! | BD11: {=IFERROR(INDIRECT("'"&$A11&"'!"&BD$1),"")} -> 0 | BE11: =IFERROR(INDIRECT("'"&$A11&"'!"&$BE$1),"") -> 0 | BF11: =BD11/C11 -> #DIV/0! | BG11: {=IFERROR(INDIRECT("'"&$A11&"'!"&BG$1),"")} -> 0 | BH11: =IFERROR(INDIRECT("'"&$A11&"'!"&$BH$1),"") -> 0 | BI11: =IFERROR(INDIRECT("'"&$A11&"'!"&$BI$1),"") -> 0 | BJ11: =BG11/C11 -> #DIV/0! | BK11: {=IFERROR(INDIRECT("'"&$A11&"'!"&BK$1),"")} -> 0 | BL11: =IFERROR(INDIRECT("'"&$A11&"'!"&$BL$1),"") -> 0 | BM11: =IFERROR(INDIRECT("'"&$A11&"'!"&$BM$1),"") -> 0 | BN11: =BK11/C11 -> #DIV/0! | BO11: {=IFERROR(INDIRECT("'"&$A11&"'!"&BO$1),"")} -> 0 | BP11: =IFERROR(INDIRECT("'"&$A11&"'!"&$BP$1),"") -> 0 | BQ11: =IFERROR(INDIRECT("'"&$A11&"'!"&$BQ$1),"") -> 0 | BR11: =BO11/C11 -> #DIV/0! | BS11: {=IFERROR(INDIRECT("'"&$A11&"'!"&BS$1),"")} -> 0 | BT11: =IFERROR(INDIRECT("'"&$A11&"'!"&$BT$1),"") -> 0 | BU11: =IFERROR(INDIRECT("'"&$A11&"'!"&$BU$1),"") -> 0 | BV11: =BS11/C11 -> #DIV/0!
A12: Weekly | C12: =SUM(C5:C11) -> 79809 | D12: 74 | E12: =SUM(E5:E11) -> 11412 | F12: =SUM(F5:F11) -> 13 | G12: =F12/D12 -> 0.17567568 | H12: =SUM(H5:H11) -> 19421 | I12: =SUM(I5:I11) -> 6 | J12: =H12/C12 -> 0.24334348 | K12: =SUM(K5:K11) -> 0 | L12: =SUM(L5:L11) -> 0 | M12: =K12/C12 -> 0 | N12: =SUM(N5:N11) -> 3797 | O12: =SUM(O5:O11) -> 2 | P12: =N12/C12 -> 0.047576088 | Q12: =SUM(Q5:Q11) -> 2900 | R12: =SUM(R5:R11) -> 1 | S12: =Q12/C12 -> 0.036336754 | T12: =SUM(T5:T11) -> 0 | U12: =SUM(U5:U11) -> 0 | V12: =T12/C12 -> 0 | W12: =SUM(W5:W11) -> 0 | X12: =SUM(X5:X11) -> 0 | Y12: =W12/C12 -> 0 | Z12: =SUM(Z5:Z11) -> 0 | AA12: =SUM(AA5:AA11) -> 0 | AB12: =Z12/C12 -> 0 | AC12: =SUM(AC5:AC11) -> 0 | AD12: =SUM(AD5:AD11) -> 0 | AE12: =AC12/C12 -> 0 | AF12: =SUM(AF5:AF11) -> 0 | AG12: =SUM(AG5:AG11) -> 0 | AH12: =AF12/C12 -> 0 | AI12: =SUM(AI5:AI11) -> 5040 | AJ12: =SUM(AJ5:AJ11) -> 1 | AK12: =AI12/C12 -> 0.063150772 | AL12: =SUM(AL5:AL11) -> 0 | AM12: =SUM(AM5:AM11) -> 0 | AN12: =AL12/C12 -> 0 | AO12: =SUM(AO5:AO11) -> 0 | AP12: =SUM(AP5:AP11) -> 0 | AQ12: =AO12/C12 -> 0 | AR12: =SUM(AR5:AR11) -> 13740 | AS12: =SUM(AS5:AS11) -> 9 | AT12: =AR12/C12 -> 0.17216103 | AU12: =SUM(AU5:AU11) -> 0 | AV12: =SUM(AV5:AV11) -> 0 | AW12: =AU12/C12 -> 0 | AX12: =SUM(AX5:AX11) -> 0 | AY12: =SUM(AY5:AY11) -> 0 | AZ12: =AX12/C12 -> 0 | BA12: =SUM(BA5:BA11) -> 0 | BB12: =SUM(BB5:BB11) -> 0 | BC12: =BA12/C12 -> 0 | BD12: =SUM(BD5:BD11) -> 0 | BE12: =SUM(BE5:BE11) -> 0 | BF12: =BD12/C12 -> 0 | BG12: =SUM(BG5:BG11) -> 0 | BH12: =SUM(BH5:BH11) -> 0 | BI12: =SUM(BI5:BI11) -> 0 | BJ12: =BG12/C12 -> 0 | BK12: =SUM(BK5:BK11) -> 0 | BL12: =SUM(BL5:BL11) -> 0 | BM12: =SUM(BM5:BM11) -> 0 | BN12: =BK12/C12 -> 0 | BO12: =SUM(BO5:BO11) -> 0 | BP12: =SUM(BP5:BP11) -> 0 | BQ12: =SUM(BQ5:BQ11) -> 0 | BR12: =BO12/C12 -> 0 | BS12: =SUM(BS5:BS11) -> 0 | BT12: =SUM(BT5:BT11) -> 0 | BU12: =SUM(BU5:BU11) -> 0 | BV12: =BS12/C12 -> 0
A13: 5 | B13: M | E13: {=IFERROR(INDIRECT("'"&$A13&"'!"&E$1),"")} -> 0 | F13: =IFERROR(INDIRECT("'"&$A13&"'!"&$F$1),"") -> 0 | G13: =F13/D13 -> #DIV/0! | H13: {=IFERROR(INDIRECT("'"&$A13&"'!"&H$1),"")} -> 0 | I13: =IFERROR(INDIRECT("'"&$A13&"'!"&$I$1),"") -> 0 | J13: =H13/C13 -> #DIV/0! | K13: {=IFERROR(INDIRECT("'"&$A13&"'!"&K$1),"")} -> 0 | L13: =IFERROR(INDIRECT("'"&$A13&"'!"&$L$1),"") -> 0 | M13: =K13/C13 -> #DIV/0! | N13: {=IFERROR(INDIRECT("'"&$A13&"'!"&N$1),"")} -> 0 | O13: =IFERROR(INDIRECT("'"&$A13&"'!"&$O$1),"") -> 0 | P13: =N13/C13 -> #DIV/0! | Q13: {=IFERROR(INDIRECT("'"&$A13&"'!"&Q$1),"")} -> 0 | R13: =IFERROR(INDIRECT("'"&$A13&"'!"&$R$1),"") -> 0 | S13: =Q13/C13 -> #DIV/0! | T13: {=IFERROR(INDIRECT("'"&$A13&"'!"&T$1),"")} -> 0 | U13: =IFERROR(INDIRECT("'"&$A13&"'!"&$U$1),"") -> 0 | V13: =T13/C13 -> #DIV/0! | W13: {=IFERROR(INDIRECT("'"&$A13&"'!"&W$1),"")} | X13: =IFERROR(INDIRECT("'"&$A13&"'!"&$X$1),"") | Y13: =W13/C13 -> #VALUE! | Z13: {=IFERROR(INDIRECT("'"&$A13&"'!"&Z$1),"")} | AA13: =IFERROR(INDIRECT("'"&$A13&"'!"&$AA$1),"") | AB13: =Z13/C13 -> #VALUE! | AC13: {=IFERROR(INDIRECT("'"&$A13&"'!"&AC$1),"")} | AD13: =IFERROR(INDIRECT("'"&$A13&"'!"&$AD$1),"") | AE13: =AC13/C13 -> #VALUE! | AF13: {=IFERROR(INDIRECT("'"&$A13&"'!"&AF$1),"")} | AG13: =IFERROR(INDIRECT("'"&$A13&"'!"&$AG$1),"") | AH13: =AF13/C13 -> #VALUE! | AI13: {=IFERROR(INDIRECT("'"&$A13&"'!"&AI$1),"")} -> 0 | AJ13: =IFERROR(INDIRECT("'"&$A13&"'!"&$AJ$1),"") -> 0 | AK13: =AI13/C13 -> #DIV/0! | AL13: {=IFERROR(INDIRECT("'"&$A13&"'!"&AL$1),"")} -> 0 | AM13: =IFERROR(INDIRECT("'"&$A13&"'!"&$AM$1),"") -> 0 | AN13: =AL13/C13 -> #DIV/0! | AO13: {=IFERROR(INDIRECT("'"&$A13&"'!"&AO$1),"")} -> 0 | AP13: =IFERROR(INDIRECT("'"&$A13&"'!"&$AP$1),"") -> 0 | AQ13: =AO13/C13 -> #DIV/0! | AR13: {=IFERROR(INDIRECT("'"&$A13&"'!"&AR$1),"")} -> 0 | AS13: =IFERROR(INDIRECT("'"&$A13&"'!"&$AS$1),"") -> 0 | AT13: =AR13/C13 -> #DIV/0! | AU13: {=IFERROR(INDIRECT("'"&$A13&"'!"&AU$1),"")} -> 0 | AV13: =IFERROR(INDIRECT("'"&$A13&"'!"&$AV$1),"") -> 0 | AW13: =AU13/C13 -> #DIV/0! | AX13: {=IFERROR(INDIRECT("'"&$A13&"'!"&AX$1),"")} -> 0 | AY13: =IFERROR(INDIRECT("'"&$A13&"'!"&$AY$1),"") -> 0 | AZ13: =AX13/C13 -> #DIV/0! | BA13: {=IFERROR(INDIRECT("'"&$A13&"'!"&BA$1),"")} -> 0 | BB13: =IFERROR(INDIRECT("'"&$A13&"'!"&$BB$1),"") -> 0 | BC13: =BA13/C13 -> #DIV/0! | BD13: {=IFERROR(INDIRECT("'"&$A13&"'!"&BD$1),"")} -> 0 | BE13: =IFERROR(INDIRECT("'"&$A13&"'!"&$BE$1),"") -> 0 | BF13: =BD13/C13 -> #DIV/0! | BG13: {=IFERROR(INDIRECT("'"&$A13&"'!"&BG$1),"")} -> 0 | BH13: =IFERROR(INDIRECT("'"&$A13&"'!"&$BH$1),"") -> 0 | BI13: =IFERROR(INDIRECT("'"&$A13&"'!"&$BI$1),"") -> 0 | BJ13: =BG13/C13 -> #DIV/0! | BK13: {=IFERROR(INDIRECT("'"&$A13&"'!"&BK$1),"")} -> 0 | BL13: =IFERROR(INDIRECT("'"&$A13&"'!"&$BL$1),"") -> 0 | BM13: =IFERROR(INDIRECT("'"&$A13&"'!"&$BM$1),"") -> 0 | BN13: =BK13/C13 -> #DIV/0! | BO13: {=IFERROR(INDIRECT("'"&$A13&"'!"&BO$1),"")} -> 0 | BP13: =IFERROR(INDIRECT("'"&$A13&"'!"&$BP$1),"") -> 0 | BQ13: =IFERROR(INDIRECT("'"&$A13&"'!"&$BQ$1),"") -> 0 | BR13: =BO13/C13 -> #DIV/0! | BS13: {=IFERROR(INDIRECT("'"&$A13&"'!"&BS$1),"")} -> 0 | BT13: =IFERROR(INDIRECT("'"&$A13&"'!"&$BT$1),"") -> 0 | BU13: =IFERROR(INDIRECT("'"&$A13&"'!"&$BU$1),"") -> 0 | BV13: =BS13/C13 -> #DIV/0!
A14: 6 | B14: T | E14: {=IFERROR(INDIRECT("'"&$A14&"'!"&E$1),"")} -> 0 | F14: =IFERROR(INDIRECT("'"&$A14&"'!"&$F$1),"") -> 0 | G14: =F14/D14 -> #DIV/0! | H14: {=IFERROR(INDIRECT("'"&$A14&"'!"&H$1),"")} -> 0 | I14: =IFERROR(INDIRECT("'"&$A14&"'!"&$I$1),"") -> 0 | J14: =H14/C14 -> #DIV/0! | K14: {=IFERROR(INDIRECT("'"&$A14&"'!"&K$1),"")} -> 0 | L14: =IFERROR(INDIRECT("'"&$A14&"'!"&$L$1),"") -> 0 | M14: =K14/C14 -> #DIV/0! | N14: {=IFERROR(INDIRECT("'"&$A14&"'!"&N$1),"")} -> 0 | O14: =IFERROR(INDIRECT("'"&$A14&"'!"&$O$1),"") -> 0 | P14: =N14/C14 -> #DIV/0! | Q14: {=IFERROR(INDIRECT("'"&$A14&"'!"&Q$1),"")} -> 0 | R14: =IFERROR(INDIRECT("'"&$A14&"'!"&$R$1),"") -> 0 | S14: =Q14/C14 -> #DIV/0! | T14: {=IFERROR(INDIRECT("'"&$A14&"'!"&T$1),"")} -> 0 | U14: =IFERROR(INDIRECT("'"&$A14&"'!"&$U$1),"") -> 0 | V14: =T14/C14 -> #DIV/0! | W14: {=IFERROR(INDIRECT("'"&$A14&"'!"&W$1),"")} | X14: =IFERROR(INDIRECT("'"&$A14&"'!"&$X$1),"") | Y14: =W14/C14 -> #VALUE! | Z14: {=IFERROR(INDIRECT("'"&$A14&"'!"&Z$1),"")} | AA14: =IFERROR(INDIRECT("'"&$A14&"'!"&$AA$1),"") | AB14: =Z14/C14 -> #VALUE! | AC14: {=IFERROR(INDIRECT("'"&$A14&"'!"&AC$1),"")} | AD14: =IFERROR(INDIRECT("'"&$A14&"'!"&$AD$1),"") | AE14: =AC14/C14 -> #VALUE! | AF14: {=IFERROR(INDIRECT("'"&$A14&"'!"&AF$1),"")} | AG14: =IFERROR(INDIRECT("'"&$A14&"'!"&$AG$1),"") | AH14: =AF14/C14 -> #VALUE! | AI14: {=IFERROR(INDIRECT("'"&$A14&"'!"&AI$1),"")} -> 0 | AJ14: =IFERROR(INDIRECT("'"&$A14&"'!"&$AJ$1),"") -> 0 | AK14: =AI14/C14 -> #DIV/0! | AL14: {=IFERROR(INDIRECT("'"&$A14&"'!"&AL$1),"")} -> 0 | AM14: =IFERROR(INDIRECT("'"&$A14&"'!"&$AM$1),"") -> 0 | AN14: =AL14/C14 -> #DIV/0! | AO14: {=IFERROR(INDIRECT("'"&$A14&"'!"&AO$1),"")} -> 0 | AP14: =IFERROR(INDIRECT("'"&$A14&"'!"&$AP$1),"") -> 0 | AQ14: =AO14/C14 -> #DIV/0! | AR14: {=IFERROR(INDIRECT("'"&$A14&"'!"&AR$1),"")} -> 0 | AS14: =IFERROR(INDIRECT("'"&$A14&"'!"&$AS$1),"") -> 0 | AT14: =AR14/C14 -> #DIV/0! | AU14: {=IFERROR(INDIRECT("'"&$A14&"'!"&AU$1),"")} -> 0 | AV14: =IFERROR(INDIRECT("'"&$A14&"'!"&$AV$1),"") -> 0 | AW14: =AU14/C14 -> #DIV/0! | AX14: {=IFERROR(INDIRECT("'"&$A14&"'!"&AX$1),"")} -> 0 | AY14: =IFERROR(INDIRECT("'"&$A14&"'!"&$AY$1),"") -> 0 | AZ14: =AX14/C14 -> #DIV/0! | BA14: {=IFERROR(INDIRECT("'"&$A14&"'!"&BA$1),"")} -> 0 | BB14: =IFERROR(INDIRECT("'"&$A14&"'!"&$BB$1),"") -> 0 | BC14: =BA14/C14 -> #DIV/0! | BD14: {=IFERROR(INDIRECT("'"&$A14&"'!"&BD$1),"")} -> 0 | BE14: =IFERROR(INDIRECT("'"&$A14&"'!"&$BE$1),"") -> 0 | BF14: =BD14/C14 -> #DIV/0! | BG14: {=IFERROR(INDIRECT("'"&$A14&"'!"&BG$1),"")} -> 0 | BH14: =IFERROR(INDIRECT("'"&$A14&"'!"&$BH$1),"") -> 0 | BI14: =IFERROR(INDIRECT("'"&$A14&"'!"&$BI$1),"") -> 0 | BJ14: =BG14/C14 -> #DIV/0! | BK14: {=IFERROR(INDIRECT("'"&$A14&"'!"&BK$1),"")} -> 0 | BL14: =IFERROR(INDIRECT("'"&$A14&"'!"&$BL$1),"") -> 0 | BM14: =IFERROR(INDIRECT("'"&$A14&"'!"&$BM$1),"") -> 0 | BN14: =BK14/C14 -> #DIV/0! | BO14: {=IFERROR(INDIRECT("'"&$A14&"'!"&BO$1),"")} -> 0 | BP14: =IFERROR(INDIRECT("'"&$A14&"'!"&$BP$1),"") -> 0 | BQ14: =IFERROR(INDIRECT("'"&$A14&"'!"&$BQ$1),"") -> 0 | BR14: =BO14/C14 -> #DIV/0! | BS14: {=IFERROR(INDIRECT("'"&$A14&"'!"&BS$1),"")} -> 0 | BT14: =IFERROR(INDIRECT("'"&$A14&"'!"&$BT$1),"") -> 0 | BU14: =IFERROR(INDIRECT("'"&$A14&"'!"&$BU$1),"") -> 0 | BV14: =BS14/C14 -> #DIV/0!
A15: 7 | B15: W | E15: {=IFERROR(INDIRECT("'"&$A15&"'!"&E$1),"")} -> 0 | F15: =IFERROR(INDIRECT("'"&$A15&"'!"&$F$1),"") -> 0 | G15: =F15/D15 -> #DIV/0! | H15: {=IFERROR(INDIRECT("'"&$A15&"'!"&H$1),"")} -> 0 | I15: =IFERROR(INDIRECT("'"&$A15&"'!"&$I$1),"") -> 0 | J15: =H15/C15 -> #DIV/0! | K15: {=IFERROR(INDIRECT("'"&$A15&"'!"&K$1),"")} -> 0 | L15: =IFERROR(INDIRECT("'"&$A15&"'!"&$L$1),"") -> 0 | M15: =K15/C15 -> #DIV/0! | N15: {=IFERROR(INDIRECT("'"&$A15&"'!"&N$1),"")} -> 0 | O15: =IFERROR(INDIRECT("'"&$A15&"'!"&$O$1),"") -> 0 | P15: =N15/C15 -> #DIV/0! | Q15: {=IFERROR(INDIRECT("'"&$A15&"'!"&Q$1),"")} -> 0 | R15: =IFERROR(INDIRECT("'"&$A15&"'!"&$R$1),"") -> 0 | S15: =Q15/C15 -> #DIV/0! | T15: {=IFERROR(INDIRECT("'"&$A15&"'!"&T$1),"")} -> 0 | U15: =IFERROR(INDIRECT("'"&$A15&"'!"&$U$1),"") -> 0 | V15: =T15/C15 -> #DIV/0! | W15: {=IFERROR(INDIRECT("'"&$A15&"'!"&W$1),"")} | X15: =IFERROR(INDIRECT("'"&$A15&"'!"&$X$1),"") | Y15: =W15/C15 -> #VALUE! | Z15: {=IFERROR(INDIRECT("'"&$A15&"'!"&Z$1),"")} | AA15: =IFERROR(INDIRECT("'"&$A15&"'!"&$AA$1),"") | AB15: =Z15/C15 -> #VALUE! | AC15: {=IFERROR(INDIRECT("'"&$A15&"'!"&AC$1),"")} | AD15: =IFERROR(INDIRECT("'"&$A15&"'!"&$AD$1),"") | AE15: =AC15/C15 -> #VALUE! | AF15: {=IFERROR(INDIRECT("'"&$A15&"'!"&AF$1),"")} | AG15: =IFERROR(INDIRECT("'"&$A15&"'!"&$AG$1),"") | AH15: =AF15/C15 -> #VALUE! | AI15: {=IFERROR(INDIRECT("'"&$A15&"'!"&AI$1),"")} -> 0 | AJ15: =IFERROR(INDIRECT("'"&$A15&"'!"&$AJ$1),"") -> 0 | AK15: =AI15/C15 -> #DIV/0! | AL15: {=IFERROR(INDIRECT("'"&$A15&"'!"&AL$1),"")} -> 0 | AM15: =IFERROR(INDIRECT("'"&$A15&"'!"&$AM$1),"") -> 0 | AN15: =AL15/C15 -> #DIV/0! | AO15: {=IFERROR(INDIRECT("'"&$A15&"'!"&AO$1),"")} -> 0 | AP15: =IFERROR(INDIRECT("'"&$A15&"'!"&$AP$1),"") -> 0 | AQ15: =AO15/C15 -> #DIV/0! | AR15: {=IFERROR(INDIRECT("'"&$A15&"'!"&AR$1),"")} -> 0 | AS15: =IFERROR(INDIRECT("'"&$A15&"'!"&$AS$1),"") -> 0 | AT15: =AR15/C15 -> #DIV/0! | AU15: {=IFERROR(INDIRECT("'"&$A15&"'!"&AU$1),"")} -> 0 | AV15: =IFERROR(INDIRECT("'"&$A15&"'!"&$AV$1),"") -> 0 | AW15: =AU15/C15 -> #DIV/0! | AX15: {=IFERROR(INDIRECT("'"&$A15&"'!"&AX$1),"")} -> 0 | AY15: =IFERROR(INDIRECT("'"&$A15&"'!"&$AY$1),"") -> 0 | AZ15: =AX15/C15 -> #DIV/0! | BA15: {=IFERROR(INDIRECT("'"&$A15&"'!"&BA$1),"")} -> 0 | BB15: =IFERROR(INDIRECT("'"&$A15&"'!"&$BB$1),"") -> 0 | BC15: =BA15/C15 -> #DIV/0! | BD15: {=IFERROR(INDIRECT("'"&$A15&"'!"&BD$1),"")} -> 0 | BE15: =IFERROR(INDIRECT("'"&$A15&"'!"&$BE$1),"") -> 0 | BF15: =BD15/C15 -> #DIV/0! | BG15: {=IFERROR(INDIRECT("'"&$A15&"'!"&BG$1),"")} -> 0 | BH15: =IFERROR(INDIRECT("'"&$A15&"'!"&$BH$1),"") -> 0 | BI15: =IFERROR(INDIRECT("'"&$A15&"'!"&$BI$1),"") -> 0 | BJ15: =BG15/C15 -> #DIV/0! | BK15: {=IFERROR(INDIRECT("'"&$A15&"'!"&BK$1),"")} -> 0 | BL15: =IFERROR(INDIRECT("'"&$A15&"'!"&$BL$1),"") -> 0 | BM15: =IFERROR(INDIRECT("'"&$A15&"'!"&$BM$1),"") -> 0 | BN15: =BK15/C15 -> #DIV/0! | BO15: {=IFERROR(INDIRECT("'"&$A15&"'!"&BO$1),"")} -> 0 | BP15: =IFERROR(INDIRECT("'"&$A15&"'!"&$BP$1),"") -> 0 | BQ15: =IFERROR(INDIRECT("'"&$A15&"'!"&$BQ$1),"") -> 0 | BR15: =BO15/C15 -> #DIV/0! | BS15: {=IFERROR(INDIRECT("'"&$A15&"'!"&BS$1),"")} -> 0 | BT15: =IFERROR(INDIRECT("'"&$A15&"'!"&$BT$1),"") -> 0 | BU15: =IFERROR(INDIRECT("'"&$A15&"'!"&$BU$1),"") -> 0 | BV15: =BS15/C15 -> #DIV/0!
A16: 8 | B16: T | E16: {=IFERROR(INDIRECT("'"&$A16&"'!"&E$1),"")} -> 0 | F16: =IFERROR(INDIRECT("'"&$A16&"'!"&$F$1),"") -> 0 | G16: =F16/D16 -> #DIV/0! | H16: {=IFERROR(INDIRECT("'"&$A16&"'!"&H$1),"")} -> 0 | I16: =IFERROR(INDIRECT("'"&$A16&"'!"&$I$1),"") -> 0 | J16: =H16/C16 -> #DIV/0! | K16: {=IFERROR(INDIRECT("'"&$A16&"'!"&K$1),"")} -> 0 | L16: =IFERROR(INDIRECT("'"&$A16&"'!"&$L$1),"") -> 0 | M16: =K16/C16 -> #DIV/0! | N16: {=IFERROR(INDIRECT("'"&$A16&"'!"&N$1),"")} -> 0 | O16: =IFERROR(INDIRECT("'"&$A16&"'!"&$O$1),"") -> 0 | P16: =N16/C16 -> #DIV/0! | Q16: {=IFERROR(INDIRECT("'"&$A16&"'!"&Q$1),"")} -> 0 | R16: =IFERROR(INDIRECT("'"&$A16&"'!"&$R$1),"") -> 0 | S16: =Q16/C16 -> #DIV/0! | T16: {=IFERROR(INDIRECT("'"&$A16&"'!"&T$1),"")} -> 0 | U16: =IFERROR(INDIRECT("'"&$A16&"'!"&$U$1),"") -> 0 | V16: =T16/C16 -> #DIV/0! | W16: {=IFERROR(INDIRECT("'"&$A16&"'!"&W$1),"")} | X16: =IFERROR(INDIRECT("'"&$A16&"'!"&$X$1),"") | Y16: =W16/C16 -> #VALUE! | Z16: {=IFERROR(INDIRECT("'"&$A16&"'!"&Z$1),"")} | AA16: =IFERROR(INDIRECT("'"&$A16&"'!"&$AA$1),"") | AB16: =Z16/C16 -> #VALUE! | AC16: {=IFERROR(INDIRECT("'"&$A16&"'!"&AC$1),"")} | AD16: =IFERROR(INDIRECT("'"&$A16&"'!"&$AD$1),"") | AE16: =AC16/C16 -> #VALUE! | AF16: {=IFERROR(INDIRECT("'"&$A16&"'!"&AF$1),"")} | AG16: =IFERROR(INDIRECT("'"&$A16&"'!"&$AG$1),"") | AH16: =AF16/C16 -> #VALUE! | AI16: {=IFERROR(INDIRECT("'"&$A16&"'!"&AI$1),"")} -> 0 | AJ16: =IFERROR(INDIRECT("'"&$A16&"'!"&$AJ$1),"") -> 0 | AK16: =AI16/C16 -> #DIV/0! | AL16: {=IFERROR(INDIRECT("'"&$A16&"'!"&AL$1),"")} -> 0 | AM16: =IFERROR(INDIRECT("'"&$A16&"'!"&$AM$1),"") -> 0 | AN16: =AL16/C16 -> #DIV/0! | AO16: {=IFERROR(INDIRECT("'"&$A16&"'!"&AO$1),"")} -> 0 | AP16: =IFERROR(INDIRECT("'"&$A16&"'!"&$AP$1),"") -> 0 | AQ16: =AO16/C16 -> #DIV/0! | AR16: {=IFERROR(INDIRECT("'"&$A16&"'!"&AR$1),"")} -> 0 | AS16: =IFERROR(INDIRECT("'"&$A16&"'!"&$AS$1),"") -> 0 | AT16: =AR16/C16 -> #DIV/0! | AU16: {=IFERROR(INDIRECT("'"&$A16&"'!"&AU$1),"")} -> 0 | AV16: =IFERROR(INDIRECT("'"&$A16&"'!"&$AV$1),"") -> 0 | AW16: =AU16/C16 -> #DIV/0! | AX16: {=IFERROR(INDIRECT("'"&$A16&"'!"&AX$1),"")} -> 0 | AY16: =IFERROR(INDIRECT("'"&$A16&"'!"&$AY$1),"") -> 0 | AZ16: =AX16/C16 -> #DIV/0! | BA16: {=IFERROR(INDIRECT("'"&$A16&"'!"&BA$1),"")} -> 0 | BB16: =IFERROR(INDIRECT("'"&$A16&"'!"&$BB$1),"") -> 0 | BC16: =BA16/C16 -> #DIV/0! | BD16: {=IFERROR(INDIRECT("'"&$A16&"'!"&BD$1),"")} -> 0 | BE16: =IFERROR(INDIRECT("'"&$A16&"'!"&$BE$1),"") -> 0 | BF16: =BD16/C16 -> #DIV/0! | BG16: {=IFERROR(INDIRECT("'"&$A16&"'!"&BG$1),"")} -> 0 | BH16: =IFERROR(INDIRECT("'"&$A16&"'!"&$BH$1),"") -> 0 | BI16: =IFERROR(INDIRECT("'"&$A16&"'!"&$BI$1),"") -> 0 | BJ16: =BG16/C16 -> #DIV/0! | BK16: {=IFERROR(INDIRECT("'"&$A16&"'!"&BK$1),"")} -> 0 | BL16: =IFERROR(INDIRECT("'"&$A16&"'!"&$BL$1),"") -> 0 | BM16: =IFERROR(INDIRECT("'"&$A16&"'!"&$BM$1),"") -> 0 | BN16: =BK16/C16 -> #DIV/0! | BO16: {=IFERROR(INDIRECT("'"&$A16&"'!"&BO$1),"")} -> 0 | BP16: =IFERROR(INDIRECT("'"&$A16&"'!"&$BP$1),"") -> 0 | BQ16: =IFERROR(INDIRECT("'"&$A16&"'!"&$BQ$1),"") -> 0 | BR16: =BO16/C16 -> #DIV/0! | BS16: {=IFERROR(INDIRECT("'"&$A16&"'!"&BS$1),"")} -> 0 | BT16: =IFERROR(INDIRECT("'"&$A16&"'!"&$BT$1),"") -> 0 | BU16: =IFERROR(INDIRECT("'"&$A16&"'!"&$BU$1),"") -> 0 | BV16: =BS16/C16 -> #DIV/0!
A17: 9 | B17: F | E17: {=IFERROR(INDIRECT("'"&$A17&"'!"&E$1),"")} -> 0 | F17: =IFERROR(INDIRECT("'"&$A17&"'!"&$F$1),"") -> 0 | G17: =F17/D17 -> #DIV/0! | H17: {=IFERROR(INDIRECT("'"&$A17&"'!"&H$1),"")} -> 0 | I17: =IFERROR(INDIRECT("'"&$A17&"'!"&$I$1),"") -> 0 | J17: =H17/C17 -> #DIV/0! | K17: {=IFERROR(INDIRECT("'"&$A17&"'!"&K$1),"")} -> 0 | L17: =IFERROR(INDIRECT("'"&$A17&"'!"&$L$1),"") -> 0 | M17: =K17/C17 -> #DIV/0! | N17: {=IFERROR(INDIRECT("'"&$A17&"'!"&N$1),"")} -> 0 | O17: =IFERROR(INDIRECT("'"&$A17&"'!"&$O$1),"") -> 0 | P17: =N17/C17 -> #DIV/0! | Q17: {=IFERROR(INDIRECT("'"&$A17&"'!"&Q$1),"")} -> 0 | R17: =IFERROR(INDIRECT("'"&$A17&"'!"&$R$1),"") -> 0 | S17: =Q17/C17 -> #DIV/0! | T17: {=IFERROR(INDIRECT("'"&$A17&"'!"&T$1),"")} -> 0 | U17: =IFERROR(INDIRECT("'"&$A17&"'!"&$U$1),"") -> 0 | V17: =T17/C17 -> #DIV/0! | W17: {=IFERROR(INDIRECT("'"&$A17&"'!"&W$1),"")} | X17: =IFERROR(INDIRECT("'"&$A17&"'!"&$X$1),"") | Y17: =W17/C17 -> #VALUE! | Z17: {=IFERROR(INDIRECT("'"&$A17&"'!"&Z$1),"")} | AA17: =IFERROR(INDIRECT("'"&$A17&"'!"&$AA$1),"") | AB17: =Z17/C17 -> #VALUE! | AC17: {=IFERROR(INDIRECT("'"&$A17&"'!"&AC$1),"")} | AD17: =IFERROR(INDIRECT("'"&$A17&"'!"&$AD$1),"") | AE17: =AC17/C17 -> #VALUE! | AF17: {=IFERROR(INDIRECT("'"&$A17&"'!"&AF$1),"")} | AG17: =IFERROR(INDIRECT("'"&$A17&"'!"&$AG$1),"") | AH17: =AF17/C17 -> #VALUE! | AI17: {=IFERROR(INDIRECT("'"&$A17&"'!"&AI$1),"")} -> 0 | AJ17: =IFERROR(INDIRECT("'"&$A17&"'!"&$AJ$1),"") -> 0 | AK17: =AI17/C17 -> #DIV/0! | AL17: {=IFERROR(INDIRECT("'"&$A17&"'!"&AL$1),"")} -> 0 | AM17: =IFERROR(INDIRECT("'"&$A17&"'!"&$AM$1),"") -> 0 | AN17: =AL17/C17 -> #DIV/0! | AO17: {=IFERROR(INDIRECT("'"&$A17&"'!"&AO$1),"")} -> 0 | AP17: =IFERROR(INDIRECT("'"&$A17&"'!"&$AP$1),"") -> 0 | AQ17: =AO17/C17 -> #DIV/0! | AR17: {=IFERROR(INDIRECT("'"&$A17&"'!"&AR$1),"")} -> 0 | AS17: =IFERROR(INDIRECT("'"&$A17&"'!"&$AS$1),"") -> 0 | AT17: =AR17/C17 -> #DIV/0! | AU17: {=IFERROR(INDIRECT("'"&$A17&"'!"&AU$1),"")} -> 0 | AV17: =IFERROR(INDIRECT("'"&$A17&"'!"&$AV$1),"") -> 0 | AW17: =AU17/C17 -> #DIV/0! | AX17: {=IFERROR(INDIRECT("'"&$A17&"'!"&AX$1),"")} -> 0 | AY17: =IFERROR(INDIRECT("'"&$A17&"'!"&$AY$1),"") -> 0 | AZ17: =AX17/C17 -> #DIV/0! | BA17: {=IFERROR(INDIRECT("'"&$A17&"'!"&BA$1),"")} -> 0 | BB17: =IFERROR(INDIRECT("'"&$A17&"'!"&$BB$1),"") -> 0 | BC17: =BA17/C17 -> #DIV/0! | BD17: {=IFERROR(INDIRECT("'"&$A17&"'!"&BD$1),"")} -> 0 | BE17: =IFERROR(INDIRECT("'"&$A17&"'!"&$BE$1),"") -> 0 | BF17: =BD17/C17 -> #DIV/0! | BG17: {=IFERROR(INDIRECT("'"&$A17&"'!"&BG$1),"")} -> 0 | BH17: =IFERROR(INDIRECT("'"&$A17&"'!"&$BH$1),"") -> 0 | BI17: =IFERROR(INDIRECT("'"&$A17&"'!"&$BI$1),"") -> 0 | BJ17: =BG17/C17 -> #DIV/0! | BK17: {=IFERROR(INDIRECT("'"&$A17&"'!"&BK$1),"")} -> 0 | BL17: =IFERROR(INDIRECT("'"&$A17&"'!"&$BL$1),"") -> 0 | BM17: =IFERROR(INDIRECT("'"&$A17&"'!"&$BM$1),"") -> 0 | BN17: =BK17/C17 -> #DIV/0! | BO17: {=IFERROR(INDIRECT("'"&$A17&"'!"&BO$1),"")} -> 0 | BP17: =IFERROR(INDIRECT("'"&$A17&"'!"&$BP$1),"") -> 0 | BQ17: =IFERROR(INDIRECT("'"&$A17&"'!"&$BQ$1),"") -> 0 | BR17: =BO17/C17 -> #DIV/0! | BS17: {=IFERROR(INDIRECT("'"&$A17&"'!"&BS$1),"")} -> 0 | BT17: =IFERROR(INDIRECT("'"&$A17&"'!"&$BT$1),"") -> 0 | BU17: =IFERROR(INDIRECT("'"&$A17&"'!"&$BU$1),"") -> 0 | BV17: =BS17/C17 -> #DIV/0!
A18: 10 | B18: S | E18: {=IFERROR(INDIRECT("'"&$A18&"'!"&E$1),"")} -> 0 | F18: =IFERROR(INDIRECT("'"&$A18&"'!"&$F$1),"") -> 0 | G18: =F18/D18 -> #DIV/0! | H18: {=IFERROR(INDIRECT("'"&$A18&"'!"&H$1),"")} -> 0 | I18: =IFERROR(INDIRECT("'"&$A18&"'!"&$I$1),"") -> 0 | J18: =H18/C18 -> #DIV/0! | K18: {=IFERROR(INDIRECT("'"&$A18&"'!"&K$1),"")} -> 0 | L18: =IFERROR(INDIRECT("'"&$A18&"'!"&$L$1),"") -> 0 | M18: =K18/C18 -> #DIV/0! | N18: {=IFERROR(INDIRECT("'"&$A18&"'!"&N$1),"")} -> 0 | O18: =IFERROR(INDIRECT("'"&$A18&"'!"&$O$1),"") -> 0 | P18: =N18/C18 -> #DIV/0! | Q18: {=IFERROR(INDIRECT("'"&$A18&"'!"&Q$1),"")} -> 0 | R18: =IFERROR(INDIRECT("'"&$A18&"'!"&$R$1),"") -> 0 | S18: =Q18/C18 -> #DIV/0! | T18: {=IFERROR(INDIRECT("'"&$A18&"'!"&T$1),"")} -> 0 | U18: =IFERROR(INDIRECT("'"&$A18&"'!"&$U$1),"") -> 0 | V18: =T18/C18 -> #DIV/0! | W18: {=IFERROR(INDIRECT("'"&$A18&"'!"&W$1),"")} | X18: =IFERROR(INDIRECT("'"&$A18&"'!"&$X$1),"") | Y18: =W18/C18 -> #VALUE! | Z18: {=IFERROR(INDIRECT("'"&$A18&"'!"&Z$1),"")} | AA18: =IFERROR(INDIRECT("'"&$A18&"'!"&$AA$1),"") | AB18: =Z18/C18 -> #VALUE! | AC18: {=IFERROR(INDIRECT("'"&$A18&"'!"&AC$1),"")} | AD18: =IFERROR(INDIRECT("'"&$A18&"'!"&$AD$1),"") | AE18: =AC18/C18 -> #VALUE! | AF18: {=IFERROR(INDIRECT("'"&$A18&"'!"&AF$1),"")} | AG18: =IFERROR(INDIRECT("'"&$A18&"'!"&$AG$1),"") | AH18: =AF18/C18 -> #VALUE! | AI18: {=IFERROR(INDIRECT("'"&$A18&"'!"&AI$1),"")} -> 0 | AJ18: =IFERROR(INDIRECT("'"&$A18&"'!"&$AJ$1),"") -> 0 | AK18: =AI18/C18 -> #DIV/0! | AL18: {=IFERROR(INDIRECT("'"&$A18&"'!"&AL$1),"")} -> 0 | AM18: =IFERROR(INDIRECT("'"&$A18&"'!"&$AM$1),"") -> 0 | AN18: =AL18/C18 -> #DIV/0! | AO18: {=IFERROR(INDIRECT("'"&$A18&"'!"&AO$1),"")} -> 0 | AP18: =IFERROR(INDIRECT("'"&$A18&"'!"&$AP$1),"") -> 0 | AQ18: =AO18/C18 -> #DIV/0! | AR18: {=IFERROR(INDIRECT("'"&$A18&"'!"&AR$1),"")} -> 0 | AS18: =IFERROR(INDIRECT("'"&$A18&"'!"&$AS$1),"") -> 0 | AT18: =AR18/C18 -> #DIV/0! | AU18: {=IFERROR(INDIRECT("'"&$A18&"'!"&AU$1),"")} -> 0 | AV18: =IFERROR(INDIRECT("'"&$A18&"'!"&$AV$1),"") -> 0 | AW18: =AU18/C18 -> #DIV/0! | AX18: {=IFERROR(INDIRECT("'"&$A18&"'!"&AX$1),"")} -> 0 | AY18: =IFERROR(INDIRECT("'"&$A18&"'!"&$AY$1),"") -> 0 | AZ18: =AX18/C18 -> #DIV/0! | BA18: {=IFERROR(INDIRECT("'"&$A18&"'!"&BA$1),"")} -> 0 | BB18: =IFERROR(INDIRECT("'"&$A18&"'!"&$BB$1),"") -> 0 | BC18: =BA18/C18 -> #DIV/0! | BD18: {=IFERROR(INDIRECT("'"&$A18&"'!"&BD$1),"")} -> 0 | BE18: =IFERROR(INDIRECT("'"&$A18&"'!"&$BE$1),"") -> 0 | BF18: =BD18/C18 -> #DIV/0! | BG18: {=IFERROR(INDIRECT("'"&$A18&"'!"&BG$1),"")} -> 0 | BH18: =IFERROR(INDIRECT("'"&$A18&"'!"&$BH$1),"") -> 0 | BI18: =IFERROR(INDIRECT("'"&$A18&"'!"&$BI$1),"") -> 0 | BJ18: =BG18/C18 -> #DIV/0! | BK18: {=IFERROR(INDIRECT("'"&$A18&"'!"&BK$1),"")} -> 0 | BL18: =IFERROR(INDIRECT("'"&$A18&"'!"&$BL$1),"") -> 0 | BM18: =IFERROR(INDIRECT("'"&$A18&"'!"&$BM$1),"") -> 0 | BN18: =BK18/C18 -> #DIV/0! | BO18: {=IFERROR(INDIRECT("'"&$A18&"'!"&BO$1),"")} -> 0 | BP18: =IFERROR(INDIRECT("'"&$A18&"'!"&$BP$1),"") -> 0 | BQ18: =IFERROR(INDIRECT("'"&$A18&"'!"&$BQ$1),"") -> 0 | BR18: =BO18/C18 -> #DIV/0! | BS18: {=IFERROR(INDIRECT("'"&$A18&"'!"&BS$1),"")} -> 0 | BT18: =IFERROR(INDIRECT("'"&$A18&"'!"&$BT$1),"") -> 0 | BU18: =IFERROR(INDIRECT("'"&$A18&"'!"&$BU$1),"") -> 0 | BV18: =BS18/C18 -> #DIV/0!
A19: 11 | B19: S | E19: {=IFERROR(INDIRECT("'"&$A19&"'!"&E$1),"")} -> 0 | F19: =IFERROR(INDIRECT("'"&$A19&"'!"&$F$1),"") -> 0 | G19: =F19/D19 -> #DIV/0! | H19: {=IFERROR(INDIRECT("'"&$A19&"'!"&H$1),"")} -> 0 | I19: =IFERROR(INDIRECT("'"&$A19&"'!"&$I$1),"") -> 0 | J19: =H19/C19 -> #DIV/0! | K19: {=IFERROR(INDIRECT("'"&$A19&"'!"&K$1),"")} -> 0 | L19: =IFERROR(INDIRECT("'"&$A19&"'!"&$L$1),"") -> 0 | M19: =K19/C19 -> #DIV/0! | N19: {=IFERROR(INDIRECT("'"&$A19&"'!"&N$1),"")} -> 0 | O19: =IFERROR(INDIRECT("'"&$A19&"'!"&$O$1),"") -> 0 | P19: =N19/C19 -> #DIV/0! | Q19: {=IFERROR(INDIRECT("'"&$A19&"'!"&Q$1),"")} -> 0 | R19: =IFERROR(INDIRECT("'"&$A19&"'!"&$R$1),"") -> 0 | S19: =Q19/C19 -> #DIV/0! | T19: {=IFERROR(INDIRECT("'"&$A19&"'!"&T$1),"")} -> 0 | U19: =IFERROR(INDIRECT("'"&$A19&"'!"&$U$1),"") -> 0 | V19: =T19/C19 -> #DIV/0! | W19: {=IFERROR(INDIRECT("'"&$A19&"'!"&W$1),"")} | X19: =IFERROR(INDIRECT("'"&$A19&"'!"&$X$1),"") | Y19: =W19/C19 -> #VALUE! | Z19: {=IFERROR(INDIRECT("'"&$A19&"'!"&Z$1),"")} | AA19: =IFERROR(INDIRECT("'"&$A19&"'!"&$AA$1),"") | AB19: =Z19/C19 -> #VALUE! | AC19: {=IFERROR(INDIRECT("'"&$A19&"'!"&AC$1),"")} | AD19: =IFERROR(INDIRECT("'"&$A19&"'!"&$AD$1),"") | AE19: =AC19/C19 -> #VALUE! | AF19: {=IFERROR(INDIRECT("'"&$A19&"'!"&AF$1),"")} | AG19: =IFERROR(INDIRECT("'"&$A19&"'!"&$AG$1),"") | AH19: =AF19/C19 -> #VALUE! | AI19: {=IFERROR(INDIRECT("'"&$A19&"'!"&AI$1),"")} -> 0 | AJ19: =IFERROR(INDIRECT("'"&$A19&"'!"&$AJ$1),"") -> 0 | AK19: =AI19/C19 -> #DIV/0! | AL19: {=IFERROR(INDIRECT("'"&$A19&"'!"&AL$1),"")} -> 0 | AM19: =IFERROR(INDIRECT("'"&$A19&"'!"&$AM$1),"") -> 0 | AN19: =AL19/C19 -> #DIV/0! | AO19: {=IFERROR(INDIRECT("'"&$A19&"'!"&AO$1),"")} -> 0 | AP19: =IFERROR(INDIRECT("'"&$A19&"'!"&$AP$1),"") -> 0 | AQ19: =AO19/C19 -> #DIV/0! | AR19: {=IFERROR(INDIRECT("'"&$A19&"'!"&AR$1),"")} -> 0 | AS19: =IFERROR(INDIRECT("'"&$A19&"'!"&$AS$1),"") -> 0 | AT19: =AR19/C19 -> #DIV/0! | AU19: {=IFERROR(INDIRECT("'"&$A19&"'!"&AU$1),"")} -> 0 | AV19: =IFERROR(INDIRECT("'"&$A19&"'!"&$AV$1),"") -> 0 | AW19: =AU19/C19 -> #DIV/0! | AX19: {=IFERROR(INDIRECT("'"&$A19&"'!"&AX$1),"")} -> 0 | AY19: =IFERROR(INDIRECT("'"&$A19&"'!"&$AY$1),"") -> 0 | AZ19: =AX19/C19 -> #DIV/0! | BA19: {=IFERROR(INDIRECT("'"&$A19&"'!"&BA$1),"")} -> 0 | BB19: =IFERROR(INDIRECT("'"&$A19&"'!"&$BB$1),"") -> 0 | BC19: =BA19/C19 -> #DIV/0! | BD19: {=IFERROR(INDIRECT("'"&$A19&"'!"&BD$1),"")} -> 0 | BE19: =IFERROR(INDIRECT("'"&$A19&"'!"&$BE$1),"") -> 0 | BF19: =BD19/C19 -> #DIV/0! | BG19: {=IFERROR(INDIRECT("'"&$A19&"'!"&BG$1),"")} -> 0 | BH19: =IFERROR(INDIRECT("'"&$A19&"'!"&$BH$1),"") -> 0 | BI19: =IFERROR(INDIRECT("'"&$A19&"'!"&$BI$1),"") -> 0 | BJ19: =BG19/C19 -> #DIV/0! | BK19: {=IFERROR(INDIRECT("'"&$A19&"'!"&BK$1),"")} -> 0 | BL19: =IFERROR(INDIRECT("'"&$A19&"'!"&$BL$1),"") -> 0 | BM19: =IFERROR(INDIRECT("'"&$A19&"'!"&$BM$1),"") -> 0 | BN19: =BK19/C19 -> #DIV/0! | BO19: {=IFERROR(INDIRECT("'"&$A19&"'!"&BO$1),"")} -> 0 | BP19: =IFERROR(INDIRECT("'"&$A19&"'!"&$BP$1),"") -> 0 | BQ19: =IFERROR(INDIRECT("'"&$A19&"'!"&$BQ$1),"") -> 0 | BR19: =BO19/C19 -> #DIV/0! | BS19: {=IFERROR(INDIRECT("'"&$A19&"'!"&BS$1),"")} -> 0 | BT19: =IFERROR(INDIRECT("'"&$A19&"'!"&$BT$1),"") -> 0 | BU19: =IFERROR(INDIRECT("'"&$A19&"'!"&$BU$1),"") -> 0 | BV19: =BS19/C19 -> #DIV/0!
A20: Weekly | C20: =SUM(C13:C19) -> 0 | D20: =SUM(D13:D19) -> 0 | E20: =SUM(E13:E19) -> 0 | F20: =SUM(F13:F19) -> 0 | G20: =F20/D20 -> #DIV/0! | H20: =SUM(H13:H19) -> 0 | I20: =SUM(I13:I19) -> 0 | J20: =H20/C20 -> #DIV/0! | K20: =SUM(K13:K19) -> 0 | L20: =SUM(L13:L19) -> 0 | M20: =K20/C20 -> #DIV/0! | N20: =SUM(N13:N19) -> 0 | O20: =SUM(O13:O19) -> 0 | P20: =N20/C20 -> #DIV/0! | Q20: =SUM(Q13:Q19) -> 0 | R20: =SUM(R13:R19) -> 0 | S20: =Q20/C20 -> #DIV/0! | T20: =SUM(T13:T19) -> 0 | U20: =SUM(U13:U19) -> 0 | V20: =T20/C20 -> #DIV/0! | W20: =SUM(W13:W19) -> 0 | X20: =SUM(X13:X19) -> 0 | Y20: =W20/C20 -> #DIV/0! | Z20: =SUM(Z13:Z19) -> 0 | AA20: =SUM(AA13:AA19) -> 0 | AB20: =Z20/C20 -> #DIV/0! | AC20: =SUM(AC13:AC19) -> 0 | AD20: =SUM(AD13:AD19) -> 0 | AE20: =AC20/C20 -> #DIV/0! | AF20: =SUM(AF13:AF19) -> 0 | AG20: =SUM(AG13:AG19) -> 0 | AH20: =AF20/C20 -> #DIV/0! | AI20: =SUM(AI13:AI19) -> 0 | AJ20: =SUM(AJ13:AJ19) -> 0 | AK20: =AI20/C20 -> #DIV/0! | AL20: =SUM(AL13:AL19) -> 0 | AM20: =SUM(AM13:AM19) -> 0 | AN20: =AL20/C20 -> #DIV/0! | AO20: =SUM(AO13:AO19) -> 0 | AP20: =SUM(AP13:AP19) -> 0 | AQ20: =AO20/C20 -> #DIV/0! | AR20: =SUM(AR13:AR19) -> 0 | AS20: =SUM(AS13:AS19) -> 0 | AT20: =AR20/C20 -> #DIV/0! | AU20: =SUM(AU13:AU19) -> 0 | AV20: =SUM(AV13:AV19) -> 0 | AW20: =AU20/C20 -> #DIV/0! | AX20: =SUM(AX13:AX19) -> 0 | AY20: =SUM(AY13:AY19) -> 0 | AZ20: =AX20/C20 -> #DIV/0! | BA20: =SUM(BA13:BA19) -> 0 | BB20: =SUM(BB13:BB19) -> 0 | BC20: =BA20/C20 -> #DIV/0! | BD20: =SUM(BD13:BD19) -> 0 | BE20: =SUM(BE13:BE19) -> 0 | BF20: =BD20/C20 -> #DIV/0! | BG20: =SUM(BG13:BG19) -> 0 | BH20: =SUM(BH13:BH19) -> 0 | BI20: =SUM(BI13:BI19) -> 0 | BJ20: =BG20/C20 -> #DIV/0! | BK20: =SUM(BK13:BK19) -> 0 | BL20: =SUM(BL13:BL19) -> 0 | BM20: =SUM(BM13:BM19) -> 0 | BN20: =BK20/C20 -> #DIV/0! | BO20: =SUM(BO13:BO19) -> 0 | BP20: =SUM(BP13:BP19) -> 0 | BQ20: =SUM(BQ13:BQ19) -> 0 | BR20: =BO20/C20 -> #DIV/0! | BS20: =SUM(BS13:BS19) -> 0 | BT20: =SUM(BT13:BT19) -> 0 | BU20: =SUM(BU13:BU19) -> 0 | BV20: =BS20/C20 -> #DIV/0!
A21: 12 | B21: M | E21: {=IFERROR(INDIRECT("'"&$A21&"'!"&E$1),"")} -> 0 | F21: =IFERROR(INDIRECT("'"&$A21&"'!"&$F$1),"") -> 0 | G21: =F21/D21 -> #DIV/0! | H21: {=IFERROR(INDIRECT("'"&$A21&"'!"&H$1),"")} -> 0 | I21: =IFERROR(INDIRECT("'"&$A21&"'!"&$I$1),"") -> 0 | J21: =H21/C21 -> #DIV/0! | K21: {=IFERROR(INDIRECT("'"&$A21&"'!"&K$1),"")} -> 0 | L21: =IFERROR(INDIRECT("'"&$A21&"'!"&$L$1),"") -> 0 | M21: =K21/C21 -> #DIV/0! | N21: {=IFERROR(INDIRECT("'"&$A21&"'!"&N$1),"")} -> 0 | O21: =IFERROR(INDIRECT("'"&$A21&"'!"&$O$1),"") -> 0 | P21: =N21/C21 -> #DIV/0! | Q21: {=IFERROR(INDIRECT("'"&$A21&"'!"&Q$1),"")} -> 0 | R21: =IFERROR(INDIRECT("'"&$A21&"'!"&$R$1),"") -> 0 | S21: =Q21/C21 -> #DIV/0! | T21: {=IFERROR(INDIRECT("'"&$A21&"'!"&T$1),"")} -> 0 | U21: =IFERROR(INDIRECT("'"&$A21&"'!"&$U$1),"") -> 0 | V21: =T21/C21 -> #DIV/0! | W21: {=IFERROR(INDIRECT("'"&$A21&"'!"&W$1),"")} | X21: =IFERROR(INDIRECT("'"&$A21&"'!"&$X$1),"") | Y21: =W21/C21 -> #VALUE! | Z21: {=IFERROR(INDIRECT("'"&$A21&"'!"&Z$1),"")} | AA21: =IFERROR(INDIRECT("'"&$A21&"'!"&$AA$1),"") | AB21: =Z21/C21 -> #VALUE! | AC21: {=IFERROR(INDIRECT("'"&$A21&"'!"&AC$1),"")} | AD21: =IFERROR(INDIRECT("'"&$A21&"'!"&$AD$1),"") | AE21: =AC21/C21 -> #VALUE! | AF21: {=IFERROR(INDIRECT("'"&$A21&"'!"&AF$1),"")} | AG21: =IFERROR(INDIRECT("'"&$A21&"'!"&$AG$1),"") | AH21: =AF21/C21 -> #VALUE! | AI21: {=IFERROR(INDIRECT("'"&$A21&"'!"&AI$1),"")} -> 0 | AJ21: =IFERROR(INDIRECT("'"&$A21&"'!"&$AJ$1),"") -> 0 | AK21: =AI21/C21 -> #DIV/0! | AL21: {=IFERROR(INDIRECT("'"&$A21&"'!"&AL$1),"")} -> 0 | AM21: =IFERROR(INDIRECT("'"&$A21&"'!"&$AM$1),"") -> 0 | AN21: =AL21/C21 -> #DIV/0! | AO21: {=IFERROR(INDIRECT("'"&$A21&"'!"&AO$1),"")} -> 0 | AP21: =IFERROR(INDIRECT("'"&$A21&"'!"&$AP$1),"") -> 0 | AQ21: =AO21/C21 -> #DIV/0! | AR21: {=IFERROR(INDIRECT("'"&$A21&"'!"&AR$1),"")} -> 0 | AS21: =IFERROR(INDIRECT("'"&$A21&"'!"&$AS$1),"") -> 0 | AT21: =AR21/C21 -> #DIV/0! | AU21: {=IFERROR(INDIRECT("'"&$A21&"'!"&AU$1),"")} -> 0 | AV21: =IFERROR(INDIRECT("'"&$A21&"'!"&$AV$1),"") -> 0 | AW21: =AU21/C21 -> #DIV/0! | AX21: {=IFERROR(INDIRECT("'"&$A21&"'!"&AX$1),"")} -> 0 | AY21: =IFERROR(INDIRECT("'"&$A21&"'!"&$AY$1),"") -> 0 | AZ21: =AX21/C21 -> #DIV/0! | BA21: {=IFERROR(INDIRECT("'"&$A21&"'!"&BA$1),"")} -> 0 | BB21: =IFERROR(INDIRECT("'"&$A21&"'!"&$BB$1),"") -> 0 | BC21: =BA21/C21 -> #DIV/0! | BD21: {=IFERROR(INDIRECT("'"&$A21&"'!"&BD$1),"")} -> 0 | BE21: =IFERROR(INDIRECT("'"&$A21&"'!"&$BE$1),"") -> 0 | BF21: =BD21/C21 -> #DIV/0! | BG21: {=IFERROR(INDIRECT("'"&$A21&"'!"&BG$1),"")} -> 0 | BH21: =IFERROR(INDIRECT("'"&$A21&"'!"&$BH$1),"") -> 0 | BI21: =IFERROR(INDIRECT("'"&$A21&"'!"&$BI$1),"") -> 0 | BJ21: =BG21/C21 -> #DIV/0! | BK21: {=IFERROR(INDIRECT("'"&$A21&"'!"&BK$1),"")} -> 0 | BL21: =IFERROR(INDIRECT("'"&$A21&"'!"&$BL$1),"") -> 0 | BM21: =IFERROR(INDIRECT("'"&$A21&"'!"&$BM$1),"") -> 0 | BN21: =BK21/C21 -> #DIV/0! | BO21: {=IFERROR(INDIRECT("'"&$A21&"'!"&BO$1),"")} -> 0 | BP21: =IFERROR(INDIRECT("'"&$A21&"'!"&$BP$1),"") -> 0 | BQ21: =IFERROR(INDIRECT("'"&$A21&"'!"&$BQ$1),"") -> 0 | BR21: =BO21/C21 -> #DIV/0! | BS21: {=IFERROR(INDIRECT("'"&$A21&"'!"&BS$1),"")} -> 0 | BT21: =IFERROR(INDIRECT("'"&$A21&"'!"&$BT$1),"") -> 0 | BU21: =IFERROR(INDIRECT("'"&$A21&"'!"&$BU$1),"") -> 0 | BV21: =BS21/C21 -> #DIV/0!
A22: 13 | B22: T | E22: {=IFERROR(INDIRECT("'"&$A22&"'!"&E$1),"")} -> 0 | F22: =IFERROR(INDIRECT("'"&$A22&"'!"&$F$1),"") -> 0 | G22: =F22/D22 -> #DIV/0! | H22: {=IFERROR(INDIRECT("'"&$A22&"'!"&H$1),"")} -> 0 | I22: =IFERROR(INDIRECT("'"&$A22&"'!"&$I$1),"") -> 0 | J22: =H22/C22 -> #DIV/0! | K22: {=IFERROR(INDIRECT("'"&$A22&"'!"&K$1),"")} -> 0 | L22: =IFERROR(INDIRECT("'"&$A22&"'!"&$L$1),"") -> 0 | M22: =K22/C22 -> #DIV/0! | N22: {=IFERROR(INDIRECT("'"&$A22&"'!"&N$1),"")} -> 0 | O22: =IFERROR(INDIRECT("'"&$A22&"'!"&$O$1),"") -> 0 | P22: =N22/C22 -> #DIV/0! | Q22: {=IFERROR(INDIRECT("'"&$A22&"'!"&Q$1),"")} -> 0 | R22: =IFERROR(INDIRECT("'"&$A22&"'!"&$R$1),"") -> 0 | S22: =Q22/C22 -> #DIV/0! | T22: {=IFERROR(INDIRECT("'"&$A22&"'!"&T$1),"")} -> 0 | U22: =IFERROR(INDIRECT("'"&$A22&"'!"&$U$1),"") -> 0 | V22: =T22/C22 -> #DIV/0! | W22: {=IFERROR(INDIRECT("'"&$A22&"'!"&W$1),"")} | X22: =IFERROR(INDIRECT("'"&$A22&"'!"&$X$1),"") | Y22: =W22/C22 -> #VALUE! | Z22: {=IFERROR(INDIRECT("'"&$A22&"'!"&Z$1),"")} | AA22: =IFERROR(INDIRECT("'"&$A22&"'!"&$AA$1),"") | AB22: =Z22/C22 -> #VALUE! | AC22: {=IFERROR(INDIRECT("'"&$A22&"'!"&AC$1),"")} | AD22: =IFERROR(INDIRECT("'"&$A22&"'!"&$AD$1),"") | AE22: =AC22/C22 -> #VALUE! | AF22: {=IFERROR(INDIRECT("'"&$A22&"'!"&AF$1),"")} | AG22: =IFERROR(INDIRECT("'"&$A22&"'!"&$AG$1),"") | AH22: =AF22/C22 -> #VALUE! | AI22: {=IFERROR(INDIRECT("'"&$A22&"'!"&AI$1),"")} -> 0 | AJ22: =IFERROR(INDIRECT("'"&$A22&"'!"&$AJ$1),"") -> 0 | AK22: =AI22/C22 -> #DIV/0! | AL22: {=IFERROR(INDIRECT("'"&$A22&"'!"&AL$1),"")} -> 0 | AM22: =IFERROR(INDIRECT("'"&$A22&"'!"&$AM$1),"") -> 0 | AN22: =AL22/C22 -> #DIV/0! | AO22: {=IFERROR(INDIRECT("'"&$A22&"'!"&AO$1),"")} -> 0 | AP22: =IFERROR(INDIRECT("'"&$A22&"'!"&$AP$1),"") -> 0 | AQ22: =AO22/C22 -> #DIV/0! | AR22: {=IFERROR(INDIRECT("'"&$A22&"'!"&AR$1),"")} -> 0 | AS22: =IFERROR(INDIRECT("'"&$A22&"'!"&$AS$1),"") -> 0 | AT22: =AR22/C22 -> #DIV/0! | AU22: {=IFERROR(INDIRECT("'"&$A22&"'!"&AU$1),"")} -> 0 | AV22: =IFERROR(INDIRECT("'"&$A22&"'!"&$AV$1),"") -> 0 | AW22: =AU22/C22 -> #DIV/0! | AX22: {=IFERROR(INDIRECT("'"&$A22&"'!"&AX$1),"")} -> 0 | AY22: =IFERROR(INDIRECT("'"&$A22&"'!"&$AY$1),"") -> 0 | AZ22: =AX22/C22 -> #DIV/0! | BA22: {=IFERROR(INDIRECT("'"&$A22&"'!"&BA$1),"")} -> 0 | BB22: =IFERROR(INDIRECT("'"&$A22&"'!"&$BB$1),"") -> 0 | BC22: =BA22/C22 -> #DIV/0! | BD22: {=IFERROR(INDIRECT("'"&$A22&"'!"&BD$1),"")} -> 0 | BE22: =IFERROR(INDIRECT("'"&$A22&"'!"&$BE$1),"") -> 0 | BF22: =BD22/C22 -> #DIV/0! | BG22: {=IFERROR(INDIRECT("'"&$A22&"'!"&BG$1),"")} -> 0 | BH22: =IFERROR(INDIRECT("'"&$A22&"'!"&$BH$1),"") -> 0 | BI22: =IFERROR(INDIRECT("'"&$A22&"'!"&$BI$1),"") -> 0 | BJ22: =BG22/C22 -> #DIV/0! | BK22: {=IFERROR(INDIRECT("'"&$A22&"'!"&BK$1),"")} -> 0 | BL22: =IFERROR(INDIRECT("'"&$A22&"'!"&$BL$1),"") -> 0 | BM22: =IFERROR(INDIRECT("'"&$A22&"'!"&$BM$1),"") -> 0 | BN22: =BK22/C22 -> #DIV/0! | BO22: {=IFERROR(INDIRECT("'"&$A22&"'!"&BO$1),"")} -> 0 | BP22: =IFERROR(INDIRECT("'"&$A22&"'!"&$BP$1),"") -> 0 | BQ22: =IFERROR(INDIRECT("'"&$A22&"'!"&$BQ$1),"") -> 0 | BR22: =BO22/C22 -> #DIV/0! | BS22: {=IFERROR(INDIRECT("'"&$A22&"'!"&BS$1),"")} -> 0 | BT22: =IFERROR(INDIRECT("'"&$A22&"'!"&$BT$1),"") -> 0 | BU22: =IFERROR(INDIRECT("'"&$A22&"'!"&$BU$1),"") -> 0 | BV22: =BS22/C22 -> #DIV/0!
A23: 14 | B23: W | E23: {=IFERROR(INDIRECT("'"&$A23&"'!"&E$1),"")} -> 0 | F23: =IFERROR(INDIRECT("'"&$A23&"'!"&$F$1),"") -> 0 | G23: =F23/D23 -> #DIV/0! | H23: {=IFERROR(INDIRECT("'"&$A23&"'!"&H$1),"")} -> 0 | I23: =IFERROR(INDIRECT("'"&$A23&"'!"&$I$1),"") -> 0 | J23: =H23/C23 -> #DIV/0! | K23: {=IFERROR(INDIRECT("'"&$A23&"'!"&K$1),"")} -> 0 | L23: =IFERROR(INDIRECT("'"&$A23&"'!"&$L$1),"") -> 0 | M23: =K23/C23 -> #DIV/0! | N23: {=IFERROR(INDIRECT("'"&$A23&"'!"&N$1),"")} -> 0 | O23: =IFERROR(INDIRECT("'"&$A23&"'!"&$O$1),"") -> 0 | P23: =N23/C23 -> #DIV/0! | Q23: {=IFERROR(INDIRECT("'"&$A23&"'!"&Q$1),"")} -> 0 | R23: =IFERROR(INDIRECT("'"&$A23&"'!"&$R$1),"") -> 0 | S23: =Q23/C23 -> #DIV/0! | T23: {=IFERROR(INDIRECT("'"&$A23&"'!"&T$1),"")} -> 0 | U23: =IFERROR(INDIRECT("'"&$A23&"'!"&$U$1),"") -> 0 | V23: =T23/C23 -> #DIV/0! | W23: {=IFERROR(INDIRECT("'"&$A23&"'!"&W$1),"")} | X23: =IFERROR(INDIRECT("'"&$A23&"'!"&$X$1),"") | Y23: =W23/C23 -> #VALUE! | Z23: {=IFERROR(INDIRECT("'"&$A23&"'!"&Z$1),"")} | AA23: =IFERROR(INDIRECT("'"&$A23&"'!"&$AA$1),"") | AB23: =Z23/C23 -> #VALUE! | AC23: {=IFERROR(INDIRECT("'"&$A23&"'!"&AC$1),"")} | AD23: =IFERROR(INDIRECT("'"&$A23&"'!"&$AD$1),"") | AE23: =AC23/C23 -> #VALUE! | AF23: {=IFERROR(INDIRECT("'"&$A23&"'!"&AF$1),"")} | AG23: =IFERROR(INDIRECT("'"&$A23&"'!"&$AG$1),"") | AH23: =AF23/C23 -> #VALUE! | AI23: {=IFERROR(INDIRECT("'"&$A23&"'!"&AI$1),"")} -> 0 | AJ23: =IFERROR(INDIRECT("'"&$A23&"'!"&$AJ$1),"") -> 0 | AK23: =AI23/C23 -> #DIV/0! | AL23: {=IFERROR(INDIRECT("'"&$A23&"'!"&AL$1),"")} -> 0 | AM23: =IFERROR(INDIRECT("'"&$A23&"'!"&$AM$1),"") -> 0 | AN23: =AL23/C23 -> #DIV/0! | AO23: {=IFERROR(INDIRECT("'"&$A23&"'!"&AO$1),"")} -> 0 | AP23: =IFERROR(INDIRECT("'"&$A23&"'!"&$AP$1),"") -> 0 | AQ23: =AO23/C23 -> #DIV/0! | AR23: {=IFERROR(INDIRECT("'"&$A23&"'!"&AR$1),"")} -> 0 | AS23: =IFERROR(INDIRECT("'"&$A23&"'!"&$AS$1),"") -> 0 | AT23: =AR23/C23 -> #DIV/0! | AU23: {=IFERROR(INDIRECT("'"&$A23&"'!"&AU$1),"")} -> 0 | AV23: =IFERROR(INDIRECT("'"&$A23&"'!"&$AV$1),"") -> 0 | AW23: =AU23/C23 -> #DIV/0! | AX23: {=IFERROR(INDIRECT("'"&$A23&"'!"&AX$1),"")} -> 0 | AY23: =IFERROR(INDIRECT("'"&$A23&"'!"&$AY$1),"") -> 0 | AZ23: =AX23/C23 -> #DIV/0! | BA23: {=IFERROR(INDIRECT("'"&$A23&"'!"&BA$1),"")} -> 0 | BB23: =IFERROR(INDIRECT("'"&$A23&"'!"&$BB$1),"") -> 0 | BC23: =BA23/C23 -> #DIV/0! | BD23: {=IFERROR(INDIRECT("'"&$A23&"'!"&BD$1),"")} -> 0 | BE23: =IFERROR(INDIRECT("'"&$A23&"'!"&$BE$1),"") -> 0 | BF23: =BD23/C23 -> #DIV/0! | BG23: {=IFERROR(INDIRECT("'"&$A23&"'!"&BG$1),"")} -> 0 | BH23: =IFERROR(INDIRECT("'"&$A23&"'!"&$BH$1),"") -> 0 | BI23: =IFERROR(INDIRECT("'"&$A23&"'!"&$BI$1),"") -> 0 | BJ23: =BG23/C23 -> #DIV/0! | BK23: {=IFERROR(INDIRECT("'"&$A23&"'!"&BK$1),"")} -> 0 | BL23: =IFERROR(INDIRECT("'"&$A23&"'!"&$BL$1),"") -> 0 | BM23: =IFERROR(INDIRECT("'"&$A23&"'!"&$BM$1),"") -> 0 | BN23: =BK23/C23 -> #DIV/0! | BO23: {=IFERROR(INDIRECT("'"&$A23&"'!"&BO$1),"")} -> 0 | BP23: =IFERROR(INDIRECT("'"&$A23&"'!"&$BP$1),"") -> 0 | BQ23: =IFERROR(INDIRECT("'"&$A23&"'!"&$BQ$1),"") -> 0 | BR23: =BO23/C23 -> #DIV/0! | BS23: {=IFERROR(INDIRECT("'"&$A23&"'!"&BS$1),"")} -> 0 | BT23: =IFERROR(INDIRECT("'"&$A23&"'!"&$BT$1),"") -> 0 | BU23: =IFERROR(INDIRECT("'"&$A23&"'!"&$BU$1),"") -> 0 | BV23: =BS23/C23 -> #DIV/0!
A24: 15 | B24: T | E24: {=IFERROR(INDIRECT("'"&$A24&"'!"&E$1),"")} -> 0 | F24: =IFERROR(INDIRECT("'"&$A24&"'!"&$F$1),"") -> 0 | G24: =F24/D24 -> #DIV/0! | H24: {=IFERROR(INDIRECT("'"&$A24&"'!"&H$1),"")} -> 0 | I24: =IFERROR(INDIRECT("'"&$A24&"'!"&$I$1),"") -> 0 | J24: =H24/C24 -> #DIV/0! | K24: {=IFERROR(INDIRECT("'"&$A24&"'!"&K$1),"")} -> 0 | L24: =IFERROR(INDIRECT("'"&$A24&"'!"&$L$1),"") -> 0 | M24: =K24/C24 -> #DIV/0! | N24: {=IFERROR(INDIRECT("'"&$A24&"'!"&N$1),"")} -> 0 | O24: =IFERROR(INDIRECT("'"&$A24&"'!"&$O$1),"") -> 0 | P24: =N24/C24 -> #DIV/0! | Q24: {=IFERROR(INDIRECT("'"&$A24&"'!"&Q$1),"")} -> 0 | R24: =IFERROR(INDIRECT("'"&$A24&"'!"&$R$1),"") -> 0 | S24: =Q24/C24 -> #DIV/0! | T24: {=IFERROR(INDIRECT("'"&$A24&"'!"&T$1),"")} -> 0 | U24: =IFERROR(INDIRECT("'"&$A24&"'!"&$U$1),"") -> 0 | V24: =T24/C24 -> #DIV/0! | W24: {=IFERROR(INDIRECT("'"&$A24&"'!"&W$1),"")} | X24: =IFERROR(INDIRECT("'"&$A24&"'!"&$X$1),"") | Y24: =W24/C24 -> #VALUE! | Z24: {=IFERROR(INDIRECT("'"&$A24&"'!"&Z$1),"")} | AA24: =IFERROR(INDIRECT("'"&$A24&"'!"&$AA$1),"") | AB24: =Z24/C24 -> #VALUE! | AC24: {=IFERROR(INDIRECT("'"&$A24&"'!"&AC$1),"")} | AD24: =IFERROR(INDIRECT("'"&$A24&"'!"&$AD$1),"") | AE24: =AC24/C24 -> #VALUE! | AF24: {=IFERROR(INDIRECT("'"&$A24&"'!"&AF$1),"")} | AG24: =IFERROR(INDIRECT("'"&$A24&"'!"&$AG$1),"") | AH24: =AF24/C24 -> #VALUE! | AI24: {=IFERROR(INDIRECT("'"&$A24&"'!"&AI$1),"")} -> 0 | AJ24: =IFERROR(INDIRECT("'"&$A24&"'!"&$AJ$1),"") -> 0 | AK24: =AI24/C24 -> #DIV/0! | AL24: {=IFERROR(INDIRECT("'"&$A24&"'!"&AL$1),"")} -> 0 | AM24: =IFERROR(INDIRECT("'"&$A24&"'!"&$AM$1),"") -> 0 | AN24: =AL24/C24 -> #DIV/0! | AO24: {=IFERROR(INDIRECT("'"&$A24&"'!"&AO$1),"")} -> 0 | AP24: =IFERROR(INDIRECT("'"&$A24&"'!"&$AP$1),"") -> 0 | AQ24: =AO24/C24 -> #DIV/0! | AR24: {=IFERROR(INDIRECT("'"&$A24&"'!"&AR$1),"")} -> 0 | AS24: =IFERROR(INDIRECT("'"&$A24&"'!"&$AS$1),"") -> 0 | AT24: =AR24/C24 -> #DIV/0! | AU24: {=IFERROR(INDIRECT("'"&$A24&"'!"&AU$1),"")} -> 0 | AV24: =IFERROR(INDIRECT("'"&$A24&"'!"&$AV$1),"") -> 0 | AW24: =AU24/C24 -> #DIV/0! | AX24: {=IFERROR(INDIRECT("'"&$A24&"'!"&AX$1),"")} -> 0 | AY24: =IFERROR(INDIRECT("'"&$A24&"'!"&$AY$1),"") -> 0 | AZ24: =AX24/C24 -> #DIV/0! | BA24: {=IFERROR(INDIRECT("'"&$A24&"'!"&BA$1),"")} -> 0 | BB24: =IFERROR(INDIRECT("'"&$A24&"'!"&$BB$1),"") -> 0 | BC24: =BA24/C24 -> #DIV/0! | BD24: {=IFERROR(INDIRECT("'"&$A24&"'!"&BD$1),"")} -> 0 | BE24: =IFERROR(INDIRECT("'"&$A24&"'!"&$BE$1),"") -> 0 | BF24: =BD24/C24 -> #DIV/0! | BG24: {=IFERROR(INDIRECT("'"&$A24&"'!"&BG$1),"")} -> 0 | BH24: =IFERROR(INDIRECT("'"&$A24&"'!"&$BH$1),"") -> 0 | BI24: =IFERROR(INDIRECT("'"&$A24&"'!"&$BI$1),"") -> 0 | BJ24: =BG24/C24 -> #DIV/0! | BK24: {=IFERROR(INDIRECT("'"&$A24&"'!"&BK$1),"")} -> 0 | BL24: =IFERROR(INDIRECT("'"&$A24&"'!"&$BL$1),"") -> 0 | BM24: =IFERROR(INDIRECT("'"&$A24&"'!"&$BM$1),"") -> 0 | BN24: =BK24/C24 -> #DIV/0! | BO24: {=IFERROR(INDIRECT("'"&$A24&"'!"&BO$1),"")} -> 0 | BP24: =IFERROR(INDIRECT("'"&$A24&"'!"&$BP$1),"") -> 0 | BQ24: =IFERROR(INDIRECT("'"&$A24&"'!"&$BQ$1),"") -> 0 | BR24: =BO24/C24 -> #DIV/0! | BS24: {=IFERROR(INDIRECT("'"&$A24&"'!"&BS$1),"")} -> 0 | BT24: =IFERROR(INDIRECT("'"&$A24&"'!"&$BT$1),"") -> 0 | BU24: =IFERROR(INDIRECT("'"&$A24&"'!"&$BU$1),"") -> 0 | BV24: =BS24/C24 -> #DIV/0!
A25: 16 | B25: F | E25: {=IFERROR(INDIRECT("'"&$A25&"'!"&E$1),"")} -> 0 | F25: =IFERROR(INDIRECT("'"&$A25&"'!"&$F$1),"") -> 0 | G25: =F25/D25 -> #DIV/0! | H25: {=IFERROR(INDIRECT("'"&$A25&"'!"&H$1),"")} -> 0 | I25: =IFERROR(INDIRECT("'"&$A25&"'!"&$I$1),"") -> 0 | J25: =H25/C25 -> #DIV/0! | K25: {=IFERROR(INDIRECT("'"&$A25&"'!"&K$1),"")} -> 0 | L25: =IFERROR(INDIRECT("'"&$A25&"'!"&$L$1),"") -> 0 | M25: =K25/C25 -> #DIV/0! | N25: {=IFERROR(INDIRECT("'"&$A25&"'!"&N$1),"")} -> 0 | O25: =IFERROR(INDIRECT("'"&$A25&"'!"&$O$1),"") -> 0 | P25: =N25/C25 -> #DIV/0! | Q25: {=IFERROR(INDIRECT("'"&$A25&"'!"&Q$1),"")} -> 0 | R25: =IFERROR(INDIRECT("'"&$A25&"'!"&$R$1),"") -> 0 | S25: =Q25/C25 -> #DIV/0! | T25: {=IFERROR(INDIRECT("'"&$A25&"'!"&T$1),"")} -> 0 | U25: =IFERROR(INDIRECT("'"&$A25&"'!"&$U$1),"") -> 0 | V25: =T25/C25 -> #DIV/0! | W25: {=IFERROR(INDIRECT("'"&$A25&"'!"&W$1),"")} | X25: =IFERROR(INDIRECT("'"&$A25&"'!"&$X$1),"") | Y25: =W25/C25 -> #VALUE! | Z25: {=IFERROR(INDIRECT("'"&$A25&"'!"&Z$1),"")} | AA25: =IFERROR(INDIRECT("'"&$A25&"'!"&$AA$1),"") | AB25: =Z25/C25 -> #VALUE! | AC25: {=IFERROR(INDIRECT("'"&$A25&"'!"&AC$1),"")} | AD25: =IFERROR(INDIRECT("'"&$A25&"'!"&$AD$1),"") | AE25: =AC25/C25 -> #VALUE! | AF25: {=IFERROR(INDIRECT("'"&$A25&"'!"&AF$1),"")} | AG25: =IFERROR(INDIRECT("'"&$A25&"'!"&$AG$1),"") | AH25: =AF25/C25 -> #VALUE! | AI25: {=IFERROR(INDIRECT("'"&$A25&"'!"&AI$1),"")} -> 0 | AJ25: =IFERROR(INDIRECT("'"&$A25&"'!"&$AJ$1),"") -> 0 | AK25: =AI25/C25 -> #DIV/0! | AL25: {=IFERROR(INDIRECT("'"&$A25&"'!"&AL$1),"")} -> 0 | AM25: =IFERROR(INDIRECT("'"&$A25&"'!"&$AM$1),"") -> 0 | AN25: =AL25/C25 -> #DIV/0! | AO25: {=IFERROR(INDIRECT("'"&$A25&"'!"&AO$1),"")} -> 0 | AP25: =IFERROR(INDIRECT("'"&$A25&"'!"&$AP$1),"") -> 0 | AQ25: =AO25/C25 -> #DIV/0! | AR25: {=IFERROR(INDIRECT("'"&$A25&"'!"&AR$1),"")} -> 0 | AS25: =IFERROR(INDIRECT("'"&$A25&"'!"&$AS$1),"") -> 0 | AT25: =AR25/C25 -> #DIV/0! | AU25: {=IFERROR(INDIRECT("'"&$A25&"'!"&AU$1),"")} -> 0 | AV25: =IFERROR(INDIRECT("'"&$A25&"'!"&$AV$1),"") -> 0 | AW25: =AU25/C25 -> #DIV/0! | AX25: {=IFERROR(INDIRECT("'"&$A25&"'!"&AX$1),"")} -> 0 | AY25: =IFERROR(INDIRECT("'"&$A25&"'!"&$AY$1),"") -> 0 | AZ25: =AX25/C25 -> #DIV/0! | BA25: {=IFERROR(INDIRECT("'"&$A25&"'!"&BA$1),"")} -> 0 | BB25: =IFERROR(INDIRECT("'"&$A25&"'!"&$BB$1),"") -> 0 | BC25: =BA25/C25 -> #DIV/0! | BD25: {=IFERROR(INDIRECT("'"&$A25&"'!"&BD$1),"")} -> 0 | BE25: =IFERROR(INDIRECT("'"&$A25&"'!"&$BE$1),"") -> 0 | BF25: =BD25/C25 -> #DIV/0! | BG25: {=IFERROR(INDIRECT("'"&$A25&"'!"&BG$1),"")} -> 0 | BH25: =IFERROR(INDIRECT("'"&$A25&"'!"&$BH$1),"") -> 0 | BI25: =IFERROR(INDIRECT("'"&$A25&"'!"&$BI$1),"") -> 0 | BJ25: =BG25/C25 -> #DIV/0! | BK25: {=IFERROR(INDIRECT("'"&$A25&"'!"&BK$1),"")} -> 0 | BL25: =IFERROR(INDIRECT("'"&$A25&"'!"&$BL$1),"") -> 0 | BM25: =IFERROR(INDIRECT("'"&$A25&"'!"&$BM$1),"") -> 0 | BN25: =BK25/C25 -> #DIV/0! | BO25: {=IFERROR(INDIRECT("'"&$A25&"'!"&BO$1),"")} -> 0 | BP25: =IFERROR(INDIRECT("'"&$A25&"'!"&$BP$1),"") -> 0 | BQ25: =IFERROR(INDIRECT("'"&$A25&"'!"&$BQ$1),"") -> 0 | BR25: =BO25/C25 -> #DIV/0! | BS25: {=IFERROR(INDIRECT("'"&$A25&"'!"&BS$1),"")} -> 0 | BT25: =IFERROR(INDIRECT("'"&$A25&"'!"&$BT$1),"") -> 0 | BU25: =IFERROR(INDIRECT("'"&$A25&"'!"&$BU$1),"") -> 0 | BV25: =BS25/C25 -> #DIV/0!
A26: 17 | B26: S | E26: {=IFERROR(INDIRECT("'"&$A26&"'!"&E$1),"")} -> 0 | F26: =IFERROR(INDIRECT("'"&$A26&"'!"&$F$1),"") -> 0 | G26: =F26/D26 -> #DIV/0! | H26: {=IFERROR(INDIRECT("'"&$A26&"'!"&H$1),"")} -> 0 | I26: =IFERROR(INDIRECT("'"&$A26&"'!"&$I$1),"") -> 0 | J26: =H26/C26 -> #DIV/0! | K26: {=IFERROR(INDIRECT("'"&$A26&"'!"&K$1),"")} -> 0 | L26: =IFERROR(INDIRECT("'"&$A26&"'!"&$L$1),"") -> 0 | M26: =K26/C26 -> #DIV/0! | N26: {=IFERROR(INDIRECT("'"&$A26&"'!"&N$1),"")} -> 0 | O26: =IFERROR(INDIRECT("'"&$A26&"'!"&$O$1),"") -> 0 | P26: =N26/C26 -> #DIV/0! | Q26: {=IFERROR(INDIRECT("'"&$A26&"'!"&Q$1),"")} -> 0 | R26: =IFERROR(INDIRECT("'"&$A26&"'!"&$R$1),"") -> 0 | S26: =Q26/C26 -> #DIV/0! | T26: {=IFERROR(INDIRECT("'"&$A26&"'!"&T$1),"")} -> 0 | U26: =IFERROR(INDIRECT("'"&$A26&"'!"&$U$1),"") -> 0 | V26: =T26/C26 -> #DIV/0! | W26: {=IFERROR(INDIRECT("'"&$A26&"'!"&W$1),"")} | X26: =IFERROR(INDIRECT("'"&$A26&"'!"&$X$1),"") | Y26: =W26/C26 -> #VALUE! | Z26: {=IFERROR(INDIRECT("'"&$A26&"'!"&Z$1),"")} | AA26: =IFERROR(INDIRECT("'"&$A26&"'!"&$AA$1),"") | AB26: =Z26/C26 -> #VALUE! | AC26: {=IFERROR(INDIRECT("'"&$A26&"'!"&AC$1),"")} | AD26: =IFERROR(INDIRECT("'"&$A26&"'!"&$AD$1),"") | AE26: =AC26/C26 -> #VALUE! | AF26: {=IFERROR(INDIRECT("'"&$A26&"'!"&AF$1),"")} | AG26: =IFERROR(INDIRECT("'"&$A26&"'!"&$AG$1),"") | AH26: =AF26/C26 -> #VALUE! | AI26: {=IFERROR(INDIRECT("'"&$A26&"'!"&AI$1),"")} -> 0 | AJ26: =IFERROR(INDIRECT("'"&$A26&"'!"&$AJ$1),"") -> 0 | AK26: =AI26/C26 -> #DIV/0! | AL26: {=IFERROR(INDIRECT("'"&$A26&"'!"&AL$1),"")} -> 0 | AM26: =IFERROR(INDIRECT("'"&$A26&"'!"&$AM$1),"") -> 0 | AN26: =AL26/C26 -> #DIV/0! | AO26: {=IFERROR(INDIRECT("'"&$A26&"'!"&AO$1),"")} -> 0 | AP26: =IFERROR(INDIRECT("'"&$A26&"'!"&$AP$1),"") -> 0 | AQ26: =AO26/C26 -> #DIV/0! | AR26: {=IFERROR(INDIRECT("'"&$A26&"'!"&AR$1),"")} -> 0 | AS26: =IFERROR(INDIRECT("'"&$A26&"'!"&$AS$1),"") -> 0 | AT26: =AR26/C26 -> #DIV/0! | AU26: {=IFERROR(INDIRECT("'"&$A26&"'!"&AU$1),"")} -> 0 | AV26: =IFERROR(INDIRECT("'"&$A26&"'!"&$AV$1),"") -> 0 | AW26: =AU26/C26 -> #DIV/0! | AX26: {=IFERROR(INDIRECT("'"&$A26&"'!"&AX$1),"")} -> 0 | AY26: =IFERROR(INDIRECT("'"&$A26&"'!"&$AY$1),"") -> 0 | AZ26: =AX26/C26 -> #DIV/0! | BA26: {=IFERROR(INDIRECT("'"&$A26&"'!"&BA$1),"")} -> 0 | BB26: =IFERROR(INDIRECT("'"&$A26&"'!"&$BB$1),"") -> 0 | BC26: =BA26/C26 -> #DIV/0! | BD26: {=IFERROR(INDIRECT("'"&$A26&"'!"&BD$1),"")} -> 0 | BE26: =IFERROR(INDIRECT("'"&$A26&"'!"&$BE$1),"") -> 0 | BF26: =BD26/C26 -> #DIV/0! | BG26: {=IFERROR(INDIRECT("'"&$A26&"'!"&BG$1),"")} -> 0 | BH26: =IFERROR(INDIRECT("'"&$A26&"'!"&$BH$1),"") -> 0 | BI26: =IFERROR(INDIRECT("'"&$A26&"'!"&$BI$1),"") -> 0 | BJ26: =BG26/C26 -> #DIV/0! | BK26: {=IFERROR(INDIRECT("'"&$A26&"'!"&BK$1),"")} -> 0 | BL26: =IFERROR(INDIRECT("'"&$A26&"'!"&$BL$1),"") -> 0 | BM26: =IFERROR(INDIRECT("'"&$A26&"'!"&$BM$1),"") -> 0 | BN26: =BK26/C26 -> #DIV/0! | BO26: {=IFERROR(INDIRECT("'"&$A26&"'!"&BO$1),"")} -> 0 | BP26: =IFERROR(INDIRECT("'"&$A26&"'!"&$BP$1),"") -> 0 | BQ26: =IFERROR(INDIRECT("'"&$A26&"'!"&$BQ$1),"") -> 0 | BR26: =BO26/C26 -> #DIV/0! | BS26: {=IFERROR(INDIRECT("'"&$A26&"'!"&BS$1),"")} -> 0 | BT26: =IFERROR(INDIRECT("'"&$A26&"'!"&$BT$1),"") -> 0 | BU26: =IFERROR(INDIRECT("'"&$A26&"'!"&$BU$1),"") -> 0 | BV26: =BS26/C26 -> #DIV/0!
A27: 18 | B27: S | E27: {=IFERROR(INDIRECT("'"&$A27&"'!"&E$1),"")} -> 0 | F27: =IFERROR(INDIRECT("'"&$A27&"'!"&$F$1),"") -> 0 | G27: =F27/D27 -> #DIV/0! | H27: {=IFERROR(INDIRECT("'"&$A27&"'!"&H$1),"")} -> 0 | I27: =IFERROR(INDIRECT("'"&$A27&"'!"&$I$1),"") -> 0 | J27: =H27/C27 -> #DIV/0! | K27: {=IFERROR(INDIRECT("'"&$A27&"'!"&K$1),"")} -> 0 | L27: =IFERROR(INDIRECT("'"&$A27&"'!"&$L$1),"") -> 0 | M27: =K27/C27 -> #DIV/0! | N27: {=IFERROR(INDIRECT("'"&$A27&"'!"&N$1),"")} -> 0 | O27: =IFERROR(INDIRECT("'"&$A27&"'!"&$O$1),"") -> 0 | P27: =N27/C27 -> #DIV/0! | Q27: {=IFERROR(INDIRECT("'"&$A27&"'!"&Q$1),"")} -> 0 | R27: =IFERROR(INDIRECT("'"&$A27&"'!"&$R$1),"") -> 0 | S27: =Q27/C27 -> #DIV/0! | T27: {=IFERROR(INDIRECT("'"&$A27&"'!"&T$1),"")} -> 0 | U27: =IFERROR(INDIRECT("'"&$A27&"'!"&$U$1),"") -> 0 | V27: =T27/C27 -> #DIV/0! | W27: {=IFERROR(INDIRECT("'"&$A27&"'!"&W$1),"")} | X27: =IFERROR(INDIRECT("'"&$A27&"'!"&$X$1),"") | Y27: =W27/C27 -> #VALUE! | Z27: {=IFERROR(INDIRECT("'"&$A27&"'!"&Z$1),"")} | AA27: =IFERROR(INDIRECT("'"&$A27&"'!"&$AA$1),"") | AB27: =Z27/C27 -> #VALUE! | AC27: {=IFERROR(INDIRECT("'"&$A27&"'!"&AC$1),"")} | AD27: =IFERROR(INDIRECT("'"&$A27&"'!"&$AD$1),"") | AE27: =AC27/C27 -> #VALUE! | AF27: {=IFERROR(INDIRECT("'"&$A27&"'!"&AF$1),"")} | AG27: =IFERROR(INDIRECT("'"&$A27&"'!"&$AG$1),"") | AH27: =AF27/C27 -> #VALUE! | AI27: {=IFERROR(INDIRECT("'"&$A27&"'!"&AI$1),"")} -> 0 | AJ27: =IFERROR(INDIRECT("'"&$A27&"'!"&$AJ$1),"") -> 0 | AK27: =AI27/C27 -> #DIV/0! | AL27: {=IFERROR(INDIRECT("'"&$A27&"'!"&AL$1),"")} -> 0 | AM27: =IFERROR(INDIRECT("'"&$A27&"'!"&$AM$1),"") -> 0 | AN27: =AL27/C27 -> #DIV/0! | AO27: {=IFERROR(INDIRECT("'"&$A27&"'!"&AO$1),"")} -> 0 | AP27: =IFERROR(INDIRECT("'"&$A27&"'!"&$AP$1),"") -> 0 | AQ27: =AO27/C27 -> #DIV/0! | AR27: {=IFERROR(INDIRECT("'"&$A27&"'!"&AR$1),"")} -> 0 | AS27: =IFERROR(INDIRECT("'"&$A27&"'!"&$AS$1),"") -> 0 | AT27: =AR27/C27 -> #DIV/0! | AU27: {=IFERROR(INDIRECT("'"&$A27&"'!"&AU$1),"")} -> 0 | AV27: =IFERROR(INDIRECT("'"&$A27&"'!"&$AV$1),"") -> 0 | AW27: =AU27/C27 -> #DIV/0! | AX27: {=IFERROR(INDIRECT("'"&$A27&"'!"&AX$1),"")} -> 0 | AY27: =IFERROR(INDIRECT("'"&$A27&"'!"&$AY$1),"") -> 0 | AZ27: =AX27/C27 -> #DIV/0! | BA27: {=IFERROR(INDIRECT("'"&$A27&"'!"&BA$1),"")} -> 0 | BB27: =IFERROR(INDIRECT("'"&$A27&"'!"&$BB$1),"") -> 0 | BC27: =BA27/C27 -> #DIV/0! | BD27: {=IFERROR(INDIRECT("'"&$A27&"'!"&BD$1),"")} -> 0 | BE27: =IFERROR(INDIRECT("'"&$A27&"'!"&$BE$1),"") -> 0 | BF27: =BD27/C27 -> #DIV/0! | BG27: {=IFERROR(INDIRECT("'"&$A27&"'!"&BG$1),"")} -> 0 | BH27: =IFERROR(INDIRECT("'"&$A27&"'!"&$BH$1),"") -> 0 | BI27: =IFERROR(INDIRECT("'"&$A27&"'!"&$BI$1),"") -> 0 | BJ27: =BG27/C27 -> #DIV/0! | BK27: {=IFERROR(INDIRECT("'"&$A27&"'!"&BK$1),"")} -> 0 | BL27: =IFERROR(INDIRECT("'"&$A27&"'!"&$BL$1),"") -> 0 | BM27: =IFERROR(INDIRECT("'"&$A27&"'!"&$BM$1),"") -> 0 | BN27: =BK27/C27 -> #DIV/0! | BO27: {=IFERROR(INDIRECT("'"&$A27&"'!"&BO$1),"")} -> 0 | BP27: =IFERROR(INDIRECT("'"&$A27&"'!"&$BP$1),"") -> 0 | BQ27: =IFERROR(INDIRECT("'"&$A27&"'!"&$BQ$1),"") -> 0 | BR27: =BO27/C27 -> #DIV/0! | BS27: {=IFERROR(INDIRECT("'"&$A27&"'!"&BS$1),"")} -> 0 | BT27: =IFERROR(INDIRECT("'"&$A27&"'!"&$BT$1),"") -> 0 | BU27: =IFERROR(INDIRECT("'"&$A27&"'!"&$BU$1),"") -> 0 | BV27: =BS27/C27 -> #DIV/0!
A28: Weekly | C28: =SUM(C21:C27) -> 0 | D28: =SUM(D21:D27) -> 0 | E28: =SUM(E21:E27) -> 0 | F28: =SUM(F21:F27) -> 0 | G28: =F28/D28 -> #DIV/0! | H28: =SUM(H21:H27) -> 0 | I28: =SUM(I21:I27) -> 0 | J28: =H28/C28 -> #DIV/0! | K28: =SUM(K21:K27) -> 0 | L28: =SUM(L21:L27) -> 0 | M28: =K28/C28 -> #DIV/0! | N28: =SUM(N21:N27) -> 0 | O28: =SUM(O21:O27) -> 0 | P28: =N280/C28 -> #DIV/0! | Q28: =SUM(Q21:Q27) -> 0 | R28: =SUM(R21:R27) -> 0 | S28: =Q28/C28 -> #DIV/0! | T28: =SUM(T21:T27) -> 0 | U28: =SUM(U21:U27) -> 0 | V28: =T28/C28 -> #DIV/0! | W28: =SUM(W21:W27) -> 0 | X28: =SUM(X21:X27) -> 0 | Y28: =W28/C28 -> #DIV/0! | Z28: =SUM(Z21:Z27) -> 0 | AA28: =SUM(AA21:AA27) -> 0 | AB28: =Z28/C28 -> #DIV/0! | AC28: =SUM(AC21:AC27) -> 0 | AD28: =SUM(AD21:AD27) -> 0 | AE28: =AC28/C28 -> #DIV/0! | AF28: =SUM(AF21:AF27) -> 0 | AG28: =SUM(AG21:AG27) -> 0 | AH28: =AF28/C28 -> #DIV/0! | AI28: =SUM(AI21:AI27) -> 0 | AJ28: =SUM(AJ21:AJ27) -> 0 | AK28: =AI28/C28 -> #DIV/0! | AL28: =SUM(AL21:AL27) -> 0 | AM28: =SUM(AM21:AM27) -> 0 | AN28: =AL28/C28 -> #DIV/0! | AO28: =SUM(AO21:AO27) -> 0 | AP28: =SUM(AP21:AP27) -> 0 | AQ28: =AO28/C28 -> #DIV/0! | AR28: =SUM(AR21:AR27) -> 0 | AS28: =SUM(AS21:AS27) -> 0 | AT28: =AR28/C28 -> #DIV/0! | AU28: =SUM(AU21:AU27) -> 0 | AV28: =SUM(AV21:AV27) -> 0 | AW28: =AU28/C28 -> #DIV/0! | AX28: =SUM(AX21:AX27) -> 0 | AY28: =SUM(AY21:AY27) -> 0 | AZ28: =AX28/C28 -> #DIV/0! | BA28: =SUM(BA21:BA27) -> 0 | BB28: =SUM(BB21:BB27) -> 0 | BC28: =BA28/C28 -> #DIV/0! | BD28: =SUM(BD21:BD27) -> 0 | BE28: =SUM(BE21:BE27) -> 0 | BF28: =BD28/C28 -> #DIV/0! | BG28: =SUM(BG21:BG27) -> 0 | BH28: =SUM(BH21:BH27) -> 0 | BI28: =SUM(BI21:BI27) -> 0 | BJ28: =BG28/C28 -> #DIV/0! | BK28: =SUM(BK21:BK27) -> 0 | BL28: =SUM(BL21:BL27) -> 0 | BM28: =SUM(BM21:BM27) -> 0 | BN28: =BK28/C28 -> #DIV/0! | BO28: =SUM(BO21:BO27) -> 0 | BP28: =SUM(BP21:BP27) -> 0 | BQ28: =SUM(BQ21:BQ27) -> 0 | BR28: =BO28/C28 -> #DIV/0! | BS28: =SUM(BS21:BS27) -> 0 | BT28: =SUM(BT21:BT27) -> 0 | BU28: =SUM(BU21:BU27) -> 0 | BV28: =BS28/C28 -> #DIV/0!
A29: 19 | B29: M | E29: {=IFERROR(INDIRECT("'"&$A29&"'!"&E$1),"")} -> 0 | F29: =IFERROR(INDIRECT("'"&$A29&"'!"&$F$1),"") -> 0 | G29: =F29/D29 -> #DIV/0! | H29: {=IFERROR(INDIRECT("'"&$A29&"'!"&H$1),"")} -> 0 | I29: =IFERROR(INDIRECT("'"&$A29&"'!"&$I$1),"") -> 0 | J29: =H29/C29 -> #DIV/0! | K29: {=IFERROR(INDIRECT("'"&$A29&"'!"&K$1),"")} -> 0 | L29: =IFERROR(INDIRECT("'"&$A29&"'!"&$L$1),"") -> 0 | M29: =K29/C29 -> #DIV/0! | N29: {=IFERROR(INDIRECT("'"&$A29&"'!"&N$1),"")} -> 0 | O29: =IFERROR(INDIRECT("'"&$A29&"'!"&$O$1),"") -> 0 | P29: =N29/C29 -> #DIV/0! | Q29: {=IFERROR(INDIRECT("'"&$A29&"'!"&Q$1),"")} -> 0 | R29: =IFERROR(INDIRECT("'"&$A29&"'!"&$R$1),"") -> 0 | S29: =Q29/C29 -> #DIV/0! | T29: {=IFERROR(INDIRECT("'"&$A29&"'!"&T$1),"")} -> 0 | U29: =IFERROR(INDIRECT("'"&$A29&"'!"&$U$1),"") -> 0 | V29: =T29/C29 -> #DIV/0! | W29: {=IFERROR(INDIRECT("'"&$A29&"'!"&W$1),"")} | X29: =IFERROR(INDIRECT("'"&$A29&"'!"&$X$1),"") | Y29: =W29/C29 -> #VALUE! | Z29: {=IFERROR(INDIRECT("'"&$A29&"'!"&Z$1),"")} | AA29: =IFERROR(INDIRECT("'"&$A29&"'!"&$AA$1),"") | AB29: =Z29/C29 -> #VALUE! | AC29: {=IFERROR(INDIRECT("'"&$A29&"'!"&AC$1),"")} | AD29: =IFERROR(INDIRECT("'"&$A29&"'!"&$AD$1),"") | AE29: =AC29/C29 -> #VALUE! | AF29: {=IFERROR(INDIRECT("'"&$A29&"'!"&AF$1),"")} | AG29: =IFERROR(INDIRECT("'"&$A29&"'!"&$AG$1),"") | AH29: =AF29/C29 -> #VALUE! | AI29: {=IFERROR(INDIRECT("'"&$A29&"'!"&AI$1),"")} -> 0 | AJ29: =IFERROR(INDIRECT("'"&$A29&"'!"&$AJ$1),"") -> 0 | AK29: =AI29/C29 -> #DIV/0! | AL29: {=IFERROR(INDIRECT("'"&$A29&"'!"&AL$1),"")} -> 0 | AM29: =IFERROR(INDIRECT("'"&$A29&"'!"&$AM$1),"") -> 0 | AN29: =AL29/C29 -> #DIV/0! | AO29: {=IFERROR(INDIRECT("'"&$A29&"'!"&AO$1),"")} -> 0 | AP29: =IFERROR(INDIRECT("'"&$A29&"'!"&$AP$1),"") -> 0 | AQ29: =AO29/C29 -> #DIV/0! | AR29: {=IFERROR(INDIRECT("'"&$A29&"'!"&AR$1),"")} -> 0 | AS29: =IFERROR(INDIRECT("'"&$A29&"'!"&$AS$1),"") -> 0 | AT29: =AR29/C29 -> #DIV/0! | AU29: {=IFERROR(INDIRECT("'"&$A29&"'!"&AU$1),"")} -> 0 | AV29: =IFERROR(INDIRECT("'"&$A29&"'!"&$AV$1),"") -> 0 | AW29: =AU29/C29 -> #DIV/0! | AX29: {=IFERROR(INDIRECT("'"&$A29&"'!"&AX$1),"")} -> 0 | AY29: =IFERROR(INDIRECT("'"&$A29&"'!"&$AY$1),"") -> 0 | AZ29: =AX29/C29 -> #DIV/0! | BA29: {=IFERROR(INDIRECT("'"&$A29&"'!"&BA$1),"")} -> 0 | BB29: =IFERROR(INDIRECT("'"&$A29&"'!"&$BB$1),"") -> 0 | BC29: =BA29/C29 -> #DIV/0! | BD29: {=IFERROR(INDIRECT("'"&$A29&"'!"&BD$1),"")} -> 0 | BE29: =IFERROR(INDIRECT("'"&$A29&"'!"&$BE$1),"") -> 0 | BF29: =BD29/C29 -> #DIV/0! | BG29: {=IFERROR(INDIRECT("'"&$A29&"'!"&BG$1),"")} -> 0 | BH29: =IFERROR(INDIRECT("'"&$A29&"'!"&$BH$1),"") -> 0 | BI29: =IFERROR(INDIRECT("'"&$A29&"'!"&$BI$1),"") -> 0 | BJ29: =BG29/C29 -> #DIV/0! | BK29: {=IFERROR(INDIRECT("'"&$A29&"'!"&BK$1),"")} -> 0 | BL29: =IFERROR(INDIRECT("'"&$A29&"'!"&$BL$1),"") -> 0 | BM29: =IFERROR(INDIRECT("'"&$A29&"'!"&$BM$1),"") -> 0 | BN29: =BK29/C29 -> #DIV/0! | BO29: {=IFERROR(INDIRECT("'"&$A29&"'!"&BO$1),"")} -> 0 | BP29: =IFERROR(INDIRECT("'"&$A29&"'!"&$BP$1),"") -> 0 | BQ29: =IFERROR(INDIRECT("'"&$A29&"'!"&$BQ$1),"") -> 0 | BR29: =BO29/C29 -> #DIV/0! | BS29: {=IFERROR(INDIRECT("'"&$A29&"'!"&BS$1),"")} -> 0 | BT29: =IFERROR(INDIRECT("'"&$A29&"'!"&$BT$1),"") -> 0 | BU29: =IFERROR(INDIRECT("'"&$A29&"'!"&$BU$1),"") -> 0 | BV29: =BS29/C29 -> #DIV/0!
A30: 20 | B30: T | E30: {=IFERROR(INDIRECT("'"&$A30&"'!"&E$1),"")} -> 0 | F30: =IFERROR(INDIRECT("'"&$A30&"'!"&$F$1),"") -> 0 | G30: =F30/D30 -> #DIV/0! | H30: {=IFERROR(INDIRECT("'"&$A30&"'!"&H$1),"")} -> 0 | I30: =IFERROR(INDIRECT("'"&$A30&"'!"&$I$1),"") -> 0 | J30: =H30/C30 -> #DIV/0! | K30: {=IFERROR(INDIRECT("'"&$A30&"'!"&K$1),"")} -> 0 | L30: =IFERROR(INDIRECT("'"&$A30&"'!"&$L$1),"") -> 0 | M30: =K30/C30 -> #DIV/0! | N30: {=IFERROR(INDIRECT("'"&$A30&"'!"&N$1),"")} -> 0 | O30: =IFERROR(INDIRECT("'"&$A30&"'!"&$O$1),"") -> 0 | P30: =N30/C30 -> #DIV/0! | Q30: {=IFERROR(INDIRECT("'"&$A30&"'!"&Q$1),"")} -> 0 | R30: =IFERROR(INDIRECT("'"&$A30&"'!"&$R$1),"") -> 0 | S30: =Q30/C30 -> #DIV/0! | T30: {=IFERROR(INDIRECT("'"&$A30&"'!"&T$1),"")} -> 0 | U30: =IFERROR(INDIRECT("'"&$A30&"'!"&$U$1),"") -> 0 | V30: =T30/C30 -> #DIV/0! | W30: {=IFERROR(INDIRECT("'"&$A30&"'!"&W$1),"")} | X30: =IFERROR(INDIRECT("'"&$A30&"'!"&$X$1),"") | Y30: =W30/C30 -> #VALUE! | Z30: {=IFERROR(INDIRECT("'"&$A30&"'!"&Z$1),"")} | AA30: =IFERROR(INDIRECT("'"&$A30&"'!"&$AA$1),"") | AB30: =Z30/C30 -> #VALUE! | AC30: {=IFERROR(INDIRECT("'"&$A30&"'!"&AC$1),"")} | AD30: =IFERROR(INDIRECT("'"&$A30&"'!"&$AD$1),"") | AE30: =AC30/C30 -> #VALUE! | AF30: {=IFERROR(INDIRECT("'"&$A30&"'!"&AF$1),"")} | AG30: =IFERROR(INDIRECT("'"&$A30&"'!"&$AG$1),"") | AH30: =AF30/C30 -> #VALUE! | AI30: {=IFERROR(INDIRECT("'"&$A30&"'!"&AI$1),"")} -> 0 | AJ30: =IFERROR(INDIRECT("'"&$A30&"'!"&$AJ$1),"") -> 0 | AK30: =AI30/C30 -> #DIV/0! | AL30: {=IFERROR(INDIRECT("'"&$A30&"'!"&AL$1),"")} -> 0 | AM30: =IFERROR(INDIRECT("'"&$A30&"'!"&$AM$1),"") -> 0 | AN30: =AL30/C30 -> #DIV/0! | AO30: {=IFERROR(INDIRECT("'"&$A30&"'!"&AO$1),"")} -> 0 | AP30: =IFERROR(INDIRECT("'"&$A30&"'!"&$AP$1),"") -> 0 | AQ30: =AO30/C30 -> #DIV/0! | AR30: {=IFERROR(INDIRECT("'"&$A30&"'!"&AR$1),"")} -> 0 | AS30: =IFERROR(INDIRECT("'"&$A30&"'!"&$AS$1),"") -> 0 | AT30: =AR30/C30 -> #DIV/0! | AU30: {=IFERROR(INDIRECT("'"&$A30&"'!"&AU$1),"")} -> 0 | AV30: =IFERROR(INDIRECT("'"&$A30&"'!"&$AV$1),"") -> 0 | AW30: =AU30/C30 -> #DIV/0! | AX30: {=IFERROR(INDIRECT("'"&$A30&"'!"&AX$1),"")} -> 0 | AY30: =IFERROR(INDIRECT("'"&$A30&"'!"&$AY$1),"") -> 0 | AZ30: =AX30/C30 -> #DIV/0! | BA30: {=IFERROR(INDIRECT("'"&$A30&"'!"&BA$1),"")} -> 0 | BB30: =IFERROR(INDIRECT("'"&$A30&"'!"&$BB$1),"") -> 0 | BC30: =BA30/C30 -> #DIV/0! | BD30: {=IFERROR(INDIRECT("'"&$A30&"'!"&BD$1),"")} -> 0 | BE30: =IFERROR(INDIRECT("'"&$A30&"'!"&$BE$1),"") -> 0 | BF30: =BD30/C30 -> #DIV/0! | BG30: {=IFERROR(INDIRECT("'"&$A30&"'!"&BG$1),"")} -> 0 | BH30: =IFERROR(INDIRECT("'"&$A30&"'!"&$BH$1),"") -> 0 | BI30: =IFERROR(INDIRECT("'"&$A30&"'!"&$BI$1),"") -> 0 | BJ30: =BG30/C30 -> #DIV/0! | BK30: {=IFERROR(INDIRECT("'"&$A30&"'!"&BK$1),"")} -> 0 | BL30: =IFERROR(INDIRECT("'"&$A30&"'!"&$BL$1),"") -> 0 | BM30: =IFERROR(INDIRECT("'"&$A30&"'!"&$BM$1),"") -> 0 | BN30: =BK30/C30 -> #DIV/0! | BO30: {=IFERROR(INDIRECT("'"&$A30&"'!"&BO$1),"")} -> 0 | BP30: =IFERROR(INDIRECT("'"&$A30&"'!"&$BP$1),"") -> 0 | BQ30: =IFERROR(INDIRECT("'"&$A30&"'!"&$BQ$1),"") -> 0 | BR30: =BO30/C30 -> #DIV/0! | BS30: {=IFERROR(INDIRECT("'"&$A30&"'!"&BS$1),"")} -> 0 | BT30: =IFERROR(INDIRECT("'"&$A30&"'!"&$BT$1),"") -> 0 | BU30: =IFERROR(INDIRECT("'"&$A30&"'!"&$BU$1),"") -> 0 | BV30: =BS30/C30 -> #DIV/0!
A31: 21 | B31: W | E31: {=IFERROR(INDIRECT("'"&$A31&"'!"&E$1),"")} -> 0 | F31: =IFERROR(INDIRECT("'"&$A31&"'!"&$F$1),"") -> 0 | G31: =F31/D31 -> #DIV/0! | H31: {=IFERROR(INDIRECT("'"&$A31&"'!"&H$1),"")} -> 0 | I31: =IFERROR(INDIRECT("'"&$A31&"'!"&$I$1),"") -> 0 | J31: =H31/C31 -> #DIV/0! | K31: {=IFERROR(INDIRECT("'"&$A31&"'!"&K$1),"")} -> 0 | L31: =IFERROR(INDIRECT("'"&$A31&"'!"&$L$1),"") -> 0 | M31: =K31/C31 -> #DIV/0! | N31: {=IFERROR(INDIRECT("'"&$A31&"'!"&N$1),"")} -> 0 | O31: =IFERROR(INDIRECT("'"&$A31&"'!"&$O$1),"") -> 0 | P31: =N31/C31 -> #DIV/0! | Q31: {=IFERROR(INDIRECT("'"&$A31&"'!"&Q$1),"")} -> 0 | R31: =IFERROR(INDIRECT("'"&$A31&"'!"&$R$1),"") -> 0 | S31: =Q31/C31 -> #DIV/0! | T31: {=IFERROR(INDIRECT("'"&$A31&"'!"&T$1),"")} -> 0 | U31: =IFERROR(INDIRECT("'"&$A31&"'!"&$U$1),"") -> 0 | V31: =T31/C31 -> #DIV/0! | W31: {=IFERROR(INDIRECT("'"&$A31&"'!"&W$1),"")} | X31: =IFERROR(INDIRECT("'"&$A31&"'!"&$X$1),"") | Y31: =W31/C31 -> #VALUE! | Z31: {=IFERROR(INDIRECT("'"&$A31&"'!"&Z$1),"")} | AA31: =IFERROR(INDIRECT("'"&$A31&"'!"&$AA$1),"") | AB31: =Z31/C31 -> #VALUE! | AC31: {=IFERROR(INDIRECT("'"&$A31&"'!"&AC$1),"")} | AD31: =IFERROR(INDIRECT("'"&$A31&"'!"&$AD$1),"") | AE31: =AC31/C31 -> #VALUE! | AF31: {=IFERROR(INDIRECT("'"&$A31&"'!"&AF$1),"")} | AG31: =IFERROR(INDIRECT("'"&$A31&"'!"&$AG$1),"") | AH31: =AF31/C31 -> #VALUE! | AI31: {=IFERROR(INDIRECT("'"&$A31&"'!"&AI$1),"")} -> 0 | AJ31: =IFERROR(INDIRECT("'"&$A31&"'!"&$AJ$1),"") -> 0 | AK31: =AI31/C31 -> #DIV/0! | AL31: {=IFERROR(INDIRECT("'"&$A31&"'!"&AL$1),"")} -> 0 | AM31: =IFERROR(INDIRECT("'"&$A31&"'!"&$AM$1),"") -> 0 | AN31: =AL31/C31 -> #DIV/0! | AO31: {=IFERROR(INDIRECT("'"&$A31&"'!"&AO$1),"")} -> 0 | AP31: =IFERROR(INDIRECT("'"&$A31&"'!"&$AP$1),"") -> 0 | AQ31: =AO31/C31 -> #DIV/0! | AR31: {=IFERROR(INDIRECT("'"&$A31&"'!"&AR$1),"")} -> 0 | AS31: =IFERROR(INDIRECT("'"&$A31&"'!"&$AS$1),"") -> 0 | AT31: =AR31/C31 -> #DIV/0! | AU31: {=IFERROR(INDIRECT("'"&$A31&"'!"&AU$1),"")} -> 0 | AV31: =IFERROR(INDIRECT("'"&$A31&"'!"&$AV$1),"") -> 0 | AW31: =AU31/C31 -> #DIV/0! | AX31: {=IFERROR(INDIRECT("'"&$A31&"'!"&AX$1),"")} -> 0 | AY31: =IFERROR(INDIRECT("'"&$A31&"'!"&$AY$1),"") -> 0 | AZ31: =AX31/C31 -> #DIV/0! | BA31: {=IFERROR(INDIRECT("'"&$A31&"'!"&BA$1),"")} -> 0 | BB31: =IFERROR(INDIRECT("'"&$A31&"'!"&$BB$1),"") -> 0 | BC31: =BA31/C31 -> #DIV/0! | BD31: {=IFERROR(INDIRECT("'"&$A31&"'!"&BD$1),"")} -> 0 | BE31: =IFERROR(INDIRECT("'"&$A31&"'!"&$BE$1),"") -> 0 | BF31: =BD31/C31 -> #DIV/0! | BG31: {=IFERROR(INDIRECT("'"&$A31&"'!"&BG$1),"")} -> 0 | BH31: =IFERROR(INDIRECT("'"&$A31&"'!"&$BH$1),"") -> 0 | BI31: =IFERROR(INDIRECT("'"&$A31&"'!"&$BI$1),"") -> 0 | BJ31: =BG31/C31 -> #DIV/0! | BK31: {=IFERROR(INDIRECT("'"&$A31&"'!"&BK$1),"")} -> 0 | BL31: =IFERROR(INDIRECT("'"&$A31&"'!"&$BL$1),"") -> 0 | BM31: =IFERROR(INDIRECT("'"&$A31&"'!"&$BM$1),"") -> 0 | BN31: =BK31/C31 -> #DIV/0! | BO31: {=IFERROR(INDIRECT("'"&$A31&"'!"&BO$1),"")} -> 0 | BP31: =IFERROR(INDIRECT("'"&$A31&"'!"&$BP$1),"") -> 0 | BQ31: =IFERROR(INDIRECT("'"&$A31&"'!"&$BQ$1),"") -> 0 | BR31: =BO31/C31 -> #DIV/0! | BS31: {=IFERROR(INDIRECT("'"&$A31&"'!"&BS$1),"")} -> 0 | BT31: =IFERROR(INDIRECT("'"&$A31&"'!"&$BT$1),"") -> 0 | BU31: =IFERROR(INDIRECT("'"&$A31&"'!"&$BU$1),"") -> 0 | BV31: =BS31/C31 -> #DIV/0!
A32: 22 | B32: T | E32: {=IFERROR(INDIRECT("'"&$A32&"'!"&E$1),"")} -> 0 | F32: =IFERROR(INDIRECT("'"&$A32&"'!"&$F$1),"") -> 0 | G32: =F32/D32 -> #DIV/0! | H32: {=IFERROR(INDIRECT("'"&$A32&"'!"&H$1),"")} -> 0 | I32: =IFERROR(INDIRECT("'"&$A32&"'!"&$I$1),"") -> 0 | J32: =H32/C32 -> #DIV/0! | K32: {=IFERROR(INDIRECT("'"&$A32&"'!"&K$1),"")} -> 0 | L32: =IFERROR(INDIRECT("'"&$A32&"'!"&$L$1),"") -> 0 | M32: =K32/C32 -> #DIV/0! | N32: {=IFERROR(INDIRECT("'"&$A32&"'!"&N$1),"")} -> 0 | O32: =IFERROR(INDIRECT("'"&$A32&"'!"&$O$1),"") -> 0 | P32: =N32/C32 -> #DIV/0! | Q32: {=IFERROR(INDIRECT("'"&$A32&"'!"&Q$1),"")} -> 0 | R32: =IFERROR(INDIRECT("'"&$A32&"'!"&$R$1),"") -> 0 | S32: =Q32/C32 -> #DIV/0! | T32: {=IFERROR(INDIRECT("'"&$A32&"'!"&T$1),"")} -> 0 | U32: =IFERROR(INDIRECT("'"&$A32&"'!"&$U$1),"") -> 0 | V32: =T32/C32 -> #DIV/0! | W32: {=IFERROR(INDIRECT("'"&$A32&"'!"&W$1),"")} | X32: =IFERROR(INDIRECT("'"&$A32&"'!"&$X$1),"") | Y32: =W32/C32 -> #VALUE! | Z32: {=IFERROR(INDIRECT("'"&$A32&"'!"&Z$1),"")} | AA32: =IFERROR(INDIRECT("'"&$A32&"'!"&$AA$1),"") | AB32: =Z32/C32 -> #VALUE! | AC32: {=IFERROR(INDIRECT("'"&$A32&"'!"&AC$1),"")} | AD32: =IFERROR(INDIRECT("'"&$A32&"'!"&$AD$1),"") | AE32: =AC32/C32 -> #VALUE! | AF32: {=IFERROR(INDIRECT("'"&$A32&"'!"&AF$1),"")} | AG32: =IFERROR(INDIRECT("'"&$A32&"'!"&$AG$1),"") | AH32: =AF32/C32 -> #VALUE! | AI32: {=IFERROR(INDIRECT("'"&$A32&"'!"&AI$1),"")} -> 0 | AJ32: =IFERROR(INDIRECT("'"&$A32&"'!"&$AJ$1),"") -> 0 | AK32: =AI32/C32 -> #DIV/0! | AL32: {=IFERROR(INDIRECT("'"&$A32&"'!"&AL$1),"")} -> 0 | AM32: =IFERROR(INDIRECT("'"&$A32&"'!"&$AM$1),"") -> 0 | AN32: =AL32/C32 -> #DIV/0! | AO32: {=IFERROR(INDIRECT("'"&$A32&"'!"&AO$1),"")} -> 0 | AP32: =IFERROR(INDIRECT("'"&$A32&"'!"&$AP$1),"") -> 0 | AQ32: =AO32/C32 -> #DIV/0! | AR32: {=IFERROR(INDIRECT("'"&$A32&"'!"&AR$1),"")} -> 0 | AS32: =IFERROR(INDIRECT("'"&$A32&"'!"&$AS$1),"") -> 0 | AT32: =AR32/C32 -> #DIV/0! | AU32: {=IFERROR(INDIRECT("'"&$A32&"'!"&AU$1),"")} -> 0 | AV32: =IFERROR(INDIRECT("'"&$A32&"'!"&$AV$1),"") -> 0 | AW32: =AU32/C32 -> #DIV/0! | AX32: {=IFERROR(INDIRECT("'"&$A32&"'!"&AX$1),"")} -> 0 | AY32: =IFERROR(INDIRECT("'"&$A32&"'!"&$AY$1),"") -> 0 | AZ32: =AX32/C32 -> #DIV/0! | BA32: {=IFERROR(INDIRECT("'"&$A32&"'!"&BA$1),"")} -> 0 | BB32: =IFERROR(INDIRECT("'"&$A32&"'!"&$BB$1),"") -> 0 | BC32: =BA32/C32 -> #DIV/0! | BD32: {=IFERROR(INDIRECT("'"&$A32&"'!"&BD$1),"")} -> 0 | BE32: =IFERROR(INDIRECT("'"&$A32&"'!"&$BE$1),"") -> 0 | BF32: =BD32/C32 -> #DIV/0! | BG32: {=IFERROR(INDIRECT("'"&$A32&"'!"&BG$1),"")} -> 0 | BH32: =IFERROR(INDIRECT("'"&$A32&"'!"&$BH$1),"") -> 0 | BI32: =IFERROR(INDIRECT("'"&$A32&"'!"&$BI$1),"") -> 0 | BJ32: =BG32/C32 -> #DIV/0! | BK32: {=IFERROR(INDIRECT("'"&$A32&"'!"&BK$1),"")} -> 0 | BL32: =IFERROR(INDIRECT("'"&$A32&"'!"&$BL$1),"") -> 0 | BM32: =IFERROR(INDIRECT("'"&$A32&"'!"&$BM$1),"") -> 0 | BN32: =BK32/C32 -> #DIV/0! | BO32: {=IFERROR(INDIRECT("'"&$A32&"'!"&BO$1),"")} -> 0 | BP32: =IFERROR(INDIRECT("'"&$A32&"'!"&$BP$1),"") -> 0 | BQ32: =IFERROR(INDIRECT("'"&$A32&"'!"&$BQ$1),"") -> 0 | BR32: =BO32/C32 -> #DIV/0! | BS32: {=IFERROR(INDIRECT("'"&$A32&"'!"&BS$1),"")} -> 0 | BT32: =IFERROR(INDIRECT("'"&$A32&"'!"&$BT$1),"") -> 0 | BU32: =IFERROR(INDIRECT("'"&$A32&"'!"&$BU$1),"") -> 0 | BV32: =BS32/C32 -> #DIV/0!
A33: 23 | B33: F | E33: {=IFERROR(INDIRECT("'"&$A33&"'!"&E$1),"")} -> 0 | F33: =IFERROR(INDIRECT("'"&$A33&"'!"&$F$1),"") -> 0 | G33: =F33/D33 -> #DIV/0! | H33: {=IFERROR(INDIRECT("'"&$A33&"'!"&H$1),"")} -> 0 | I33: =IFERROR(INDIRECT("'"&$A33&"'!"&$I$1),"") -> 0 | J33: =H33/C33 -> #DIV/0! | K33: {=IFERROR(INDIRECT("'"&$A33&"'!"&K$1),"")} -> 0 | L33: =IFERROR(INDIRECT("'"&$A33&"'!"&$L$1),"") -> 0 | M33: =K33/C33 -> #DIV/0! | N33: {=IFERROR(INDIRECT("'"&$A33&"'!"&N$1),"")} -> 0 | O33: =IFERROR(INDIRECT("'"&$A33&"'!"&$O$1),"") -> 0 | P33: =N33/C33 -> #DIV/0! | Q33: {=IFERROR(INDIRECT("'"&$A33&"'!"&Q$1),"")} -> 0 | R33: =IFERROR(INDIRECT("'"&$A33&"'!"&$R$1),"") -> 0 | S33: =Q33/C33 -> #DIV/0! | T33: {=IFERROR(INDIRECT("'"&$A33&"'!"&T$1),"")} -> 0 | U33: =IFERROR(INDIRECT("'"&$A33&"'!"&$U$1),"") -> 0 | V33: =T33/C33 -> #DIV/0! | W33: {=IFERROR(INDIRECT("'"&$A33&"'!"&W$1),"")} | X33: =IFERROR(INDIRECT("'"&$A33&"'!"&$X$1),"") | Y33: =W33/C33 -> #VALUE! | Z33: {=IFERROR(INDIRECT("'"&$A33&"'!"&Z$1),"")} | AA33: =IFERROR(INDIRECT("'"&$A33&"'!"&$AA$1),"") | AB33: =Z33/C33 -> #VALUE! | AC33: {=IFERROR(INDIRECT("'"&$A33&"'!"&AC$1),"")} | AD33: =IFERROR(INDIRECT("'"&$A33&"'!"&$AD$1),"") | AE33: =AC33/C33 -> #VALUE! | AF33: {=IFERROR(INDIRECT("'"&$A33&"'!"&AF$1),"")} | AG33: =IFERROR(INDIRECT("'"&$A33&"'!"&$AG$1),"") | AH33: =AF33/C33 -> #VALUE! | AI33: {=IFERROR(INDIRECT("'"&$A33&"'!"&AI$1),"")} -> 0 | AJ33: =IFERROR(INDIRECT("'"&$A33&"'!"&$AJ$1),"") -> 0 | AK33: =AI33/C33 -> #DIV/0! | AL33: {=IFERROR(INDIRECT("'"&$A33&"'!"&AL$1),"")} -> 0 | AM33: =IFERROR(INDIRECT("'"&$A33&"'!"&$AM$1),"") -> 0 | AN33: =AL33/C33 -> #DIV/0! | AO33: {=IFERROR(INDIRECT("'"&$A33&"'!"&AO$1),"")} -> 0 | AP33: =IFERROR(INDIRECT("'"&$A33&"'!"&$AP$1),"") -> 0 | AQ33: =AO33/C33 -> #DIV/0! | AR33: {=IFERROR(INDIRECT("'"&$A33&"'!"&AR$1),"")} -> 0 | AS33: =IFERROR(INDIRECT("'"&$A33&"'!"&$AS$1),"") -> 0 | AT33: =AR33/C33 -> #DIV/0! | AU33: {=IFERROR(INDIRECT("'"&$A33&"'!"&AU$1),"")} -> 0 | AV33: =IFERROR(INDIRECT("'"&$A33&"'!"&$AV$1),"") -> 0 | AW33: =AU33/C33 -> #DIV/0! | AX33: {=IFERROR(INDIRECT("'"&$A33&"'!"&AX$1),"")} -> 0 | AY33: =IFERROR(INDIRECT("'"&$A33&"'!"&$AY$1),"") -> 0 | AZ33: =AX33/C33 -> #DIV/0! | BA33: {=IFERROR(INDIRECT("'"&$A33&"'!"&BA$1),"")} -> 0 | BB33: =IFERROR(INDIRECT("'"&$A33&"'!"&$BB$1),"") -> 0 | BC33: =BA33/C33 -> #DIV/0! | BD33: {=IFERROR(INDIRECT("'"&$A33&"'!"&BD$1),"")} -> 0 | BE33: =IFERROR(INDIRECT("'"&$A33&"'!"&$BE$1),"") -> 0 | BF33: =BD33/C33 -> #DIV/0! | BG33: {=IFERROR(INDIRECT("'"&$A33&"'!"&BG$1),"")} -> 0 | BH33: =IFERROR(INDIRECT("'"&$A33&"'!"&$BH$1),"") -> 0 | BI33: =IFERROR(INDIRECT("'"&$A33&"'!"&$BI$1),"") -> 0 | BJ33: =BG33/C33 -> #DIV/0! | BK33: {=IFERROR(INDIRECT("'"&$A33&"'!"&BK$1),"")} -> 0 | BL33: =IFERROR(INDIRECT("'"&$A33&"'!"&$BL$1),"") -> 0 | BM33: =IFERROR(INDIRECT("'"&$A33&"'!"&$BM$1),"") -> 0 | BN33: =BK33/C33 -> #DIV/0! | BO33: {=IFERROR(INDIRECT("'"&$A33&"'!"&BO$1),"")} -> 0 | BP33: =IFERROR(INDIRECT("'"&$A33&"'!"&$BP$1),"") -> 0 | BQ33: =IFERROR(INDIRECT("'"&$A33&"'!"&$BQ$1),"") -> 0 | BR33: =BO33/C33 -> #DIV/0! | BS33: {=IFERROR(INDIRECT("'"&$A33&"'!"&BS$1),"")} -> 0 | BT33: =IFERROR(INDIRECT("'"&$A33&"'!"&$BT$1),"") -> 0 | BU33: =IFERROR(INDIRECT("'"&$A33&"'!"&$BU$1),"") -> 0 | BV33: =BS33/C33 -> #DIV/0!
A34: 24 | B34: S | E34: {=IFERROR(INDIRECT("'"&$A34&"'!"&E$1),"")} -> 0 | F34: =IFERROR(INDIRECT("'"&$A34&"'!"&$F$1),"") -> 0 | G34: =F34/D34 -> #DIV/0! | H34: {=IFERROR(INDIRECT("'"&$A34&"'!"&H$1),"")} -> 0 | I34: =IFERROR(INDIRECT("'"&$A34&"'!"&$I$1),"") -> 0 | J34: =H34/C34 -> #DIV/0! | K34: {=IFERROR(INDIRECT("'"&$A34&"'!"&K$1),"")} -> 0 | L34: =IFERROR(INDIRECT("'"&$A34&"'!"&$L$1),"") -> 0 | M34: =K34/C34 -> #DIV/0! | N34: {=IFERROR(INDIRECT("'"&$A34&"'!"&N$1),"")} -> 0 | O34: =IFERROR(INDIRECT("'"&$A34&"'!"&$O$1),"") -> 0 | P34: =N34/C34 -> #DIV/0! | Q34: {=IFERROR(INDIRECT("'"&$A34&"'!"&Q$1),"")} -> 0 | R34: =IFERROR(INDIRECT("'"&$A34&"'!"&$R$1),"") -> 0 | S34: =Q34/C34 -> #DIV/0! | T34: {=IFERROR(INDIRECT("'"&$A34&"'!"&T$1),"")} -> 0 | U34: =IFERROR(INDIRECT("'"&$A34&"'!"&$U$1),"") -> 0 | V34: =T34/C34 -> #DIV/0! | W34: {=IFERROR(INDIRECT("'"&$A34&"'!"&W$1),"")} | X34: =IFERROR(INDIRECT("'"&$A34&"'!"&$X$1),"") | Y34: =W34/C34 -> #VALUE! | Z34: {=IFERROR(INDIRECT("'"&$A34&"'!"&Z$1),"")} | AA34: =IFERROR(INDIRECT("'"&$A34&"'!"&$AA$1),"") | AB34: =Z34/C34 -> #VALUE! | AC34: {=IFERROR(INDIRECT("'"&$A34&"'!"&AC$1),"")} | AD34: =IFERROR(INDIRECT("'"&$A34&"'!"&$AD$1),"") | AE34: =AC34/C34 -> #VALUE! | AF34: {=IFERROR(INDIRECT("'"&$A34&"'!"&AF$1),"")} | AG34: =IFERROR(INDIRECT("'"&$A34&"'!"&$AG$1),"") | AH34: =AF34/C34 -> #VALUE! | AI34: {=IFERROR(INDIRECT("'"&$A34&"'!"&AI$1),"")} -> 0 | AJ34: =IFERROR(INDIRECT("'"&$A34&"'!"&$AJ$1),"") -> 0 | AK34: =AI34/C34 -> #DIV/0! | AL34: {=IFERROR(INDIRECT("'"&$A34&"'!"&AL$1),"")} -> 0 | AM34: =IFERROR(INDIRECT("'"&$A34&"'!"&$AM$1),"") -> 0 | AN34: =AL34/C34 -> #DIV/0! | AO34: {=IFERROR(INDIRECT("'"&$A34&"'!"&AO$1),"")} -> 0 | AP34: =IFERROR(INDIRECT("'"&$A34&"'!"&$AP$1),"") -> 0 | AQ34: =AO34/C34 -> #DIV/0! | AR34: {=IFERROR(INDIRECT("'"&$A34&"'!"&AR$1),"")} -> 0 | AS34: =IFERROR(INDIRECT("'"&$A34&"'!"&$AS$1),"") -> 0 | AT34: =AR34/C34 -> #DIV/0! | AU34: {=IFERROR(INDIRECT("'"&$A34&"'!"&AU$1),"")} -> 0 | AV34: =IFERROR(INDIRECT("'"&$A34&"'!"&$AV$1),"") -> 0 | AW34: =AU34/C34 -> #DIV/0! | AX34: {=IFERROR(INDIRECT("'"&$A34&"'!"&AX$1),"")} -> 0 | AY34: =IFERROR(INDIRECT("'"&$A34&"'!"&$AY$1),"") -> 0 | AZ34: =AX34/C34 -> #DIV/0! | BA34: {=IFERROR(INDIRECT("'"&$A34&"'!"&BA$1),"")} -> 0 | BB34: =IFERROR(INDIRECT("'"&$A34&"'!"&$BB$1),"") -> 0 | BC34: =BA34/C34 -> #DIV/0! | BD34: {=IFERROR(INDIRECT("'"&$A34&"'!"&BD$1),"")} -> 0 | BE34: =IFERROR(INDIRECT("'"&$A34&"'!"&$BE$1),"") -> 0 | BF34: =BD34/C34 -> #DIV/0! | BG34: {=IFERROR(INDIRECT("'"&$A34&"'!"&BG$1),"")} -> 0 | BH34: =IFERROR(INDIRECT("'"&$A34&"'!"&$BH$1),"") -> 0 | BI34: =IFERROR(INDIRECT("'"&$A34&"'!"&$BI$1),"") -> 0 | BJ34: =BG34/C34 -> #DIV/0! | BK34: {=IFERROR(INDIRECT("'"&$A34&"'!"&BK$1),"")} -> 0 | BL34: =IFERROR(INDIRECT("'"&$A34&"'!"&$BL$1),"") -> 0 | BM34: =IFERROR(INDIRECT("'"&$A34&"'!"&$BM$1),"") -> 0 | BN34: =BK34/C34 -> #DIV/0! | BO34: {=IFERROR(INDIRECT("'"&$A34&"'!"&BO$1),"")} -> 0 | BP34: =IFERROR(INDIRECT("'"&$A34&"'!"&$BP$1),"") -> 0 | BQ34: =IFERROR(INDIRECT("'"&$A34&"'!"&$BQ$1),"") -> 0 | BR34: =BO34/C34 -> #DIV/0! | BS34: {=IFERROR(INDIRECT("'"&$A34&"'!"&BS$1),"")} -> 0 | BT34: =IFERROR(INDIRECT("'"&$A34&"'!"&$BT$1),"") -> 0 | BU34: =IFERROR(INDIRECT("'"&$A34&"'!"&$BU$1),"") -> 0 | BV34: =BS34/C34 -> #DIV/0!
A35: 25 | B35: S | E35: {=IFERROR(INDIRECT("'"&$A35&"'!"&E$1),"")} -> 0 | F35: =IFERROR(INDIRECT("'"&$A35&"'!"&$F$1),"") -> 0 | G35: =F35/D35 -> #DIV/0! | H35: {=IFERROR(INDIRECT("'"&$A35&"'!"&H$1),"")} -> 0 | I35: =IFERROR(INDIRECT("'"&$A35&"'!"&$I$1),"") -> 0 | J35: =H35/C35 -> #DIV/0! | K35: {=IFERROR(INDIRECT("'"&$A35&"'!"&K$1),"")} -> 0 | L35: =IFERROR(INDIRECT("'"&$A35&"'!"&$L$1),"") -> 0 | M35: =K35/C35 -> #DIV/0! | N35: {=IFERROR(INDIRECT("'"&$A35&"'!"&N$1),"")} -> 0 | O35: =IFERROR(INDIRECT("'"&$A35&"'!"&$O$1),"") -> 0 | P35: =N35/C35 -> #DIV/0! | Q35: {=IFERROR(INDIRECT("'"&$A35&"'!"&Q$1),"")} -> 0 | R35: =IFERROR(INDIRECT("'"&$A35&"'!"&$R$1),"") -> 0 | S35: =Q35/C35 -> #DIV/0! | T35: {=IFERROR(INDIRECT("'"&$A35&"'!"&T$1),"")} -> 0 | U35: =IFERROR(INDIRECT("'"&$A35&"'!"&$U$1),"") -> 0 | V35: =T35/C35 -> #DIV/0! | W35: {=IFERROR(INDIRECT("'"&$A35&"'!"&W$1),"")} | X35: =IFERROR(INDIRECT("'"&$A35&"'!"&$X$1),"") | Y35: =W35/C35 -> #VALUE! | Z35: {=IFERROR(INDIRECT("'"&$A35&"'!"&Z$1),"")} | AA35: =IFERROR(INDIRECT("'"&$A35&"'!"&$AA$1),"") | AB35: =Z35/C35 -> #VALUE! | AC35: {=IFERROR(INDIRECT("'"&$A35&"'!"&AC$1),"")} | AD35: =IFERROR(INDIRECT("'"&$A35&"'!"&$AD$1),"") | AE35: =AC35/C35 -> #VALUE! | AF35: {=IFERROR(INDIRECT("'"&$A35&"'!"&AF$1),"")} | AG35: =IFERROR(INDIRECT("'"&$A35&"'!"&$AG$1),"") | AH35: =AF35/C35 -> #VALUE! | AI35: {=IFERROR(INDIRECT("'"&$A35&"'!"&AI$1),"")} -> 0 | AJ35: =IFERROR(INDIRECT("'"&$A35&"'!"&$AJ$1),"") -> 0 | AK35: =AI35/C35 -> #DIV/0! | AL35: {=IFERROR(INDIRECT("'"&$A35&"'!"&AL$1),"")} -> 0 | AM35: =IFERROR(INDIRECT("'"&$A35&"'!"&$AM$1),"") -> 0 | AN35: =AL35/C35 -> #DIV/0! | AO35: {=IFERROR(INDIRECT("'"&$A35&"'!"&AO$1),"")} -> 0 | AP35: =IFERROR(INDIRECT("'"&$A35&"'!"&$AP$1),"") -> 0 | AQ35: =AO35/C35 -> #DIV/0! | AR35: {=IFERROR(INDIRECT("'"&$A35&"'!"&AR$1),"")} -> 0 | AS35: =IFERROR(INDIRECT("'"&$A35&"'!"&$AS$1),"") -> 0 | AT35: =AR35/C35 -> #DIV/0! | AU35: {=IFERROR(INDIRECT("'"&$A35&"'!"&AU$1),"")} -> 0 | AV35: =IFERROR(INDIRECT("'"&$A35&"'!"&$AV$1),"") -> 0 | AW35: =AU35/C35 -> #DIV/0! | AX35: {=IFERROR(INDIRECT("'"&$A35&"'!"&AX$1),"")} -> 0 | AY35: =IFERROR(INDIRECT("'"&$A35&"'!"&$AY$1),"") -> 0 | AZ35: =AX35/C35 -> #DIV/0! | BA35: {=IFERROR(INDIRECT("'"&$A35&"'!"&BA$1),"")} -> 0 | BB35: =IFERROR(INDIRECT("'"&$A35&"'!"&$BB$1),"") -> 0 | BC35: =BA35/C35 -> #DIV/0! | BD35: {=IFERROR(INDIRECT("'"&$A35&"'!"&BD$1),"")} -> 0 | BE35: =IFERROR(INDIRECT("'"&$A35&"'!"&$BE$1),"") -> 0 | BF35: =BD35/C35 -> #DIV/0! | BG35: {=IFERROR(INDIRECT("'"&$A35&"'!"&BG$1),"")} -> 0 | BH35: =IFERROR(INDIRECT("'"&$A35&"'!"&$BH$1),"") -> 0 | BI35: =IFERROR(INDIRECT("'"&$A35&"'!"&$BI$1),"") -> 0 | BJ35: =BG35/C35 -> #DIV/0! | BK35: {=IFERROR(INDIRECT("'"&$A35&"'!"&BK$1),"")} -> 0 | BL35: =IFERROR(INDIRECT("'"&$A35&"'!"&$BL$1),"") -> 0 | BM35: =IFERROR(INDIRECT("'"&$A35&"'!"&$BM$1),"") -> 0 | BN35: =BK35/C35 -> #DIV/0! | BO35: {=IFERROR(INDIRECT("'"&$A35&"'!"&BO$1),"")} -> 0 | BP35: =IFERROR(INDIRECT("'"&$A35&"'!"&$BP$1),"") -> 0 | BQ35: =IFERROR(INDIRECT("'"&$A35&"'!"&$BQ$1),"") -> 0 | BR35: =BO35/C35 -> #DIV/0! | BS35: {=IFERROR(INDIRECT("'"&$A35&"'!"&BS$1),"")} -> 0 | BT35: =IFERROR(INDIRECT("'"&$A35&"'!"&$BT$1),"") -> 0 | BU35: =IFERROR(INDIRECT("'"&$A35&"'!"&$BU$1),"") -> 0 | BV35: =BS35/C35 -> #DIV/0!
A36: Weekly | C36: =SUM(C29:C35) -> 0 | D36: =SUM(D29:D35) -> 0 | E36: =SUM(E29:E35) -> 0 | F36: =SUM(F29:F35) -> 0 | G36: =F36/D36 -> #DIV/0! | H36: =SUM(H29:H35) -> 0 | I36: =SUM(I29:I35) -> 0 | J36: =H36/C36 -> #DIV/0! | K36: =SUM(K29:K35) -> 0 | L36: =SUM(L29:L35) -> 0 | M36: =K36/C36 -> #DIV/0! | N36: =SUM(N29:N35) -> 0 | O36: =SUM(O29:O35) -> 0 | P36: =N36/C36 -> #DIV/0! | Q36: =SUM(Q29:Q35) -> 0 | R36: =SUM(R29:R35) -> 0 | S36: =Q36/C36 -> #DIV/0! | T36: =SUM(T29:T35) -> 0 | U36: =SUM(U29:U35) -> 0 | V36: =T36/C36 -> #DIV/0! | W36: =SUM(W29:W35) -> 0 | X36: =SUM(X29:X35) -> 0 | Y36: =W36/C36 -> #DIV/0! | Z36: =SUM(Z29:Z35) -> 0 | AA36: =SUM(AA29:AA35) -> 0 | AB36: =Z36/C36 -> #DIV/0! | AC36: =SUM(AC29:AC35) -> 0 | AD36: =SUM(AD29:AD35) -> 0 | AE36: =AC36/C36 -> #DIV/0! | AF36: =SUM(AF29:AF35) -> 0 | AG36: =SUM(AG29:AG35) -> 0 | AH36: =AF36/C36 -> #DIV/0! | AI36: =SUM(AI29:AI35) -> 0 | AJ36: =SUM(AJ29:AJ35) -> 0 | AK36: =AI36/C36 -> #DIV/0! | AL36: =SUM(AL29:AL35) -> 0 | AM36: =SUM(AM29:AM35) -> 0 | AN36: =AL36/C36 -> #DIV/0! | AO36: =SUM(AO29:AO35) -> 0 | AP36: =SUM(AP29:AP35) -> 0 | AQ36: =AO36/C36 -> #DIV/0! | AR36: =SUM(AR29:AR35) -> 0 | AS36: =SUM(AS29:AS35) -> 0 | AT36: =AR36/C36 -> #DIV/0! | AU36: =SUM(AU29:AU35) -> 0 | AV36: =SUM(AV29:AV35) -> 0 | AW36: =AU36/C36 -> #DIV/0! | AX36: =SUM(AX29:AX35) -> 0 | AY36: =SUM(AY29:AY35) -> 0 | AZ36: =AX36/C36 -> #DIV/0! | BA36: =SUM(BA29:BA35) -> 0 | BB36: =SUM(BB29:BB35) -> 0 | BC36: =BA36/C36 -> #DIV/0! | BD36: =SUM(BD29:BD35) -> 0 | BE36: =SUM(BE29:BE35) -> 0 | BF36: =BD36/C36 -> #DIV/0! | BG36: =SUM(BG29:BG35) -> 0 | BH36: =SUM(BH29:BH35) -> 0 | BI36: =SUM(BI29:BI35) -> 0 | BJ36: =BG36/C36 -> #DIV/0! | BK36: =SUM(BK29:BK35) -> 0 | BL36: =SUM(BL29:BL35) -> 0 | BM36: =SUM(BM29:BM35) -> 0 | BN36: =BK36/C36 -> #DIV/0! | BO36: =SUM(BO29:BO35) -> 0 | BP36: =SUM(BP29:BP35) -> 0 | BQ36: =SUM(BQ29:BQ35) -> 0 | BR36: =BO36/C36 -> #DIV/0! | BS36: =SUM(BS29:BS35) -> 0 | BT36: =SUM(BT29:BT35) -> 0 | BU36: =SUM(BU29:BU35) -> 0 | BV36: =BS36/C36 -> #DIV/0!
A37: 26 | B37: M | E37: {=IFERROR(INDIRECT("'"&$A37&"'!"&E$1),"")} -> 0 | F37: =IFERROR(INDIRECT("'"&$A37&"'!"&$F$1),"") -> 0 | G37: =F37/D37 -> #DIV/0! | H37: {=IFERROR(INDIRECT("'"&$A37&"'!"&H$1),"")} -> 0 | I37: =IFERROR(INDIRECT("'"&$A37&"'!"&$I$1),"") -> 0 | J37: =H37/C37 -> #DIV/0! | K37: {=IFERROR(INDIRECT("'"&$A37&"'!"&K$1),"")} -> 0 | L37: =IFERROR(INDIRECT("'"&$A37&"'!"&$L$1),"") -> 0 | M37: =K37/C37 -> #DIV/0! | N37: {=IFERROR(INDIRECT("'"&$A37&"'!"&N$1),"")} -> 0 | O37: =IFERROR(INDIRECT("'"&$A37&"'!"&$O$1),"") -> 0 | P37: =N37/C37 -> #DIV/0! | Q37: {=IFERROR(INDIRECT("'"&$A37&"'!"&Q$1),"")} -> 0 | R37: =IFERROR(INDIRECT("'"&$A37&"'!"&$R$1),"") -> 0 | S37: =Q37/C37 -> #DIV/0! | T37: {=IFERROR(INDIRECT("'"&$A37&"'!"&T$1),"")} -> 0 | U37: =IFERROR(INDIRECT("'"&$A37&"'!"&$U$1),"") -> 0 | V37: =T37/C37 -> #DIV/0! | W37: {=IFERROR(INDIRECT("'"&$A37&"'!"&W$1),"")} | X37: =IFERROR(INDIRECT("'"&$A37&"'!"&$X$1),"") | Y37: =W37/C37 -> #VALUE! | Z37: {=IFERROR(INDIRECT("'"&$A37&"'!"&Z$1),"")} | AA37: =IFERROR(INDIRECT("'"&$A37&"'!"&$AA$1),"") | AB37: =Z37/C37 -> #VALUE! | AC37: {=IFERROR(INDIRECT("'"&$A37&"'!"&AC$1),"")} | AD37: =IFERROR(INDIRECT("'"&$A37&"'!"&$AD$1),"") | AE37: =AC37/C37 -> #VALUE! | AF37: {=IFERROR(INDIRECT("'"&$A37&"'!"&AF$1),"")} | AG37: =IFERROR(INDIRECT("'"&$A37&"'!"&$AG$1),"") | AH37: =AF37/C37 -> #VALUE! | AI37: {=IFERROR(INDIRECT("'"&$A37&"'!"&AI$1),"")} -> 0 | AJ37: =IFERROR(INDIRECT("'"&$A37&"'!"&$AJ$1),"") -> 0 | AK37: =AI37/C37 -> #DIV/0! | AL37: {=IFERROR(INDIRECT("'"&$A37&"'!"&AL$1),"")} -> 0 | AM37: =IFERROR(INDIRECT("'"&$A37&"'!"&$AM$1),"") -> 0 | AN37: =AL37/C37 -> #DIV/0! | AO37: {=IFERROR(INDIRECT("'"&$A37&"'!"&AO$1),"")} -> 0 | AP37: =IFERROR(INDIRECT("'"&$A37&"'!"&$AP$1),"") -> 0 | AQ37: =AO37/C37 -> #DIV/0! | AR37: {=IFERROR(INDIRECT("'"&$A37&"'!"&AR$1),"")} -> 0 | AS37: =IFERROR(INDIRECT("'"&$A37&"'!"&$AS$1),"") -> 0 | AT37: =AR37/C37 -> #DIV/0! | AU37: {=IFERROR(INDIRECT("'"&$A37&"'!"&AU$1),"")} -> 0 | AV37: =IFERROR(INDIRECT("'"&$A37&"'!"&$AV$1),"") -> 0 | AW37: =AU37/C37 -> #DIV/0! | AX37: {=IFERROR(INDIRECT("'"&$A37&"'!"&AX$1),"")} -> 0 | AY37: =IFERROR(INDIRECT("'"&$A37&"'!"&$AY$1),"") -> 0 | AZ37: =AX37/C37 -> #DIV/0! | BA37: {=IFERROR(INDIRECT("'"&$A37&"'!"&BA$1),"")} -> 0 | BB37: =IFERROR(INDIRECT("'"&$A37&"'!"&$BB$1),"") -> 0 | BC37: =BA37/C37 -> #DIV/0! | BD37: {=IFERROR(INDIRECT("'"&$A37&"'!"&BD$1),"")} -> 0 | BE37: =IFERROR(INDIRECT("'"&$A37&"'!"&$BE$1),"") -> 0 | BF37: =BD37/C37 -> #DIV/0! | BG37: {=IFERROR(INDIRECT("'"&$A37&"'!"&BG$1),"")} -> 0 | BH37: =IFERROR(INDIRECT("'"&$A37&"'!"&$BH$1),"") -> 0 | BI37: =IFERROR(INDIRECT("'"&$A37&"'!"&$BI$1),"") -> 0 | BJ37: =BG37/C37 -> #DIV/0! | BK37: {=IFERROR(INDIRECT("'"&$A37&"'!"&BK$1),"")} -> 0 | BL37: =IFERROR(INDIRECT("'"&$A37&"'!"&$BL$1),"") -> 0 | BM37: =IFERROR(INDIRECT("'"&$A37&"'!"&$BM$1),"") -> 0 | BN37: =BK37/C37 -> #DIV/0! | BO37: {=IFERROR(INDIRECT("'"&$A37&"'!"&BO$1),"")} -> 0 | BP37: =IFERROR(INDIRECT("'"&$A37&"'!"&$BP$1),"") -> 0 | BQ37: =IFERROR(INDIRECT("'"&$A37&"'!"&$BQ$1),"") -> 0 | BR37: =BO37/C37 -> #DIV/0! | BS37: {=IFERROR(INDIRECT("'"&$A37&"'!"&BS$1),"")} -> 0 | BT37: =IFERROR(INDIRECT("'"&$A37&"'!"&$BT$1),"") -> 0 | BU37: =IFERROR(INDIRECT("'"&$A37&"'!"&$BU$1),"") -> 0 | BV37: =BS37/C37 -> #DIV/0!
A38: 27 | B38: T | E38: {=IFERROR(INDIRECT("'"&$A38&"'!"&E$1),"")} -> 0 | F38: =IFERROR(INDIRECT("'"&$A38&"'!"&$F$1),"") -> 0 | G38: =F38/D38 -> #DIV/0! | H38: {=IFERROR(INDIRECT("'"&$A38&"'!"&H$1),"")} -> 0 | I38: =IFERROR(INDIRECT("'"&$A38&"'!"&$I$1),"") -> 0 | J38: =H38/C38 -> #DIV/0! | K38: {=IFERROR(INDIRECT("'"&$A38&"'!"&K$1),"")} -> 0 | L38: =IFERROR(INDIRECT("'"&$A38&"'!"&$L$1),"") -> 0 | M38: =K38/C38 -> #DIV/0! | N38: {=IFERROR(INDIRECT("'"&$A38&"'!"&N$1),"")} -> 0 | O38: =IFERROR(INDIRECT("'"&$A38&"'!"&$O$1),"") -> 0 | P38: =N38/C38 -> #DIV/0! | Q38: {=IFERROR(INDIRECT("'"&$A38&"'!"&Q$1),"")} -> 0 | R38: =IFERROR(INDIRECT("'"&$A38&"'!"&$R$1),"") -> 0 | S38: =Q38/C38 -> #DIV/0! | T38: {=IFERROR(INDIRECT("'"&$A38&"'!"&T$1),"")} -> 0 | U38: =IFERROR(INDIRECT("'"&$A38&"'!"&$U$1),"") -> 0 | V38: =T38/C38 -> #DIV/0! | W38: {=IFERROR(INDIRECT("'"&$A38&"'!"&W$1),"")} | X38: =IFERROR(INDIRECT("'"&$A38&"'!"&$X$1),"") | Y38: =W38/C38 -> #VALUE! | Z38: {=IFERROR(INDIRECT("'"&$A38&"'!"&Z$1),"")} | AA38: =IFERROR(INDIRECT("'"&$A38&"'!"&$AA$1),"") | AB38: =Z38/C38 -> #VALUE! | AC38: {=IFERROR(INDIRECT("'"&$A38&"'!"&AC$1),"")} | AD38: =IFERROR(INDIRECT("'"&$A38&"'!"&$AD$1),"") | AE38: =AC38/C38 -> #VALUE! | AF38: {=IFERROR(INDIRECT("'"&$A38&"'!"&AF$1),"")} | AG38: =IFERROR(INDIRECT("'"&$A38&"'!"&$AG$1),"") | AH38: =AF38/C38 -> #VALUE! | AI38: {=IFERROR(INDIRECT("'"&$A38&"'!"&AI$1),"")} -> 0 | AJ38: =IFERROR(INDIRECT("'"&$A38&"'!"&$AJ$1),"") -> 0 | AK38: =AI38/C38 -> #DIV/0! | AL38: {=IFERROR(INDIRECT("'"&$A38&"'!"&AL$1),"")} -> 0 | AM38: =IFERROR(INDIRECT("'"&$A38&"'!"&$AM$1),"") -> 0 | AN38: =AL38/C38 -> #DIV/0! | AO38: {=IFERROR(INDIRECT("'"&$A38&"'!"&AO$1),"")} -> 0 | AP38: =IFERROR(INDIRECT("'"&$A38&"'!"&$AP$1),"") -> 0 | AQ38: =AO38/C38 -> #DIV/0! | AR38: {=IFERROR(INDIRECT("'"&$A38&"'!"&AR$1),"")} -> 0 | AS38: =IFERROR(INDIRECT("'"&$A38&"'!"&$AS$1),"") -> 0 | AT38: =AR38/C38 -> #DIV/0! | AU38: {=IFERROR(INDIRECT("'"&$A38&"'!"&AU$1),"")} -> 0 | AV38: =IFERROR(INDIRECT("'"&$A38&"'!"&$AV$1),"") -> 0 | AW38: =AU38/C38 -> #DIV/0! | AX38: {=IFERROR(INDIRECT("'"&$A38&"'!"&AX$1),"")} -> 0 | AY38: =IFERROR(INDIRECT("'"&$A38&"'!"&$AY$1),"") -> 0 | AZ38: =AX38/C38 -> #DIV/0! | BA38: {=IFERROR(INDIRECT("'"&$A38&"'!"&BA$1),"")} -> 0 | BB38: =IFERROR(INDIRECT("'"&$A38&"'!"&$BB$1),"") -> 0 | BC38: =BA38/C38 -> #DIV/0! | BD38: {=IFERROR(INDIRECT("'"&$A38&"'!"&BD$1),"")} -> 0 | BE38: =IFERROR(INDIRECT("'"&$A38&"'!"&$BE$1),"") -> 0 | BF38: =BD38/C38 -> #DIV/0! | BG38: {=IFERROR(INDIRECT("'"&$A38&"'!"&BG$1),"")} -> 0 | BH38: =IFERROR(INDIRECT("'"&$A38&"'!"&$BH$1),"") -> 0 | BI38: =IFERROR(INDIRECT("'"&$A38&"'!"&$BI$1),"") -> 0 | BJ38: =BG38/C38 -> #DIV/0! | BK38: {=IFERROR(INDIRECT("'"&$A38&"'!"&BK$1),"")} -> 0 | BL38: =IFERROR(INDIRECT("'"&$A38&"'!"&$BL$1),"") -> 0 | BM38: =IFERROR(INDIRECT("'"&$A38&"'!"&$BM$1),"") -> 0 | BN38: =BK38/C38 -> #DIV/0! | BO38: {=IFERROR(INDIRECT("'"&$A38&"'!"&BO$1),"")} -> 0 | BP38: =IFERROR(INDIRECT("'"&$A38&"'!"&$BP$1),"") -> 0 | BQ38: =IFERROR(INDIRECT("'"&$A38&"'!"&$BQ$1),"") -> 0 | BR38: =BO38/C38 -> #DIV/0! | BS38: {=IFERROR(INDIRECT("'"&$A38&"'!"&BS$1),"")} -> 0 | BT38: =IFERROR(INDIRECT("'"&$A38&"'!"&$BT$1),"") -> 0 | BU38: =IFERROR(INDIRECT("'"&$A38&"'!"&$BU$1),"") -> 0 | BV38: =BS38/C38 -> #DIV/0!
A39: 28 | B39: W | E39: {=IFERROR(INDIRECT("'"&$A39&"'!"&E$1),"")} -> 0 | F39: =IFERROR(INDIRECT("'"&$A39&"'!"&$F$1),"") -> 0 | G39: =F39/D39 -> #DIV/0! | H39: {=IFERROR(INDIRECT("'"&$A39&"'!"&H$1),"")} -> 0 | I39: =IFERROR(INDIRECT("'"&$A39&"'!"&$I$1),"") -> 0 | J39: =H39/C39 -> #DIV/0! | K39: {=IFERROR(INDIRECT("'"&$A39&"'!"&K$1),"")} -> 0 | L39: =IFERROR(INDIRECT("'"&$A39&"'!"&$L$1),"") -> 0 | M39: =K39/C39 -> #DIV/0! | N39: {=IFERROR(INDIRECT("'"&$A39&"'!"&N$1),"")} -> 0 | O39: =IFERROR(INDIRECT("'"&$A39&"'!"&$O$1),"") -> 0 | P39: =N39/C39 -> #DIV/0! | Q39: {=IFERROR(INDIRECT("'"&$A39&"'!"&Q$1),"")} -> 0 | R39: =IFERROR(INDIRECT("'"&$A39&"'!"&$R$1),"") -> 0 | S39: =Q39/C39 -> #DIV/0! | T39: {=IFERROR(INDIRECT("'"&$A39&"'!"&T$1),"")} -> 0 | U39: =IFERROR(INDIRECT("'"&$A39&"'!"&$U$1),"") -> 0 | V39: =T39/C39 -> #DIV/0! | W39: {=IFERROR(INDIRECT("'"&$A39&"'!"&W$1),"")} | X39: =IFERROR(INDIRECT("'"&$A39&"'!"&$X$1),"") | Y39: =W39/C39 -> #VALUE! | Z39: {=IFERROR(INDIRECT("'"&$A39&"'!"&Z$1),"")} | AA39: =IFERROR(INDIRECT("'"&$A39&"'!"&$AA$1),"") | AB39: =Z39/C39 -> #VALUE! | AC39: {=IFERROR(INDIRECT("'"&$A39&"'!"&AC$1),"")} | AD39: =IFERROR(INDIRECT("'"&$A39&"'!"&$AD$1),"") | AE39: =AC39/C39 -> #VALUE! | AF39: {=IFERROR(INDIRECT("'"&$A39&"'!"&AF$1),"")} | AG39: =IFERROR(INDIRECT("'"&$A39&"'!"&$AG$1),"") | AH39: =AF39/C39 -> #VALUE! | AI39: {=IFERROR(INDIRECT("'"&$A39&"'!"&AI$1),"")} -> 0 | AJ39: =IFERROR(INDIRECT("'"&$A39&"'!"&$AJ$1),"") -> 0 | AK39: =AI39/C39 -> #DIV/0! | AL39: {=IFERROR(INDIRECT("'"&$A39&"'!"&AL$1),"")} -> 0 | AM39: =IFERROR(INDIRECT("'"&$A39&"'!"&$AM$1),"") -> 0 | AN39: =AL39/C39 -> #DIV/0! | AO39: {=IFERROR(INDIRECT("'"&$A39&"'!"&AO$1),"")} -> 0 | AP39: =IFERROR(INDIRECT("'"&$A39&"'!"&$AP$1),"") -> 0 | AQ39: =AO39/C39 -> #DIV/0! | AR39: {=IFERROR(INDIRECT("'"&$A39&"'!"&AR$1),"")} -> 0 | AS39: =IFERROR(INDIRECT("'"&$A39&"'!"&$AS$1),"") -> 0 | AT39: =AR39/C39 -> #DIV/0! | AU39: {=IFERROR(INDIRECT("'"&$A39&"'!"&AU$1),"")} -> 0 | AV39: =IFERROR(INDIRECT("'"&$A39&"'!"&$AV$1),"") -> 0 | AW39: =AU39/C39 -> #DIV/0! | AX39: {=IFERROR(INDIRECT("'"&$A39&"'!"&AX$1),"")} -> 0 | AY39: =IFERROR(INDIRECT("'"&$A39&"'!"&$AY$1),"") -> 0 | AZ39: =AX39/C39 -> #DIV/0! | BA39: {=IFERROR(INDIRECT("'"&$A39&"'!"&BA$1),"")} -> 0 | BB39: =IFERROR(INDIRECT("'"&$A39&"'!"&$BB$1),"") -> 0 | BC39: =BA39/C39 -> #DIV/0! | BD39: {=IFERROR(INDIRECT("'"&$A39&"'!"&BD$1),"")} -> 0 | BE39: =IFERROR(INDIRECT("'"&$A39&"'!"&$BE$1),"") -> 0 | BF39: =BD39/C39 -> #DIV/0! | BG39: {=IFERROR(INDIRECT("'"&$A39&"'!"&BG$1),"")} -> 0 | BH39: =IFERROR(INDIRECT("'"&$A39&"'!"&$BH$1),"") -> 0 | BI39: =IFERROR(INDIRECT("'"&$A39&"'!"&$BI$1),"") -> 0 | BJ39: =BG39/C39 -> #DIV/0! | BK39: {=IFERROR(INDIRECT("'"&$A39&"'!"&BK$1),"")} -> 0 | BL39: =IFERROR(INDIRECT("'"&$A39&"'!"&$BL$1),"") -> 0 | BM39: =IFERROR(INDIRECT("'"&$A39&"'!"&$BM$1),"") -> 0 | BN39: =BK39/C39 -> #DIV/0! | BO39: {=IFERROR(INDIRECT("'"&$A39&"'!"&BO$1),"")} -> 0 | BP39: =IFERROR(INDIRECT("'"&$A39&"'!"&$BP$1),"") -> 0 | BQ39: =IFERROR(INDIRECT("'"&$A39&"'!"&$BQ$1),"") -> 0 | BR39: =BO39/C39 -> #DIV/0! | BS39: {=IFERROR(INDIRECT("'"&$A39&"'!"&BS$1),"")} -> 0 | BT39: =IFERROR(INDIRECT("'"&$A39&"'!"&$BT$1),"") -> 0 | BU39: =IFERROR(INDIRECT("'"&$A39&"'!"&$BU$1),"") -> 0 | BV39: =BS39/C39 -> #DIV/0!
A40: 29 | B40: T | E40: {=IFERROR(INDIRECT("'"&$A40&"'!"&E$1),"")} -> 0 | F40: =IFERROR(INDIRECT("'"&$A40&"'!"&$F$1),"") -> 0 | G40: =F40/D40 -> #DIV/0! | H40: {=IFERROR(INDIRECT("'"&$A40&"'!"&H$1),"")} -> 0 | I40: =IFERROR(INDIRECT("'"&$A40&"'!"&$I$1),"") -> 0 | J40: =H40/C40 -> #DIV/0! | K40: {=IFERROR(INDIRECT("'"&$A40&"'!"&K$1),"")} -> 0 | L40: =IFERROR(INDIRECT("'"&$A40&"'!"&$L$1),"") -> 0 | M40: =K40/C40 -> #DIV/0! | N40: {=IFERROR(INDIRECT("'"&$A40&"'!"&N$1),"")} -> 0 | O40: =IFERROR(INDIRECT("'"&$A40&"'!"&$O$1),"") -> 0 | P40: =N40/C40 -> #DIV/0! | Q40: {=IFERROR(INDIRECT("'"&$A40&"'!"&Q$1),"")} -> 0 | R40: =IFERROR(INDIRECT("'"&$A40&"'!"&$R$1),"") -> 0 | S40: =Q40/C40 -> #DIV/0! | T40: {=IFERROR(INDIRECT("'"&$A40&"'!"&T$1),"")} -> 0 | U40: =IFERROR(INDIRECT("'"&$A40&"'!"&$U$1),"") -> 0 | V40: =T40/C40 -> #DIV/0! | W40: {=IFERROR(INDIRECT("'"&$A40&"'!"&W$1),"")} | X40: =IFERROR(INDIRECT("'"&$A40&"'!"&$X$1),"") | Y40: =W40/C40 -> #VALUE! | Z40: {=IFERROR(INDIRECT("'"&$A40&"'!"&Z$1),"")} | AA40: =IFERROR(INDIRECT("'"&$A40&"'!"&$AA$1),"") | AB40: =Z40/C40 -> #VALUE! | AC40: {=IFERROR(INDIRECT("'"&$A40&"'!"&AC$1),"")} | AD40: =IFERROR(INDIRECT("'"&$A40&"'!"&$AD$1),"") | AE40: =AC40/C40 -> #VALUE! | AF40: {=IFERROR(INDIRECT("'"&$A40&"'!"&AF$1),"")} | AG40: =IFERROR(INDIRECT("'"&$A40&"'!"&$AG$1),"") | AH40: =AF40/C40 -> #VALUE! | AI40: {=IFERROR(INDIRECT("'"&$A40&"'!"&AI$1),"")} -> 0 | AJ40: =IFERROR(INDIRECT("'"&$A40&"'!"&$AJ$1),"") -> 0 | AK40: =AI40/C40 -> #DIV/0! | AL40: {=IFERROR(INDIRECT("'"&$A40&"'!"&AL$1),"")} -> 0 | AM40: =IFERROR(INDIRECT("'"&$A40&"'!"&$AM$1),"") -> 0 | AN40: =AL40/C40 -> #DIV/0! | AO40: {=IFERROR(INDIRECT("'"&$A40&"'!"&AO$1),"")} -> 0 | AP40: =IFERROR(INDIRECT("'"&$A40&"'!"&$AP$1),"") -> 0 | AQ40: =AO40/C40 -> #DIV/0! | AR40: {=IFERROR(INDIRECT("'"&$A40&"'!"&AR$1),"")} -> 0 | AS40: =IFERROR(INDIRECT("'"&$A40&"'!"&$AS$1),"") -> 0 | AT40: =AR40/C40 -> #DIV/0! | AU40: {=IFERROR(INDIRECT("'"&$A40&"'!"&AU$1),"")} -> 0 | AV40: =IFERROR(INDIRECT("'"&$A40&"'!"&$AV$1),"") -> 0 | AW40: =AU40/C40 -> #DIV/0! | AX40: {=IFERROR(INDIRECT("'"&$A40&"'!"&AX$1),"")} -> 0 | AY40: =IFERROR(INDIRECT("'"&$A40&"'!"&$AY$1),"") -> 0 | AZ40: =AX40/C40 -> #DIV/0! | BA40: {=IFERROR(INDIRECT("'"&$A40&"'!"&BA$1),"")} -> 0 | BB40: =IFERROR(INDIRECT("'"&$A40&"'!"&$BB$1),"") -> 0 | BC40: =BA40/C40 -> #DIV/0! | BD40: {=IFERROR(INDIRECT("'"&$A40&"'!"&BD$1),"")} -> 0 | BE40: =IFERROR(INDIRECT("'"&$A40&"'!"&$BE$1),"") -> 0 | BF40: =BD40/C40 -> #DIV/0! | BG40: {=IFERROR(INDIRECT("'"&$A40&"'!"&BG$1),"")} -> 0 | BH40: =IFERROR(INDIRECT("'"&$A40&"'!"&$BH$1),"") -> 0 | BI40: =IFERROR(INDIRECT("'"&$A40&"'!"&$BI$1),"") -> 0 | BJ40: =BG40/C40 -> #DIV/0! | BK40: {=IFERROR(INDIRECT("'"&$A40&"'!"&BK$1),"")} -> 0 | BL40: =IFERROR(INDIRECT("'"&$A40&"'!"&$BL$1),"") -> 0 | BM40: =IFERROR(INDIRECT("'"&$A40&"'!"&$BM$1),"") -> 0 | BN40: =BK40/C40 -> #DIV/0! | BO40: {=IFERROR(INDIRECT("'"&$A40&"'!"&BO$1),"")} -> 0 | BP40: =IFERROR(INDIRECT("'"&$A40&"'!"&$BP$1),"") -> 0 | BQ40: =IFERROR(INDIRECT("'"&$A40&"'!"&$BQ$1),"") -> 0 | BR40: =BO40/C40 -> #DIV/0! | BS40: {=IFERROR(INDIRECT("'"&$A40&"'!"&BS$1),"")} -> 0 | BT40: =IFERROR(INDIRECT("'"&$A40&"'!"&$BT$1),"") -> 0 | BU40: =IFERROR(INDIRECT("'"&$A40&"'!"&$BU$1),"") -> 0 | BV40: =BS40/C40 -> #DIV/0!
A41: 30 | B41: F | E41: {=IFERROR(INDIRECT("'"&$A41&"'!"&E$1),"")} -> 0 | F41: =IFERROR(INDIRECT("'"&$A41&"'!"&$F$1),"") -> 0 | G41: =F41/D41 -> #DIV/0! | H41: {=IFERROR(INDIRECT("'"&$A41&"'!"&H$1),"")} -> 0 | I41: =IFERROR(INDIRECT("'"&$A41&"'!"&$I$1),"") -> 0 | J41: =H41/C41 -> #DIV/0! | K41: {=IFERROR(INDIRECT("'"&$A41&"'!"&K$1),"")} -> 0 | L41: =IFERROR(INDIRECT("'"&$A41&"'!"&$L$1),"") -> 0 | M41: =K41/C41 -> #DIV/0! | N41: {=IFERROR(INDIRECT("'"&$A41&"'!"&N$1),"")} -> 0 | O41: =IFERROR(INDIRECT("'"&$A41&"'!"&$O$1),"") -> 0 | P41: =N41/C41 -> #DIV/0! | Q41: {=IFERROR(INDIRECT("'"&$A41&"'!"&Q$1),"")} -> 0 | R41: =IFERROR(INDIRECT("'"&$A41&"'!"&$R$1),"") -> 0 | S41: =Q41/C41 -> #DIV/0! | T41: {=IFERROR(INDIRECT("'"&$A41&"'!"&T$1),"")} -> 0 | U41: =IFERROR(INDIRECT("'"&$A41&"'!"&$U$1),"") -> 0 | V41: =T41/C41 -> #DIV/0! | W41: {=IFERROR(INDIRECT("'"&$A41&"'!"&W$1),"")} | X41: =IFERROR(INDIRECT("'"&$A41&"'!"&$X$1),"") | Y41: =W41/C41 -> #VALUE! | Z41: {=IFERROR(INDIRECT("'"&$A41&"'!"&Z$1),"")} | AA41: =IFERROR(INDIRECT("'"&$A41&"'!"&$AA$1),"") | AB41: =Z41/C41 -> #VALUE! | AC41: {=IFERROR(INDIRECT("'"&$A41&"'!"&AC$1),"")} | AD41: =IFERROR(INDIRECT("'"&$A41&"'!"&$AD$1),"") | AE41: =AC41/C41 -> #VALUE! | AF41: {=IFERROR(INDIRECT("'"&$A41&"'!"&AF$1),"")} | AG41: =IFERROR(INDIRECT("'"&$A41&"'!"&$AG$1),"") | AH41: =AF41/C41 -> #VALUE! | AI41: {=IFERROR(INDIRECT("'"&$A41&"'!"&AI$1),"")} -> 0 | AJ41: =IFERROR(INDIRECT("'"&$A41&"'!"&$AJ$1),"") -> 0 | AK41: =AI41/C41 -> #DIV/0! | AL41: {=IFERROR(INDIRECT("'"&$A41&"'!"&AL$1),"")} -> 0 | AM41: =IFERROR(INDIRECT("'"&$A41&"'!"&$AM$1),"") -> 0 | AN41: =AL41/C41 -> #DIV/0! | AO41: {=IFERROR(INDIRECT("'"&$A41&"'!"&AO$1),"")} -> 0 | AP41: =IFERROR(INDIRECT("'"&$A41&"'!"&$AP$1),"") -> 0 | AQ41: =AO41/C41 -> #DIV/0! | AR41: {=IFERROR(INDIRECT("'"&$A41&"'!"&AR$1),"")} -> 0 | AS41: =IFERROR(INDIRECT("'"&$A41&"'!"&$AS$1),"") -> 0 | AT41: =AR41/C41 -> #DIV/0! | AU41: {=IFERROR(INDIRECT("'"&$A41&"'!"&AU$1),"")} -> 0 | AV41: =IFERROR(INDIRECT("'"&$A41&"'!"&$AV$1),"") -> 0 | AW41: =AU41/C41 -> #DIV/0! | AX41: {=IFERROR(INDIRECT("'"&$A41&"'!"&AX$1),"")} -> 0 | AY41: =IFERROR(INDIRECT("'"&$A41&"'!"&$AY$1),"") -> 0 | AZ41: =AX41/C41 -> #DIV/0! | BA41: {=IFERROR(INDIRECT("'"&$A41&"'!"&BA$1),"")} -> 0 | BB41: =IFERROR(INDIRECT("'"&$A41&"'!"&$BB$1),"") -> 0 | BC41: =BA41/C41 -> #DIV/0! | BD41: {=IFERROR(INDIRECT("'"&$A41&"'!"&BD$1),"")} -> 0 | BE41: =IFERROR(INDIRECT("'"&$A41&"'!"&$BE$1),"") -> 0 | BF41: =BD41/C41 -> #DIV/0! | BG41: {=IFERROR(INDIRECT("'"&$A41&"'!"&BG$1),"")} -> 0 | BH41: =IFERROR(INDIRECT("'"&$A41&"'!"&$BH$1),"") -> 0 | BI41: =IFERROR(INDIRECT("'"&$A41&"'!"&$BI$1),"") -> 0 | BJ41: =BG41/C41 -> #DIV/0! | BK41: {=IFERROR(INDIRECT("'"&$A41&"'!"&BK$1),"")} -> 0 | BL41: =IFERROR(INDIRECT("'"&$A41&"'!"&$BL$1),"") -> 0 | BM41: =IFERROR(INDIRECT("'"&$A41&"'!"&$BM$1),"") -> 0 | BN41: =BK41/C41 -> #DIV/0! | BO41: {=IFERROR(INDIRECT("'"&$A41&"'!"&BO$1),"")} -> 0 | BP41: =IFERROR(INDIRECT("'"&$A41&"'!"&$BP$1),"") -> 0 | BQ41: =IFERROR(INDIRECT("'"&$A41&"'!"&$BQ$1),"") -> 0 | BR41: =BO41/C41 -> #DIV/0! | BS41: {=IFERROR(INDIRECT("'"&$A41&"'!"&BS$1),"")} -> 0 | BT41: =IFERROR(INDIRECT("'"&$A41&"'!"&$BT$1),"") -> 0 | BU41: =IFERROR(INDIRECT("'"&$A41&"'!"&$BU$1),"") -> 0 | BV41: =BS41/C41 -> #DIV/0!
A42: 31 | B42: S | E42: {=IFERROR(INDIRECT("'"&$A42&"'!"&E$1),"")} -> 0 | F42: =IFERROR(INDIRECT("'"&$A42&"'!"&$F$1),"") -> 0 | G42: =F42/D42 -> #DIV/0! | H42: {=IFERROR(INDIRECT("'"&$A42&"'!"&H$1),"")} -> 0 | I42: =IFERROR(INDIRECT("'"&$A42&"'!"&$I$1),"") -> 0 | J42: =H42/C42 -> #DIV/0! | K42: {=IFERROR(INDIRECT("'"&$A42&"'!"&K$1),"")} -> 0 | L42: =IFERROR(INDIRECT("'"&$A42&"'!"&$L$1),"") -> 0 | M42: =K42/C42 -> #DIV/0! | N42: {=IFERROR(INDIRECT("'"&$A42&"'!"&N$1),"")} -> 0 | O42: =IFERROR(INDIRECT("'"&$A42&"'!"&$O$1),"") -> 0 | P42: =N42/C42 -> #DIV/0! | Q42: {=IFERROR(INDIRECT("'"&$A42&"'!"&Q$1),"")} -> 0 | R42: =IFERROR(INDIRECT("'"&$A42&"'!"&$R$1),"") -> 0 | S42: =Q42/C42 -> #DIV/0! | T42: {=IFERROR(INDIRECT("'"&$A42&"'!"&T$1),"")} -> 0 | U42: =IFERROR(INDIRECT("'"&$A42&"'!"&$U$1),"") -> 0 | V42: =T42/C42 -> #DIV/0! | W42: {=IFERROR(INDIRECT("'"&$A42&"'!"&W$1),"")} | X42: =IFERROR(INDIRECT("'"&$A42&"'!"&$X$1),"") | Y42: =W42/C42 -> #VALUE! | Z42: {=IFERROR(INDIRECT("'"&$A42&"'!"&Z$1),"")} | AA42: =IFERROR(INDIRECT("'"&$A42&"'!"&$AA$1),"") | AB42: =Z42/C42 -> #VALUE! | AC42: {=IFERROR(INDIRECT("'"&$A42&"'!"&AC$1),"")} | AD42: =IFERROR(INDIRECT("'"&$A42&"'!"&$AD$1),"") | AE42: =AC42/C42 -> #VALUE! | AF42: {=IFERROR(INDIRECT("'"&$A42&"'!"&AF$1),"")} | AG42: =IFERROR(INDIRECT("'"&$A42&"'!"&$AG$1),"") | AH42: =AF42/C42 -> #VALUE! | AI42: {=IFERROR(INDIRECT("'"&$A42&"'!"&AI$1),"")} -> 0 | AJ42: =IFERROR(INDIRECT("'"&$A42&"'!"&$AJ$1),"") -> 0 | AK42: =AI42/C42 -> #DIV/0! | AL42: {=IFERROR(INDIRECT("'"&$A42&"'!"&AL$1),"")} -> 0 | AM42: =IFERROR(INDIRECT("'"&$A42&"'!"&$AM$1),"") -> 0 | AN42: =AL42/C42 -> #DIV/0! | AO42: {=IFERROR(INDIRECT("'"&$A42&"'!"&AO$1),"")} -> 0 | AP42: =IFERROR(INDIRECT("'"&$A42&"'!"&$AP$1),"") -> 0 | AQ42: =AO42/C42 -> #DIV/0! | AR42: {=IFERROR(INDIRECT("'"&$A42&"'!"&AR$1),"")} -> 0 | AS42: =IFERROR(INDIRECT("'"&$A42&"'!"&$AS$1),"") -> 0 | AT42: =AR42/C42 -> #DIV/0! | AU42: {=IFERROR(INDIRECT("'"&$A42&"'!"&AU$1),"")} -> 0 | AV42: =IFERROR(INDIRECT("'"&$A42&"'!"&$AV$1),"") -> 0 | AW42: =AU42/C42 -> #DIV/0! | AX42: {=IFERROR(INDIRECT("'"&$A42&"'!"&AX$1),"")} -> 0 | AY42: =IFERROR(INDIRECT("'"&$A42&"'!"&$AY$1),"") -> 0 | AZ42: =AX42/C42 -> #DIV/0! | BA42: {=IFERROR(INDIRECT("'"&$A42&"'!"&BA$1),"")} -> 0 | BB42: =IFERROR(INDIRECT("'"&$A42&"'!"&$BB$1),"") -> 0 | BC42: =BA42/C42 -> #DIV/0! | BD42: {=IFERROR(INDIRECT("'"&$A42&"'!"&BD$1),"")} -> 0 | BE42: =IFERROR(INDIRECT("'"&$A42&"'!"&$BE$1),"") -> 0 | BF42: =BD42/C42 -> #DIV/0! | BG42: {=IFERROR(INDIRECT("'"&$A42&"'!"&BG$1),"")} -> 0 | BH42: =IFERROR(INDIRECT("'"&$A42&"'!"&$BH$1),"") -> 0 | BI42: =IFERROR(INDIRECT("'"&$A42&"'!"&$BI$1),"") -> 0 | BJ42: =BG42/C42 -> #DIV/0! | BK42: {=IFERROR(INDIRECT("'"&$A42&"'!"&BK$1),"")} -> 0 | BL42: =IFERROR(INDIRECT("'"&$A42&"'!"&$BL$1),"") -> 0 | BM42: =IFERROR(INDIRECT("'"&$A42&"'!"&$BM$1),"") -> 0 | BN42: =BK42/C42 -> #DIV/0! | BO42: {=IFERROR(INDIRECT("'"&$A42&"'!"&BO$1),"")} -> 0 | BP42: =IFERROR(INDIRECT("'"&$A42&"'!"&$BP$1),"") -> 0 | BQ42: =IFERROR(INDIRECT("'"&$A42&"'!"&$BQ$1),"") -> 0 | BR42: =BO42/C42 -> #DIV/0! | BS42: {=IFERROR(INDIRECT("'"&$A42&"'!"&BS$1),"")} -> 0 | BT42: =IFERROR(INDIRECT("'"&$A42&"'!"&$BT$1),"") -> 0 | BU42: =IFERROR(INDIRECT("'"&$A42&"'!"&$BU$1),"") -> 0 | BV42: =BS42/C42 -> #DIV/0!
B43: S | E43: {=IFERROR(INDIRECT("'"&$A43&"'!"&E$1),"")} | F43: =IFERROR(INDIRECT("'"&$A43&"'!"&$F$1),"") | G43: =F43/D43 -> #VALUE! | H43: {=IFERROR(INDIRECT("'"&$A43&"'!"&H$1),"")} | I43: =IFERROR(INDIRECT("'"&$A43&"'!"&$I$1),"") | J43: =H43/C43 -> #VALUE! | K43: {=IFERROR(INDIRECT("'"&$A43&"'!"&K$1),"")} | L43: =IFERROR(INDIRECT("'"&$A43&"'!"&$L$1),"") | M43: =K43/C43 -> #VALUE! | N43: {=IFERROR(INDIRECT("'"&$A43&"'!"&N$1),"")} | O43: =IFERROR(INDIRECT("'"&$A43&"'!"&$O$1),"") | P43: =N43/C43 -> #VALUE! | Q43: {=IFERROR(INDIRECT("'"&$A43&"'!"&Q$1),"")} | R43: =IFERROR(INDIRECT("'"&$A43&"'!"&$R$1),"") | S43: =Q43/C43 -> #VALUE! | T43: {=IFERROR(INDIRECT("'"&$A43&"'!"&T$1),"")} | U43: =IFERROR(INDIRECT("'"&$A43&"'!"&$U$1),"") | V43: =T43/C43 -> #VALUE! | W43: {=IFERROR(INDIRECT("'"&$A43&"'!"&W$1),"")} | X43: =IFERROR(INDIRECT("'"&$A43&"'!"&$X$1),"") | Y43: =W43/C43 -> #VALUE! | Z43: {=IFERROR(INDIRECT("'"&$A43&"'!"&Z$1),"")} | AA43: =IFERROR(INDIRECT("'"&$A43&"'!"&$AA$1),"") | AB43: =Z43/C43 -> #VALUE! | AC43: {=IFERROR(INDIRECT("'"&$A43&"'!"&AC$1),"")} | AD43: =IFERROR(INDIRECT("'"&$A43&"'!"&$AD$1),"") | AE43: =AC43/C43 -> #VALUE! | AF43: {=IFERROR(INDIRECT("'"&$A43&"'!"&AF$1),"")} | AG43: =IFERROR(INDIRECT("'"&$A43&"'!"&$AG$1),"") | AH43: =AF43/C43 -> #VALUE! | AI43: {=IFERROR(INDIRECT("'"&$A43&"'!"&AI$1),"")} | AJ43: =IFERROR(INDIRECT("'"&$A43&"'!"&$AJ$1),"") | AK43: =AI43/C43 -> #VALUE! | AL43: {=IFERROR(INDIRECT("'"&$A43&"'!"&AL$1),"")} | AM43: =IFERROR(INDIRECT("'"&$A43&"'!"&$AM$1),"") | AN43: =AL43/C43 -> #VALUE! | AO43: {=IFERROR(INDIRECT("'"&$A43&"'!"&AO$1),"")} | AP43: =IFERROR(INDIRECT("'"&$A43&"'!"&$AP$1),"") | AQ43: =AO43/C43 -> #VALUE! | AR43: {=IFERROR(INDIRECT("'"&$A43&"'!"&AR$1),"")} | AS43: =IFERROR(INDIRECT("'"&$A43&"'!"&$AS$1),"") | AT43: =AR43/C43 -> #VALUE! | AU43: {=IFERROR(INDIRECT("'"&$A43&"'!"&AU$1),"")} | AV43: =IFERROR(INDIRECT("'"&$A43&"'!"&$AV$1),"") | AW43: =AU43/C43 -> #VALUE! | AX43: {=IFERROR(INDIRECT("'"&$A43&"'!"&AX$1),"")} | AY43: =IFERROR(INDIRECT("'"&$A43&"'!"&$AY$1),"") | AZ43: =AX43/C43 -> #VALUE! | BA43: {=IFERROR(INDIRECT("'"&$A43&"'!"&BA$1),"")} | BB43: =IFERROR(INDIRECT("'"&$A43&"'!"&$BB$1),"") | BC43: =BA43/C43 -> #VALUE! | BD43: {=IFERROR(INDIRECT("'"&$A43&"'!"&BD$1),"")} | BE43: =IFERROR(INDIRECT("'"&$A43&"'!"&$BE$1),"") | BF43: =BD43/C43 -> #VALUE! | BG43: {=IFERROR(INDIRECT("'"&$A43&"'!"&BG$1),"")} | BH43: =IFERROR(INDIRECT("'"&$A43&"'!"&$BH$1),"") | BI43: =IFERROR(INDIRECT("'"&$A43&"'!"&$BI$1),"") | BJ43: =BG43/C43 -> #VALUE! | BK43: {=IFERROR(INDIRECT("'"&$A43&"'!"&BK$1),"")} | BL43: =IFERROR(INDIRECT("'"&$A43&"'!"&$BL$1),"") | BM43: =IFERROR(INDIRECT("'"&$A43&"'!"&$BM$1),"") | BN43: =BK43/C43 -> #VALUE! | BO43: {=IFERROR(INDIRECT("'"&$A43&"'!"&BO$1),"")} | BP43: =IFERROR(INDIRECT("'"&$A43&"'!"&$BP$1),"") | BQ43: =IFERROR(INDIRECT("'"&$A43&"'!"&$BQ$1),"") | BR43: =BO43/C43 -> #VALUE! | BS43: {=IFERROR(INDIRECT("'"&$A43&"'!"&BS$1),"")} | BT43: =IFERROR(INDIRECT("'"&$A43&"'!"&$BT$1),"") | BU43: =IFERROR(INDIRECT("'"&$A43&"'!"&$BU$1),"") | BV43: =BS43/C43 -> #VALUE!
A44: Weekly | C44: =SUM(C37:C43) -> 0 | D44: =SUM(D37:D43) -> 0 | E44: =SUM(E37:E43) -> 0 | F44: =SUM(F37:F43) -> 0 | G44: =F44/D44 -> #DIV/0! | H44: =SUM(H37:H43) -> 0 | I44: =SUM(I37:I43) -> 0 | J44: =H44/C44 -> #DIV/0! | K44: =SUM(K37:K43) -> 0 | L44: =SUM(L37:L43) -> 0 | M44: =K44/C44 -> #DIV/0! | N44: =SUM(N37:N43) -> 0 | O44: =SUM(O37:O43) -> 0 | P44: =N44/C44 -> #DIV/0! | Q44: =SUM(Q37:Q43) -> 0 | R44: =SUM(R37:R43) -> 0 | S44: =Q44/C44 -> #DIV/0! | T44: =SUM(T37:T43) -> 0 | U44: =SUM(U37:U43) -> 0 | V44: =T44/C44 -> #DIV/0! | W44: =SUM(W37:W43) -> 0 | X44: =SUM(X37:X43) -> 0 | Y44: =W44/C44 -> #DIV/0! | Z44: =SUM(Z37:Z43) -> 0 | AA44: =SUM(AA37:AA43) -> 0 | AB44: =Z44/C44 -> #DIV/0! | AC44: =SUM(AC37:AC43) -> 0 | AD44: =SUM(AD37:AD43) -> 0 | AE44: =AC44/C44 -> #DIV/0! | AF44: =SUM(AF37:AF43) -> 0 | AG44: =SUM(AG37:AG43) -> 0 | AH44: =AF44/C44 -> #DIV/0! | AI44: =SUM(AI37:AI43) -> 0 | AJ44: =SUM(AJ37:AJ43) -> 0 | AK44: =AI44/C44 -> #DIV/0! | AL44: =SUM(AL37:AL43) -> 0 | AM44: =SUM(AM37:AM43) -> 0 | AN44: =AL44/C44 -> #DIV/0! | AO44: =SUM(AO37:AO43) -> 0 | AP44: =SUM(AP37:AP43) -> 0 | AQ44: =AO44/C44 -> #DIV/0! | AR44: =SUM(AR37:AR43) -> 0 | AS44: =SUM(AS37:AS43) -> 0 | AT44: =AR44/C44 -> #DIV/0! | AU44: =SUM(AU37:AU43) -> 0 | AV44: =SUM(AV37:AV43) -> 0 | AW44: =AU44/C44 -> #DIV/0! | AX44: =SUM(AX37:AX43) -> 0 | AY44: =SUM(AY37:AY43) -> 0 | AZ44: =AX44/F44 -> #DIV/0! | BA44: =SUM(BA37:BA43) -> 0 | BB44: =SUM(BB37:BB43) -> 0 | BC44: =BA44/I44 -> #DIV/0! | BD44: =SUM(BD37:BD43) -> 0 | BE44: =SUM(BE37:BE43) -> 0 | BF44: =BD44/L44 -> #DIV/0! | BG44: =SUM(BG37:BG43) -> 0 | BH44: =SUM(BH37:BH43) -> 0 | BI44: =SUM(BI37:BI43) -> 0 | BJ44: =BG44/C44 -> #DIV/0! | BK44: =SUM(BK37:BK43) -> 0 | BL44: =SUM(BL37:BL43) -> 0 | BM44: =SUM(BM37:BM43) -> 0 | BN44: =BK44/C44 -> #DIV/0! | BO44: =SUM(BO37:BO43) -> 0 | BP44: =SUM(BP37:BP43) -> 0 | BQ44: =SUM(BQ37:BQ43) -> 0 | BR44: =BO44/C44 -> #DIV/0! | BS44: =SUM(BS37:BS43) -> 0 | BT44: =SUM(BT37:BT43) -> 0 | BU44: =SUM(BU37:BU43) -> 0 | BV44: =BS44/C44 -> #DIV/0!
B45: M | E45: =IFERROR(INDIRECT("'"&$A45&"'!"&E$1),"") | F45: =IFERROR(INDIRECT("'"&$A45&"'!"&$F$1),"") | G45: =F45/D45 -> #VALUE! | H45: =IFERROR(INDIRECT("'"&$A45&"'!"&H$1),"") | I45: =IFERROR(INDIRECT("'"&$A45&"'!"&$I$1),"") | J45: =H45/C45 -> #VALUE! | K45: {=IFERROR(INDIRECT("'"&$A45&"'!"&K$1),"")} | L45: =IFERROR(INDIRECT("'"&$A45&"'!"&$L$1),"") | M45: =K45/C45 -> #VALUE! | N45: {=IFERROR(INDIRECT("'"&$A45&"'!"&N$1),"")} | O45: =IFERROR(INDIRECT("'"&$A45&"'!"&$O$1),"") | P45: =N45/C45 -> #VALUE! | Q45: {=IFERROR(INDIRECT("'"&$A45&"'!"&Q$1),"")} | R45: =IFERROR(INDIRECT("'"&$A45&"'!"&$R$1),"") | S45: =Q45/C45 -> #VALUE! | T45: {=IFERROR(INDIRECT("'"&$A45&"'!"&T$1),"")} | U45: =IFERROR(INDIRECT("'"&$A45&"'!"&$U$1),"") | V45: =T45/C45 -> #VALUE! | W45: {=IFERROR(INDIRECT("'"&$A45&"'!"&W$1),"")} | X45: =IFERROR(INDIRECT("'"&$A45&"'!"&$X$1),"") | Y45: =W45/C45 -> #VALUE! | Z45: {=IFERROR(INDIRECT("'"&$A45&"'!"&Z$1),"")} | AA45: =IFERROR(INDIRECT("'"&$A45&"'!"&$AA$1),"") | AB45: =Z45/C45 -> #VALUE! | AC45: {=IFERROR(INDIRECT("'"&$A45&"'!"&AC$1),"")} | AD45: =IFERROR(INDIRECT("'"&$A45&"'!"&$AD$1),"") | AE45: =AC45/C45 -> #VALUE! | AF45: {=IFERROR(INDIRECT("'"&$A45&"'!"&AF$1),"")} | AG45: =IFERROR(INDIRECT("'"&$A45&"'!"&$AG$1),"") | AH45: =AF45/C45 -> #VALUE! | AI45: {=IFERROR(INDIRECT("'"&$A45&"'!"&AI$1),"")} | AJ45: =IFERROR(INDIRECT("'"&$A45&"'!"&$AJ$1),"") | AK45: =AI45/C45 -> #VALUE! | AL45: {=IFERROR(INDIRECT("'"&$A45&"'!"&AL$1),"")} | AM45: =IFERROR(INDIRECT("'"&$A45&"'!"&$AM$1),"") | AN45: =AL45/C45 -> #VALUE! | AO45: {=IFERROR(INDIRECT("'"&$A45&"'!"&AO$1),"")} | AP45: =IFERROR(INDIRECT("'"&$A45&"'!"&$AP$1),"") | AQ45: =AO45/C45 -> #VALUE! | AR45: {=IFERROR(INDIRECT("'"&$A45&"'!"&AR$1),"")} | AS45: =IFERROR(INDIRECT("'"&$A45&"'!"&$AS$1),"") | AT45: =AR45/C45 -> #VALUE! | AU45: {=IFERROR(INDIRECT("'"&$A45&"'!"&AU$1),"")} | AV45: =IFERROR(INDIRECT("'"&$A45&"'!"&$AV$1),"") | AW45: =AU45/C45 -> #VALUE! | AX45: {=IFERROR(INDIRECT("'"&$A45&"'!"&AX$1),"")} | AY45: =IFERROR(INDIRECT("'"&$A45&"'!"&$AY$1),"") | AZ45: =AX45/C45 -> #VALUE! | BA45: {=IFERROR(INDIRECT("'"&$A45&"'!"&BA$1),"")} | BB45: =IFERROR(INDIRECT("'"&$A45&"'!"&$BB$1),"") | BC45: =BA45/C45 -> #VALUE! | BD45: {=IFERROR(INDIRECT("'"&$A45&"'!"&BD$1),"")} | BE45: =IFERROR(INDIRECT("'"&$A45&"'!"&$BE$1),"") | BF45: =BD45/C45 -> #VALUE! | BG45: {=IFERROR(INDIRECT("'"&$A45&"'!"&BG$1),"")} | BH45: =IFERROR(INDIRECT("'"&$A45&"'!"&$BH$1),"") | BI45: =IFERROR(INDIRECT("'"&$A45&"'!"&$BI$1),"") | BJ45: =BG45/C45 -> #VALUE! | BK45: {=IFERROR(INDIRECT("'"&$A45&"'!"&BK$1),"")} | BL45: =IFERROR(INDIRECT("'"&$A45&"'!"&$BL$1),"") | BM45: =IFERROR(INDIRECT("'"&$A45&"'!"&$BM$1),"") | BN45: =BK45/C45 -> #VALUE! | BO45: {=IFERROR(INDIRECT("'"&$A45&"'!"&BO$1),"")} | BP45: =IFERROR(INDIRECT("'"&$A45&"'!"&$BP$1),"") | BQ45: =IFERROR(INDIRECT("'"&$A45&"'!"&$BQ$1),"") | BR45: =BO45/C45 -> #VALUE! | BS45: {=IFERROR(INDIRECT("'"&$A45&"'!"&BS$1),"")} | BT45: =IFERROR(INDIRECT("'"&$A45&"'!"&$BT$1),"") | BU45: =IFERROR(INDIRECT("'"&$A45&"'!"&$BU$1),"") | BV45: =BS45/C45 -> #VALUE!
B46: T | E46: =IFERROR(INDIRECT("'"&$A46&"'!"&E$1),"") | F46: =IFERROR(INDIRECT("'"&$A46&"'!"&$F$1),"") | G46: =F46/D46 -> #VALUE! | H46: =IFERROR(INDIRECT("'"&$A46&"'!"&H$1),"") | I46: =IFERROR(INDIRECT("'"&$A46&"'!"&$I$1),"") | J46: =H46/C46 -> #VALUE! | K46: {=IFERROR(INDIRECT("'"&$A46&"'!"&K$1),"")} | L46: =IFERROR(INDIRECT("'"&$A46&"'!"&$L$1),"") | M46: =K46/C46 -> #VALUE! | N46: {=IFERROR(INDIRECT("'"&$A46&"'!"&N$1),"")} | O46: =IFERROR(INDIRECT("'"&$A46&"'!"&$O$1),"") | P46: =N46/C46 -> #VALUE! | Q46: {=IFERROR(INDIRECT("'"&$A46&"'!"&Q$1),"")} | R46: =IFERROR(INDIRECT("'"&$A46&"'!"&$R$1),"") | S46: =Q46/C46 -> #VALUE! | T46: {=IFERROR(INDIRECT("'"&$A46&"'!"&T$1),"")} | U46: =IFERROR(INDIRECT("'"&$A46&"'!"&$U$1),"") | V46: =T46/C46 -> #VALUE! | W46: {=IFERROR(INDIRECT("'"&$A46&"'!"&W$1),"")} | X46: =IFERROR(INDIRECT("'"&$A46&"'!"&$X$1),"") | Y46: =W46/C46 -> #VALUE! | Z46: {=IFERROR(INDIRECT("'"&$A46&"'!"&Z$1),"")} | AA46: =IFERROR(INDIRECT("'"&$A46&"'!"&$AA$1),"") | AB46: =Z46/C46 -> #VALUE! | AC46: {=IFERROR(INDIRECT("'"&$A46&"'!"&AC$1),"")} | AD46: =IFERROR(INDIRECT("'"&$A46&"'!"&$AD$1),"") | AE46: =AC46/C46 -> #VALUE! | AF46: {=IFERROR(INDIRECT("'"&$A46&"'!"&AF$1),"")} | AG46: =IFERROR(INDIRECT("'"&$A46&"'!"&$AG$1),"") | AH46: =AF46/C46 -> #VALUE! | AI46: {=IFERROR(INDIRECT("'"&$A46&"'!"&AI$1),"")} | AJ46: =IFERROR(INDIRECT("'"&$A46&"'!"&$AJ$1),"") | AK46: =AI46/C46 -> #VALUE! | AL46: {=IFERROR(INDIRECT("'"&$A46&"'!"&AL$1),"")} | AM46: =IFERROR(INDIRECT("'"&$A46&"'!"&$AM$1),"") | AN46: =AL46/C46 -> #VALUE! | AO46: {=IFERROR(INDIRECT("'"&$A46&"'!"&AO$1),"")} | AP46: =IFERROR(INDIRECT("'"&$A46&"'!"&$AP$1),"") | AQ46: =AO46/C46 -> #VALUE! | AR46: {=IFERROR(INDIRECT("'"&$A46&"'!"&AR$1),"")} | AS46: =IFERROR(INDIRECT("'"&$A46&"'!"&$AS$1),"") | AT46: =AR46/C46 -> #VALUE! | AU46: {=IFERROR(INDIRECT("'"&$A46&"'!"&AU$1),"")} | AV46: =IFERROR(INDIRECT("'"&$A46&"'!"&$AV$1),"") | AW46: =AU46/C46 -> #VALUE! | AX46: {=IFERROR(INDIRECT("'"&$A46&"'!"&AX$1),"")} | AY46: =IFERROR(INDIRECT("'"&$A46&"'!"&$AY$1),"") | AZ46: =AX46/C46 -> #VALUE! | BA46: {=IFERROR(INDIRECT("'"&$A46&"'!"&BA$1),"")} | BB46: =IFERROR(INDIRECT("'"&$A46&"'!"&$BB$1),"") | BC46: =BA46/C46 -> #VALUE! | BD46: {=IFERROR(INDIRECT("'"&$A46&"'!"&BD$1),"")} | BE46: =IFERROR(INDIRECT("'"&$A46&"'!"&$BE$1),"") | BF46: =BD46/C46 -> #VALUE! | BG46: {=IFERROR(INDIRECT("'"&$A46&"'!"&BG$1),"")} | BH46: =IFERROR(INDIRECT("'"&$A46&"'!"&$BH$1),"") | BI46: =IFERROR(INDIRECT("'"&$A46&"'!"&$BI$1),"") | BJ46: =BG46/C46 -> #VALUE! | BK46: {=IFERROR(INDIRECT("'"&$A46&"'!"&BK$1),"")} | BL46: =IFERROR(INDIRECT("'"&$A46&"'!"&$BL$1),"") | BM46: =IFERROR(INDIRECT("'"&$A46&"'!"&$BM$1),"") | BN46: =BK46/C46 -> #VALUE! | BO46: {=IFERROR(INDIRECT("'"&$A46&"'!"&BO$1),"")} | BP46: =IFERROR(INDIRECT("'"&$A46&"'!"&$BP$1),"") | BQ46: =IFERROR(INDIRECT("'"&$A46&"'!"&$BQ$1),"") | BR46: =BO46/C46 -> #VALUE! | BS46: {=IFERROR(INDIRECT("'"&$A46&"'!"&BS$1),"")} | BT46: =IFERROR(INDIRECT("'"&$A46&"'!"&$BT$1),"") | BU46: =IFERROR(INDIRECT("'"&$A46&"'!"&$BU$1),"") | BV46: =BS46/C46 -> #VALUE!
B47: W | E47: =IFERROR(INDIRECT("'"&$A47&"'!"&E$1),"") | F47: =IFERROR(INDIRECT("'"&$A47&"'!"&$F$1),"") | G47: =F47/D47 -> #VALUE! | H47: =IFERROR(INDIRECT("'"&$A47&"'!"&H$1),"") | I47: =IFERROR(INDIRECT("'"&$A47&"'!"&$I$1),"") | J47: =H47/C47 -> #VALUE! | K47: {=IFERROR(INDIRECT("'"&$A47&"'!"&K$1),"")} | L47: =IFERROR(INDIRECT("'"&$A47&"'!"&$L$1),"") | M47: =K47/C47 -> #VALUE! | N47: {=IFERROR(INDIRECT("'"&$A47&"'!"&N$1),"")} | O47: =IFERROR(INDIRECT("'"&$A47&"'!"&$O$1),"") | P47: =N47/C47 -> #VALUE! | Q47: {=IFERROR(INDIRECT("'"&$A47&"'!"&Q$1),"")} | R47: =IFERROR(INDIRECT("'"&$A47&"'!"&$R$1),"") | S47: =Q47/C47 -> #VALUE! | T47: {=IFERROR(INDIRECT("'"&$A47&"'!"&T$1),"")} | U47: =IFERROR(INDIRECT("'"&$A47&"'!"&$U$1),"") | V47: =T47/C47 -> #VALUE! | W47: {=IFERROR(INDIRECT("'"&$A47&"'!"&W$1),"")} | X47: =IFERROR(INDIRECT("'"&$A47&"'!"&$X$1),"") | Y47: =W47/C47 -> #VALUE! | Z47: {=IFERROR(INDIRECT("'"&$A47&"'!"&Z$1),"")} | AA47: =IFERROR(INDIRECT("'"&$A47&"'!"&$AA$1),"") | AB47: =Z47/C47 -> #VALUE! | AC47: {=IFERROR(INDIRECT("'"&$A47&"'!"&AC$1),"")} | AD47: =IFERROR(INDIRECT("'"&$A47&"'!"&$AD$1),"") | AE47: =AC47/C47 -> #VALUE! | AF47: {=IFERROR(INDIRECT("'"&$A47&"'!"&AF$1),"")} | AG47: =IFERROR(INDIRECT("'"&$A47&"'!"&$AG$1),"") | AH47: =AF47/C47 -> #VALUE! | AI47: {=IFERROR(INDIRECT("'"&$A47&"'!"&AI$1),"")} | AJ47: =IFERROR(INDIRECT("'"&$A47&"'!"&$AJ$1),"") | AK47: =AI47/C47 -> #VALUE! | AL47: {=IFERROR(INDIRECT("'"&$A47&"'!"&AL$1),"")} | AM47: =IFERROR(INDIRECT("'"&$A47&"'!"&$AM$1),"") | AN47: =AL47/C47 -> #VALUE! | AO47: {=IFERROR(INDIRECT("'"&$A47&"'!"&AO$1),"")} | AP47: =IFERROR(INDIRECT("'"&$A47&"'!"&$AP$1),"") | AQ47: =AO47/C47 -> #VALUE! | AR47: {=IFERROR(INDIRECT("'"&$A47&"'!"&AR$1),"")} | AS47: =IFERROR(INDIRECT("'"&$A47&"'!"&$AS$1),"") | AT47: =AR47/C47 -> #VALUE! | AU47: {=IFERROR(INDIRECT("'"&$A47&"'!"&AU$1),"")} | AV47: =IFERROR(INDIRECT("'"&$A47&"'!"&$AV$1),"") | AW47: =AU47/C47 -> #VALUE! | AX47: {=IFERROR(INDIRECT("'"&$A47&"'!"&AX$1),"")} | AY47: =IFERROR(INDIRECT("'"&$A47&"'!"&$AY$1),"") | AZ47: =AX47/C47 -> #VALUE! | BA47: {=IFERROR(INDIRECT("'"&$A47&"'!"&BA$1),"")} | BB47: =IFERROR(INDIRECT("'"&$A47&"'!"&$BB$1),"") | BC47: =BA47/C47 -> #VALUE! | BD47: {=IFERROR(INDIRECT("'"&$A47&"'!"&BD$1),"")} | BE47: =IFERROR(INDIRECT("'"&$A47&"'!"&$BE$1),"") | BF47: =BD47/C47 -> #VALUE! | BG47: {=IFERROR(INDIRECT("'"&$A47&"'!"&BG$1),"")} | BH47: =IFERROR(INDIRECT("'"&$A47&"'!"&$BH$1),"") | BI47: =IFERROR(INDIRECT("'"&$A47&"'!"&$BI$1),"") | BJ47: =BG47/C47 -> #VALUE! | BK47: {=IFERROR(INDIRECT("'"&$A47&"'!"&BK$1),"")} | BL47: =IFERROR(INDIRECT("'"&$A47&"'!"&$BL$1),"") | BM47: =IFERROR(INDIRECT("'"&$A47&"'!"&$BM$1),"") | BN47: =BK47/C47 -> #VALUE! | BO47: {=IFERROR(INDIRECT("'"&$A47&"'!"&BO$1),"")} | BP47: =IFERROR(INDIRECT("'"&$A47&"'!"&$BP$1),"") | BQ47: =IFERROR(INDIRECT("'"&$A47&"'!"&$BQ$1),"") | BR47: =BO47/C47 -> #VALUE! | BS47: {=IFERROR(INDIRECT("'"&$A47&"'!"&BS$1),"")} | BT47: =IFERROR(INDIRECT("'"&$A47&"'!"&$BT$1),"") | BU47: =IFERROR(INDIRECT("'"&$A47&"'!"&$BU$1),"") | BV47: =BS47/C47 -> #VALUE!
B48: T | E48: =IFERROR(INDIRECT("'"&$A48&"'!"&E$1),"") | F48: =IFERROR(INDIRECT("'"&$A48&"'!"&$F$1),"") | G48: =F48/D48 -> #VALUE! | H48: =IFERROR(INDIRECT("'"&$A48&"'!"&H$1),"") | I48: =IFERROR(INDIRECT("'"&$A48&"'!"&$I$1),"") | J48: =H48/C48 -> #VALUE! | K48: {=IFERROR(INDIRECT("'"&$A48&"'!"&K$1),"")} | L48: =IFERROR(INDIRECT("'"&$A48&"'!"&$L$1),"") | M48: =K48/C48 -> #VALUE! | N48: {=IFERROR(INDIRECT("'"&$A48&"'!"&N$1),"")} | O48: =IFERROR(INDIRECT("'"&$A48&"'!"&$O$1),"") | P48: =N48/C48 -> #VALUE! | Q48: {=IFERROR(INDIRECT("'"&$A48&"'!"&Q$1),"")} | R48: =IFERROR(INDIRECT("'"&$A48&"'!"&$R$1),"") | S48: =Q48/C48 -> #VALUE! | T48: {=IFERROR(INDIRECT("'"&$A48&"'!"&T$1),"")} | U48: =IFERROR(INDIRECT("'"&$A48&"'!"&$U$1),"") | V48: =T48/C48 -> #VALUE! | W48: {=IFERROR(INDIRECT("'"&$A48&"'!"&W$1),"")} | X48: =IFERROR(INDIRECT("'"&$A48&"'!"&$X$1),"") | Y48: =W48/C48 -> #VALUE! | Z48: {=IFERROR(INDIRECT("'"&$A48&"'!"&Z$1),"")} | AA48: =IFERROR(INDIRECT("'"&$A48&"'!"&$AA$1),"") | AB48: =Z48/C48 -> #VALUE! | AC48: {=IFERROR(INDIRECT("'"&$A48&"'!"&AC$1),"")} | AD48: =IFERROR(INDIRECT("'"&$A48&"'!"&$AD$1),"") | AE48: =AC48/C48 -> #VALUE! | AF48: {=IFERROR(INDIRECT("'"&$A48&"'!"&AF$1),"")} | AG48: =IFERROR(INDIRECT("'"&$A48&"'!"&$AG$1),"") | AH48: =AF48/C48 -> #VALUE! | AI48: {=IFERROR(INDIRECT("'"&$A48&"'!"&AI$1),"")} | AJ48: =IFERROR(INDIRECT("'"&$A48&"'!"&$AJ$1),"") | AK48: =AI48/C48 -> #VALUE! | AL48: {=IFERROR(INDIRECT("'"&$A48&"'!"&AL$1),"")} | AM48: =IFERROR(INDIRECT("'"&$A48&"'!"&$AM$1),"") | AN48: =AL48/C48 -> #VALUE! | AO48: {=IFERROR(INDIRECT("'"&$A48&"'!"&AO$1),"")} | AP48: =IFERROR(INDIRECT("'"&$A48&"'!"&$AP$1),"") | AQ48: =AO48/C48 -> #VALUE! | AR48: {=IFERROR(INDIRECT("'"&$A48&"'!"&AR$1),"")} | AS48: =IFERROR(INDIRECT("'"&$A48&"'!"&$AS$1),"") | AT48: =AR48/C48 -> #VALUE! | AU48: {=IFERROR(INDIRECT("'"&$A48&"'!"&AU$1),"")} | AV48: =IFERROR(INDIRECT("'"&$A48&"'!"&$AV$1),"") | AW48: =AU48/C48 -> #VALUE! | AX48: {=IFERROR(INDIRECT("'"&$A48&"'!"&AX$1),"")} | AY48: =IFERROR(INDIRECT("'"&$A48&"'!"&$AY$1),"") | AZ48: =AX48/C48 -> #VALUE! | BA48: {=IFERROR(INDIRECT("'"&$A48&"'!"&BA$1),"")} | BB48: =IFERROR(INDIRECT("'"&$A48&"'!"&$BB$1),"") | BC48: =BA48/C48 -> #VALUE! | BD48: {=IFERROR(INDIRECT("'"&$A48&"'!"&BD$1),"")} | BE48: =IFERROR(INDIRECT("'"&$A48&"'!"&$BE$1),"") | BF48: =BD48/C48 -> #VALUE! | BG48: {=IFERROR(INDIRECT("'"&$A48&"'!"&BG$1),"")} | BH48: =IFERROR(INDIRECT("'"&$A48&"'!"&$BH$1),"") | BI48: =IFERROR(INDIRECT("'"&$A48&"'!"&$BI$1),"") | BJ48: =BG48/C48 -> #VALUE! | BK48: {=IFERROR(INDIRECT("'"&$A48&"'!"&BK$1),"")} | BL48: =IFERROR(INDIRECT("'"&$A48&"'!"&$BL$1),"") | BM48: =IFERROR(INDIRECT("'"&$A48&"'!"&$BM$1),"") | BN48: =BK48/C48 -> #VALUE! | BO48: {=IFERROR(INDIRECT("'"&$A48&"'!"&BO$1),"")} | BP48: =IFERROR(INDIRECT("'"&$A48&"'!"&$BP$1),"") | BQ48: =IFERROR(INDIRECT("'"&$A48&"'!"&$BQ$1),"") | BR48: =BO48/C48 -> #VALUE! | BS48: {=IFERROR(INDIRECT("'"&$A48&"'!"&BS$1),"")} | BT48: =IFERROR(INDIRECT("'"&$A48&"'!"&$BT$1),"") | BU48: =IFERROR(INDIRECT("'"&$A48&"'!"&$BU$1),"") | BV48: =BS48/C48 -> #VALUE!
B49: F | E49: =IFERROR(INDIRECT("'"&$A49&"'!"&E$1),"") | F49: =IFERROR(INDIRECT("'"&$A49&"'!"&$F$1),"") | G49: =F49/D49 -> #VALUE! | H49: =IFERROR(INDIRECT("'"&$A49&"'!"&H$1),"") | I49: =IFERROR(INDIRECT("'"&$A49&"'!"&$I$1),"") | J49: =H49/C49 -> #VALUE! | K49: {=IFERROR(INDIRECT("'"&$A49&"'!"&K$1),"")} | L49: =IFERROR(INDIRECT("'"&$A49&"'!"&$L$1),"") | M49: =K49/C49 -> #VALUE! | N49: {=IFERROR(INDIRECT("'"&$A49&"'!"&N$1),"")} | O49: =IFERROR(INDIRECT("'"&$A49&"'!"&$O$1),"") | P49: =N49/C49 -> #VALUE! | Q49: {=IFERROR(INDIRECT("'"&$A49&"'!"&Q$1),"")} | R49: =IFERROR(INDIRECT("'"&$A49&"'!"&$R$1),"") | S49: =Q49/C49 -> #VALUE! | T49: {=IFERROR(INDIRECT("'"&$A49&"'!"&T$1),"")} | U49: =IFERROR(INDIRECT("'"&$A49&"'!"&$U$1),"") | V49: =T49/C49 -> #VALUE! | W49: {=IFERROR(INDIRECT("'"&$A49&"'!"&W$1),"")} | X49: =IFERROR(INDIRECT("'"&$A49&"'!"&$X$1),"") | Y49: =W49/C49 -> #VALUE! | Z49: {=IFERROR(INDIRECT("'"&$A49&"'!"&Z$1),"")} | AA49: =IFERROR(INDIRECT("'"&$A49&"'!"&$AA$1),"") | AB49: =Z49/C49 -> #VALUE! | AC49: {=IFERROR(INDIRECT("'"&$A49&"'!"&AC$1),"")} | AD49: =IFERROR(INDIRECT("'"&$A49&"'!"&$AD$1),"") | AE49: =AC49/C49 -> #VALUE! | AF49: {=IFERROR(INDIRECT("'"&$A49&"'!"&AF$1),"")} | AG49: =IFERROR(INDIRECT("'"&$A49&"'!"&$AG$1),"") | AH49: =AF49/C49 -> #VALUE! | AI49: {=IFERROR(INDIRECT("'"&$A49&"'!"&AI$1),"")} | AJ49: =IFERROR(INDIRECT("'"&$A49&"'!"&$AJ$1),"") | AK49: =AI49/C49 -> #VALUE! | AL49: {=IFERROR(INDIRECT("'"&$A49&"'!"&AL$1),"")} | AM49: =IFERROR(INDIRECT("'"&$A49&"'!"&$AM$1),"") | AN49: =AL49/C49 -> #VALUE! | AO49: {=IFERROR(INDIRECT("'"&$A49&"'!"&AO$1),"")} | AP49: =IFERROR(INDIRECT("'"&$A49&"'!"&$AP$1),"") | AQ49: =AO49/C49 -> #VALUE! | AR49: {=IFERROR(INDIRECT("'"&$A49&"'!"&AR$1),"")} | AS49: =IFERROR(INDIRECT("'"&$A49&"'!"&$AS$1),"") | AT49: =AR49/C49 -> #VALUE! | AU49: {=IFERROR(INDIRECT("'"&$A49&"'!"&AU$1),"")} | AV49: =IFERROR(INDIRECT("'"&$A49&"'!"&$AV$1),"") | AW49: =AU49/C49 -> #VALUE! | AX49: {=IFERROR(INDIRECT("'"&$A49&"'!"&AX$1),"")} | AY49: =IFERROR(INDIRECT("'"&$A49&"'!"&$AY$1),"") | AZ49: =AX49/C49 -> #VALUE! | BA49: {=IFERROR(INDIRECT("'"&$A49&"'!"&BA$1),"")} | BB49: =IFERROR(INDIRECT("'"&$A49&"'!"&$BB$1),"") | BC49: =BA49/C49 -> #VALUE! | BD49: {=IFERROR(INDIRECT("'"&$A49&"'!"&BD$1),"")} | BE49: =IFERROR(INDIRECT("'"&$A49&"'!"&$BE$1),"") | BF49: =BD49/C49 -> #VALUE! | BG49: {=IFERROR(INDIRECT("'"&$A49&"'!"&BG$1),"")} | BH49: =IFERROR(INDIRECT("'"&$A49&"'!"&$BH$1),"") | BI49: =IFERROR(INDIRECT("'"&$A49&"'!"&$BI$1),"") | BJ49: =BG49/C49 -> #VALUE! | BK49: {=IFERROR(INDIRECT("'"&$A49&"'!"&BK$1),"")} | BL49: =IFERROR(INDIRECT("'"&$A49&"'!"&$BL$1),"") | BM49: =IFERROR(INDIRECT("'"&$A49&"'!"&$BM$1),"") | BN49: =BK49/C49 -> #VALUE! | BO49: {=IFERROR(INDIRECT("'"&$A49&"'!"&BO$1),"")} | BP49: =IFERROR(INDIRECT("'"&$A49&"'!"&$BP$1),"") | BQ49: =IFERROR(INDIRECT("'"&$A49&"'!"&$BQ$1),"") | BR49: =BO49/C49 -> #VALUE! | BS49: {=IFERROR(INDIRECT("'"&$A49&"'!"&BS$1),"")} | BT49: =IFERROR(INDIRECT("'"&$A49&"'!"&$BT$1),"") | BU49: =IFERROR(INDIRECT("'"&$A49&"'!"&$BU$1),"") | BV49: =BS49/C49 -> #VALUE!
B50: S | E50: =IFERROR(INDIRECT("'"&$A50&"'!"&E$1),"") | F50: =IFERROR(INDIRECT("'"&$A50&"'!"&$F$1),"") | G50: =F50/D50 -> #VALUE! | H50: =IFERROR(INDIRECT("'"&$A50&"'!"&H$1),"") | I50: =IFERROR(INDIRECT("'"&$A50&"'!"&$I$1),"") | J50: =H50/C50 -> #VALUE! | K50: {=IFERROR(INDIRECT("'"&$A50&"'!"&K$1),"")} | L50: =IFERROR(INDIRECT("'"&$A50&"'!"&$L$1),"") | M50: =K50/C50 -> #VALUE! | N50: {=IFERROR(INDIRECT("'"&$A50&"'!"&N$1),"")} | O50: =IFERROR(INDIRECT("'"&$A50&"'!"&$O$1),"") | P50: =N50/C50 -> #VALUE! | Q50: {=IFERROR(INDIRECT("'"&$A50&"'!"&Q$1),"")} | R50: =IFERROR(INDIRECT("'"&$A50&"'!"&$R$1),"") | S50: =Q50/C50 -> #VALUE! | T50: {=IFERROR(INDIRECT("'"&$A50&"'!"&T$1),"")} | U50: =IFERROR(INDIRECT("'"&$A50&"'!"&$U$1),"") | V50: =T50/C50 -> #VALUE! | W50: {=IFERROR(INDIRECT("'"&$A50&"'!"&W$1),"")} | X50: =IFERROR(INDIRECT("'"&$A50&"'!"&$X$1),"") | Y50: =W50/C50 -> #VALUE! | Z50: {=IFERROR(INDIRECT("'"&$A50&"'!"&Z$1),"")} | AA50: =IFERROR(INDIRECT("'"&$A50&"'!"&$AA$1),"") | AB50: =Z50/C50 -> #VALUE! | AC50: {=IFERROR(INDIRECT("'"&$A50&"'!"&AC$1),"")} | AD50: =IFERROR(INDIRECT("'"&$A50&"'!"&$AD$1),"") | AE50: =AC50/C50 -> #VALUE! | AF50: {=IFERROR(INDIRECT("'"&$A50&"'!"&AF$1),"")} | AG50: =IFERROR(INDIRECT("'"&$A50&"'!"&$AG$1),"") | AH50: =AF50/C50 -> #VALUE! | AI50: {=IFERROR(INDIRECT("'"&$A50&"'!"&AI$1),"")} | AJ50: =IFERROR(INDIRECT("'"&$A50&"'!"&$AJ$1),"") | AK50: =AI50/C50 -> #VALUE! | AL50: {=IFERROR(INDIRECT("'"&$A50&"'!"&AL$1),"")} | AM50: =IFERROR(INDIRECT("'"&$A50&"'!"&$AM$1),"") | AN50: =AL50/C50 -> #VALUE! | AO50: {=IFERROR(INDIRECT("'"&$A50&"'!"&AO$1),"")} | AP50: =IFERROR(INDIRECT("'"&$A50&"'!"&$AP$1),"") | AQ50: =AO50/C50 -> #VALUE! | AR50: {=IFERROR(INDIRECT("'"&$A50&"'!"&AR$1),"")} | AS50: =IFERROR(INDIRECT("'"&$A50&"'!"&$AS$1),"") | AT50: =AR50/C50 -> #VALUE! | AU50: {=IFERROR(INDIRECT("'"&$A50&"'!"&AU$1),"")} | AV50: =IFERROR(INDIRECT("'"&$A50&"'!"&$AV$1),"") | AW50: =AU50/C50 -> #VALUE! | AX50: {=IFERROR(INDIRECT("'"&$A50&"'!"&AX$1),"")} | AY50: =IFERROR(INDIRECT("'"&$A50&"'!"&$AY$1),"") | AZ50: =AX50/C50 -> #VALUE! | BA50: {=IFERROR(INDIRECT("'"&$A50&"'!"&BA$1),"")} | BB50: =IFERROR(INDIRECT("'"&$A50&"'!"&$BB$1),"") | BC50: =BA50/C50 -> #VALUE! | BD50: {=IFERROR(INDIRECT("'"&$A50&"'!"&BD$1),"")} | BE50: =IFERROR(INDIRECT("'"&$A50&"'!"&$BE$1),"") | BF50: =BD50/C50 -> #VALUE! | BG50: {=IFERROR(INDIRECT("'"&$A50&"'!"&BG$1),"")} | BH50: =IFERROR(INDIRECT("'"&$A50&"'!"&$BH$1),"") | BI50: =IFERROR(INDIRECT("'"&$A50&"'!"&$BI$1),"") | BJ50: =BG50/C50 -> #VALUE! | BK50: {=IFERROR(INDIRECT("'"&$A50&"'!"&BK$1),"")} | BL50: =IFERROR(INDIRECT("'"&$A50&"'!"&$BL$1),"") | BM50: =IFERROR(INDIRECT("'"&$A50&"'!"&$BM$1),"") | BN50: =BK50/C50 -> #VALUE! | BO50: {=IFERROR(INDIRECT("'"&$A50&"'!"&BO$1),"")} | BP50: =IFERROR(INDIRECT("'"&$A50&"'!"&$BP$1),"") | BQ50: =IFERROR(INDIRECT("'"&$A50&"'!"&$BQ$1),"") | BR50: =BO50/C50 -> #VALUE! | BS50: {=IFERROR(INDIRECT("'"&$A50&"'!"&BS$1),"")} | BT50: =IFERROR(INDIRECT("'"&$A50&"'!"&$BT$1),"") | BU50: =IFERROR(INDIRECT("'"&$A50&"'!"&$BU$1),"") | BV50: =BS50/C50 -> #VALUE!
B51: S | E51: =IFERROR(INDIRECT("'"&$A51&"'!"&E$1),"") | F51: =IFERROR(INDIRECT("'"&$A51&"'!"&$F$1),"") | G51: =F51/D51 -> #VALUE! | H51: =IFERROR(INDIRECT("'"&$A51&"'!"&H$1),"") | I51: =IFERROR(INDIRECT("'"&$A51&"'!"&$I$1),"") | J51: =H51/C51 -> #VALUE! | K51: {=IFERROR(INDIRECT("'"&$A51&"'!"&K$1),"")} | L51: =IFERROR(INDIRECT("'"&$A51&"'!"&$L$1),"") | M51: =K51/C51 -> #VALUE! | N51: {=IFERROR(INDIRECT("'"&$A51&"'!"&N$1),"")} | O51: =IFERROR(INDIRECT("'"&$A51&"'!"&$O$1),"") | P51: =N51/C51 -> #VALUE! | Q51: {=IFERROR(INDIRECT("'"&$A51&"'!"&Q$1),"")} | R51: =IFERROR(INDIRECT("'"&$A51&"'!"&$R$1),"") | S51: =Q51/C51 -> #VALUE! | T51: {=IFERROR(INDIRECT("'"&$A51&"'!"&T$1),"")} | U51: =IFERROR(INDIRECT("'"&$A51&"'!"&$U$1),"") | V51: =T51/C51 -> #VALUE! | W51: {=IFERROR(INDIRECT("'"&$A51&"'!"&W$1),"")} | X51: =IFERROR(INDIRECT("'"&$A51&"'!"&$X$1),"") | Y51: =W51/C51 -> #VALUE! | Z51: {=IFERROR(INDIRECT("'"&$A51&"'!"&Z$1),"")} | AA51: =IFERROR(INDIRECT("'"&$A51&"'!"&$AA$1),"") | AB51: =Z51/C51 -> #VALUE! | AC51: {=IFERROR(INDIRECT("'"&$A51&"'!"&AC$1),"")} | AD51: =IFERROR(INDIRECT("'"&$A51&"'!"&$AD$1),"") | AE51: =AC51/C51 -> #VALUE! | AF51: {=IFERROR(INDIRECT("'"&$A51&"'!"&AF$1),"")} | AG51: =IFERROR(INDIRECT("'"&$A51&"'!"&$AG$1),"") | AH51: =AF51/C51 -> #VALUE! | AI51: {=IFERROR(INDIRECT("'"&$A51&"'!"&AI$1),"")} | AJ51: =IFERROR(INDIRECT("'"&$A51&"'!"&$AJ$1),"") | AK51: =AI51/C51 -> #VALUE! | AL51: {=IFERROR(INDIRECT("'"&$A51&"'!"&AL$1),"")} | AM51: =IFERROR(INDIRECT("'"&$A51&"'!"&$AM$1),"") | AN51: =AL51/C51 -> #VALUE! | AO51: {=IFERROR(INDIRECT("'"&$A51&"'!"&AO$1),"")} | AP51: =IFERROR(INDIRECT("'"&$A51&"'!"&$AP$1),"") | AQ51: =AO51/C51 -> #VALUE! | AR51: {=IFERROR(INDIRECT("'"&$A51&"'!"&AR$1),"")} | AS51: =IFERROR(INDIRECT("'"&$A51&"'!"&$AS$1),"") | AT51: =AR51/C51 -> #VALUE! | AU51: {=IFERROR(INDIRECT("'"&$A51&"'!"&AU$1),"")} | AV51: =IFERROR(INDIRECT("'"&$A51&"'!"&$AV$1),"") | AW51: =AU51/C51 -> #VALUE! | AX51: {=IFERROR(INDIRECT("'"&$A51&"'!"&AX$1),"")} | AY51: =IFERROR(INDIRECT("'"&$A51&"'!"&$AY$1),"") | AZ51: =AX51/C51 -> #VALUE! | BA51: {=IFERROR(INDIRECT("'"&$A51&"'!"&BA$1),"")} | BB51: =IFERROR(INDIRECT("'"&$A51&"'!"&$BB$1),"") | BC51: =BA51/C51 -> #VALUE! | BD51: {=IFERROR(INDIRECT("'"&$A51&"'!"&BD$1),"")} | BE51: =IFERROR(INDIRECT("'"&$A51&"'!"&$BE$1),"") | BF51: =BD51/C51 -> #VALUE! | BG51: {=IFERROR(INDIRECT("'"&$A51&"'!"&BG$1),"")} | BH51: =IFERROR(INDIRECT("'"&$A51&"'!"&$BH$1),"") | BI51: =IFERROR(INDIRECT("'"&$A51&"'!"&$BI$1),"") | BJ51: =BG51/C51 -> #VALUE! | BK51: {=IFERROR(INDIRECT("'"&$A51&"'!"&BK$1),"")} | BL51: =IFERROR(INDIRECT("'"&$A51&"'!"&$BL$1),"") | BM51: =IFERROR(INDIRECT("'"&$A51&"'!"&$BM$1),"") | BN51: =BK51/C51 -> #VALUE! | BO51: {=IFERROR(INDIRECT("'"&$A51&"'!"&BO$1),"")} | BP51: =IFERROR(INDIRECT("'"&$A51&"'!"&$BP$1),"") | BQ51: =IFERROR(INDIRECT("'"&$A51&"'!"&$BQ$1),"") | BR51: =BO51/C51 -> #VALUE! | BS51: {=IFERROR(INDIRECT("'"&$A51&"'!"&BS$1),"")} | BT51: =IFERROR(INDIRECT("'"&$A51&"'!"&$BT$1),"") | BU51: =IFERROR(INDIRECT("'"&$A51&"'!"&$BU$1),"") | BV51: =BS51/C51 -> #VALUE!
A52: Weekly | C52: =SUM(C45:C51) -> 0 | D52: =SUM(D45:D51) -> 0 | E52: =SUM(E45:E51) -> 0 | F52: =SUM(F45:F51) -> 0 | G52: =F52/D52 -> #DIV/0! | H52: =SUM(H45:H51) -> 0 | I52: =SUM(I45:I51) -> 0 | J52: =H52/C52 -> #DIV/0! | K52: =SUM(K45:K51) -> 0 | L52: =SUM(L45:L51) -> 0 | M52: =K52/C52 -> #DIV/0! | N52: =SUM(N45:N51) -> 0 | O52: =SUM(O45:O51) -> 0 | P52: =N52/C52 -> #DIV/0! | Q52: =SUM(Q45:Q51) -> 0 | R52: =SUM(R45:R51) -> 0 | S52: =Q52/C52 -> #DIV/0! | T52: =SUM(T45:T51) -> 0 | U52: =SUM(U45:U51) -> 0 | V52: =T52/C52 -> #DIV/0! | W52: =SUM(W45:W51) -> 0 | X52: =SUM(X45:X51) -> 0 | Y52: =W52/C52 -> #DIV/0! | Z52: =SUM(Z45:Z51) -> 0 | AA52: =SUM(AA45:AA51) -> 0 | AB52: =Z52/C52 -> #DIV/0! | AC52: =SUM(AC45:AC51) -> 0 | AD52: =SUM(AD45:AD51) -> 0 | AE52: =AC52/C52 -> #DIV/0! | AF52: =SUM(AF45:AF51) -> 0 | AG52: =SUM(AG45:AG51) -> 0 | AH52: =AF52/C52 -> #DIV/0! | AI52: =SUM(AI45:AI51) -> 0 | AJ52: =SUM(AJ45:AJ51) -> 0 | AK52: =AI52/C52 -> #DIV/0! | AL52: =SUM(AL45:AL51) -> 0 | AM52: =SUM(AM45:AM51) -> 0 | AN52: =AL52/C52 -> #DIV/0! | AO52: =SUM(AO45:AO51) -> 0 | AP52: =SUM(AP45:AP51) -> 0 | AQ52: =AO52/C52 -> #DIV/0! | AR52: =SUM(AR45:AR51) -> 0 | AS52: =SUM(AS45:AS51) -> 0 | AT52: =AR52/C52 -> #DIV/0! | AU52: =SUM(AU45:AU51) -> 0 | AV52: =SUM(AV45:AV51) -> 0 | AW52: =AU52/C52 -> #DIV/0! | AX52: =SUM(AX45:AX51) -> 0 | AY52: =SUM(AY45:AY51) -> 0 | AZ52: =AX52/C52 -> #DIV/0! | BA52: =SUM(BA45:BA51) -> 0 | BB52: =SUM(BB45:BB51) -> 0 | BC52: =BA52/C52 -> #DIV/0! | BD52: =SUM(BD45:BD51) -> 0 | BE52: =SUM(BE45:BE51) -> 0 | BF52: =BD52/C52 -> #DIV/0! | BG52: =SUM(BG45:BG51) -> 0 | BH52: =SUM(BH45:BH51) -> 0 | BI52: =SUM(BI45:BI51) -> 0 | BJ52: =BG52/C52 -> #DIV/0! | BK52: =SUM(BK45:BK51) -> 0 | BL52: =SUM(BL45:BL51) -> 0 | BM52: =SUM(BM45:BM51) -> 0 | BN52: =BK52/C52 -> #DIV/0! | BO52: =SUM(BO45:BO51) -> 0 | BP52: =SUM(BP45:BP51) -> 0 | BQ52: =SUM(BQ45:BQ51) -> 0 | BR52: =BO52/C52 -> #DIV/0! | BS52: =SUM(BS45:BS51) -> 0 | BT52: =SUM(BT45:BT51) -> 0 | BU52: =SUM(BU45:BU51) -> 0 | BV52: =BS52/C52 -> #DIV/0!
A53: Total | C53: =C12+C20+C28+C36+C52+C44 -> 79809 | D53: =D52+D36+D28+D20+D12+D44 -> 74 | E53: =E52+E36+E28+E20+E12+E44 -> 11412 | F53: =F52+F36+F28+F20+F12+F44 -> 13 | G53: =E53/C53 -> 0.14299139 | H53: =H52+H36+H28+H20+H12+H44 -> 19421 | I53: =I52+I36+I28+I20+I12+I44 -> 6 | J53: =H53/C53 -> 0.24334348 | K53: =K52+K36+K28+K20+K12+K44 -> 0 | L53: =L52+L36+L28+L20+L12+L44 -> 0 | M53: =K53/C53 -> 0 | N53: =N52+N28+N12+N36+N20+N44 -> 3797 | O53: =O52+O12+O36+O28+O20+O44 -> 2 | P53: =N53/C53 -> 0.047576088 | Q53: =Q28+Q20+Q12+Q52+Q36+Q44 -> 2900 | R53: =R52+R36+R28+R20+R12+R44 -> 1 | S53: =Q53/C53 -> 0.036336754 | T53: =T28+T20+T12+T52+T36+T44 -> 0 | U53: =U52+U36+U28+U20+U12+U44 -> 0 | V53: =T53/C53 -> 0 | W53: =W28+W20+W12+W52+W36+W44 -> 0 | X53: =X52+X36+X28+X20+X12+X44 -> 0 | Y53: =W53/C53 -> 0 | Z53: =Z28+Z20+Z12+Z52+Z36+Z44 -> 0 | AA53: =AA52+AA36+AA28+AA20+AA12+AA44 -> 0 | AB53: =Z53/C53 -> 0 | AC53: =AC28+AC20+AC12+AC52+AC36+AC44 -> 0 | AD53: =AD52+AD36+AD28+AD20+AD12+AD44 -> 0 | AE53: =AC53/C53 -> 0 | AF53: =AF28+AF20+AF12+AF52+AF36+AF44 -> 0 | AG53: =AG52+AG36+AG28+AG20+AG12+AG44 -> 0 | AH53: =AF53/C53 -> 0 | AI53: =AI28+AI20+AI12+AI52+AI36+AI44 -> 5040 | AJ53: =AJ52+AJ36+AJ28+AJ20+AJ12+AJ44 -> 1 | AK53: =AI53/C53 -> 0.063150772 | AL53: =AL28+AL20+AL12+AL52+AL36+AL44 -> 0 | AM53: =AM52+AM36+AM28+AM20+AM12+AM44 -> 0 | AN53: =AL53/C53 -> 0 | AO53: =AO28+AO20+AO12+AO52+AO36+AO44 -> 0 | AP53: =AP52+AP36+AP28+AP20+AP12+AP44 -> 0 | AQ53: =AO53/C53 -> 0 | AR53: =AR28+AR20+AR12+AR52+AR36+AR44 -> 13740 | AS53: =AS52+AS36+AS28+AS20+AS12+AS44 -> 9 | AT53: =AR53/C53 -> 0.17216103 | AU53: =AU28+AU20+AU12+AU52+AU36+AU44 -> 0 | AV53: =AV52+AV36+AV28+AV20+AV12+AV44 -> 0 | AW53: =AU53/C53 -> 0 | AX53: =AX28+AX20+AX12+AX52+AX36+AX44 -> 0 | AY53: =AY52+AY36+AY28+AY20+AY12+AY44 -> 0 | AZ53: =AX53/C53 -> 0 | BA53: =BA28+BA20+BA12+BA52+BA36+BA44 -> 0 | BB53: =BB52+BB36+BB28+BB20+BB12+BB44 -> 0 | BC53: =BA53/C53 -> 0 | BD53: =BD28+BD20+BD12+BD52+BD36+BD44 -> 0 | BE53: =BE52+BE36+BE28+BE20+BE12+BE44 -> 0 | BF53: =BD53/C53 -> 0 | BG53: =BG28+BG20+BG12+BG52+BG36+BG44 -> 0 | BH53: =BH52+BH36+BH28+BH20+BH12+BH44 -> 0 | BI53: =BI52+BI36+BI28+BI20+BI12+BI44 -> 0 | BJ53: =BH53/C53 -> 0 | BK53: =BK28+BK20+BK12+BK52+BK36+BK44 -> 0 | BL53: =BL52+BL36+BL28+BL20+BL12+BL44 -> 0 | BM53: =BM52+BM36+BM28+BM20+BM12+BM44 -> 0 | BN53: =BL53/C53 -> 0 | BO53: =BO28+BO20+BO12+BO52+BO36+BO44 -> 0 | BP53: =BP52+BP36+BP28+BP20+BP12+BP44 -> 0 | BQ53: =BQ52+BQ36+BQ28+BQ20+BQ12+BQ44 -> 0 | BR53: =BO53/C53 -> 0 | BS53: =BS28+BS20+BS12+BS52+BS36+BS44 -> 0 | BT53: =BT52+BT36+BT28+BT20+BT12+BT44 -> 0 | BU53: =BU52+BU36+BU28+BU20+BU12+BU44 -> 0 | BV53: =BT53/C53 -> 0
E60: Promotion | I60: 1 WEEKLIY | M60: 2 WEEKLIY | P60: LV LW | Q60: 3 WEEKLIY | T60: LV LW | U60: 4 WEEKLIY | X60: LV LW | Y60: 5 WEEKLIY | AB60: LV LW | AC60: 6 WEEKLIY | AF60: LV LW | AG60: DEC TL
E61: =E2 -> 丁單 | I61: =E12 -> 11412 | J61: =F12 -> 13 | K61: =I61/C12 -> 0.14299139 | M61: =E20 -> 0 | N61: =F20 -> 0 | O61: =M61/C20 -> #DIV/0! | P61: =SUM(M61/I61)-1 -> -1 | Q61: =E28 -> 0 | R61: =F28 -> 0 | S61: =Q61/C28 -> #DIV/0! | T61: =SUM(Q61/M61)-1 -> #DIV/0! | U61: =E36 -> 0 | V61: =F36 -> 0 | W61: =U61/C36 -> #DIV/0! | X61: =SUM(U61/Q61)-1 -> #DIV/0! | Y61: =E44 -> 0 | Z61: =F44 -> 0 | AA61: =Y61/C44 -> #DIV/0! | AB61: =SUM(Y61/U61)-1 -> #DIV/0! | AC61: =E52 -> 0 | AD61: =F52 -> 0 | AE61: =AC61/C52 -> #DIV/0! | AF61: =SUM(AC61/Y61)-1 -> #DIV/0! | AG61: =E53 -> 11412 | AH61: =F53 -> 13 | AI61: =AG61/C53 -> 0.14299139
E62: =H2 -> NEW WHITE VIP | I62: =H12 -> 19421 | J62: =I12 -> 6 | K62: =I62/C12 -> 0.24334348 | M62: =H20 -> 0 | N62: =I20 -> 0 | O62: =M62/C20 -> #DIV/0! | P62: =SUM(M62/I62)-1 -> -1 | Q62: =H28 -> 0 | R62: =I28 -> 0 | S62: =Q62/C28 -> #DIV/0! | T62: =SUM(Q62/M62)-1 -> #DIV/0! | U62: =H36 -> 0 | V62: =I36 -> 0 | W62: =U62/C36 -> #DIV/0! | X62: =SUM(U62/Q62)-1 -> #DIV/0! | Y62: =H44 -> 0 | Z62: =I44 -> 0 | AA62: =Y62/C44 -> #DIV/0! | AB62: =SUM(Y62/U62)-1 -> #DIV/0! | AC62: =H52 -> 0 | AD62: =I52 -> 0 | AE62: =AC62/C52 -> #DIV/0! | AF62: =SUM(AC62/Y62)-1 -> #DIV/0! | AG62: =H53 -> 19421 | AH62: =I53 -> 6 | AI62: =AG62/C53 -> 0.24334348
E63: =K2 -> NEW RED VIP | I63: =K12 -> 0 | J63: =L12 -> 0 | K63: =I63/C12 -> 0 | M63: =K20 -> 0 | N63: =L20 -> 0 | O63: =M63/C20 -> #DIV/0! | P63: =SUM(M63/I63)-1 -> #DIV/0! | Q63: =K28 -> 0 | R63: =L28 -> 0 | S63: =Q63/C28 -> #DIV/0! | T63: =SUM(Q63/M63)-1 -> #DIV/0! | U63: =K36 -> 0 | V63: =L36 -> 0 | W63: =U63/C36 -> #DIV/0! | X63: =SUM(U63/Q63)-1 -> #DIV/0! | Y63: =K44 -> 0 | Z63: =L44 -> 0 | AA63: =Y63/C44 -> #DIV/0! | AB63: =SUM(Y63/U63)-1 -> #DIV/0! | AC63: =K52 -> 0 | AD63: =L52 -> 0 | AE63: =AC63/C52 -> #DIV/0! | AF63: =SUM(AC63/Y63)-1 -> #DIV/0! | AG63: =K53 -> 0 | AH63: =L53 -> 0 | AI63: =AG63/C53 -> 0
E64: =N2 -> 回流VIP 9折 | I64: =N12 -> 3797 | J64: =O12 -> 2 | K64: =I64/C12 -> 0.047576088 | M64: =N20 -> 0 | N64: =O20 -> 0 | O64: =M64/C20 -> #DIV/0! | P64: =SUM(M64/I64)-1 -> -1 | Q64: =N28 -> 0 | R64: =O28 -> 0 | S64: =Q64/C28 -> #DIV/0! | T64: =SUM(Q64/M64)-1 -> #DIV/0! | U64: =N36 -> 0 | V64: =O36 -> 0 | W64: =U64/C36 -> #DIV/0! | X64: =SUM(U64/Q64)-1 -> #DIV/0! | Y64: =N44 -> 0 | Z64: =O44 -> 0 | AA64: =Y64/C44 -> #DIV/0! | AB64: =SUM(Y64/U64)-1 -> #DIV/0! | AC64: =N52 -> 0 | AD64: =O52 -> 0 | AE64: =AC64/C52 -> #DIV/0! | AF64: =SUM(AC64/Y64)-1 -> #DIV/0! | AG64: =N53 -> 3797 | AH64: =O53 -> 2 | AI64: =AG64/C53 -> 0.047576088
E65: =Q2 -> 回流VIP 85折 | I65: =Q12 -> 2900 | J65: =R12 -> 1 | K65: =I65/C12 -> 0.036336754 | M65: =Q20 -> 0 | N65: =R20 -> 0 | O65: =M65/C20 -> #DIV/0! | P65: =SUM(M65/I65)-1 -> -1 | Q65: =Q28 -> 0 | R65: =R28 -> 0 | S65: =Q65/C28 -> #DIV/0! | T65: =SUM(Q65/M65)-1 -> #DIV/0! | U65: =Q36 -> 0 | V65: =R36 -> 0 | W65: =U65/C36 -> #DIV/0! | X65: =SUM(U65/Q65)-1 -> #DIV/0! | Y65: =Q44 -> 0 | Z65: =R44 -> 0 | AA65: =Y65/C44 -> #DIV/0! | AB65: =SUM(Y65/U65)-1 -> #DIV/0! | AC65: =Q52 -> 0 | AD65: =R52 -> 0 | AE65: =AC65/C52 -> #DIV/0! | AF65: =SUM(AC65/Y65)-1 -> #DIV/0! | AG65: =Q53 -> 2900 | AH65: =R53 -> 1 | AI65: =AG65/C53 -> 0.036336754
E66: =T2 -> 萬元單 | I66: =T12 -> 0 | J66: =U12 -> 0 | K66: =I66/C12 -> 0 | M66: =T20 -> 0 | N66: =U20 -> 0 | O66: =M66/C20 -> #DIV/0! | P66: =SUM(M66/I66)-1 -> #DIV/0! | Q66: =T28 -> 0 | R66: =U28 -> 0 | S66: =Q66/C28 -> #DIV/0! | T66: =SUM(Q66/M66)-1 -> #DIV/0! | U66: =T36 -> 0 | V66: =U36 -> 0 | W66: =U66/C36 -> #DIV/0! | X66: =SUM(U66/Q66)-1 -> #DIV/0! | Y66: =T44 -> 0 | Z66: =U44 -> 0 | AA66: =Y66/C44 -> #DIV/0! | AB66: =SUM(Y66/U66)-1 -> #DIV/0! | AC66: =T52 -> 0 | AD66: =U52 -> 0 | AE66: =AC66/C52 -> #DIV/0! | AF66: =SUM(AC66/Y66)-1 -> #DIV/0! | AG66: =T53 -> 0 | AH66: =U53 -> 0 | AI66: =AG66/C53 -> 0
E67: =W2 -> 2件88 | I67: =W12 -> 0 | J67: =X12 -> 0 | K67: =I67/C12 -> 0 | M67: =W20 -> 0 | N67: =X20 -> 0 | O67: =M67/C20 -> #DIV/0! | P67: =SUM(M67/I67)-1 -> #DIV/0! | Q67: =W28 -> 0 | R67: =X28 -> 0 | S67: =Q67/C28 -> #DIV/0! | T67: =SUM(Q67/M67)-1 -> #DIV/0! | U67: =W36 -> 0 | V67: =X36 -> 0 | W67: =U67/C36 -> #DIV/0! | X67: =SUM(U67/Q67)-1 -> #DIV/0! | Y67: =W44 -> 0 | Z67: =X44 -> 0 | AA67: =Y67/C44 -> #DIV/0! | AB67: =SUM(Y67/U67)-1 -> #DIV/0! | AC67: =W52 -> 0 | AD67: =X52 -> 0 | AE67: =AC67/C52 -> #DIV/0! | AF67: =SUM(AC67/Y67)-1 -> #DIV/0! | AG67: =W53 -> 0 | AH67: =X53 -> 0 | AI67: =AG67/C53 -> 0
E68: =Z2 -> 3件85 | I68: =Z12 -> 0 | J68: =AA12 -> 0 | K68: =I68/C12 -> 0 | M68: =Z20 -> 0 | N68: =AA20 -> 0 | O68: =M68/C20 -> #DIV/0! | P68: =SUM(M68/I68)-1 -> #DIV/0! | Q68: =Z28 -> 0 | R68: =AA28 -> 0 | S68: =Q68/C28 -> #DIV/0! | T68: =SUM(Q68/M68)-1 -> #DIV/0! | U68: =Z36 -> 0 | V68: =AA36 -> 0 | W68: =U68/C36 -> #DIV/0! | X68: =SUM(U68/Q68)-1 -> #DIV/0! | Y68: =Z44 -> 0 | Z68: =AA44 -> 0 | AA68: =Y68/C44 -> #DIV/0! | AB68: =SUM(Y68/U68)-1 -> #DIV/0! | AC68: =Z52 -> 0 | AD68: =AA52 -> 0 | AE68: =AC68/C52 -> #DIV/0! | AF68: =SUM(AC68/Y68)-1 -> #DIV/0! | AG68: =Z53 -> 0 | AH68: =AA53 -> 0 | AI68: =AG68/C53 -> 0
E69: =AC2 -> 4件8折 | I69: =AC12 -> 0 | J69: =AD12 -> 0 | K69: =I69/C12 -> 0 | M69: =AC20 -> 0 | N69: =AD20 -> 0 | O69: =M69/C20 -> #DIV/0! | P69: =SUM(M69/I69)-1 -> #DIV/0! | Q69: =AC28 -> 0 | R69: =AD28 -> 0 | S69: =Q69/C28 -> #DIV/0! | T69: =SUM(Q69/M69)-1 -> #DIV/0! | U69: =AC36 -> 0 | V69: =AD36 -> 0 | W69: =U69/C36 -> #DIV/0! | X69: =SUM(U69/Q69)-1 -> #DIV/0! | Y69: =AC44 -> 0 | Z69: =AD44 -> 0 | AA69: =Y69/C44 -> #DIV/0! | AB69: =SUM(Y69/U69)-1 -> #DIV/0! | AC69: =AC52 -> 0 | AD69: =AD52 -> 0 | AE69: =AC69/C52 -> #DIV/0! | AF69: =SUM(AC69/Y69)-1 -> #DIV/0! | AG69: =AC53 -> 0 | AH69: =AD53 -> 0 | AI69: =AG69/C53 -> 0
E70: =AF2 -> 3000-350 | I70: =AF12 -> 0 | J70: =AG12 -> 0 | K70: =I70/C12 -> 0 | M70: =AF20 -> 0 | N70: =AG20 -> 0 | O70: =M70/C20 -> #DIV/0! | P70: =SUM(M70/I70)-1 -> #DIV/0! | Q70: =AF28 -> 0 | R70: =AG28 -> 0 | S70: =Q70/C28 -> #DIV/0! | T70: =SUM(Q70/M70)-1 -> #DIV/0! | U70: =AF36 -> 0 | V70: =AG36 -> 0 | W70: =U70/C36 -> #DIV/0! | X70: =SUM(U70/Q70)-1 -> #DIV/0! | Y70: =AF44 -> 0 | Z70: =AG44 -> 0 | AA70: =Y70/C44 -> #DIV/0! | AB70: =SUM(Y70/U70)-1 -> #DIV/0! | AC70: =AF52 -> 0 | AD70: =AG52 -> 0 | AE70: =AC70/C52 -> #DIV/0! | AF70: =SUM(AC70/Y70)-1 -> #DIV/0! | AG70: =AF53 -> 0 | AH70: =AG53 -> 0 | AI70: =AG70/C53 -> 0
E71: =AI2 -> 5000-800 | I71: =AI12 -> 5040 | J71: =AJ12 -> 1 | K71: =I71/C12 -> 0.063150772 | M71: =AI20 -> 0 | N71: =AJ20 -> 0 | O71: =M71/C20 -> #DIV/0! | P71: =SUM(M71/I71)-1 -> -1 | Q71: =AI28 -> 0 | R71: =AJ28 -> 0 | S71: =Q71/C28 -> #DIV/0! | T71: =SUM(Q71/M71)-1 -> #DIV/0! | U71: =AI36 -> 0 | V71: =AJ36 -> 0 | W71: =U71/C36 -> #DIV/0! | X71: =SUM(U71/Q71)-1 -> #DIV/0! | Y71: =AI44 -> 0 | Z71: =AJ44 -> 0 | AA71: =Y71/C44 -> #DIV/0! | AB71: =SUM(Y71/U71)-1 -> #DIV/0! | AC71: =AI52 -> 0 | AD71: =AJ52 -> 0 | AE71: =AC71/C52 -> #DIV/0! | AF71: =SUM(AC71/Y71)-1 -> #DIV/0! | AG71: =AI53 -> 5040 | AH71: =AJ53 -> 1 | AI71: =AG71/C53 -> 0.063150772
E72: =AL2 -> 7000-1200 | I72: =AL12 -> 0 | J72: =AM12 -> 0 | K72: =I72/C12 -> 0 | M72: =AL20 -> 0 | N72: =AM20 -> 0 | O72: =M72/C20 -> #DIV/0! | P72: =SUM(M72/I72)-1 -> #DIV/0! | Q72: =AL28 -> 0 | R72: =AM28 -> 0 | S72: =Q72/C28 -> #DIV/0! | T72: =SUM(Q72/M72)-1 -> #DIV/0! | U72: =AL36 -> 0 | V72: =AM36 -> 0 | W72: =U72/C36 -> #DIV/0! | X72: =SUM(U72/Q72)-1 -> #DIV/0! | Y72: =AL44 -> 0 | Z72: =AM44 -> 0 | AA72: =Y72/C44 -> #DIV/0! | AB72: =SUM(Y72/U72)-1 -> #DIV/0! | AC72: =AL52 -> 0 | AD72: =AM52 -> 0 | AE72: =AC72/C52 -> #DIV/0! | AF72: =SUM(AC72/Y72)-1 -> #DIV/0! | AG72: =AL53 -> 0 | AH72: =AM53 -> 0 | AI72: =AG72/C53 -> 0
E73: =AO2 -> 12000-2000 | I73: =AO12 -> 0 | J73: =AP12 -> 0 | K73: =I73/C12 -> 0 | M73: =AO20 -> 0 | N73: =AP20 -> 0 | O73: =M73/C20 -> #DIV/0! | P73: =SUM(M73/I73)-1 -> #DIV/0! | Q73: =AO28 -> 0 | R73: =AP28 -> 0 | S73: =Q73/C28 -> #DIV/0! | T73: =SUM(Q73/M73)-1 -> #DIV/0! | U73: =AO36 -> 0 | V73: =AP36 -> 0 | W73: =U73/C36 -> #DIV/0! | X73: =SUM(U73/Q73)-1 -> #DIV/0! | Y73: =AO44 -> 0 | Z73: =AP44 -> 0 | AA73: =Y73/C44 -> #DIV/0! | AB73: =SUM(Y73/U73)-1 -> #DIV/0! | AC73: =AO52 -> 0 | AD73: =AP52 -> 0 | AE73: =AC73/C52 -> #DIV/0! | AF73: =SUM(AC73/Y73)-1 -> #DIV/0! | AG73: =AO53 -> 0 | AH73: =AP53 -> 0 | AI73: =AG73/C53 -> 0
E74: =AR2 -> 2对鞋85折 | I74: =AR12 -> 13740 | J74: =AS12 -> 9 | K74: =I74/C12 -> 0.17216103 | M74: =AR20 -> 0 | N74: =AS20 -> 0 | O74: =M74/C20 -> #DIV/0! | P74: =SUM(M74/I74)-1 -> -1 | Q74: =AR28 -> 0 | R74: =AS28 -> 0 | S74: =Q74/C28 -> #DIV/0! | T74: =SUM(Q74/M74)-1 -> #DIV/0! | U74: =AR36 -> 0 | V74: =AS36 -> 0 | W74: =U74/C36 -> #DIV/0! | X74: =SUM(U74/Q74)-1 -> #DIV/0! | Y74: =AR44 -> 0 | Z74: =AS44 -> 0 | AA74: =Y74/C44 -> #DIV/0! | AB74: =SUM(Y74/U74)-1 -> #DIV/0! | AC74: =AR52 -> 0 | AD74: =AS52 -> 0 | AE74: =AC74/C52 -> #DIV/0! | AF74: =SUM(AC74/Y74)-1 -> #DIV/0! | AG74: =AR53 -> 13740 | AH74: =AS53 -> 9 | AI74: =AG74/C53 -> 0.17216103
E75: =AU2 -> 待增 | I75: =AU12 -> 0 | J75: =AV12 -> 0 | K75: =I75/C12 -> 0 | M75: =AU20 -> 0 | N75: =AV20 -> 0 | O75: =M75/C20 -> #DIV/0! | P75: =SUM(M75/I75)-1 -> #DIV/0! | Q75: =AU28 -> 0 | R75: =AV28 -> 0 | S75: =Q75/C28 -> #DIV/0! | T75: =SUM(Q75/M75)-1 -> #DIV/0! | U75: =AU36 -> 0 | V75: =AV36 -> 0 | W75: =U75/C36 -> #DIV/0! | X75: =SUM(U75/Q75)-1 -> #DIV/0! | Y75: =AU44 -> 0 | Z75: =AV44 -> 0 | AA75: =Y75/C44 -> #DIV/0! | AB75: =SUM(Y75/U75)-1 -> #DIV/0! | AC75: =AU52 -> 0 | AD75: =AV52 -> 0 | AE75: =AC75/C52 -> #DIV/0! | AF75: =SUM(AC75/Y75)-1 -> #DIV/0! | AG75: =AU53 -> 0 | AH75: =AV53 -> 0 | AI75: =AG75/C53 -> 0
E76: =AX2 -> 待增 | I76: =AX12 -> 0 | J76: =AY12 -> 0 | K76: =I76/C12 -> 0 | M76: =AX20 -> 0 | N76: =AY20 -> 0 | O76: =M76/C20 -> #DIV/0! | P76: =SUM(M76/I76)-1 -> #DIV/0! | Q76: =AX28 -> 0 | R76: =AY28 -> 0 | S76: =Q76/C28 -> #DIV/0! | T76: =SUM(Q76/M76)-1 -> #DIV/0! | U76: =AX36 -> 0 | V76: =AY36 -> 0 | W76: =U76/C36 -> #DIV/0! | X76: =SUM(U76/Q76)-1 -> #DIV/0! | Y76: =AX52 -> 0 | Z76: =AY52 -> 0 | AA76: =Y76/C44 -> #DIV/0! | AB76: =SUM(Y76/U76)-1 -> #DIV/0! | AC76: =AX52 -> 0 | AD76: =AY52 -> 0 | AE76: =AC76/C52 -> #DIV/0! | AF76: =SUM(AC76/Y76)-1 -> #DIV/0! | AG76: =AX53 -> 0 | AH76: =AY53 -> 0 | AI76: =AG76/C53 -> 0
E77: =BA2 -> 待增 | I77: =BA12 -> 0 | J77: =BB12 -> 0 | K77: =I77/C12 -> 0 | M77: =BA20 -> 0 | N77: =BB20 -> 0 | O77: =M77/C20 -> #DIV/0! | P77: =SUM(M77/I77)-1 -> #DIV/0! | Q77: =BA28 -> 0 | R77: =BB28 -> 0 | S77: =Q77/C28 -> #DIV/0! | T77: =SUM(Q77/M77)-1 -> #DIV/0! | U77: =BA36 -> 0 | V77: =BB36 -> 0 | W77: =U77/C36 -> #DIV/0! | X77: =SUM(U77/Q77)-1 -> #DIV/0! | Y77: =BA52 -> 0 | Z77: =BB52 -> 0 | AA77: =Y77/C44 -> #DIV/0! | AB77: =SUM(Y77/U77)-1 -> #DIV/0! | AC77: =BA52 -> 0 | AD77: =BB52 -> 0 | AE77: =AC77/C52 -> #DIV/0! | AF77: =SUM(AC77/Y77)-1 -> #DIV/0! | AG77: =BA53 -> 0 | AH77: =BB53 -> 0 | AI77: =AG77/C53 -> 0
E78: =BD2 -> 待增 | I78: =BD12 -> 0 | J78: =BE12 -> 0 | K78: =I78/C12 -> 0 | M78: =BD20 -> 0 | N78: =BE20 -> 0 | O78: =M78/C20 -> #DIV/0! | P78: =SUM(M78/I78)-1 -> #DIV/0! | Q78: =BD28 -> 0 | R78: =BE28 -> 0 | S78: =Q78/C28 -> #DIV/0! | T78: =SUM(Q78/M78)-1 -> #DIV/0! | U78: =BD36 -> 0 | V78: =BE36 -> 0 | W78: =U78/C36 -> #DIV/0! | X78: =SUM(U78/Q78)-1 -> #DIV/0! | Y78: =BD52 -> 0 | Z78: =BE52 -> 0 | AA78: =Y78/C44 -> #DIV/0! | AB78: =SUM(Y78/U78)-1 -> #DIV/0! | AC78: =BD52 -> 0 | AD78: =BE52 -> 0 | AE78: =AC78/C52 -> #DIV/0! | AF78: =SUM(AC78/Y78)-1 -> #DIV/0! | AG78: =BD53 -> 0 | AH78: =BE53 -> 0 | AI78: =AG78/C53 -> 0
E79: =BG2 -> 待增 | I79: =BG12 -> 0 | J79: =BH12 -> 0 | K79: =I79/C12 -> 0 | M79: =BG20 -> 0 | N79: =BH20 -> 0 | O79: =M79/C20 -> #DIV/0! | P79: =SUM(M79/I79)-1 -> #DIV/0! | Q79: =BG28 -> 0 | R79: =BH28 -> 0 | S79: =Q79/C28 -> #DIV/0! | T79: =SUM(Q79/M79)-1 -> #DIV/0! | U79: =BG36 -> 0 | V79: =BH36 -> 0 | W79: =U79/C36 -> #DIV/0! | X79: =SUM(U79/Q79)-1 -> #DIV/0! | Y79: =BG52 -> 0 | Z79: =BH52 -> 0 | AA79: =Y79/C44 -> #DIV/0! | AB79: =SUM(Y79/U79)-1 -> #DIV/0! | AC79: =BG52 -> 0 | AD79: =BH52 -> 0 | AE79: =AC79/C52 -> #DIV/0! | AF79: =SUM(AC79/Y79)-1 -> #DIV/0! | AG79: =BG53 -> 0 | AH79: =BH53 -> 0 | AI79: =AG79/C53 -> 0
E80: =BK2 -> 待增 | I80: =BK12 -> 0 | J80: =BL12 -> 0 | K80: =I80/C12 -> 0 | M80: =BK20 -> 0 | N80: =BL20 -> 0 | O80: =M80/C20 -> #DIV/0! | P80: =SUM(M80/I80)-1 -> #DIV/0! | Q80: =BK28 -> 0 | R80: =BL28 -> 0 | S80: =Q80/C28 -> #DIV/0! | T80: =SUM(Q80/M80)-1 -> #DIV/0! | U80: =BK36 -> 0 | V80: =BL36 -> 0 | W80: =U80/C36 -> #DIV/0! | X80: =SUM(U80/Q80)-1 -> #DIV/0! | Y80: =BK52 -> 0 | Z80: =BL52 -> 0 | AA80: =Y80/C44 -> #DIV/0! | AB80: =SUM(Y80/U80)-1 -> #DIV/0! | AC80: =BK52 -> 0 | AD80: =BL52 -> 0 | AE80: =AC80/C52 -> #DIV/0! | AF80: =SUM(AC80/Y80)-1 -> #DIV/0! | AG80: =BK53 -> 0 | AH80: =BL53 -> 0 | AI80: =AG80/C53 -> 0
E81: =BO2 -> 待增 | I81: =BO12 -> 0 | J81: =BP12 -> 0 | K81: =I81/C12 -> 0 | M81: =BO20 -> 0 | N81: =BP20 -> 0 | O81: =M81/C20 -> #DIV/0! | P81: =SUM(M81/I81)-1 -> #DIV/0! | Q81: =BO28 -> 0 | R81: =BP28 -> 0 | S81: =Q81/C28 -> #DIV/0! | T81: =SUM(Q81/M81)-1 -> #DIV/0! | U81: =BO36 -> 0 | V81: =BP36 -> 0 | W81: =U81/C36 -> #DIV/0! | X81: =SUM(U81/Q81)-1 -> #DIV/0! | Y81: =BO52 -> 0 | Z81: =BP52 -> 0 | AA81: =Y81/C44 -> #DIV/0! | AB81: =SUM(Y81/U81)-1 -> #DIV/0! | AC81: =BO52 -> 0 | AD81: =BP52 -> 0 | AE81: =AC81/C52 -> #DIV/0! | AF81: =SUM(AC81/Y81)-1 -> #DIV/0! | AG81: =BO53 -> 0 | AH81: =BP53 -> 0 | AI81: =AG81/C53 -> 0
E82: =BS2 -> 待增 | I82: =BS12 -> 0 | J82: =BT12 -> 0 | K82: =I82/C12 -> 0 | M82: =BS20 -> 0 | N82: =BT20 -> 0 | O82: =M82/C20 -> #DIV/0! | P82: =SUM(M82/I82)-1 -> #DIV/0! | Q82: =BS28 -> 0 | R82: =BT28 -> 0 | S82: =Q82/C28 -> #DIV/0! | T82: =SUM(Q82/M82)-1 -> #DIV/0! | U82: =BS36 -> 0 | V82: =BT36 -> 0 | W82: =U82/C36 -> #DIV/0! | X82: =SUM(U82/Q82)-1 -> #DIV/0! | Y82: =BS52 -> 0 | Z82: =BT52 -> 0 | AA82: =Y82/C44 -> #DIV/0! | AB82: =SUM(Y82/U82)-1 -> #DIV/0! | AC82: =BS52 -> 0 | AD82: =BT52 -> 0 | AE82: =AC82/C52 -> #DIV/0! | AF82: =SUM(AC82/Y82)-1 -> #DIV/0! | AG82: =BS53 -> 0 | AH82: =BT53 -> 0 | AI82: =AG82/C63 -> #DIV/0!

Sheet 1
B1: =SEP!E2 -> 丁單 | F1: =SEP!H2 -> NEW WHITE VIP | H1: =SEP!K2 -> NEW RED VIP | J1: =SEP!N2 -> 回流VIP 9折 | L1: =SEP!Q2 -> 回流VIP 85折 | N1: =SEP!T2 -> 萬元單 | P1: =SEP!W2 -> 2件88 | R1: =SEP!Z2 -> 3件85 | T1: =SEP!AC2 -> 4件8折 | V1: =SEP!AF2 -> 3000-350 | X1: =SEP!AI2 -> 5000-800 | Z1: =SEP!AL2 -> 7000-1200 | AB1: =SEP!AO2 -> 12000-2000 | AD1: =SEP!AR2 -> 2对鞋85折 | AF1: =SEP!AU2 -> 待增 | AH1: =SEP!AX2 -> 待增 | AJ1: =SEP!BA2 -> 待增 | AL1: =SEP!BD2 -> 待增 | AN1: =SEP!BG2 -> 待增 | AQ1: =SEP!BK2 -> 待增 | AT1: =SEP!BO2 -> 待增 | AX1: =SEP!BS2 -> 待增
A2: 單數 | B2: 單號 | C2: STAFF | D2: 單價 | E2: 單數 | F2: 單價 | G2: 單數 | H2: 單價 | I2: 單數 | J2: 單價 | K2: 單數 | L2: 單價 | M2: 單數 | N2: 單價 | O2: 單數 | P2: 單價 | Q2: 單數 | R2: 單價 | S2: 單數 | T2: 單價 | U2: 單數 | V2: 單價 | W2: 單數 | X2: 單價 | Y2: 單數 | Z2: 單價 | AA2: 單數 | AB2: 單價 | AC2: 單數 | AD2: 單價 | AE2: 單數 | AF2: 單價 | AG2: 單數 | AH2: 單價 | AI2: 單數 | AJ2: 單價 | AK2: 單數 | AL2: 單價 | AM2: 單數 | AN2: 單價 | AO2: 單數 | AP2: 件數 | AQ2: 單價 | AR2: 單數 | AS2: 件數 | AT2: 單價 | AU2: 全單 | AV2: 單數 | AW2: 件數 | AX2: 單價 | AY2: 全單 | AZ2: 單數 | BA2: 件數
A3: 1 | B3: A002 | C3: M2518 | D3: 680 | E3: 1 | F3: 2694 | G3: 1 | J3: 2465 | K3: 1 | L3: 2900 | M3: 1 | P3: 2694 | Q3: 1 | R3: 2331 | S3: 1 | T3: 2929 | U3: 1 | V3: 2710 | W3: 1 | X3: 5040 | Y3: 1 | AD3: 1684 | AE3: 1
A4: 2 | B4: A006 | C4: M2902 | D4: 880 | E4: 1 | F4: 2710 | G4: 1 | J4: 1332 | K4: 1 | P4: 1867 | Q4: 1 | R4: 2465 | S4: 1 | T4: 2900 | U4: 1 | V4: 2651 | W4: 1 | AD4: 1684 | AE4: 1
A5: 3 | B5: A019 | C5: M0989 | D5: 680 | E5: 1 | F5: 2651 | G5: 1 | P5: 3222 | Q5: 1 | R5: 2786 | S5: 1 | AD5: 1599 | AE5: 1
A6: 4 | B6: B001 | C6: M3060 | D6: 1190 | E6: 1 | F6: 3222 | G6: 1 | P6: 1638 | Q6: 1 | R6: 2891 | S6: 1 | AD6: 1769 | AE6: 1
A7: 5 | B7: A024 | C7: M1436 | D7: 1332 | E7: 1 | F7: 3104 | G7: 1 | P7: 1479 | Q7: 1 | R7: 2381 | S7: 1 | AD7: 673 | AE7: 1
A8: 6 | B8: B004 | C8: M3060 | D8: 890 | E8: 1 | F8: 5040 | G8: 1 | P8: 1515 | Q8: 1 | R8: 3104 | S8: 1 | AD8: 1429 | AE8: 1
A9: 7 | B9: A027 | C9: M2518 | D9: 1090 | E9: 1 | P9: 2080 | Q9: 1 | R9: 2210 | S9: 1 | AD9: 1600 | AE9: 1
A10: 8 | B10: A029 | C10: M2172 | D10: 890 | E10: 1 | P10: 2131 | Q10: 1 | AD10: 1685 | AE10: 1
A11: 9 | B11: A030 | C11: M1436 | D11: 890 | E11: 1 | P11: 1990 | Q11: 1 | AD11: 1617 | AE11: 1
A12: 10 | B12: A033 | C12: M0989 | D12: 980 | E12: 1 | P12: 1617 | Q12: 1
A13: 11 | B13: B007 | C13: M0989 | D13: 340 | E13: 1
A14: 12
A15: 13
A16: 14
A17: 15
A18: 16
A19: 17
A20: 18
A21: 19
A22: 20
A23: 21
A24: 22
A25: 23
... A57: 55
D58: =SUM(D3:D57) -> 9842 | E58: =SUM(E3:E57) -> 11 | F58: =SUM(F3:F57) -> 19421 | G58: =SUM(G3:G57) -> 6 | H58: =SUM(H3:H57) -> 0 | I58: =SUM(I3:I57) -> 0 | J58: =SUM(J3:J57) -> 3797 | K58: =SUM(K3:K57) -> 2 | ... BA58: =SUM(BA3:BA57) -> 0
A59: 這里有公式請不要刪除 | B59: 當日Staff丁單數量 | D59: 佔比
B60: M0989 | C60: =COUNTIF(C3:C57,"m0989") -> 3 | D60: =C60/$C$67 -> 0.27272727
B61: M1436 | C61: =COUNTIF(C3:C57,"m1436") -> 2 | D61: =C61/$C$67 -> 0.18181818
B62: M2172 | C62: =COUNTIF(C3:C57,"m2172") -> 1 | D62: =C62/$C$67 -> 0.090909091
B63: M2902 | C63: =COUNTIF(C3:C57,"m2902") -> 1 | D63: =C63/$C$67 -> 0.090909091
B64: M3060 | C64: =COUNTIF(C2:C56,"m3060") -> 2 | D64: =C64/$C$67 -> 0.18181818
B65: M2518 | C65: =COUNTIF(C2:C56,"M2518") -> 2 | D65: =C65/$C$67 -> 0.18181818
B66: xxx | C66: =COUNTIF(C3:C57,"xxx") -> 0 | D66: =C66/$C$67 -> 0
B67: TOTAL | C67: =SUM(C60:C66) -> 11 | D67: =C67/$C$67 -> 1

Sheet 2
B1: =SEP!E2 -> 丁單 | F1: =SEP!H2 -> NEW WHITE VIP | H1: =SEP!K2 -> NEW RED VIP | J1: =SEP!N2 -> 回流VIP 9折 | L1: =SEP!Q2 -> 回流VIP 85折 | N1: =SEP!T2 -> 萬元單 | P1: =SEP!W2 -> 2件88 | R1: =SEP!Z2 -> 3件85 | T1: =SEP!AC2 -> 4件8折 | V1: =SEP!AF2 -> 3000-350 | X1: =SEP!AI2 -> 5000-800 | Z1: =SEP!AL2 -> 7000-1200 | AB1: =SEP!AO2 -> 12000-2000 | AD1: =SEP!AR2 -> 2对鞋85折 | AF1: =SEP!AU2 -> 待增 | AH1: =SEP!AX2 -> 待增 | AJ1: =SEP!BA2 -> 待增 | AL1: =SEP!BD2 -> 待增 | AN1: =SEP!BG2 -> 待增 | AQ1: =SEP!BK2 -> 待增 | AT1: =SEP!BO2 -> 待增 | AX1: =SEP!BS2 -> 待增
A2: 單數 | B2: 單號 | C2: STAFF | D2: 單價 | E2: 單數 | F2: 單價 | G2: 單數 | H2: 單價 | I2: 單數 | J2: 單價 | K2: 單數 | L2: 單價 | M2: 單數 | N2: 單價 | O2: 單數 | P2: 單價 | Q2: 單數 | R2: 單價 | S2: 單數 | T2: 單價 | U2: 單數 | V2: 單價 | W2: 單數 | X2: 單價 | Y2: 單數 | Z2: 單價 | AA2: 單數 | AB2: 單價 | AC2: 單數 | AD2: 單價 | AE2: 單數 | AF2: 單價 | AG2: 單數 | AH2: 單價 | AI2: 單數 | AJ2: 單價 | AK2: 單數 | AL2: 單價 | AM2: 單數 | AN2: 單價 | AO2: 單數 | AP2: 件數 | AQ2: 單價 | AR2: 單數 | AS2: 件數 | AT2: 單價 | AU2: 全單 | AV2: 單數 | AW2: 件數 | AX2: 單價 | AY2: 全單 | AZ2: 單數 | BA2: 件數
A3: 1 | B3: A002 | C3: M2902 | D3: 790 | E3: 1 | P3: 2606 | Q3: 1 | R3: 1633 | S3: 1
A4: 2 | B4: A006 | C4: M2902 | D4: 780 | E4: 1 | P4: 1427 | Q4: 1
A5: 3 | P5: 1990 | Q5: 1
A6: 4
A7: 5
A8: 6
A9: 7
A10: 8
A11: 9
A12: 10
A13: 11
A14: 12
A15: 13
A16: 14
A17: 15
... A57: 55
D58: =SUM(D3:D57) -> 1570 | E58: =SUM(E3:E57) -> 2 | F58: =SUM(F3:F57) -> 0 | G58: =SUM(G3:G57) -> 0 | H58: =SUM(H3:H57) -> 0 | I58: =SUM(I3:I57) -> 0 | J58: =SUM(J3:J57) -> 0 | K58: =SUM(K3:K57) -> 0 | ... BA58: =SUM(BA3:BA57) -> 0
A59: 這里有公式請不要刪除 | B59: 當日Staff丁單數量 | D59: 佔比
B60: M0989 | C60: =COUNTIF(C3:C57,"m0989") -> 0 | D60: =C60/$C$67 -> 0
B61: M1436 | C61: =COUNTIF(C3:C57,"m1436") -> 0 | D61: =C61/$C$67 -> 0
B62: M2172 | C62: =COUNTIF(C3:C57,"m2172") -> 0 | D62: =C62/$C$67 -> 0
B63: M2902 | C63: =COUNTIF(C3:C57,"m2902") -> 2 | D63: =C63/$C$67 -> 1
B64: M3060 | C64: =COUNTIF(C2:C56,"m3060") -> 0 | D64: =C64/$C$67 -> 0
B65: M2518 | C65: =COUNTIF(C2:C56,"M2518") -> 0 | D65: =C65/$C$67 -> 0
B66: xxx | C66: =COUNTIF(C3:C57,"xxx") -> 0 | D66: =C66/$C$67 -> 0
B67: TOTAL | C67: =SUM(C60:C66) -> 2 | D67: =C67/$C$67 -> 1

Sheet 3
B1: =SEP!E2 -> 丁單 | F1: =SEP!H2 -> NEW WHITE VIP | H1: =SEP!K2 -> NEW RED VIP | J1: =SEP!N2 -> 回流VIP 9折 | L1: =SEP!Q2 -> 回流VIP 85折 | N1: =SEP!T2 -> 萬元單 | P1: =SEP!W2 -> 2件88 | R1: =SEP!Z2 -> 3件85 | T1: =SEP!AC2 -> 4件8折 | V1: =SEP!AF2 -> 3000-350 | X1: =SEP!AI2 -> 5000-800 | Z1: =SEP!AL2 -> 7000-1200 | AB1: =SEP!AO2 -> 12000-2000 | AD1: =SEP!AR2 -> 2对鞋85折 | AF1: =SEP!AU2 -> 待增 | AH1: =SEP!AX2 -> 待增 | AJ1: =SEP!BA2 -> 待增 | AL1: =SEP!BD2 -> 待增 | AN1: =SEP!BG2 -> 待增 | AQ1: =SEP!BK2 -> 待增 | AT1: =SEP!BO2 -> 待增 | AX1: =SEP!BS2 -> 待增
A2: 單數 | B2: 單號 | C2: STAFF | D2: 單價 | E2: 單數 | F2: 單價 | G2: 單數 | H2: 單價 | I2: 單數 | J2: 單價 | K2: 單數 | L2: 單價 | M2: 單數 | N2: 單價 | O2: 單數 | P2: 單價 | Q2: 單數 | R2: 單價 | S2: 單數 | T2: 單價 | U2: 單數 | V2: 單價 | W2: 單數 | X2: 單價 | Y2: 單數 | Z2: 單價 | AA2: 單數 | AB2: 單價 | AC2: 單數 | AD2: 單價 | AE2: 單數 | AF2: 單價 | AG2: 單數 | AH2: 單價 | AI2: 單數 | AJ2: 單價 | AK2: 單數 | AL2: 單價 | AM2: 單數 | AN2: 單價 | AO2: 單數 | AP2: 件數 | AQ2: 單價 | AR2: 單數 | AS2: 件數 | AT2: 單價 | AU2: 全單 | AV2: 單數 | AW2: 件數 | AX2: 單價 | AY2: 全單 | AZ2: 單數 | BA2: 件數
A3: 1
A4: 2
A5: 3
A6: 4
A7: 5
A8: 6
A9: 7
A10: 8
A11: 9
A12: 10
A13: 11
A14: 12
... A57: 55
D58: =SUM(D3:D57) -> 0 | E58: =SUM(E3:E57) -> 0 | F58: =SUM(F3:F57) -> 0 | G58: =SUM(G3:G57) -> 0 | H58: =SUM(H3:H57) -> 0 | I58: =SUM(I3:I57) -> 0 | J58: =SUM(J3:J57) -> 0 | K58: =SUM(K3:K57) -> 0 | ... BA58: =SUM(BA3:BA57) -> 0
A59: 這里有公式請不要刪除 | B59: 當日Staff丁單數量 | D59: 佔比
B60: M0989 | C60: =COUNTIF(C3:C57,"m0989") -> 0 | D60: =C60/$C$67 -> #DIV/0!
B61: M1436 | C61: =COUNTIF(C3:C57,"m1436") -> 0 | D61: =C61/$C$67 -> #DIV/0!
B62: M2172 | C62: =COUNTIF(C3:C57,"m2172") -> 0 | D62: =C62/$C$67 -> #DIV/0!
B63: M2902 | C63: =COUNTIF(C3:C57,"m2902") -> 0 | D63: =C63/$C$67 -> #DIV/0!
B64: M3060 | C64: =COUNTIF(C2:C56,"m3060") -> 0 | D64: =C64/$C$67 -> #DIV/0!
B65: M2518 | C65: =COUNTIF(C2:C56,"M2518") -> 0 | D65: =C65/$C$67 -> #DIV/0!
B66: xxx | C66: =COUNTIF(C3:C57,"xxx") -> 0 | D66: =C66/$C$67 -> #DIV/0!
B67: TOTAL | C67: =SUM(C60:C66) -> 0 | D67: =C67/$C$67 -> #DIV/0!

Sheet 4
B1: =SEP!E2 -> 丁單 | F1: =SEP!H2 -> NEW WHITE VIP | H1: =SEP!K2 -> NEW RED VIP | J1: =SEP!N2 -> 回流VIP 9折 | L1: =SEP!Q2 -> 回流VIP 85折 | N1: =SEP!T2 -> 萬元單 | P1: =SEP!W2 -> 2件88 | R1: =SEP!Z2 -> 3件85 | T1: =SEP!AC2 -> 4件8折 | V1: =SEP!AF2 -> 3000-350 | X1: =SEP!AI2 -> 5000-800 | Z1: =SEP!AL2 -> 7000-1200 | AB1: =SEP!AO2 -> 12000-2000 | AD1: =SEP!AR2 -> 2对鞋85折 | AF1: =SEP!AU2 -> 待增 | AH1: =SEP!AX2 -> 待增 | AJ1: =SEP!BA2 -> 待增 | AL1: =SEP!BD2 -> 待增 | AN1: =SEP!BG2 -> 待增 | AQ1: =SEP!BK2 -> 待增 | AT1: =SEP!BO2 -> 待增 | AX1: =SEP!BS2 -> 待增
A2: 單數 | B2: 單號 | C2: STAFF | D2: 單價 | E2: 單數 | F2: 單價 | G2: 單數 | H2: 單價 | I2: 單數 | J2: 單價 | K2: 單數 | L2: 單價 | M2: 單數 | N2: 單價 | O2: 單數 | P2: 單價 | Q2: 單數 | R2: 單價 | S2: 單數 | T2: 單價 | U2: 單數 | V2: 單價 | W2: 單數 | X2: 單價 | Y2: 單數 | Z2: 單價 | AA2: 單數 | AB2: 單價 | AC2: 單數 | AD2: 單價 | AE2: 單數 | AF2: 單價 | AG2: 單數 | AH2: 單價 | AI2: 單數 | AJ2: 單價 | AK2: 單數 | AL2: 單價 | AM2: 單數 | AN2: 單價 | AO2: 單數 | AP2: 件數 | AQ2: 單價 | AR2: 單數 | AS2: 件數 | AT2: 單價 | AU2: 全單 | AV2: 單數 | AW2: 件數 | AX2: 單價 | AY2: 全單 | AZ2: 單數 | BA2: 件數
A3: 1
A4: 2
A5: 3
A6: 4
A7: 5
A8: 6
A9: 7
A10: 8
A11: 9
A12: 10
A13: 11
A14: 12
... A57: 55
D58: =SUM(D3:D57) -> 0 | E58: =SUM(E3:E57) -> 0 | F58: =SUM(F3:F57) -> 0 | G58: =SUM(G3:G57) -> 0 | H58: =SUM(H3:H57) -> 0 | I58: =SUM(I3:I57) -> 0 | J58: =SUM(J3:J57) -> 0 | K58: =SUM(K3:K57) -> 0 | ... BA58: =SUM(BA3:BA57) -> 0
A59: 這里有公式請不要刪除 | B59: 當日Staff丁單數量 | D59: 佔比
B60: M0989 | C60: =COUNTIF(C3:C57,"m0989") -> 0 | D60: =C60/$C$67 -> #DIV/0!
B61: M1436 | C61: =COUNTIF(C3:C57,"m1436") -> 0 | D61: =C61/$C$67 -> #DIV/0!
B62: M2172 | C62: =COUNTIF(C3:C57,"m2172") -> 0 | D62: =C62/$C$67 -> #DIV/0!
B63: M2902 | C63: =COUNTIF(C3:C57,"m2902") -> 0 | D63: =C63/$C$67 -> #DIV/0!
B64: M3060 | C64: =COUNTIF(C2:C56,"m3060") -> 0 | D64: =C64/$C$67 -> #DIV/0!
B65: M2518 | C65: =COUNTIF(C2:C56,"M2518") -> 0 | D65: =C65/$C$67 -> #DIV/0!
B66: xxx | C66: =COUNTIF(C3:C57,"xxx") -> 0 | D66: =C66/$C$67 -> #DIV/0!
B67: TOTAL | C67: =SUM(C60:C66) -> 0 | D67: =C67/$C$67 -> #DIV/0!

Sheet 5
B1: =SEP!E2 -> 丁單 | F1: =SEP!H2 -> NEW WHITE VIP | H1: =SEP!K2 -> NEW RED VIP | J1: =SEP!N2 -> 回流VIP 9折 | L1: =SEP!Q2 -> 回流VIP 85折 | N1: =SEP!T2 -> 萬元單 | P1: =SEP!W2 -> 2件88 | R1: =SEP!Z2 -> 3件85 | T1: =SEP!AC2 -> 4件8折 | V1: =SEP!AF2 -> 3000-350 | X1: =SEP!AI2 -> 5000-800 | Z1: =SEP!AL2 -> 7000-1200 | AB1: =SEP!AO2 -> 12000-2000 | AD1: =SEP!AR2 -> 2对鞋85折 | AF1: =SEP!AU2 -> 待增 | AH1: =SEP!AX2 -> 待增 | AJ1: =SEP!BA2 -> 待增 | AL1: =SEP!BD2 -> 待增 | AN1: =SEP!BG2 -> 待增 | AQ1: =SEP!BK2 -> 待增 | AT1: =SEP!BO2 -> 待增 | AX1: =SEP!BS2 -> 待增
A2: 單數 | B2: 單號 | C2: STAFF | D2: 單價 | E2: 單數 | F2: 單價 | G2: 單數 | H2: 單價 | I2: 單數 | J2: 單價 | K2: 單數 | L2: 單價 | M2: 單數 | N2: 單價 | O2: 單數 | P2: 單價 | Q2: 單數 | R2: 單價 | S2: 單數 | T2: 單價 | U2: 單數 | V2: 單價 | W2: 單數 | X2: 單價 | Y2: 單數 | Z2: 單價 | AA2: 單數 | AB2: 單價 | AC2: 單數 | AD2: 單價 | AE2: 單數 | AF2: 單價 | AG2: 單數 | AH2: 單價 | AI2: 單數 | AJ2: 單價 | AK2: 單數 | AL2: 單價 | AM2: 單數 | AN2: 單價 | AO2: 單數 | AP2: 件數 | AQ2: 單價 | AR2: 單數 | AS2: 件數 | AT2: 單價 | AU2: 全單 | AV2: 單數 | AW2: 件數 | AX2: 單價 | AY2: 全單 | AZ2: 單數 | BA2: 件數
A3: 1
A4: 2
A5: 3
A6: 4
A7: 5
A8: 6
A9: 7
A10: 8
A11: 9
A12: 10
A13: 11
A14: 12
... A57: 55
D58: =SUM(D3:D57) -> 0 | E58: =SUM(E3:E57) -> 0 | F58: =SUM(F3:F57) -> 0 | G58: =SUM(G3:G57) -> 0 | H58: =SUM(H3:H57) -> 0 | I58: =SUM(I3:I57) -> 0 | J58: =SUM(J3:J57) -> 0 | K58: =SUM(K3:K57) -> 0 | ... BA58: =SUM(BA3:BA57) -> 0
A59: 這里有公式請不要刪除 | B59: 當日Staff丁單數量 | D59: 佔比
B60: M0989 | C60: =COUNTIF(C3:C57,"m0989") -> 0 | D60: =C60/$C$67 -> #DIV/0!
B61: M1436 | C61: =COUNTIF(C3:C57,"m1436") -> 0 | D61: =C61/$C$67 -> #DIV/0!
B62: M2172 | C62: =COUNTIF(C3:C57,"m2172") -> 0 | D62: =C62/$C$67 -> #DIV/0!
B63: M2902 | C63: =COUNTIF(C3:C57,"m2902") -> 0 | D63: =C63/$C$67 -> #DIV/0!
B64: M3060 | C64: =COUNTIF(C2:C56,"m3060") -> 0 | D64: =C64/$C$67 -> #DIV/0!
B65: M2518 | C65: =COUNTIF(C2:C56,"M2518") -> 0 | D65: =C65/$C$67 -> #DIV/0!
B66: xxx | C66: =COUNTIF(C3:C57,"xxx") -> 0 | D66: =C66/$C$67 -> #DIV/0!
B67: TOTAL | C67: =SUM(C60:C66) -> 0 | D67: =C67/$C$67 -> #DIV/0!

Sheet 6
B1: =SEP!E2 -> 丁單 | F1: =SEP!H2 -> NEW WHITE VIP | H1: =SEP!K2 -> NEW RED VIP | J1: =SEP!N2 -> 回流VIP 9折 | L1: =SEP!Q2 -> 回流VIP 85折 | N1: =SEP!T2 -> 萬元單 | P1: =SEP!W2 -> 2件88 | R1: =SEP!Z2 -> 3件85 | T1: =SEP!AC2 -> 4件8折 | V1: =SEP!AF2 -> 3000-350 | X1: =SEP!AI2 -> 5000-800 | Z1: =SEP!AL2 -> 7000-1200 | AB1: =SEP!AO2 -> 12000-2000 | AD1: =SEP!AR2 -> 2对鞋85折 | AF1: =SEP!AU2 -> 待增 | AH1: =SEP!AX2 -> 待增 | AJ1: =SEP!BA2 -> 待增 | AL1: =SEP!BD2 -> 待增 | AN1: =SEP!BG2 -> 待增 | AQ1: =SEP!BK2 -> 待增 | AT1: =SEP!BO2 -> 待增 | AX1: =SEP!BS2 -> 待增
A2: 單數 | B2: 單號 | C2: STAFF | D2: 單價 | E2: 單數 | F2: 單價 | G2: 單數 | H2: 單價 | I2: 單數 | J2: 單價 | K2: 單數 | L2: 單價 | M2: 單數 | N2: 單價 | O2: 單數 | P2: 單價 | Q2: 單數 | R2: 單價 | S2: 單數 | T2: 單價 | U2: 單數 | V2: 單價 | W2: 單數 | X2: 單價 | Y2: 單數 | Z2: 單價 | AA2: 單數 | AB2: 單價 | AC2: 單數 | AD2: 單價 | AE2: 單數 | AF2: 單價 | AG2: 單數 | AH2: 單價 | AI2: 單數 | AJ2: 單價 | AK2: 單數 | AL2: 單價 | AM2: 單數 | AN2: 單價 | AO2: 單數 | AP2: 件數 | AQ2: 單價 | AR2: 單數 | AS2: 件數 | AT2: 單價 | AU2: 全單 | AV2: 單數 | AW2: 件數 | AX2: 單價 | AY2: 全單 | AZ2: 單數 | BA2: 件數
A3: 1
A4: 2
A5: 3
A6: 4
A7: 5
A8: 6
A9: 7
A10: 8
A11: 9
A12: 10
A13: 11
A14: 12
... A57: 55
D58: =SUM(D3:D57) -> 0 | E58: =SUM(E3:E57) -> 0 | F58: =SUM(F3:F57) -> 0 | G58: =SUM(G3:G57) -> 0 | H58: =SUM(H3:H57) -> 0 | I58: =SUM(I3:I57) -> 0 | J58: =SUM(J3:J57) -> 0 | K58: =SUM(K3:K57) -> 0 | ... BA58: =SUM(BA3:BA57) -> 0
A59: 這里有公式請不要刪除 | B59: 當日Staff丁單數量 | D59: 佔比
B60: M0989 | C60: =COUNTIF(C3:C57,"m0989") -> 0 | D60: =C60/$C$67 -> #DIV/0!
B61: M1436 | C61: =COUNTIF(C3:C57,"m1436") -> 0 | D61: =C61/$C$67 -> #DIV/0!
B62: M2172 | C62: =COUNTIF(C3:C57,"m2172") -> 0 | D62: =C62/$C$67 -> #DIV/0!
B63: M2902 | C63: =COUNTIF(C3:C57,"m2902") -> 0 | D63: =C63/$C$67 -> #DIV/0!
B64: M3060 | C64: =COUNTIF(C2:C56,"m3060") -> 0 | D64: =C64/$C$67 -> #DIV/0!
B65: M2518 | C65: =COUNTIF(C2:C56,"M2518") -> 0 | D65: =C65/$C$67 -> #DIV/0!
B66: xxx | C66: =COUNTIF(C3:C57,"xxx") -> 0 | D66: =C66/$C$67 -> #DIV/0!
B67: TOTAL | C67: =SUM(C60:C66) -> 0 | D67: =C67/$C$67 -> #DIV/0!

Sheet 7
B1: =SEP!E2 -> 丁單 | F1: =SEP!H2 -> NEW WHITE VIP | H1: =SEP!K2 -> NEW RED VIP | J1: =SEP!N2 -> 回流VIP 9折 | L1: =SEP!Q2 -> 回流VIP 85折 | N1: =SEP!T2 -> 萬元單 | P1: =SEP!W2 -> 2件88 | R1: =SEP!Z2 -> 3件85 | T1: =SEP!AC2 -> 4件8折 | V1: =SEP!AF2 -> 3000-350 | X1: =SEP!AI2 -> 5000-800 | Z1: =SEP!AL2 -> 7000-1200 | AB1: =SEP!AO2 -> 12000-2000 | AD1: =SEP!AR2 -> 2对鞋85折 | AF1: =SEP!AU2 -> 待增 | AH1: =SEP!AX2 -> 待增 | AJ1: =SEP!BA2 -> 待增 | AL1: =SEP!BD2 -> 待增 | AN1: =SEP!BG2 -> 待增 | AQ1: =SEP!BK2 -> 待增 | AT1: =SEP!BO2 -> 待增 | AX1: =SEP!BS2 -> 待增
A2: 單數 | B2: 單號 | C2: STAFF | D2: 單價 | E2: 單數 | F2: 單價 | G2: 單數 | H2: 單價 | I2: 單數 | J2: 單價 | K2: 單數 | L2: 單價 | M2: 單數 | N2: 單價 | O2: 單數 | P2: 單價 | Q2: 單數 | R2: 單價 | S2: 單數 | T2: 單價 | U2: 單數 | V2: 單價 | W2: 單數 | X2: 單價 | Y2: 單數 | Z2: 單價 | AA2: 單數 | AB2: 單價 | AC2: 單數 | AD2: 單價 | AE2: 單數 | AF2: 單價 | AG2: 單數 | AH2: 單價 | AI2: 單數 | AJ2: 單價 | AK2: 單數 | AL2: 單價 | AM2: 單數 | AN2: 單價 | AO2: 單數 | AP2: 件數 | AQ2: 單價 | AR2: 單數 | AS2: 件數 | AT2: 單價 | AU2: 全單 | AV2: 單數 | AW2: 件數 | AX2: 單價 | AY2: 全單 | AZ2: 單數 | BA2: 件數
A3: 1
A4: 2
A5: 3
A6: 4
A7: 5
A8: 6
A9: 7
A10: 8
A11: 9
A12: 10
A13: 11
A14: 12
... A57: 55
D58: =SUM(D3:D57) -> 0 | E58: =SUM(E3:E57) -> 0 | F58: =SUM(F3:F57) -> 0 | G58: =SUM(G3:G57) -> 0 | H58: =SUM(H3:H57) -> 0 | I58: =SUM(I3:I57) -> 0 | J58: =SUM(J3:J57) -> 0 | K58: =SUM(K3:K57) -> 0 | ... BA58: =SUM(BA3:BA57) -> 0
A59: 這里有公式請不要刪除 | B59: 當日Staff丁單數量 | D59: 佔比
B60: M0989 | C60: =COUNTIF(C3:C57,"m0989") -> 0 | D60: =C60/$C$67 -> #DIV/0!
B61: M1436 | C61: =COUNTIF(C3:C57,"m1436") -> 0 | D61: =C61/$C$67 -> #DIV/0!
B62: M2172 | C62: =COUNTIF(C3:C57,"m2172") -> 0 | D62: =C62/$C$67 -> #DIV/0!
B63: M2902 | C63: =COUNTIF(C3:C57,"m2902") -> 0 | D63: =C63/$C$67 -> #DIV/0!
B64: M3060 | C64: =COUNTIF(C2:C56,"m3060") -> 0 | D64: =C64/$C$67 -> #DIV/0!
B65: M2518 | C65: =COUNTIF(C2:C56,"M2518") -> 0 | D65: =C65/$C$67 -> #DIV/0!
B66: xxx | C66: =COUNTIF(C3:C57,"xxx") -> 0 | D66: =C66/$C$67 -> #DIV/0!
B67: TOTAL | C67: =SUM(C60:C66) -> 0 | D67: =C67/$C$67 -> #DIV/0!

Sheet 8
B1: =SEP!E2 -> 丁單 | F1: =SEP!H2 -> NEW WHITE VIP | H1: =SEP!K2 -> NEW RED VIP | J1: =SEP!N2 -> 回流VIP 9折 | L1: =SEP!Q2 -> 回流VIP 85折 | N1: =SEP!T2 -> 萬元單 | P1: =SEP!W2 -> 2件88 | R1: =SEP!Z2 -> 3件85 | T1: =SEP!AC2 -> 4件8折 | V1: =SEP!AF2 -> 3000-350 | X1: =SEP!AI2 -> 5000-800 | Z1: =SEP!AL2 -> 7000-1200 | AB1: =SEP!AO2 -> 12000-2000 | AD1: =SEP!AR2 -> 2对鞋85折 | AF1: =SEP!AU2 -> 待增 | AH1: =SEP!AX2 -> 待增 | AJ1: =SEP!BA2 -> 待增 | AL1: =SEP!BD2 -> 待增 | AN1: =SEP!BG2 -> 待增 | AQ1: =SEP!BK2 -> 待增 | AT1: =SEP!BO2 -> 待增 | AX1: =SEP!BS2 -> 待增
A2: 單數 | B2: 單號 | C2: STAFF | D2: 單價 | E2: 單數 | F2: 單價 | G2: 單數 | H2: 單價 | I2: 單數 | J2: 單價 | K2: 單數 | L2: 單價 | M2: 單數 | N2: 單價 | O2: 單數 | P2: 單價 | Q2: 單數 | R2: 單價 | S2: 單數 | T2: 單價 | U2: 單數 | V2: 單價 | W2: 單數 | X2: 單價 | Y2: 單數 | Z2: 單價 | AA2: 單數 | AB2: 單價 | AC2: 單數 | AD2: 單價 | AE2: 單數 | AF2: 單價 | AG2: 單數 | AH2: 單價 | AI2: 單數 | AJ2: 單價 | AK2: 單數 | AL2: 單價 | AM2: 單數 | AN2: 單價 | AO2: 單數 | AP2: 件數 | AQ2: 單價 | AR2: 單數 | AS2: 件數 | AT2: 單價 | AU2: 全單 | AV2: 單數 | AW2: 件數 | AX2: 單價 | AY2: 全單 | AZ2: 單數 | BA2: 件數
A3: 1
A4: 2
A5: 3
A6: 4
A7: 5
A8: 6
A9: 7
A10: 8
A11: 9
A12: 10
A13: 11
A14: 12
... A57: 55
D58: =SUM(D3:D57) -> 0 | E58: =SUM(E3:E57) -> 0 | F58: =SUM(F3:F57) -> 0 | G58: =SUM(G3:G57) -> 0 | H58: =SUM(H3:H57) -> 0 | I58: =SUM(I3:I57) -> 0 | J58: =SUM(J3:J57) -> 0 | K58: =SUM(K3:K57) -> 0 | ... BA58: =SUM(BA3:BA57) -> 0
A59: 這里有公式請不要刪除 | B59: 當日Staff丁單數量 | D59: 佔比
B60: M0989 | C60: =COUNTIF(C3:C57,"m0989") -> 0 | D60: =C60/$C$67 -> #DIV/0!
B61: M1436 | C61: =COUNTIF(C3:C57,"m1436") -> 0 | D61: =C61/$C$67 -> #DIV/0!
B62: M2172 | C62: =COUNTIF(C3:C57,"m2172") -> 0 | D62: =C62/$C$67 -> #DIV/0!
B63: M2902 | C63: =COUNTIF(C3:C57,"m2902") -> 0 | D63: =C63/$C$67 -> #DIV/0!
B64: M3060 | C64: =COUNTIF(C2:C56,"m3060") -> 0 | D64: =C64/$C$67 -> #DIV/0!
B65: M2518 | C65: =COUNTIF(C2:C56,"M2518") -> 0 | D65: =C65/$C$67 -> #DIV/0!
B66: xxx | C66: =COUNTIF(C3:C57,"xxx") -> 0 | D66: =C66/$C$67 -> #DIV/0!
B67: TOTAL | C67: =SUM(C60:C66) -> 0 | D67: =C67/$C$67 -> #DIV/0!

Sheet 9
B1: =SEP!E2 -> 丁單 | F1: =SEP!H2 -> NEW WHITE VIP | H1: =SEP!K2 -> NEW RED VIP | J1: =SEP!N2 -> 回流VIP 9折 | L1: =SEP!Q2 -> 回流VIP 85折 | N1: =SEP!T2 -> 萬元單 | P1: =SEP!W2 -> 2件88 | R1: =SEP!Z2 -> 3件85 | T1: =SEP!AC2 -> 4件8折 | V1: =SEP!AF2 -> 3000-350 | X1: =SEP!AI2 -> 5000-800 | Z1: =SEP!AL2 -> 7000-1200 | AB1: =SEP!AO2 -> 12000-2000 | AD1: =SEP!AR2 -> 2对鞋85折 | AF1: =SEP!AU2 -> 待增 | AH1: =SEP!AX2 -> 待增 | AJ1: =SEP!BA2 -> 待增 | AL1: =SEP!BD2 -> 待增 | AN1: =SEP!BG2 -> 待增 | AQ1: =SEP!BK2 -> 待增 | AT1: =SEP!BO2 -> 待增 | AX1: =SEP!BS2 -> 待增
A2: 單數 | B2: 單號 | C2: STAFF | D2: 單價 | E2: 單數 | F2: 單價 | G2: 單數 | H2: 單價 | I2: 單數 | J2: 單價 | K2: 單數 | L2: 單價 | M2: 單數 | N2: 單價 | O2: 單數 | P2: 單價 | Q2: 單數 | R2: 單價 | S2: 單數 | T2: 單價 | U2: 單數 | V2: 單價 | W2: 單數 | X2: 單價 | Y2: 單數 | Z2: 單價 | AA2: 單數 | AB2: 單價 | AC2: 單數 | AD2: 單價 | AE2: 單數 | AF2: 單價 | AG2: 單數 | AH2: 單價 | AI2: 單數 | AJ2: 單價 | AK2: 單數 | AL2: 單價 | AM2: 單數 | AN2: 單價 | AO2: 單數 | AP2: 件數 | AQ2: 單價 | AR2: 單數 | AS2: 件數 | AT2: 單價 | AU2: 全單 | AV2: 單數 | AW2: 件數 | AX2: 單價 | AY2: 全單 | AZ2: 單數 | BA2: 件數
A3: 1
A4: 2
A5: 3
A6: 4
A7: 5
A8: 6
A9: 7
A10: 8
A11: 9
A12: 10
A13: 11
A14: 12
... A57: 55
D58: =SUM(D3:D57) -> 0 | E58: =SUM(E3:E57) -> 0 | F58: =SUM(F3:F57) -> 0 | G58: =SUM(G3:G57) -> 0 | H58: =SUM(H3:H57) -> 0 | I58: =SUM(I3:I57) -> 0 | J58: =SUM(J3:J57) -> 0 | K58: =SUM(K3:K57) -> 0 | ... BA58: =SUM(BA3:BA57) -> 0
A59: 這里有公式請不要刪除 | B59: 當日Staff丁單數量 | D59: 佔比
B60: M0989 | C60: =COUNTIF(C3:C57,"m0989") -> 0 | D60: =C60/$C$67 -> #DIV/0!
B61: M1436 | C61: =COUNTIF(C3:C57,"m1436") -> 0 | D61: =C61/$C$67 -> #DIV/0!
B62: M2172 | C62: =COUNTIF(C3:C57,"m2172") -> 0 | D62: =C62/$C$67 -> #DIV/0!
B63: M2902 | C63: =COUNTIF(C3:C57,"m2902") -> 0 | D63: =C63/$C$67 -> #DIV/0!
B64: M3060 | C64: =COUNTIF(C2:C56,"m3060") -> 0 | D64: =C64/$C$67 -> #DIV/0!
B65: M2518 | C65: =COUNTIF(C2:C56,"M2518") -> 0 | D65: =C65/$C$67 -> #DIV/0!
B66: xxx | C66: =COUNTIF(C3:C57,"xxx") -> 0 | D66: =C66/$C$67 -> #DIV/0!
B67: TOTAL | C67: =SUM(C60:C66) -> 0 | D67: =C67/$C$67 -> #DIV/0!

Sheet 10
B1: =SEP!E2 -> 丁單 | F1: =SEP!H2 -> NEW WHITE VIP | H1: =SEP!K2 -> NEW RED VIP | J1: =SEP!N2 -> 回流VIP 9折 | L1: =SEP!Q2 -> 回流VIP 85折 | N1: =SEP!T2 -> 萬元單 | P1: =SEP!W2 -> 2件88 | R1: =SEP!Z2 -> 3件85 | T1: =SEP!AC2 -> 4件8折 | V1: =SEP!AF2 -> 3000-350 | X1: =SEP!AI2 -> 5000-800 | Z1: =SEP!AL2 -> 7000-1200 | AB1: =SEP!AO2 -> 12000-2000 | AD1: =SEP!AR2 -> 2对鞋85折 | AF1: =SEP!AU2 -> 待增 | AH1: =SEP!AX2 -> 待增 | AJ1: =SEP!BA2 -> 待增 | AL1: =SEP!BD2 -> 待增 | AN1: =SEP!BG2 -> 待增 | AQ1: =SEP!BK2 -> 待增 | AT1: =SEP!BO2 -> 待增 | AX1: =SEP!BS2 -> 待增
A2: 單數 | B2: 單號 | C2: STAFF | D2: 單價 | E2: 單數 | F2: 單價 | G2: 單數 | H2: 單價 | I2: 單數 | J2: 單價 | K2: 單數 | L2: 單價 | M2: 單數 | N2: 單價 | O2: 單數 | P2: 單價 | Q2: 單數 | R2: 單價 | S2: 單數 | T2: 單價 | U2: 單數 | V2: 單價 | W2: 單數 | X2: 單價 | Y2: 單數 | Z2: 單價 | AA2: 單數 | AB2: 單價 | AC2: 單數 | AD2: 單價 | AE2: 單數 | AF2: 單價 | AG2: 單數 | AH2: 單價 | AI2: 單數 | AJ2: 單價 | AK2: 單數 | AL2: 單價 | AM2: 單數 | AN2: 單價 | AO2: 單數 | AP2: 件數 | AQ2: 單價 | AR2: 單數 | AS2: 件數 | AT2: 單價 | AU2: 全單 | AV2: 單數 | AW2: 件數 | AX2: 單價 | AY2: 全單 | AZ2: 單數 | BA2: 件數
A3: 1
A4: 2
A5: 3
A6: 4
A7: 5
A8: 6
A9: 7
A10: 8
A11: 9
A12: 10
A13: 11
A14: 12
... A57: 55
D58: =SUM(D3:D57) -> 0 | E58: =SUM(E3:E57) -> 0 | F58: =SUM(F3:F57) -> 0 | G58: =SUM(G3:G57) -> 0 | H58: =SUM(H3:H57) -> 0 | I58: =SUM(I3:I57) -> 0 | J58: =SUM(J3:J57) -> 0 | K58: =SUM(K3:K57) -> 0 | ... BA58: =SUM(BA3:BA57) -> 0
A59: 這里有公式請不要刪除 | B59: 當日Staff丁單數量 | D59: 佔比
B60: M0989 | C60: =COUNTIF(C3:C57,"m0989") -> 0 | D60: =C60/$C$67 -> #DIV/0!
B61: M1436 | C61: =COUNTIF(C3:C57,"m1436") -> 0 | D61: =C61/$C$67 -> #DIV/0!
B62: M2172 | C62: =COUNTIF(C3:C57,"m2172") -> 0 | D62: =C62/$C$67 -> #DIV/0!
B63: M2902 | C63: =COUNTIF(C3:C57,"m2902") -> 0 | D63: =C63/$C$67 -> #DIV/0!
B64: M3060 | C64: =COUNTIF(C2:C56,"m3060") -> 0 | D64: =C64/$C$67 -> #DIV/0!
B65: M2518 | C65: =COUNTIF(C2:C56,"M2518") -> 0 | D65: =C65/$C$67 -> #DIV/0!
B66: xxx | C66: =COUNTIF(C3:C57,"xxx") -> 0 | D66: =C66/$C$67 -> #DIV/0!
B67: TOTAL | C67: =SUM(C60:C66) -> 0 | D67: =C67/$C$67 -> #DIV/0!

Sheet 11
B1: =SEP!E2 -> 丁單 | F1: =SEP!H2 -> NEW WHITE VIP | H1: =SEP!K2 -> NEW RED VIP | J1: =SEP!N2 -> 回流VIP 9折 | L1: =SEP!Q2 -> 回流VIP 85折 | N1: =SEP!T2 -> 萬元單 | P1: =SEP!W2 -> 2件88 | R1: =SEP!Z2 -> 3件85 | T1: =SEP!AC2 -> 4件8折 | V1: =SEP!AF2 -> 3000-350 | X1: =SEP!AI2 -> 5000-800 | Z1: =SEP!AL2 -> 7000-1200 | AB1: =SEP!AO2 -> 12000-2000 | AD1: =SEP!AR2 -> 2对鞋85折 | AF1: =SEP!AU2 -> 待增 | AH1: =SEP!AX2 -> 待增 | AJ1: =SEP!BA2 -> 待增 | AL1: =SEP!BD2 -> 待增 | AN1: =SEP!BG2 -> 待增 | AQ1: =SEP!BK2 -> 待增 | AT1: =SEP!BO2 -> 待增 | AX1: =SEP!BS2 -> 待增
A2: 單數 | B2: 單號 | C2: STAFF | D2: 單價 | E2: 單數 | F2: 單價 | G2: 單數 | H2: 單價 | I2: 單數 | J2: 單價 | K2: 單數 | L2: 單價 | M2: 單數 | N2: 單價 | O2: 單數 | P2: 單價 | Q2: 單數 | R2: 單價 | S2: 單數 | T2: 單價 | U2: 單數 | V2: 單價 | W2: 單數 | X2: 單價 | Y2: 單數 | Z2: 單價 | AA2: 單數 | AB2: 單價 | AC2: 單數 | AD2: 單價 | AE2: 單數 | AF2: 單價 | AG2: 單數 | AH2: 單價 | AI2: 單數 | AJ2: 單價 | AK2: 單數 | AL2: 單價 | AM2: 單數 | AN2: 單價 | AO2: 單數 | AP2: 件數 | AQ2: 單價 | AR2: 單數 | AS2: 件數 | AT2: 單價 | AU2: 全單 | AV2: 單數 | AW2: 件數 | AX2: 單價 | AY2: 全單 | AZ2: 單數 | BA2: 件數
A3: 1
A4: 2
A5: 3
A6: 4
A7: 5
A8: 6
A9: 7
A10: 8
A11: 9
A12: 10
A13: 11
A14: 12
... A57: 55
D58: =SUM(D3:D57) -> 0 | E58: =SUM(E3:E57) -> 0 | F58: =SUM(F3:F57) -> 0 | G58: =SUM(G3:G57) -> 0 | H58: =SUM(H3:H57) -> 0 | I58: =SUM(I3:I57) -> 0 | J58: =SUM(J3:J57) -> 0 | K58: =SUM(K3:K57) -> 0 | ... BA58: =SUM(BA3:BA57) -> 0
A59: 這里有公式請不要刪除 | B59: 當日Staff丁單數量 | D59: 佔比
B60: M0989 | C60: =COUNTIF(C3:C57,"m0989") -> 0 | D60: =C60/$C$67 -> #DIV/0!
B61: M1436 | C61: =COUNTIF(C3:C57,"m1436") -> 0 | D61: =C61/$C$67 -> #DIV/0!
B62: M2172 | C62: =COUNTIF(C3:C57,"m2172") -> 0 | D62: =C62/$C$67 -> #DIV/0!
B63: M2902 | C63: =COUNTIF(C3:C57,"m2902") -> 0 | D63: =C63/$C$67 -> #DIV/0!
B64: M3060 | C64: =COUNTIF(C2:C56,"m3060") -> 0 | D64: =C64/$C$67 -> #DIV/0!
B65: M2518 | C65: =COUNTIF(C2:C56,"M2518") -> 0 | D65: =C65/$C$67 -> #DIV/0!
B66: xxx | C66: =COUNTIF(C3:C57,"xxx") -> 0 | D66: =C66/$C$67 -> #DIV/0!
B67: TOTAL | C67: =SUM(C60:C66) -> 0 | D67: =C67/$C$67 -> #DIV/0!

Sheet 12
B1: =SEP!E2 -> 丁單 | F1: =SEP!H2 -> NEW WHITE VIP | H1: =SEP!K2 -> NEW RED VIP | J1: =SEP!N2 -> 回流VIP 9折 | L1: =SEP!Q2 -> 回流VIP 85折 | N1: =SEP!T2 -> 萬元單 | P1: =SEP!W2 -> 2件88 | R1: =SEP!Z2 -> 3件85 | T1: =SEP!AC2 -> 4件8折 | V1: =SEP!AF2 -> 3000-350 | X1: =SEP!AI2 -> 5000-800 | Z1: =SEP!AL2 -> 7000-1200 | AB1: =SEP!AO2 -> 12000-2000 | AD1: =SEP!AR2 -> 2对鞋85折 | AF1: =SEP!AU2 -> 待增 | AH1: =SEP!AX2 -> 待增 | AJ1: =SEP!BA2 -> 待增 | AL1: =SEP!BD2 -> 待增 | AN1: =SEP!BG2 -> 待增 | AQ1: =SEP!BK2 -> 待增 | AT1: =SEP!BO2 -> 待增 | AX1: =SEP!BS2 -> 待增
A2: 單數 | B2: 單號 | C2: STAFF | D2: 單價 | E2: 單數 | F2: 單價 | G2: 單數 | H2: 單價 | I2: 單數 | J2: 單價 | K2: 單數 | L2: 單價 | M2: 單數 | N2: 單價 | O2: 單數 | P2: 單價 | Q2: 單數 | R2: 單價 | S2: 單數 | T2: 單價 | U2: 單數 | V2: 單價 | W2: 單數 | X2: 單價 | Y2: 單數 | Z2: 單價 | AA2: 單數 | AB2: 單價 | AC2: 單數 | AD2: 單價 | AE2: 單數 | AF2: 單價 | AG2: 單數 | AH2: 單價 | AI2: 單數 | AJ2: 單價 | AK2: 單數 | AL2: 單價 | AM2: 單數 | AN2: 單價 | AO2: 單數 | AP2: 件數 | AQ2: 單價 | AR2: 單數 | AS2: 件數 | AT2: 單價 | AU2: 全單 | AV2: 單數 | AW2: 件數 | AX2: 單價 | AY2: 全單 | AZ2: 單數 | BA2: 件數
A3: 1
A4: 2
A5: 3
A6: 4
A7: 5
A8: 6
A9: 7
A10: 8
A11: 9
A12: 10
A13: 11
A14: 12
... A57: 55
D58: =SUM(D3:D57) -> 0 | E58: =SUM(E3:E57) -> 0 | F58: =SUM(F3:F57) -> 0 | G58: =SUM(G3:G57) -> 0 | H58: =SUM(H3:H57) -> 0 | I58: =SUM(I3:I57) -> 0 | J58: =SUM(J3:J57) -> 0 | K58: =SUM(K3:K57) -> 0 | ... BA58: =SUM(BA3:BA57) -> 0
A59: 這里有公式請不要刪除 | B59: 當日Staff丁單數量 | D59: 佔比
B60: M0989 | C60: =COUNTIF(C3:C57,"m0989") -> 0 | D60: =C60/$C$67 -> #DIV/0!
B61: M1436 | C61: =COUNTIF(C3:C57,"m1436") -> 0 | D61: =C61/$C$67 -> #DIV/0!
B62: M2172 | C62: =COUNTIF(C3:C57,"m2172") -> 0 | D62: =C62/$C$67 -> #DIV/0!
B63: M2902 | C63: =COUNTIF(C3:C57,"m2902") -> 0 | D63: =C63/$C$67 -> #DIV/0!
B64: M3060 | C64: =COUNTIF(C2:C56,"m3060") -> 0 | D64: =C64/$C$67 -> #DIV/0!
B65: M2518 | C65: =COUNTIF(C2:C56,"M2518") -> 0 | D65: =C65/$C$67 -> #DIV/0!
B66: xxx | C66: =COUNTIF(C3:C57,"xxx") -> 0 | D66: =C66/$C$67 -> #DIV/0!
B67: TOTAL | C67: =SUM(C60:C66) -> 0 | D67: =C67/$C$67 -> #DIV/0!

Sheet 13
B1: =SEP!E2 -> 丁單 | F1: =SEP!H2 -> NEW WHITE VIP | H1: =SEP!K2 -> NEW RED VIP | J1: =SEP!N2 -> 回流VIP 9折 | L1: =SEP!Q2 -> 回流VIP 85折 | N1: =SEP!T2 -> 萬元單 | P1: =SEP!W2 -> 2件88 | R1: =SEP!Z2 -> 3件85 | T1: =SEP!AC2 -> 4件8折 | V1: =SEP!AF2 -> 3000-350 | X1: =SEP!AI2 -> 5000-800 | Z1: =SEP!AL2 -> 7000-1200 | AB1: =SEP!AO2 -> 12000-2000 | AD1: =SEP!AR2 -> 2对鞋85折 | AF1: =SEP!AU2 -> 待增 | AH1: =SEP!AX2 -> 待增 | AJ1: =SEP!BA2 -> 待增 | AL1: =SEP!BD2 -> 待增 | AN1: =SEP!BG2 -> 待增 | AQ1: =SEP!BK2 -> 待增 | AT1: =SEP!BO2 -> 待增 | AX1: =SEP!BS2 -> 待增
A2: 單數 | B2: 單號 | C2: STAFF | D2: 單價 | E2: 單數 | F2: 單價 | G2: 單數 | H2: 單價 | I2: 單數 | J2: 單價 | K2: 單數 | L2: 單價 | M2: 單數 | N2: 單價 | O2: 單數 | P2: 單價 | Q2: 單數 | R2: 單價 | S2: 單數 | T2: 單價 | U2: 單數 | V2: 單價 | W2: 單數 | X2: 單價 | Y2: 單數 | Z2: 單價 | AA2: 單數 | AB2: 單價 | AC2: 單數 | AD2: 單價 | AE2: 單數 | AF2: 單價 | AG2: 單數 | AH2: 單價 | AI2: 單數 | AJ2: 單價 | AK2: 單數 | AL2: 單價 | AM2: 單數 | AN2: 單價 | AO2: 單數 | AP2: 件數 | AQ2: 單價 | AR2: 單數 | AS2: 件數 | AT2: 單價 | AU2: 全單 | AV2: 單數 | AW2: 件數 | AX2: 單價 | AY2: 全單 | AZ2: 單數 | BA2: 件數
A3: 1
A4: 2
A5: 3
A6: 4
A7: 5
A8: 6
A9: 7
A10: 8
A11: 9
A12: 10
A13: 11
A14: 12
... A57: 55
D58: =SUM(D3:D57) -> 0 | E58: =SUM(E3:E57) -> 0 | F58: =SUM(F3:F57) -> 0 | G58: =SUM(G3:G57) -> 0 | H58: =SUM(H3:H57) -> 0 | I58: =SUM(I3:I57) -> 0 | J58: =SUM(J3:J57) -> 0 | K58: =SUM(K3:K57) -> 0 | ... BA58: =SUM(BA3:BA57) -> 0
A59: 這里有公式請不要刪除 | B59: 當日Staff丁單數量 | D59: 佔比
B60: M0989 | C60: =COUNTIF(C3:C57,"m0989") -> 0 | D60: =C60/$C$67 -> #DIV/0!
B61: M1436 | C61: =COUNTIF(C3:C57,"m1436") -> 0 | D61: =C61/$C$67 -> #DIV/0!
B62: M2172 | C62: =COUNTIF(C3:C57,"m2172") -> 0 | D62: =C62/$C$67 -> #DIV/0!
B63: M2902 | C63: =COUNTIF(C3:C57,"m2902") -> 0 | D63: =C63/$C$67 -> #DIV/0!
B64: M3060 | C64: =COUNTIF(C2:C56,"m3060") -> 0 | D64: =C64/$C$67 -> #DIV/0!
B65: M2518 | C65: =COUNTIF(C2:C56,"M2518") -> 0 | D65: =C65/$C$67 -> #DIV/0!
B66: xxx | C66: =COUNTIF(C3:C57,"xxx") -> 0 | D66: =C66/$C$67 -> #DIV/0!
B67: TOTAL | C67: =SUM(C60:C66) -> 0 | D67: =C67/$C$67 -> #DIV/0!

Sheet 14
B1: =SEP!E2 -> 丁單 | F1: =SEP!H2 -> NEW WHITE VIP | H1: =SEP!K2 -> NEW RED VIP | J1: =SEP!N2 -> 回流VIP 9折 | L1: =SEP!Q2 -> 回流VIP 85折 | N1: =SEP!T2 -> 萬元單 | P1: =SEP!W2 -> 2件88 | R1: =SEP!Z2 -> 3件85 | T1: =SEP!AC2 -> 4件8折 | V1: =SEP!AF2 -> 3000-350 | X1: =SEP!AI2 -> 5000-800 | Z1: =SEP!AL2 -> 7000-1200 | AB1: =SEP!AO2 -> 12000-2000 | AD1: =SEP!AR2 -> 2对鞋85折 | AF1: =SEP!AU2 -> 待增 | AH1: =SEP!AX2 -> 待增 | AJ1: =SEP!BA2 -> 待增 | AL1: =SEP!BD2 -> 待增 | AN1: =SEP!BG2 -> 待增 | AQ1: =SEP!BK2 -> 待增 | AT1: =SEP!BO2 -> 待增 | AX1: =SEP!BS2 -> 待增
A2: 單數 | B2: 單號 | C2: STAFF | D2: 單價 | E2: 單數 | F2: 單價 | G2: 單數 | H2: 單價 | I2: 單數 | J2: 單價 | K2: 單數 | L2: 單價 | M2: 單數 | N2: 單價 | O2: 單數 | P2: 單價 | Q2: 單數 | R2: 單價 | S2: 單數 | T2: 單價 | U2: 單數 | V2: 單價 | W2: 單數 | X2: 單價 | Y2: 單數 | Z2: 單價 | AA2: 單數 | AB2: 單價 | AC2: 單數 | AD2: 單價 | AE2: 單數 | AF2: 單價 | AG2: 單數 | AH2: 單價 | AI2: 單數 | AJ2: 單價 | AK2: 單數 | AL2: 單價 | AM2: 單數 | AN2: 單價 | AO2: 單數 | AP2: 件數 | AQ2: 單價 | AR2: 單數 | AS2: 件數 | AT2: 單價 | AU2: 全單 | AV2: 單數 | AW2: 件數 | AX2: 單價 | AY2: 全單 | AZ2: 單數 | BA2: 件數
A3: 1
A4: 2
A5: 3
A6: 4
A7: 5
A8: 6
A9: 7
A10: 8
A11: 9
A12: 10
A13: 11
A14: 12
... A57: 55
D58: =SUM(D3:D57) -> 0 | E58: =SUM(E3:E57) -> 0 | F58: =SUM(F3:F57) -> 0 | G58: =SUM(G3:G57) -> 0 | H58: =SUM(H3:H57) -> 0 | I58: =SUM(I3:I57) -> 0 | J58: =SUM(J3:J57) -> 0 | K58: =SUM(K3:K57) -> 0 | ... BA58: =SUM(BA3:BA57) -> 0
A59: 這里有公式請不要刪除 | B59: 當日Staff丁單數量 | D59: 佔比
B60: M0989 | C60: =COUNTIF(C3:C57,"m0989") -> 0 | D60: =C60/$C$67 -> #DIV/0!
B61: M1436 | C61: =COUNTIF(C3:C57,"m1436") -> 0 | D61: =C61/$C$67 -> #DIV/0!
B62: M2172 | C62: =COUNTIF(C3:C57,"m2172") -> 0 | D62: =C62/$C$67 -> #DIV/0!
B63: M2902 | C63: =COUNTIF(C3:C57,"m2902") -> 0 | D63: =C63/$C$67 -> #DIV/0!
B64: M3060 | C64: =COUNTIF(C2:C56,"m3060") -> 0 | D64: =C64/$C$67 -> #DIV/0!
B65: M2518 | C65: =COUNTIF(C2:C56,"M2518") -> 0 | D65: =C65/$C$67 -> #DIV/0!
B66: xxx | C66: =COUNTIF(C3:C57,"xxx") -> 0 | D66: =C66/$C$67 -> #DIV/0!
B67: TOTAL | C67: =SUM(C60:C66) -> 0 | D67: =C67/$C$67 -> #DIV/0!

Sheet 15
B1: =SEP!E2 -> 丁單 | F1: =SEP!H2 -> NEW WHITE VIP | H1: =SEP!K2 -> NEW RED VIP | J1: =SEP!N2 -> 回流VIP 9折 | L1: =SEP!Q2 -> 回流VIP 85折 | N1: =SEP!T2 -> 萬元單 | P1: =SEP!W2 -> 2件88 | R1: =SEP!Z2 -> 3件85 | T1: =SEP!AC2 -> 4件8折 | V1: =SEP!AF2 -> 3000-350 | X1: =SEP!AI2 -> 5000-800 | Z1: =SEP!AL2 -> 7000-1200 | AB1: =SEP!AO2 -> 12000-2000 | AD1: =SEP!AR2 -> 2对鞋85折 | AF1: =SEP!AU2 -> 待增 | AH1: =SEP!AX2 -> 待增 | AJ1: =SEP!BA2 -> 待增 | AL1: =SEP!BD2 -> 待增 | AN1: =SEP!BG2 -> 待增 | AQ1: =SEP!BK2 -> 待增 | AT1: =SEP!BO2 -> 待增 | AX1: =SEP!BS2 -> 待增
A2: 單數 | B2: 單號 | C2: STAFF | D2: 單價 | E2: 單數 | F2: 單價 | G2: 單數 | H2: 單價 | I2: 單數 | J2: 單價 | K2: 單數 | L2: 單價 | M2: 單數 | N2: 單價 | O2: 單數 | P2: 單價 | Q2: 單數 | R2: 單價 | S2: 單數 | T2: 單價 | U2: 單數 | V2: 單價 | W2: 單數 | X2: 單價 | Y2: 單數 | Z2: 單價 | AA2: 單數 | AB2: 單價 | AC2: 單數 | AD2: 單價 | AE2: 單數 | AF2: 單價 | AG2: 單數 | AH2: 單價 | AI2: 單數 | AJ2: 單價 | AK2: 單數 | AL2: 單價 | AM2: 單數 | AN2: 單價 | AO2: 單數 | AP2: 件數 | AQ2: 單價 | AR2: 單數 | AS2: 件數 | AT2: 單價 | AU2: 全單 | AV2: 單數 | AW2: 件數 | AX2: 單價 | AY2: 全單 | AZ2: 單數 | BA2: 件數
A3: 1
A4: 2
A5: 3
A6: 4
A7: 5
A8: 6
A9: 7
A10: 8
A11: 9
A12: 10
A13: 11
A14: 12
... A57: 55
D58: =SUM(D3:D57) -> 0 | E58: =SUM(E3:E57) -> 0 | F58: =SUM(F3:F57) -> 0 | G58: =SUM(G3:G57) -> 0 | H58: =SUM(H3:H57) -> 0 | I58: =SUM(I3:I57) -> 0 | J58: =SUM(J3:J57) -> 0 | K58: =SUM(K3:K57) -> 0 | ... BA58: =SUM(BA3:BA57) -> 0
A59: 這里有公式請不要刪除 | B59: 當日Staff丁單數量 | D59: 佔比
B60: M0989 | C60: =COUNTIF(C3:C57,"m0989") -> 0 | D60: =C60/$C$67 -> #DIV/0!
B61: M1436 | C61: =COUNTIF(C3:C57,"m1436") -> 0 | D61: =C61/$C$67 -> #DIV/0!
B62: M2172 | C62: =COUNTIF(C3:C57,"m2172") -> 0 | D62: =C62/$C$67 -> #DIV/0!
B63: M2902 | C63: =COUNTIF(C3:C57,"m2902") -> 0 | D63: =C63/$C$67 -> #DIV/0!
B64: M3060 | C64: =COUNTIF(C2:C56,"m3060") -> 0 | D64: =C64/$C$67 -> #DIV/0!
B65: M2518 | C65: =COUNTIF(C2:C56,"M2518") -> 0 | D65: =C65/$C$67 -> #DIV/0!
B66: xxx | C66: =COUNTIF(C3:C57,"xxx") -> 0 | D66: =C66/$C$67 -> #DIV/0!
B67: TOTAL | C67: =SUM(C60:C66) -> 0 | D67: =C67/$C$67 -> #DIV/0!

Sheet 16
B1: =SEP!E2 -> 丁單 | F1: =SEP!H2 -> NEW WHITE VIP | H1: =SEP!K2 -> NEW RED VIP | J1: =SEP!N2 -> 回流VIP 9折 | L1: =SEP!Q2 -> 回流VIP 85折 | N1: =SEP!T2 -> 萬元單 | P1: =SEP!W2 -> 2件88 | R1: =SEP!Z2 -> 3件85 | T1: =SEP!AC2 -> 4件8折 | V1: =SEP!AF2 -> 3000-350 | X1: =SEP!AI2 -> 5000-800 | Z1: =SEP!AL2 -> 7000-1200 | AB1: =SEP!AO2 -> 12000-2000 | AD1: =SEP!AR2 -> 2对鞋85折 | AF1: =SEP!AU2 -> 待增 | AH1: =SEP!AX2 -> 待增 | AJ1: =SEP!BA2 -> 待增 | AL1: =SEP!BD2 -> 待增 | AN1: =SEP!BG2 -> 待增 | AQ1: =SEP!BK2 -> 待增 | AT1: =SEP!BO2 -> 待增 | AX1: =SEP!BS2 -> 待增
A2: 單數 | B2: 單號 | C2: STAFF | D2: 單價 | E2: 單數 | F2: 單價 | G2: 單數 | H2: 單價 | I2: 單數 | J2: 單價 | K2: 單數 | L2: 單價 | M2: 單數 | N2: 單價 | O2: 單數 | P2: 單價 | Q2: 單數 | R2: 單價 | S2: 單數 | T2: 單價 | U2: 單數 | V2: 單價 | W2: 單數 | X2: 單價 | Y2: 單數 | Z2: 單價 | AA2: 單數 | AB2: 單價 | AC2: 單數 | AD2: 單價 | AE2: 單數 | AF2: 單價 | AG2: 單數 | AH2: 單價 | AI2: 單數 | AJ2: 單價 | AK2: 單數 | AL2: 單價 | AM2: 單數 | AN2: 單價 | AO2: 單數 | AP2: 件數 | AQ2: 單價 | AR2: 單數 | AS2: 件數 | AT2: 單價 | AU2: 全單 | AV2: 單數 | AW2: 件數 | AX2: 單價 | AY2: 全單 | AZ2: 單數 | BA2: 件數
A3: 1
A4: 2
A5: 3
A6: 4
A7: 5
A8: 6
A9: 7
A10: 8
A11: 9
A12: 10
A13: 11
A14: 12
... A57: 55
D58: =SUM(D3:D57) -> 0 | E58: =SUM(E3:E57) -> 0 | F58: =SUM(F3:F57) -> 0 | G58: =SUM(G3:G57) -> 0 | H58: =SUM(H3:H57) -> 0 | I58: =SUM(I3:I57) -> 0 | J58: =SUM(J3:J57) -> 0 | K58: =SUM(K3:K57) -> 0 | ... BA58: =SUM(BA3:BA57) -> 0
A59: 這里有公式請不要刪除 | B59: 當日Staff丁單數量 | D59: 佔比
B60: M0989 | C60: =COUNTIF(C3:C57,"m0989") -> 0 | D60: =C60/$C$67 -> #DIV/0!
B61: M1436 | C61: =COUNTIF(C3:C57,"m1436") -> 0 | D61: =C61/$C$67 -> #DIV/0!
B62: M2172 | C62: =COUNTIF(C3:C57,"m2172") -> 0 | D62: =C62/$C$67 -> #DIV/0!
B63: M2902 | C63: =COUNTIF(C3:C57,"m2902") -> 0 | D63: =C63/$C$67 -> #DIV/0!
B64: M3060 | C64: =COUNTIF(C2:C56,"m3060") -> 0 | D64: =C64/$C$67 -> #DIV/0!
B65: M2518 | C65: =COUNTIF(C2:C56,"M2518") -> 0 | D65: =C65/$C$67 -> #DIV/0!
B66: xxx | C66: =COUNTIF(C3:C57,"xxx") -> 0 | D66: =C66/$C$67 -> #DIV/0!
B67: TOTAL | C67: =SUM(C60:C66) -> 0 | D67: =C67/$C$67 -> #DIV/0!

Sheet 17
B1: =SEP!E2 -> 丁單 | F1: =SEP!H2 -> NEW WHITE VIP | H1: =SEP!K2 -> NEW RED VIP | J1: =SEP!N2 -> 回流VIP 9折 | L1: =SEP!Q2 -> 回流VIP 85折 | N1: =SEP!T2 -> 萬元單 | P1: =SEP!W2 -> 2件88 | R1: =SEP!Z2 -> 3件85 | T1: =SEP!AC2 -> 4件8折 | V1: =SEP!AF2 -> 3000-350 | X1: =SEP!AI2 -> 5000-800 | Z1: =SEP!AL2 -> 7000-1200 | AB1: =SEP!AO2 -> 12000-2000 | AD1: =SEP!AR2 -> 2对鞋85折 | AF1: =SEP!AU2 -> 待增 | AH1: =SEP!AX2 -> 待增 | AJ1: =SEP!BA2 -> 待增 | AL1: =SEP!BD2 -> 待增 | AN1: =SEP!BG2 -> 待增 | AQ1: =SEP!BK2 -> 待增 | AT1: =SEP!BO2 -> 待增 | AX1: =SEP!BS2 -> 待增
A2: 單數 | B2: 單號 | C2: STAFF | D2: 單價 | E2: 單數 | F2: 單價 | G2: 單數 | H2: 單價 | I2: 單數 | J2: 單價 | K2: 單數 | L2: 單價 | M2: 單數 | N2: 單價 | O2: 單數 | P2: 單價 | Q2: 單數 | R2: 單價 | S2: 單數 | T2: 單價 | U2: 單數 | V2: 單價 | W2: 單數 | X2: 單價 | Y2: 單數 | Z2: 單價 | AA2: 單數 | AB2: 單價 | AC2: 單數 | AD2: 單價 | AE2: 單數 | AF2: 單價 | AG2: 單數 | AH2: 單價 | AI2: 單數 | AJ2: 單價 | AK2: 單數 | AL2: 單價 | AM2: 單數 | AN2: 單價 | AO2: 單數 | AP2: 件數 | AQ2: 單價 | AR2: 單數 | AS2: 件數 | AT2: 單價 | AU2: 全單 | AV2: 單數 | AW2: 件數 | AX2: 單價 | AY2: 全單 | AZ2: 單數 | BA2: 件數
A3: 1
A4: 2
A5: 3
A6: 4
A7: 5
A8: 6
A9: 7
A10: 8
A11: 9
A12: 10
A13: 11
A14: 12
... A57: 55
