Workbook

Sheet SEP
E1: D58 | F1: E58 | H1: F58 | I1: G58 | K1: H58 | L1: I58 | N1: J58 | O1: K58 | Q1: L58 | R1: M58 | T1: N58 | U1: O58 | AI1: X58 | AJ1: Y58 | AL1: Z58 | AM1: AA58 | AO1: AB58 | AP1: AC58 | AR1: AD58 | AS1: AE58 | AU1: AF58 | AV1: AG58 | AX1: AH58 | AY1: AI58 | BA1: AJ58 | BB1: AK58 | BD1: AL58 | BE1: AM58 | BG1: AN58 | BH1: AO58 | BI1: AP58 | BK1: AQ58 | BL1: AR58 | BM1: AS58 | BO1: AT58 | BP1: AV58 | BQ1: AW58 | BS1: AX58 | BT1: AZ58 | BU1: BA58
A2: OCT | E2: 丁單 | H2: NEW WHITE VIP | K2: NEW RED VIP | N2: 回流VIP 9折 | Q2: 回流VIP 85折 | T2: 萬元單 | W2: 2件88 | Z2: 3件85 | AC2: 4件8折 | AF2: 3000-350 | AI2: 5000-800 | AL2: 7000-1200 | AO2: 12000-2000 | AR2: 2对鞋85折 | AU2: 待增 | AX2: 待增 | BA2: 待增 | BD2: 待增 | BG2: 待增 | BK2: 待增 | BO2: 待增 | BS2: 待增
A4: Day | B4: / | C4: Sales | D4: NO | E4: Sales | F4: NO | G4: Tar % | H4: Sales | I4: NO | J4: Tar % | K4: Sales | L4: NO | M4: Tar % | N4: Sales | O4: NO | P4: Tar % | Q4: Sales | R4: NO | S4: Tar % | T4: Sales | U4: NO | V4: Tar % | W4: Sales | X4: NO | Y4: Tar % | Z4: Sales | AA4: NO | AB4: Tar % | AC4: Sales | AD4: 個數 | AE4: Tar % | AF4: Sales | AG4: 個數 | AH4: Tar % | AI4: Sales | AJ4: NO | AK4: Tar % | AL4: Sales | AM4: NO | AN4: Tar % | AO4: Sales | AP4: NO | AQ4: Tar % | AR4: Sales | AS4: NO | AT4: Tar % | AU4: Sales | AV4: NO | AW4: Tar % | AX4: Sales | AY4: NO | AZ4: Tar % | BA4: Sales | BB4: NO | BC4: Tar % | BD4: Sales | BE4: NO | BF4: Tar % | BG4: Sales | BH4: NO | BI4: QTY | BJ4: Tar % | BK4: Sales | BL4: NO | BM4: QTY | BN4: Tar % | BO4: Sales | BP4: NO | BQ4: QTY | BR4: Tar % | BS4: Sales | BT4: NO | BU4: QTY | BV4: Tar %
B5: M | E5: {=IFERROR(INDIRECT("'"&$A5&"'!"&E$1),"")} | F5: =IFERROR(INDIRECT("'"&$A5&"'!"&$F$1),"") | G5: =F5/D5 -> #VALUE! | H5: {=IFERROR(INDIRECT("'"&$A5&"'!"&H$1),"")} | I5: =IFERROR(INDIRECT("'"&$A5&"'!"&$I$1),"") | J5: =H5/C5 -> #VALUE! | K5: {=IFERROR(INDIRECT("'"&$A5&"'!"&K$1),"")} | L5: =IFERROR(INDIRECT("'"&$A5&"'!"&$L$1),"") | M5: =K5/C5 -> #VALUE! | N5: {=IFERROR(INDIRECT("'"&$A5&"'!"&N$1),"")} | O5: =IFERROR(INDIRECT("'"&$A5&"'!"&$O$1),"") | P5: =N5/C5 -> #VALUE! | Q5: {=IFERROR(INDIRECT("'"&$A5&"'!"&Q$1),"")} | R5: =IFERROR(INDIRECT("'"&$A5&"'!"&$R$1),"") | S5: =Q5/C5 -> #VALUE! | T5: {=IFERROR(INDIRECT("'"&$A5&"'!"&T$1),"")} | U5: =IFERROR(INDIRECT("'"&$A5&"'!"&$U$1),"") | V5: =T5/C5 -> #VALUE! | W5: {=IFERROR(INDIRECT("'"&$A5&"'!"&W$1),"")} | X5: =IFERROR(INDIRECT("'"&$A5&"'!"&$X$1),"") | Y5: =W5/C5 -> #VALUE! | Z5: {=IFERROR(INDIRECT("'"&$A5&"'!"&Z$1),"")} | AA5: =IFERROR(INDIRECT("'"&$A5&"'!"&$AA$1),"") | AB5: =Z5/C5 -> #VALUE! | AC5: {=IFERROR(INDIRECT("'"&$A5&"'!"&AC$1),"")} | AD5: =IFERROR(INDIRECT("'"&$A5&"'!"&$AD$1),"") | AE5: =AC5/C5 -> #VALUE! | AF5: {=IFERROR(INDIRECT("'"&$A5&"'!"&AF$1),"")} | AG5: =IFERROR(INDIRECT("'"&$A5&"'!"&$AG$1),"") | AH5: =AF5/C5 -> #VALUE! | AI5: {=IFERROR(INDIRECT("'"&$A5&"'!"&AI$1),"")} | AJ5: =IFERROR(INDIRECT("'"&$A5&"'!"&$AJ$1),"") | AK5: =AI5/C5 -> #VALUE! | AL5: {=IFERROR(INDIRECT("'"&$A5&"'!"&AL$1),"")} | AM5: =IFERROR(INDIRECT("'"&$A5&"'!"&$AM$1),"") | AN5: =AL5/C5 -> #VALUE! | AO5: {=IFERROR(INDIRECT("'"&$A5&"'!"&AO$1),"")} | AP5: =IFERROR(INDIRECT("'"&$A5&"'!"&$AP$1),"") | AQ5: =AO5/C5 -> #VALUE! | AR5: {=IFERROR(INDIRECT("'"&$A5&"'!"&AR$1),"")} | AS5: =IFERROR(INDIRECT("'"&$A5&"'!"&$AS$1),"") | AT5: =AR5/C5 -> #VALUE! | AU5: {=IFERROR(INDIRECT("'"&$A5&"'!"&AU$1),"")} | AV5: =IFERROR(INDIRECT("'"&$A5&"'!"&$AV$1),"") | AW5: =AU5/C5 -> #VALUE! | AX5: {=IFERROR(INDIRECT("'"&$A5&"'!"&AX$1),"")} | AY5: =IFERROR(INDIRECT("'"&$A5&"'!"&$AY$1),"") | AZ5: =AX5/C5 -> #VALUE! | BA5: {=IFERROR(INDIRECT("'"&$A5&"'!"&BA$1),"")} | BB5: =IFERROR(INDIRECT("'"&$A5&"'!"&$BB$1),"") | BC5: =BA5/C5 -> #VALUE! | BD5: {=IFERROR(INDIRECT("'"&$A5&"'!"&BD$1),"")} | BE5: =IFERROR(INDIRECT("'"&$A5&"'!"&$BE$1),"") | BF5: =BD5/C5 -> #VALUE! | BG5: {=IFERROR(INDIRECT("'"&$A5&"'!"&BG$1),"")} | BH5: =IFERROR(INDIRECT("'"&$A5&"'!"&$BH$1),"") | BI5: =IFERROR(INDIRECT("'"&$A5&"'!"&$BI$1),"") | BJ5: =BG5/C5 -> #VALUE! | BK5: {=IFERROR(INDIRECT("'"&$A5&"'!"&BK$1),"")} | BL5: =IFERROR(INDIRECT("'"&$A5&"'!"&$BL$1),"") | BM5: =IFERROR(INDIRECT("'"&$A5&"'!"&$BM$1),"") | BN5: =BK5/C5 -> #VALUE! | BO5: {=IFERROR(INDIRECT("'"&$A5&"'!"&BO$1),"")} | BP5: =IFERROR(INDIRECT("'"&$A5&"'!"&$BP$1),"") | BQ5: =IFERROR(INDIRECT("'"&$A5&"'!"&$BQ$1),"") | BR5: =BO5/C5 -> #VALUE! | BS5: {=IFERROR(INDIRECT("'"&$A5&"'!"&BS$1),"")} | BT5: =IFERROR(INDIRECT("'"&$A5&"'!"&$BT$1),"") | BU5: =IFERROR(INDIRECT("'"&$A5&"'!"&$BU$1),"") | BV5: =BS5/C5 -> #VALUE!
B6: T | E6: {=IFERROR(INDIRECT("'"&$A6&"'!"&E$1),"")} | F6: =IFERROR(INDIRECT("'"&$A6&"'!"&$F$1),"") | G6: =F6/D6 -> #VALUE! | H6: {=IFERROR(INDIRECT("'"&$A6&"'!"&H$1),"")} | I6: =IFERROR(INDIRECT("'"&$A6&"'!"&$I$1),"") | J6: =H6/C6 -> #VALUE! | K6: {=IFERROR(INDIRECT("'"&$A6&"'!"&K$1),"")} | L6: =IFERROR(INDIRECT("'"&$A6&"'!"&$L$1),"") | M6: =K6/C6 -> #VALUE! | N6: {=IFERROR(INDIRECT("'"&$A6&"'!"&N$1),"")} | O6: =IFERROR(INDIRECT("'"&$A6&"'!"&$O$1),"") | P6: =N6/C6 -> #VALUE! | Q6: {=IFERROR(INDIRECT("'"&$A6&"'!"&Q$1),"")} | R6: =IFERROR(INDIRECT("'"&$A6&"'!"&$R$1),"") | S6: =Q6/C6 -> #VALUE! | T6: {=IFERROR(INDIRECT("'"&$A6&"'!"&T$1),"")} | U6: =IFERROR(INDIRECT("'"&$A6&"'!"&$U$1),"") | V6: =T6/C6 -> #VALUE! | W6: {=IFERROR(INDIRECT("'"&$A6&"'!"&W$1),"")} | X6: =IFERROR(INDIRECT("'"&$A6&"'!"&$X$1),"") | Y6: =W6/C6 -> #VALUE! | Z6: {=IFERROR(INDIRECT("'"&$A6&"'!"&Z$1),"")} | AA6: =IFERROR(INDIRECT("'"&$A6&"'!"&$AA$1),"") | AB6: =Z6/C6 -> #VALUE! | AC6: {=IFERROR(INDIRECT("'"&$A6&"'!"&AC$1),"")} | AD6: =IFERROR(INDIRECT("'"&$A6&"'!"&$AD$1),"") | AE6: =AC6/C6 -> #VALUE! | AF6: {=IFERROR(INDIRECT("'"&$A6&"'!"&AF$1),"")} | AG6: =IFERROR(INDIRECT("'"&$A6&"'!"&$AG$1),"") | AH6: =AF6/C6 -> #VALUE! | AI6: {=IFERROR(INDIRECT("'"&$A6&"'!"&AI$1),"")} | AJ6: =IFERROR(INDIRECT("'"&$A6&"'!"&$AJ$1),"") | AK6: =AI6/C6 -> #VALUE! | AL6: {=IFERROR(INDIRECT("'"&$A6&"'!"&AL$1),"")} | AM6: =IFERROR(INDIRECT("'"&$A6&"'!"&$AM$1),"") | AN6: =AL6/C6 -> #VALUE! | AO6: {=IFERROR(INDIRECT("'"&$A6&"'!"&AO$1),"")} | AP6: =IFERROR(INDIRECT("'"&$A6&"'!"&$AP$1),"") | AQ6: =AO6/C6 -> #VALUE! | AR6: {=IFERROR(INDIRECT("'"&$A6&"'!"&AR$1),"")} | AS6: =IFERROR(INDIRECT("'"&$A6&"'!"&$AS$1),"") | AT6: =AR6/C6 -> #VALUE! | AU6: {=IFERROR(INDIRECT("'"&$A6&"'!"&AU$1),"")} | AV6: =IFERROR(INDIRECT("'"&$A6&"'!"&$AV$1),"") | AW6: =AU6/C6 -> #VALUE! | AX6: {=IFERROR(INDIRECT("'"&$A6&"'!"&AX$1),"")} | AY6: =IFERROR(INDIRECT("'"&$A6&"'!"&$AY$1),"") | AZ6: =AX6/C6 -> #VALUE! | BA6: {=IFERROR(INDIRECT("'"&$A6&"'!"&BA$1),"")} | BB6: =IFERROR(INDIRECT("'"&$A6&"'!"&$BB$1),"") | BC6: =BA6/C6 -> #VALUE! | BD6: {=IFERROR(INDIRECT("'"&$A6&"'!"&BD$1),"")} | BE6: =IFERROR(INDIRECT("'"&$A6&"'!"&$BE$1),"") | BF6: =BD6/C6 -> #VALUE! | BG6: {=IFERROR(INDIRECT("'"&$A6&"'!"&BG$1),"")} | BH6: =IFERROR(INDIRECT("'"&$A6&"'!"&$BH$1),"") | BI6: =IFERROR(INDIRECT("'"&$A6&"'!"&$BI$1),"") | BJ6: =BG6/C6 -> #VALUE! | BK6: {=IFERROR(INDIRECT("'"&$A6&"'!"&BK$1),"")} | BL6: =IFERROR(INDIRECT("'"&$A6&"'!"&$BL$1),"") | BM6: =IFERROR(INDIRECT("'"&$A6&"'!"&$BM$1),"") | BN6: =BK6/C6 -> #VALUE! | BO6: {=IFERROR(INDIRECT("'"&$A6&"'!"&BO$1),"")} | BP6: =IFERROR(INDIRECT("'"&$A6&"'!"&$BP$1),"") | BQ6: =IFERROR(INDIRECT("'"&$A6&"'!"&$BQ$1),"") | BR6: =BO6/C6 -> #VALUE! | BS6: {=IFERROR(INDIRECT("'"&$A6&"'!"&BS$1),"")} | BT6: =IFERROR(INDIRECT("'"&$A6&"'!"&$BT$1),"") | BU6: =IFERROR(INDIRECT("'"&$A6&"'!"&$BU$1),"") | BV6: =BS6/C6 -> #VALUE!
B7: W | E7: {=IFERROR(INDIRECT("'"&$A7&"'!"&E$1),"")} | F7: =IFERROR(INDIRECT("'"&$A7&"'!"&$F$1),"") | G7: =F7/D7 -> #VALUE! | H7: {=IFERROR(INDIRECT("'"&$A7&"'!"&H$1),"")} | I7: =IFERROR(INDIRECT("'"&$A7&"'!"&$I$1),"") | J7: =H7/C7 -> #VALUE! | K7: {=IFERROR(INDIRECT("'"&$A7&"'!"&K$1),"")} | L7: =IFERROR(INDIRECT("'"&$A7&"'!"&$L$1),"") | M7: =K7/C7 -> #VALUE! | N7: {=IFERROR(INDIRECT("'"&$A7&"'!"&N$1),"")} | O7: =IFERROR(INDIRECT("'"&$A7&"'!"&$O$1),"") | P7: =N7/C7 -> #VALUE! | Q7: {=IFERROR(INDIRECT("'"&$A7&"'!"&Q$1),"")} | R7: =IFERROR(INDIRECT("'"&$A7&"'!"&$R$1),"") | S7: =Q7/C7 -> #VALUE! | T7: =IFERROR(INDIRECT("'"&$A7&"'!"&T$1),"") | U7: =IFERROR(INDIRECT("'"&$A7&"'!"&$U$1),"") | V7: =T7/C7 -> #VALUE! | W7: {=IFERROR(INDIRECT("'"&$A7&"'!"&W$1),"")} | X7: =IFERROR(INDIRECT("'"&$A7&"'!"&$X$1),"") | Y7: =W7/C7 -> #VALUE! | Z7: =IFERROR(INDIRECT("'"&$A7&"'!"&Z$1),"") | AA7: =IFERROR(INDIRECT("'"&$A7&"'!"&$AA$1),"") | AB7: =Z7/C7 -> #VALUE! | AC7: {=IFERROR(INDIRECT("'"&$A7&"'!"&AC$1),"")} | AD7: =IFERROR(INDIRECT("'"&$A7&"'!"&$AD$1),"") | AE7: =AC7/C7 -> #VALUE! | AF7: {=IFERROR(INDIRECT("'"&$A7&"'!"&AF$1),"")} | AG7: =IFERROR(INDIRECT("'"&$A7&"'!"&$AG$1),"") | AH7: =AF7/C7 -> #VALUE! | AI7: {=IFERROR(INDIRECT("'"&$A7&"'!"&AI$1),"")} | AJ7: =IFERROR(INDIRECT("'"&$A7&"'!"&$AJ$1),"") | AK7: =AI7/C7 -> #VALUE! | AL7: {=IFERROR(INDIRECT("'"&$A7&"'!"&AL$1),"")} | AM7: =IFERROR(INDIRECT("'"&$A7&"'!"&$AM$1),"") | AN7: =AL7/C7 -> #VALUE! | AO7: {=IFERROR(INDIRECT("'"&$A7&"'!"&AO$1),"")} | AP7: =IFERROR(INDIRECT("'"&$A7&"'!"&$AP$1),"") | AQ7: =AO7/C7 -> #VALUE! | AR7: {=IFERROR(INDIRECT("'"&$A7&"'!"&AR$1),"")} | AS7: =IFERROR(INDIRECT("'"&$A7&"'!"&$AS$1),"") | AT7: =AR7/C7 -> #VALUE! | AU7: {=IFERROR(INDIRECT("'"&$A7&"'!"&AU$1),"")} | AV7: =IFERROR(INDIRECT("'"&$A7&"'!"&$AV$1),"") | AW7: =AU7/C7 -> #VALUE! | AX7: {=IFERROR(INDIRECT("'"&$A7&"'!"&AX$1),"")} | AY7: =IFERROR(INDIRECT("'"&$A7&"'!"&$AY$1),"") | AZ7: =AX7/C7 -> #VALUE! | BA7: {=IFERROR(INDIRECT("'"&$A7&"'!"&BA$1),"")} | BB7: =IFERROR(INDIRECT("'"&$A7&"'!"&$BB$1),"") | BC7: =BA7/C7 -> #VALUE! | BD7: {=IFERROR(INDIRECT("'"&$A7&"'!"&BD$1),"")} | BE7: =IFERROR(INDIRECT("'"&$A7&"'!"&$BE$1),"") | BF7: =BD7/C7 -> #VALUE! | BG7: {=IFERROR(INDIRECT("'"&$A7&"'!"&BG$1),"")} | BH7: =IFERROR(INDIRECT("'"&$A7&"'!"&$BH$1),"") | BI7: =IFERROR(INDIRECT("'"&$A7&"'!"&$BI$1),"") | BJ7: =BG7/C7 -> #VALUE! | BK7: {=IFERROR(INDIRECT("'"&$A7&"'!"&BK$1),"")} | BL7: =IFERROR(INDIRECT("'"&$A7&"'!"&$BL$1),"") | BM7: =IFERROR(INDIRECT("'"&$A7&"'!"&$BM$1),"") | BN7: =BK7/C7 -> #VALUE! | BO7: {=IFERROR(INDIRECT("'"&$A7&"'!"&BO$1),"")} | BP7: =IFERROR(INDIRECT("'"&$A7&"'!"&$BP$1),"") | BQ7: =IFERROR(INDIRECT("'"&$A7&"'!"&$BQ$1),"") | BR7: =BO7/C7 -> #VALUE! | BS7: {=IFERROR(INDIRECT("'"&$A7&"'!"&BS$1),"")} | BT7: =IFERROR(INDIRECT("'"&$A7&"'!"&$BT$1),"") | BU7: =IFERROR(INDIRECT("'"&$A7&"'!"&$BU$1),"") | BV7: =BS7/C7 -> #VALUE!
A8: 1 | B8: T | C8: 79809 | D8: 43 | E8: {=IFERROR(INDIRECT("'"&$A8&"'!"&E$1),"")} -> 9842 | F8: =IFERROR(INDIRECT("'"&$A8&"'!"&$F$1),"") -> 11 | G8: =F8/D8 -> 0.25581395 | H8: {=IFERROR(INDIRECT("'"&$A8&"'!"&H$1),"")} -> 19421 | I8: =IFERROR(INDIRECT("'"&$A8&"'!"&$I$1),"") -> 6 | J8: =H8/C8 -> 0.24334348 | K8: {=IFERROR(INDIRECT("'"&$A8&"'!"&K$1),"")} -> 0 | L8: =IFERROR(INDIRECT("'"&$A8&"'!"&$L$1),"") -> 0 | M8: =K8/C8 -> 0 | N8: {=IFERROR(INDIRECT("'"&$A8&"'!"&N$1),"")} -> 3797 | O8: =IFERROR(INDIRECT("'"&$A8&"'!"&$O$1),"") -> 2 | P8: =N8/C8 -> 0.047576088 | Q8: {=IFERROR(INDIRECT("'"&$A8&"'!"&Q$1),"")} -> 2900 | R8: =IFERROR(INDIRECT("'"&$A8&"'!"&$R$1),"") -> 1 | S8: =Q8/C8 -> 0.036336754 | T8: {=IFERROR(INDIRECT("'"&$A8&"'!"&T$1),"")} -> 0 | U8: =IFERROR(INDIRECT("'"&$A8&"'!"&$U$1),"") -> 0 | V8: =T8/C8 -> 0 | W8: {=IFERROR(INDIRECT("'"&$A8&"'!"&W$1),"")} | X8: =IFERROR(INDIRECT("'"&$A8&"'!"&$X$1),"") | Y8: =W8/C8 -> #VALUE! | Z8: {=IFERROR(INDIRECT("'"&$A8&"'!"&Z$1),"")} | AA8: =IFERROR(INDIRECT("'"&$A8&"'!"&$AA$1),"") | AB8: =Z8/C8 -> #VALUE! | AC8: {=IFERROR(INDIRECT("'"&$A8&"'!"&AC$1),"")} | AD8: =IFERROR(INDIRECT("'"&$A8&"'!"&$AD$1),"") | AE8: =AC8/C8 -> #VALUE! | AF8: {=IFERROR(INDIRECT("'"&$A8&"'!"&AF$1),"")} | AG8: =IFERROR(INDIRECT("'"&$A8&"'!"&$AG$1),"") | AH8: =AF8/C8 -> #VALUE! | AI8: {=IFERROR(INDIRECT("'"&$A8&"'!"&AI$1),"")} -> 5040 | AJ8: =IFERROR(INDIRECT("'"&$A8&"'!"&$AJ$1),"") -> 1 | AK8: =AI8/C8 -> 0.063150772 | AL8: {=IFERROR(INDIRECT("'"&$A8&"'!"&AL$1),"")} -> 0 | AM8: =IFERROR(INDIRECT("'"&$A8&"'!"&$AM$1),"") -> 0 | AN8: =AL8/C8 -> 0 | AO8: {=IFERROR(INDIRECT("'"&$A8&"'!"&AO$1),"")} -> 0 | AP8: =IFERROR(INDIRECT("'"&$A8&"'!"&$AP$1),"") -> 0 | AQ8: =AO8/C8 -> 0 | AR8: {=IFERROR(INDIRECT("'"&$A8&"'!"&AR$1),"")} -> 13740 | AS8: =IFERROR(INDIRECT("'"&$A8&"'!"&$AS$1),"") -> 9 | AT8: =AR8/C8 -> 0.17216103 | AU8: {=IFERROR(INDIRECT("'"&$A8&"'!"&AU$1),"")} -> 0 | AV8: =IFERROR(INDIRECT("'"&$A8&"'!"&$AV$1),"") -> 0 | AW8: =AU8/C8 -> 0 | AX8: {=IFERROR(INDIRECT("'"&$A8&"'!"&AX$1),"")} -> 0 | AY8: =IFERROR(INDIRECT("'"&$A8&"'!"&$AY$1),"") -> 0 | AZ8: =AX8/C8 -> 0 | BA8: {=IFERROR(INDIRECT("'"&$A8&"'!"&BA$1),"")} -> 0 | BB8: =IFERROR(INDIRECT("'"&$A8&"'!"&$BB$1),"") -> 0 | BC8: =BA8/C8 -> 0 | BD8: {=IFERROR(INDIRECT("'"&$A8&"'!"&BD$1),"")} -> 0 | BE8: =IFERROR(INDIRECT("'"&$A8&"'!"&$BE$1),"") -> 0 | BF8: =BD8/C8 -> 0 | BG8: {=IFERROR(INDIRECT("'"&$A8&"'!"&BG$1),"")} -> 0 | BH8: =IFERROR(INDIRECT("'"&$A8&"'!"&$BH$1),"") -> 0 | BI8: =IFERROR(INDIRECT("'"&$A8&"'!"&$BI$1),"") -> 0 | BJ8: =BG8/C8 -> 0 | BK8: {=IFERROR(INDIRECT("'"&$A8&"'!"&BK$1),"")} -> 0 | BL8: =IFERROR(INDIRECT("'"&$A8&"'!"&$BL$1),"") -> 0 | BM8: =IFERROR(INDIRECT("'"&$A8&"'!"&$BM$1),"") -> 0 | BN8: =BK8/C8 -> 0 | BO8: {=IFERROR(INDIRECT("'"&$A8&"'!"&BO$1),"")} -> 0 | BP8: =IFERROR(INDIRECT("'"&$A8&"'!"&$BP$1),"") -> 0 | BQ8: =IFERROR(INDIRECT("'"&$A8&"'!"&$BQ$1),"") -> 0 | BR8: =BO8/C8 -> 0 | BS8: {=IFERROR(INDIRECT("'"&$A8&"'!"&BS$1),"")} -> 0 | BT8: =IFERROR(INDIRECT("'"&$A8&"'!"&$BT$1),"") -> 0 | BU8: =IFERROR(INDIRECT("'"&$A8&"'!"&$BU$1),"") -> 0 | BV8: =BS8/C8 -> 0
A9: 2 | B9: F | E9: {=IFERROR(INDIRECT("'"&$A9&"'!"&E$1),"")} -> 1570 | F9: =IFERROR(INDIRECT("'"&$A9&"'!"&$F$1),"") -> 2 | G9: =F9/D9 -> #DIV/0! | H9: {=IFERROR(INDIRECT("'"&$A9&"'!"&H$1),"")} -> 0 | I9: =IFERROR(INDIRECT("'"&$A9&"'!"&$I$1),"") -> 0 | J9: =H9/C9 -> #DIV/0! | K9: {=IFERROR(INDIRECT("'"&$A9&"'!"&K$1),"")} -> 0 | L9: =IFERROR(INDIRECT("'"&$A9&"'!"&$L$1),"") -> 0 | M9: =K9/C9 -> #DIV/0! | N9: {=IFERROR(INDIRECT("'"&$A9&"'!"&N$1),"")} -> 0 | O9: =IFERROR(INDIRECT("'"&$A9&"'!"&$O$1),"") -> 0 | P9: =N9/C9 -> #DIV/0! | Q9: {=IFERROR(INDIRECT("'"&$A9&"'!"&Q$1),"")} -> 0 | R9: =IFERROR(INDIRECT("'"&$A9&"'!"&$R$1),"") -> 0 | S9: =Q9/C9 -> #DIV/0! | T9: {=IFERROR(INDIRECT("'"&$A9&"'!"&T$1),"")} -> 0 | U9: =IFERROR(INDIRECT("'"&$A9&"'!"&$U$1),"") -> 0 | V9: =T9/C9 -> #DIV/0! | W9: {=IFERROR(INDIRECT("'"&$A9&"'!"&W$1),"")} | X9: =IFERROR(INDIRECT("'"&$A9&"'!"&$X$1),"") | Y9: =W9/C9 -> #VALUE! | Z9: {=IFERROR(INDIRECT("'"&$A9&"'!"&Z$1),"")} | AA9: =IFERROR(INDIRECT("'"&$A9&"'!"&$AA$1),"") | AB9: =Z9/C9 -> #VALUE! | AC9: {=IFERROR(INDIRECT("'"&$A9&"'!"&AC$1),"")} | AD9: =IFERROR(INDIRECT("'"&$A9&"'!"&$AD$1),"") | AE9: =AC9/C9 -> #VALUE! | AF9: {=IFERROR(INDIRECT("'"&$A9&"'!"&AF$1),"")} | AG9: =IFERROR(INDIRECT("'"&$A9&"'!"&$AG$1),"") | AH9: =AF9/C9 -> #VALUE! | AI9: {=IFERROR(INDIRECT("'"&$A9&"'!"&AI$1),"")} -> 0 | AJ9: =IFERROR(INDIRECT("'"&$A9&"'!"&$AJ$1),"") -> 0 | AK9: =AI9/C9 -> #DIV/0! | AL9: {=IFERROR(INDIRECT("'"&$A9&"'!"&AL$1),"")} -> 0 | AM9: =IFERROR(INDIRECT("'"&$A9&"'!"&$AM$1),"") -> 0 | AN9: =AL9/C9 -> #DIV/0! | AO9: {=IFERROR(INDIRECT("'"&$A9&"'!"&AO$1),"")} -> 0 | AP9: =IFERROR(INDIRECT("'"&$A9&"'!"&$AP$1),"") -> 0 | AQ9: =AO9/C9 -> #DIV/0! | AR9: {=IFERROR(INDIRECT("'"&$A9&"'!"&AR$1),"")} -> 0 | AS9: =IFERROR(INDIRECT("'"&$A9&"'!"&$AS$1),"") -> 0 | AT9: =AR9/C9 -> #DIV/0! | AU9: {=IFERROR(INDIRECT("'"&$A9&"'!"&AU$1),"")} -> 0 | AV9: =IFERROR(INDIRECT("'"&$A9&"'!"&$AV$1),"") -> 0 | AW9: =AU9/C9 -> #DIV/0! | AX9: {=IFERROR(INDIRECT("'"&$A9&"'!"&AX$1),"")} -> 0 | AY9: =IFERROR(INDIRECT("'"&$A9&"'!"&$AY$1),"") -> 0 | AZ9: =AX9/C9 -> #DIV/0! | BA9: {=IFERROR(INDIRECT("'"&$A9&"'!"&BA$1),"")} -> 0 | BB9: =IFERROR(INDIRECT("'"&$A9&"'!"&$BB$1),"") -> 0 | BC9: =BA9/C9 -> #DIV/0! | BD9: {=IFERROR(INDIRECT("'"&$A9&"'!"&BD$1),"")} -> 0 | BE9: =IFERROR(INDIRECT("'"&$A9&"'!"&$BE$1),"") -> 0 | BF9: =BD9/C9 -> #DIV/0! | BG9: {=IFERROR(INDIRECT("'"&$A9&"'!"&BG$1),"")} -> 0 | BH9: =IFERROR(INDIRECT("'"&$A9&"'!"&$BH$1),"") -> 0 | BI9: =IFERROR(INDIRECT("'"&$A9&"'!"&$BI$1),"") -> 0 | BJ9: =BG9/C9 -> #DIV/0! | BK9: {=IFERROR(INDIRECT("'"&$A9&"'!"&BK$1),"")} -> 0 | BL9: =IFERROR(INDIRECT("'"&$A9&"'!"&$BL$1),"") -> 0 | BM9: =IFERROR(INDIRECT("'"&$A9&"'!"&$BM$1),"") -> 0 | BN9: =BK9/C9 -> #DIV/0! | BO9: {=IFERROR(INDIRECT("'"&$A9&"'!"&BO$1),"")} -> 0 | BP9: =IFERROR(INDIRECT("'"&$A9&"'!"&$BP$1),"") -> 0 | BQ9: =IFERROR(INDIRECT("'"&$A9&"'!"&$BQ$1),"") -> 0 | BR9: =BO9/C9 -> #DIV/0! | BS9: {=IFERROR(INDIRECT("'"&$A9&"'!"&BS$1),"")} -> 0 | BT9: =IFERROR(INDIRECT("'"&$A9&"'!"&$BT$1),"") -> 0 | BU9: =IFERROR(INDIRECT("'"&$A9&"'!"&$BU$1),"") -> 0 | BV9: =BS9/C9 -> #DIV/0!
A10: 3 | B10: S | E10: {=IFERROR(INDIRECT("'"&$A10&"'!"&E$1),"")} -> 0 | F10: =IFERROR(INDIRECT("'"&$A10&"'!"&$F$1),"") -> 0 | G10: =F10/D10 -> #DIV/0! | H10: {=IFERROR(INDIRECT("'"&$A10&"'!"&H$1),"")} -> 0 | I10: =IFERROR(INDIRECT("'"&$A10&"'!"&$I$1),"") -> 0 | J10: =H10/C10 -> #DIV/0! | K10: {=IFERROR(INDIRECT("'"&$A10&"'!"&K$1),"")} -> 0 | L10: =IFERROR(INDIRECT("'"&$A10&"'!"&$L$1),"") -> 0 | M10: =K10/C10 -> #DIV/0! | N10: {=IFERROR(INDIRECT("'"&$A10&"'!"&N$1),"")} -> 0 | O10: =IFERROR(INDIRECT("'"&$A10&"'!"&$O$1),"") -> 0 | P10: =N10/C10 -> #DIV/0! | Q10: {=IFERROR(INDIRECT("'"&$A10&"'!"&Q$1),"")} -> 0 | R10: =IFERROR(INDIRECT("'"&$A10&"'!"&$R$1),"") -> 0 | S10: =Q10/C10 -> #DIV/0! | T10: {=IFERROR(INDIRECT("'"&$A10&"'!"&T$1),"")} -> 0 | U10: =IFERROR(INDIRECT("'"&$A10&"'!"&$U$1),"") -> 0 | V10: =T10/C10 -> #DIV/0! | W10: {=IFERROR(INDIRECT("'"&$A10&"'!"&W$1),"")} | X10: =IFERROR(INDIRECT("'"&$A10&"'!"&$X$1),"") | Y10: =W10/C10 -> #VALUE! | Z10: {=IFERROR(INDIRECT("'"&$A10&"'!"&Z$1),"")} | AA10: =IFERROR(INDIRECT("'"&$A10&"'!"&$AA$1),"") | AB10: =Z10/C10 -> #VALUE! | AC10: {=IFERROR(INDIRECT("'"&$A10&"'!"&AC$1),"")} | AD10: =IFERROR(INDIRECT("'"&$A10&"'!"&$AD$1),"") | AE10: =AC10/C10 -> #VALUE! | AF10: {=IFERROR(INDIRECT("'"&$A10&"'!"&AF$1),"")} | AG10: =IFERROR(INDIRECT("'"&$A10&"'!"&$AG$1),"") | AH10: =AF10/C10 -> #VALUE! | AI10: {=IFERROR(INDIRECT("'"&$A10&"'!"&AI$1),"")} -> 0 | AJ10: =IFERROR(INDIRECT("'"&$A10&"'!"&$AJ$1),"") -> 0 | AK10: =AI10/C10 -> #DIV/0! | AL10: {=IFERROR(INDIRECT("'"&$A10&"'!"&AL$1),"")} -> 0 | AM10: =IFERROR(INDIRECT("'"&$A10&"'!"&$AM$1),"") -> 0 | AN10: =AL10/C10 -> #DIV/0! | AO10: {=IFERROR(INDIRECT("'"&$A10&"'!"&AO$1),"")} -> 0 | AP10: =IFERROR(INDIRECT("'"&$A10&"'!"&$AP$1),"") -> 0 | AQ10: =AO10/C10 -> #DIV/0! | AR10: {=IFERROR(INDIRECT("'"&$A10&"'!"&AR$1),"")} -> 0 | AS10: =IFERROR(INDIRECT("'"&$A10&"'!"&$AS$1),"") -> 0 | AT10: =AR10/C10 -> #DIV/0! | AU10: {=IFERROR(INDIRECT("'"&$A10&"'!"&AU$1),"")} -> 0 | AV10: =IFERROR(INDIRECT("'"&$A10&"'!"&$AV$1),"") -> 0 | AW10: =AU10/C10 -> #DIV/0! | AX10: {=IFERROR(INDIRECT("'"&$A10&"'!"&AX$1),"")} -> 0 | AY10: =IFERROR(INDIRECT("'"&$A10&"'!"&$AY$1),"") -> 0 | AZ10: =AX10/C10 -> #DIV/0! | BA10: {=IFERROR(INDIRECT("'"&$A10&"'!"&BA$1),"")} -> 0 | BB10: =IFERROR(INDIRECT("'"&$A10&"'!"&$BB$1),"") -> 0 | BC10: =BA10/C10 -> #DIV/0! | BD10: {=IFERROR(INDIRECT("'"&$A10&"'!"&BD$1),"")} -> 0 | BE10: =IFERROR(INDIRECT("'"&$A10&"'!"&$BE$1),"") -> 0 | BF10: =BD10/C10 -> #DIV/0! | BG10: {=IFERROR(INDIRECT("'"&$A10&"'!"&BG$1),"")} -> 0 | BH10: =IFERROR(INDIRECT("'"&$A10&"'!"&$BH$1),"") -> 0 | BI10: =IFERROR(INDIRECT("'"&$A10&"'!"&$BI$1),"") -> 0 | BJ10: =BG10/C10 -> #DIV/0! | BK10: {=IFERROR(INDIRECT("'"&$A10&"'!"&BK$1),"")} -> 0 | BL10: =IFERROR(INDIRECT("'"&$A10&"'!"&$BL$1),"") -> 0 | BM10: =IFERROR(INDIRECT("'"&$A10&"'!"&$BM$1),"") -> 0 | BN10: =BK10/C10 -> #DIV/0! | BO10: {=IFERROR(INDIRECT("'"&$A10&"'!"&BO$1),"")} -> 0 | BP10: =IFERROR(INDIRECT("'"&$A10&"'!"&$BP$1),"") -> 0 | BQ10: =IFERROR(INDIRECT("'"&$A10&"'!"&$BQ$1),"") -> 0 | BR10: =BO10/C10 -> #DIV/0! | BS10: {=IFERROR(INDIRECT("'"&$A10&"'!"&BS$1),"")} -> 0 | BT10: =IFERROR(INDIRECT("'"&$A10&"'!"&$BT$1),"") -> 0 | BU10: =IFERROR(INDIRECT("'"&$A10&"'!"&$BU$1),"") -> 0 | BV10: =BS10/C10 -> #DIV/0!
A11: 4 | B11: S | E11: {=IFERROR(INDIRECT("'"&$A11&"'!"&E$1),"")} -> 0 | F11: =IFERROR(INDIRECT("'"&$A11&"'!"&$F$1),"") -> 0 | G11: =F11/D11 -> #DIV/0! | H11: {=IFERROR(INDIRECT("'"&$A11&"'!"&H$1),"")} -> 0 | I11: =IFERROR(INDIRECT("'"&$A11&"'!"&$I$1),"") -> 0 | J11: =H11/C11 -> #DIV/0! | K11: {=IFERROR(INDIRECT("'"&$A11&"'!"&K$1),"")} -> 0 | L11: =IFERROR(INDIRECT("'"&$A11&"'!"&$L$1),"") -> 0 | M11: =K11/C11 -> #DIV/0! | N11: {=IFERROR(INDIRECT("'"&$A11&"'!"&N$1),"")} -> 0 | O11: =IFERROR(INDIRECT("'"&$A11&"'!"&$O$1),"") -> 0 | P11: =N11/C11 -> #DIV/0! | Q11: {=IFERROR(INDIRECT("'"&$A11&"'!"&Q$1),"")} -> 0 | R11: =IFERROR(INDIRECT("'"&$A11&"'!"&$R$1),"") -> 0 | S11: =Q11/C11 -> #DIV/0! | T11: {=IFERROR(INDIRECT("'"&$A11&"'!"&T$1),"")} -> 0 | U11: =IFERROR(INDIRECT("'"&$A11&"'!"&$U$1),"") -> 0 | V11: =T11/C11 -> #DIV/0! | W11: {=IFERROR(INDIRECT("'"&$A11&"'!"&W$1),"")} | X11: =IFERROR(INDIRECT("'"&$A11&"'!"&$X$1),"") | Y11: =W11/C11 -> #VALUE! | Z11: {=IFERROR(INDIRECT("'"&$A11&"'!"&Z$1),"")} | AA11: =IFERROR(INDIRECT("'"&$A11&"'!"&$AA$1),"") | AB11: =Z11/C11 -> #VALUE! | AC11: {=IFERROR(INDIRECT("'"&$A11&"'!"&AC$1),"")} | AD11: =IFERROR(INDIRECT("'"&$A11&"'!"&$AD$1),"") | AE11: =AC11/C11 -> #VALUE! | AF11: {=IFERROR(INDIRECT("'"&$A11&"'!"&AF$1),"")} | AG11: =IFERROR(INDIRECT("'"&$A11&"'!"&$AG$1),"") | AH11: =AF11/C11 -> #VALUE! | AI11: {=IFERROR(INDIRECT("'"&$A11&"'!"&AI$1),"")} -> 0 | AJ11: =IFERROR(INDIRECT("'"&$A11&"'!"&$AJ$1),"") -> 0 | AK11: =AI11/C11 -> #DIV/0! | AL11: {=IFERROR(INDIRECT("'"&$A11&"'!"&AL$1),"")} -> 0 | AM11: =IFERROR(INDIRECT("'"&$A11&"'!"&$AM$1),"") -> 0 | AN11: =AL11/C11 -> #DIV/0! | AO11: {=IFERROR(INDIRECT("'"&$A11&"'!"&AO$1),"")} -> 0 | AP11: =IFERROR(INDIRECT("'"&$A11&"'!"&$AP$1),"") -> 0 | AQ11: =AO11/C11 -> #DIV/0! | AR11: {=IFERROR(INDIRECT("'"&$A11&"'!"&AR$1),"")} -> 0 | AS11: =IFERROR(INDIRECT("'"&$A11&"'!"&$AS$1),"") -> 0 | AT11: =AR11/C11 -> #DIV/0! | AU11: {=IFERROR(INDIRECT("'"&$A11&"'!"&AU$1),"")} -> 0 | AV11: =IFERROR(INDIRECT("'"&$A11&"'!"&$AV$1),"") -> 0 | AW11: =AU11/C11 -> #DIV/0! | AX11: {=IFERROR(INDIRECT("'"&$A11&"'!"&AX$1),"")} -> 0 | AY11: =IFERROR(INDIRECT("'"&$A11&"'!"&$AY$1),"") -> 0 | AZ11: =AX11/C11 -> #DIV/0! | BA11: {=IFERROR(INDIRECT("'"&$A11&"'!"&BA$1),"")} -> 0 | BB11: =IFERROR(INDIRECT("'"&$A11&"'!"&$BB$1),"") -> 0 | BC11: =BA11/C11 -> #DIV/0! | BD11: {=IFERROR(INDIRECT("'"&$A11&"'!"&BD$1),"")} -> 0 | BE11: =IFERROR(INDIRECT("'"&$A11&"'!"&$BE$1),"") -> 0 | BF11: =BD11/C11 -> #DIV/0! | BG11: {=IFERROR(INDIRECT("'"&$A11&"'!"&BG$1),"")} -> 0 | BH11: =IFERROR(INDIRECT("'"&$A11&"'!"&$BH$1),"") -> 0 | BI11: =IFERROR(INDIRECT("'"&$A11&"'!"&$BI$1),"") -> 0 | BJ11: =BG11/C11 -> #DIV/0! | BK11: {=IFERROR(INDIRECT("'"&$A11&"'!"&BK$1),"")} -> 0 | BL11: =IFERROR(INDIRECT("'"&$A11&"'!"&$BL$1),"") -> 0 | BM11: =IFERROR(INDIRECT("'"&$A11&"'!"&$BM$1),"") -> 0 | BN11: =BK11/C11 -> #DIV/0! | BO11: {=IFERROR(INDIRECT("'"&$A11&"'!"&BO$1),"")} -> 0 | BP11: =IFERROR(INDIRECT("'"&$A11&"'!"&$BP$1),"") -> 0 | BQ11: =IFERROR(INDIRECT("'"&$A11&"'!"&$BQ$1),"") -> 0 | BR11: =BO11/C11 -> #DIV/0! | BS11: {=IFERROR(INDIRECT("'"&$A11&"'!"&BS$1),"")} -> 0 | BT11: =IFERROR(INDIRECT("'"&$A11&"'!"&$BT$1),"") -> 0 | BU11: =IFERROR(INDIRECT("'"&$A11&"'!"&$BU$1),"") -> 0 | BV11: =BS11/C11 -> #DIV/0!
A12: Weekly | C12: =SUM(C5:C11) -> 79809 | D12: 74 | E12: =SUM(E5:E11) -> 11412 | F12: =SUM(F5:F11) -> 13 | G12: =F12/D12 -> 0.17567568 | H12: =SUM(H5:H11) -> 19421 | I12: =SUM(I5:I11) -> 6 | J12: =H12/C12 -> 0.24334348 | K12: =SUM(K5:K11) -> 0 | L12: =SUM(L5:L11) -> 0 | M12: =K12/C12 -> 0 | N12: =SUM(N5:N11) -> 3797 | O12: =SUM(O5:O11) -> 2 | P12: =N12/C12 -> 0.047576088 | Q12: =SUM(Q5:Q11) -> 2900 | R12: =SUM(R5:R11) -> 1 | S12: =Q12/C12 -> 0.036336754 | T12: =SUM(T5:T11) -> 0 | U12: =SUM(U5:U11) -> 0 | V12: =T12/C12 -> 0 | W12: =SUM(W5:W11) -> 0 | X12: =SUM(X5:X11) -> 0 | Y12: =W12/C12 -> 0 | Z12: =SUM(Z5:Z11) -> 0 | AA12: =SUM(AA5:AA11) -> 0 | AB12: =Z12/C12 -> 0 | AC12: =SUM(AC5:AC11) -> 0 | AD12: =SUM(AD5:AD11) -> 0 | AE12: =AC12/C12 -> 0 | AF12: =SUM(AF5:AF11) -> 0 | AG12: =SUM(AG5:AG11) -> 0 | AH12: =AF12/C12 -> 0 | AI12: =SUM(AI5:AI11) -> 5040 | AJ12: =SUM(AJ5:AJ11) -> 1 | AK12: =AI12/C12 -> 0.063150772 | AL12: =SUM(AL5:AL11) -> 0 | AM12: =SUM(AM5:AM11) -> 0 | AN12: =AL12/C12 -> 0 | AO12: =SUM(AO5:AO11) -> 0 | AP12: =SUM(AP5:AP11) -> 0 | AQ12: =AO12/C12 -> 0 | AR12: =SUM(AR5:AR11) -> 13740 | AS12: =SUM(AS5:AS11) -> 9 | AT12: =AR12/C12 -> 0.17216103 | AU12: =SUM(AU5:AU11) -> 0 | AV12: =SUM(AV5:AV11) -> 0 | AW12: =AU12/C12 -> 0 | AX12: =SUM(AX5:AX11) -> 0 | AY12: =SUM(AY5:AY11) -> 0 | AZ12: =AX12/C12 -> 0 | BA12: =SUM(BA5:BA11) -> 0 | BB12: =SUM(BB5:BB11) -> 0 | BC12: =BA12/C12 -> 0 | BD12: =SUM(BD5:BD11) -> 0 | BE12: =SUM(BE5:BE11) -> 0 | BF12: =BD12/C12 -> 0 | BG12: =SUM(BG5:BG11) -> 0 | BH12: =SUM(BH5:BH11) -> 0 | BI12: =SUM(BI5:BI11) -> 0 | BJ12: =BG12/C12 -> 0 | BK12: =SUM(BK5:BK11) -> 0 | BL12: =SUM(BL5:BL11) -> 0 | BM12: =SUM(BM5:BM11) -> 0 | BN12: =BK12/C12 -> 0 | BO12: =SUM(BO5:BO11) -> 0 | BP12: =SUM(BP5:BP11) -> 0 | BQ12: =SUM(BQ5:BQ11) -> 0 | BR12: =BO12/C12 -> 0 | BS12: =SUM(BS5:BS11) -> 0 | BT12: =SUM(BT5:BT11) -> 0 | BU12: =SUM(BU5:BU11) -> 0 | BV12: =BS12/C12 -> 0
A13: 5 | B13: M | E13: {=IFERROR(INDIRECT("'"&$A13&"'!"&E$1),"")} -> 0 | F13: =IFERROR(INDIRECT("'"&$A13&"'!"&$F$1),"") -> 0 | G13: =F13/D13 -> #DIV/0! | H13: {=IFERROR(INDIRECT("'"&$A13&"'!"&H$1),"")} -> 0 | I13: =IFERROR(INDIRECT("'"&$A13&"'!"&$I$1),"") -> 0 | J13: =H13/C13 -> #DIV/0! | K13: {=IFERROR(INDIRECT("'"&$A13&"'!"&K$1),"")} -> 0 | L13: =IFERROR(INDIRECT("'"&$A13&"'!"&$L$1),"") -> 0 | M13: =K13/C13 -> #DIV/0! | N13: {=IFERROR(INDIRECT("'"&$A13&"'!"&N$1),"")} -> 0 | O13: =IFERROR(INDIRECT("'"&$A13&"'!"&$O$1),"") -> 0 | P13: =N13/C13 -> #DIV/0! | Q13: {=IFERROR(INDIRECT("'"&$A13&"'!"&Q$1),"")} -> 0 | R13: =IFERROR(INDIRECT("'"&$A13&"'!"&$R$1),"") -> 0 | S13: =Q13/C13 -> #DIV/0! | T13: {=IFERROR(INDIRECT("'"&$A13&"'!"&T$1),"")} -> 0 | U13: =IFERROR(INDIRECT("'"&$A13&"'!"&$U$1),"") -> 0 | V13: =T13/C13 -> #DIV/0! | W13: {=IFERROR(INDIRECT("'"&$A13&"'!"&W$1),"")} | X13: =IFERROR(INDIRECT("'"&$A13&"'!"&$X$1),"") | Y13: =W13/C13 -> #VALUE! | Z13: {=IFERROR(INDIRECT("'"&$A13&"'!"&Z$1),"")} | AA13: =IFERROR(INDIRECT("'"&$A13&"'!"&$AA$1),"") | AB13: =Z13/C13 -> #VALUE! | AC13: {=IFERROR(INDIRECT("'"&$A13&"'!"&AC$1),"")} | AD13: =IFERROR(INDIRECT("'"&$A13&"'!"&$AD$1),"") | AE13: =AC13/C13 -> #VALUE! | AF13: {=IFERROR(INDIRECT("'"&$A13&"'!"&AF$1),"")} | AG13: =IFERROR(INDIRECT("'"&$A13&"'!"&$AG$1),"") | AH13: =AF13/C13 -> #VALUE! | AI13: {=IFERROR(INDIRECT("'"&$A13&"'!"&AI$1),"")} -> 0 | AJ13: =IFERROR(INDIRECT("'"&$A13&"'!"&$AJ$1),"") -> 0 | AK13: =AI13/C13 -> #DIV/0! | AL13: {=IFERROR(INDIRECT("'"&$A13&"'!"&AL$1),"")} -> 0 | AM13: =IFERROR(INDIRECT("'"&$A13&"'!"&$AM$1),"") -> 0 | AN13: =AL13/C13 -> #DIV/0! | AO13: {=IFERROR(INDIRECT("'"&$A13&"'!"&AO$1),"")} -> 0 | AP13: =IFERROR(INDIRECT("'"&$A13&"'!"&$AP$1),"") -> 0 | AQ13: =AO13/C13 -> #DIV/0! | AR13: {=IFERROR(INDIRECT("'"&$A13&"'!"&AR$1),"")} -> 0 | AS13: =IFERROR(INDIRECT("'"&$A13&"'!"&$AS$1),"") -> 0 | AT13: =AR13/C13 -> #DIV/0! | AU13: {=IFERROR(INDIRECT("'"&$A13&"'!"&AU$1),"")} -> 0 | AV13: =IFERROR(INDIRECT("'"&$A13&"'!"&$AV$1),"") -> 0 | AW13: =AU13/C13 -> #DIV/0! | AX13: {=IFERROR(INDIRECT("'"&$A13&"'!"&AX$1),"")} -> 0 | AY13: =IFERROR(INDIRECT("'"&$A13&"'!"&$AY$1),"") -> 0 | AZ13: =AX13/C13 -> #DIV/0! | BA13: {=IFERROR(INDIRECT("'"&$A13&"'!"&BA$1),"")} -> 0 | BB13: =IFERROR(INDIRECT("'"&$A13&"'!"&$BB$1),"") -> 0 | BC13: =BA13/C13 -> #DIV/0! | BD13: {=IFERROR(INDIRECT("'"&$A13&"'!"&BD$1),"")} -> 0 | BE13: =IFERROR(INDIRECT("'"&$A13&"'!"&$BE$1),"") -> 0 | BF13: =BD13/C13 -> #DIV/0! | BG13: {=IFERROR(INDIRECT("'"&$A13&"'!"&BG$1),"")} -> 0 | BH13: =IFERROR(INDIRECT("'"&$A13&"'!"&$BH$1),"") -> 0 | BI13: =IFERROR(INDIRECT("'"&$A13&"'!"&$BI$1),"") -> 0 | BJ13: =BG13/C13 -> #DIV/0! | BK13: {=IFERROR(INDIRECT("'"&$A13&"'!"&BK$1),"")} -> 0 | BL13: =IFERROR(INDIRECT("'"&$A13&"'!"&$BL$1),"") -> 0 | BM13: =IFERROR(INDIRECT("'"&$A13&"'!"&$BM$1),"") -> 0 | BN13: =BK13/C13 -> #DIV/0! | BO13: {=IFERROR(INDIRECT("'"&$A13&"'!"&BO$1),"")} -> 0 | BP13: =IFERROR(INDIRECT("'"&$A13&"'!"&$BP$1),"") -> 0 | BQ13: =IFERROR(INDIRECT("'"&$A13&"'!"&$BQ$1),"") -> 0 | BR13: =BO13/C13 -> #DIV/0! | BS13: {=IFERROR(INDIRECT("'"&$A13&"'!"&BS$1),"")} -> 0 | BT13: =IFERROR(INDIRECT("'"&$A13&"'!"&$BT$1),"") -> 0 | BU13: =IFERROR(INDIRECT("'"&$A13&"'!"&$BU$1),"") -> 0 | BV13: =BS13/C13 -> #DIV/0!
A14: 6 | B14: T | E14: {=IFERROR(INDIRECT("'"&$A14&"'!"&E$1),"")} -> 0 | F14: =IFERROR(INDIRECT("'"&$A14&"'!"&$F$1),"") -> 0 | G14: =F14/D14 -> #DIV/0! | H14: {=IFERROR(INDIRECT("'"&$A14&"'!"&H$1),"")} -> 0 | I14: =IFERROR(INDIRECT("'"&$A14&"'!"&$I$1),"") -> 0 | J14: =H14/C14 -> #DIV/0! | K14: {=IFERROR(INDIRECT("'"&$A14&"'!"&K$1),"")} -> 0 | L14: =IFERROR(INDIRECT("'"&$A14&"'!"&$L$1),"") -> 0 | M14: =K14/C14 -> #DIV/0! | N14: {=IFERROR(INDIRECT("'"&$A14&"'!"&N$1),"")} -> 0 | O14: =IFERROR(INDIRECT("'"&$A14&"'!"&$O$1),"") -> 0 | P14: =N14/C14 -> #DIV/0! | Q14: {=IFERROR(INDIRECT("'"&$A14&"'!"&Q$1),"")} -> 0 | R14: =IFERROR(INDIRECT("'"&$A14&"'!"&$R$1),"") -> 0 | S14: =Q14/C14 -> #DIV/0! | T14: {=IFERROR(INDIRECT("'"&$A14&"'!"&T$1),"")} -> 0 | U14: =IFERROR(INDIRECT("'"&$A14&"'!"&$U$1),"") -> 0 | V14: =T14/C14 -> #DIV/0! | W14: {=IFERROR(INDIRECT("'"&$A14&"'!"&W$1),"")} | X14: =IFERROR(INDIRECT("'"&$A14&"'!"&$X$1),"") | Y14: =W14/C14 -> #VALUE! | Z14: {=IFERROR(INDIRECT("'"&$A14&"'!"&Z$1),"")} | AA14: =IFERROR(INDIRECT("'"&$A14&"'!"&$AA$1),"") | AB14: =Z14/C14 -> #VALUE! | AC14: {=IFERROR(INDIRECT("'"&$A14&"'!"&AC$1),"")} | AD14: =IFERROR(INDIRECT("'"&$A14&"'!"&$AD$1),"") | AE14: =AC14/C14 -> #VALUE! | AF14: {=IFERROR(INDIRECT("'"&$A14&"'!"&AF$1),"")} | AG14: =IFERROR(INDIRECT("'"&$A14&"'!"&$AG$1),"") | AH14: =AF14/C14 -> #VALUE! | AI14: {=IFERROR(INDIRECT("'"&$A14&"'!"&AI$1),"")} -> 0 | AJ14: =IFERROR(INDIRECT("'"&$A14&"'!"&$AJ$1),"") -> 0 | AK14: =AI14/C14 -> #DIV/0! | AL14: {=IFERROR(INDIRECT("'"&$A14&"'!"&AL$1),"")} -> 0 | AM14: =IFERROR(INDIRECT("'"&$A14&"'!"&$AM$1),"") -> 0 | AN14: =AL14/C14 -> #DIV/0! | AO14: {=IFERROR(INDIRECT("'"&$A14&"'!"&AO$1),"")} -> 0 | AP14: =IFERROR(INDIRECT("'"&$A14&"'!"&$AP$1),"") -> 0 | AQ14: =AO14/C14 -> #DIV/0! | AR14: {=IFERROR(INDIRECT("'"&$A14&"'!"&AR$1),"")} -> 0 | AS14: =IFERROR(INDIRECT("'"&$A14&"'!"&$AS$1),"") -> 0 | AT14: =AR14/C14 -> #DIV/0! | AU14: {=IFERROR(INDIRECT("'"&$A14&"'!"&AU$1),"")} -> 0 | AV14: =IFERROR(INDIRECT("'"&$A14&"'!"&$AV$1),"") -> 0 | AW14: =AU14/C14 -> #DIV/0! | AX14: {=IFERROR(INDIRECT("'"&$A14&"'!"&AX$1),"")} -> 0 | AY14: =IFERROR(INDIRECT("'"&$A14&"'!"&$AY$1),"") -> 0 | AZ14: =AX14/C14 -> #DIV/0! | BA14: {=IFERROR(INDIRECT("'"&$A14&"'!"&BA$1),"")} -> 0 | BB14: =IFERROR(INDIRECT("'"&$A14&"'!"&$BB$1),"") -> 0 | BC14: =BA14/C14 -> #DIV/0! | BD14: {=IFERROR(INDIRECT("'"&$A14&"'!"&BD$1),"")} -> 0 | BE14: =IFERROR(INDIRECT("'"&$A14&"'!"&$BE$1),"") -> 0 | BF14: =BD14/C14 -> #DIV/0! | BG14: {=IFERROR(INDIRECT("'"&$A14&"'!"&BG$1),"")} -> 0 | BH14: =IFERROR(INDIRECT("'"&$A14&"'!"&$BH$1),"") -> 0 | BI14: =IFERROR(INDIRECT("'"&$A14&"'!"&$BI$1),"") -> 0 | BJ14: =BG14/C14 -> #DIV/0! | BK14: {=IFERROR(INDIRECT("'"&$A14&"'!"&BK$1),"")} -> 0 | BL14: =IFERROR(INDIRECT("'"&$A14&"'!"&$BL$1),"") -> 0 | BM14: =IFERROR(INDIRECT("'"&$A14&"'!"&$BM$1),"") -> 0 | BN14: =BK14/C14 -> #DIV/0! | BO14: {=IFERROR(INDIRECT("'"&$A14&"'!"&BO$1),"")} -> 0 | BP14: =IFERROR(INDIRECT("'"&$A14&"'!"&$BP$1),"") -> 0 | BQ14: =IFERROR(INDIRECT("'"&$A14&"'!"&$BQ$1),"") -> 0 | BR14: =BO14/C14 -> #DIV/0! | BS14: {=IFERROR(INDIRECT("'"&$A14&"'!"&BS$1),"")} -> 0 | BT14: =IFERROR(INDIRECT("'"&$A14&"'!"&$BT$1),"") -> 0 | BU14: =IFERROR(INDIRECT("'"&$A14&"'!"&$BU$1),"") -> 0 | BV14: =BS14/C14 -> #DIV/0!
A15: 7 | B15: W | E15: {=IFERROR(INDIRECT("'"&$A15&"'!"&E$1),"")} -> 0 | F15: =IFERROR(INDIRECT("'"&$A15&"'!"&$F$1),"") -> 0 | G15: =F15/D15 -> #DIV/0! | H15: {=IFERROR(INDIRECT("'"&$A15&"'!"&H$1),"")} -> 0 | I15: =IFERROR(INDIRECT("'"&$A15&"'!"&$I$1),"") -> 0 | J15: =H15/C15 -> #DIV/0! | K15: {=IFERROR(INDIRECT("'"&$A15&"'!"&K$1),"")} -> 0 | L15: =IFERROR(INDIRECT("'"&$A15&"'!"&$L$1),"") -> 0 | M15: =K15/C15 -> #DIV/0! | N15: {=IFERROR(INDIRECT("'"&$A15&"'!"&N$1),"")} -> 0 | O15: =IFERROR(INDIRECT("'"&$A15&"'!"&$O$1),"") -> 0 | P15: =N15/C15 -> #DIV/0! | Q15: {=IFERROR(INDIRECT("'"&$A15&"'!"&Q$1),"")} -> 0 | R15: =IFERROR(INDIRECT("'"&$A15&"'!"&$R$1),"") -> 0 | S15: =Q15/C15 -> #DIV/0! | T15: {=IFERROR(INDIRECT("'"&$A15&"'!"&T$1),"")} -> 0 | U15: =IFERROR(INDIRECT("'"&$A15&"'!"&$U$1),"") -> 0 | V15: =T15/C15 -> #DIV/0! | W15: {=IFERROR(INDIRECT("'"&$A15&"'!"&W$1),"")} | X15: =IFERROR(INDIRECT("'"&$A15&"'!"&$X$1),"") | Y15: =W15/C15 -> #VALUE! | Z15: {=IFERROR(INDIRECT("'"&$A15&"'!"&Z$1),"")} | AA15: =IFERROR(INDIRECT("'"&$A15&"'!"&$AA$1),"") | AB15: =Z15/C15 -> #VALUE! | AC15: {=IFERROR(INDIRECT("'"&$A15&"'!"&AC$1),"")} | AD15: =IFERROR(INDIRECT("'"&$A15&"'!"&$AD$1),"") | AE15: =AC15/C15 -> #VALUE! | AF15: {=IFERROR(INDIRECT("'"&$A15&"'!"&AF$1),"")} | AG15: =IFERROR(INDIRECT("'"&$A15&"'!"&$AG$1),"") | AH15: =AF15/C15 -> #VALUE! | AI15: {=IFERROR(INDIRECT("'"&$A15&"'!"&AI$1),"")} -> 0 | AJ15: =IFERROR(INDIRECT("'"&$A15&"'!"&$AJ$1),"") -> 0 | AK15: =AI15/C15 -> #DIV/0! | AL15: {=IFERROR(INDIRECT("'"&$A15&"'!"&AL$1),"")} -> 0 | AM15: =IFERROR(INDIRECT("'"&$A15&"'!"&$AM$1),"") -> 0 | AN15: =AL15/C15 -> #DIV/0! | AO15: {=IFERROR(INDIRECT("'"&$A15&"'!"&AO$1),"")} -> 0 | AP15: =IFERROR(INDIRECT("'"&$A15&"'!"&$AP$1),"") -> 0 | AQ15: =AO15/C15 -> #DIV/0! | AR15: {=IFERROR(INDIRECT("'"&$A15&"'!"&AR$1),"")} -> 0 | AS15: =IFERROR(INDIRECT("'"&$A15&"'!"&$AS$1),"") -> 0 | AT15: =AR15/C15 -> #DIV/0! | AU15: {=IFERROR(INDIRECT("'"&$A15&"'!"&AU$1),"")} -> 0 | AV15: =IFERROR(INDIRECT("'"&$A15&"'!"&$AV$1),"") -> 0 | AW15: =AU15/C15 -> #DIV/0! | AX15: {=IFERROR(INDIRECT("'"&$A15&"'!"&AX$1),"")} -> 0 | AY15: =IFERROR(INDIRECT("'"&$A15&"'!"&$AY$1),"") -> 0 | AZ15: =AX15/C15 -> #DIV/0! | BA15: {=IFERROR(INDIRECT("'"&$A15&"'!"&BA$1),"")} -> 0 | BB15: =IFERROR(INDIRECT("'"&$A15&"'!"&$BB$1),"") -> 0 | BC15: =BA15/C15 -> #DIV/0! | BD15: {=IFERROR(INDIRECT("'"&$A15&"'!"&BD$1),"")} -> 0 | BE15: =IFERROR(INDIRECT("'"&$A15&"'!"&$BE$1),"") -> 0 | BF15: =BD15/C15 -> #DIV/0! | BG15: {=IFERROR(INDIRECT("'"&$A15&"'!"&BG$1),"")} -> 0 | BH15: =IFERROR(INDIRECT("'"&$A15&"'!"&$BH$1),"") -> 0 | BI15: =IFERROR(INDIRECT("'"&$A15&"'!"&$BI$1),"") -> 0 | BJ15: =BG15/C15 -> #DIV/0! | BK15: {=IFERROR(INDIRECT("'"&$A15&"'!"&BK$1),"")} -> 0 | BL15: =IFERROR(INDIRECT("'"&$A15&"'!"&$BL$1),"") -> 0 | BM15: =IFERROR(INDIRECT("'"&$A15&"'!"&$BM$1),"") -> 0 | BN15: =BK15/C15 -> #DIV/0! | BO15: {=IFERROR(INDIRECT("'"&$A15&"'!"&BO$1),"")} -> 0 | BP15: =IFERROR(INDIRECT("'"&$A15&"'!"&$BP$1),"") -> 0 | BQ15: =IFERROR(INDIRECT("'"&$A15&"'!"&$BQ$1),"") -> 0 | BR15: =BO15/C15 -> #DIV/0! | BS15: {=IFERROR(INDIRECT("'"&$A15&"'!"&BS$1),"")} -> 0 | BT15: =IFERROR(INDIRECT("'"&$A15&"'!"&$BT$1),"") -> 0 | BU15: =IFERROR(INDIRECT("'"&$A15&"'!"&$BU$1),"") -> 0 | BV15: =BS15/C15 -> #DIV/0!
A16: 8 | B16: T | E16: {=IFERROR(INDIRECT("'"&$A16&"'!"&E$1),"")} -> 0 | F16: =IFERROR(INDIRECT("'"&$A16&"'!"&$F$1),"") -> 0 | G16: =F16/D16 -> #DIV/0! | H16: {=IFERROR(INDIRECT("'"&$A16&"'!"&H$1),"")} -> 0 | I16: =IFERROR(INDIRECT("'"&$A16&"'!"&$I$1),"") -> 0 | J16: =H16/C16 -> #DIV/0! | K16: {=IFERROR(INDIRECT("'"&$A16&"'!"&K$1),"")} -> 0 | L16: =IFERROR(INDIRECT("'"&$A16&"'!"&$L$1),"") -> 0 | M16: =K16/C16 -> #DIV/0! | N16: {=IFERROR(INDIRECT("'"&$A16&"'!"&N$1),"")} -> 0 | O16: =IFERROR(INDIRECT("'"&$A16&"'!"&$O$1),"") -> 0 | P16: =N16/C16 -> #DIV/0! | Q16: {=IFERROR(INDIRECT("'"&$A16&"'!"&Q$1),"")} -> 0 | R16: =IFERROR(INDIRECT("'"&$A16&"'!"&$R$1),"") -> 0 | S16: =Q16/C16 -> #DIV/0! | T16: {=IFERROR(INDIRECT("'"&$A16&"'!"&T$1),"")} -> 0 | U16: =IFERROR(INDIRECT("'"&$A16&"'!"&$U$1),"") -> 0 | V16: =T16/C16 -> #DIV/0! | W16: {=IFERROR(INDIRECT("'"&$A16&"'!"&W$1),"")} | X16: =IFERROR(INDIRECT("'"&$A16&"'!"&$X$1),"") | Y16: =W16/C16 -> #VALUE! | Z16: {=IFERROR(INDIRECT("'"&$A16&"'!"&Z$1),"")} | AA16: =IFERROR(INDIRECT("'"&$A16&"'!"&$AA$1),"") | AB16: =Z16/C16 -> #VALUE! | AC16: {=IFERROR(INDIRECT("'"&$A16&"'!"&AC$1),"")} | AD16: =IFERROR(INDIRECT("'"&$A16&"'!"&$AD$1),"") | AE16: =AC16/C16 -> #VALUE! | AF16: {=IFERROR(INDIRECT("'"&$A16&"'!"&AF$1),"")} | AG16: =IFERROR(INDIRECT("'"&$A16&"'!"&$AG$1),"") | AH16: =AF16/C16 -> #VALUE! | AI16: {=IFERROR(INDIRECT("'"&$A16&"'!"&AI$1),"")} -> 0 | AJ16: =IFERROR(INDIRECT("'"&$A16&"'!"&$AJ$1),"") -> 0 | AK16: =AI16/C16 -> #DIV/0! | AL16: {=IFERROR(INDIRECT("'"&$A16&"'!"&AL$1),"")} -> 0 | AM16: =IFERROR(INDIRECT("'"&$A16&"'!"&$AM$1),"") -> 0 | AN16: =AL16/C16 -> #DIV/0! | AO16: {=IFERROR(INDIRECT("'"&$A16&"'!"&AO$1),"")} -> 0 | AP16: =IFERROR(INDIRECT("'"&$A16&"'!"&$AP$1),"") -> 0 | AQ16: =AO16/C16 -> #DIV/0! | AR16: {=IFERROR(INDIRECT("'"&$A16&"'!"&AR$1),"")} -> 0 | AS16: =IFERROR(INDIRECT("'"&$A16&"'!"&$AS$1),"") -> 0 | AT16: =AR16/C16 -> #DIV/0! | AU16: {=IFERROR(INDIRECT("'"&$A16&"'!"&AU$1),"")} -> 0 | AV16: =IFERROR(INDIRECT("'"&$A16&"'!"&$AV$1),"") -> 0 | AW16: =AU16/C16 -> #DIV/0! | AX16: {=IFERROR(INDIRECT("'"&$A16&"'!"&AX$1),"")} -> 0 | AY16: =IFERROR(INDIRECT("'"&$A16&"'!"&$AY$1),"") -> 0 | AZ16: =AX16/C16 -> #DIV/0! | BA16: {=IFERROR(INDIRECT("'"&$A16&"'!"&BA$1),"")} -> 0 | BB16: =IFERROR(INDIRECT("'"&$A16&"'!"&$BB$1),"") -> 0 | BC16: =BA16/C16 -> #DIV/0! | BD16: {=IFERROR(INDIRECT("'"&$A16&"'!"&BD$1),"")} -> 0 | BE16: =IFERROR(INDIRECT("'"&$A16&"'!"&$BE$1),"") -> 0 | BF16: =BD16/C16 -> #DIV/0! | BG16: {=IFERROR(INDIRECT("'"&$A16&"'!"&BG$1),"")} -> 0 | BH16: =IFERROR(INDIRECT("'"&$A16&"'!"&$BH$1),"") -> 0 | BI16: =IFERROR(INDIRECT("'"&$A16&"'!"&$BI$1),"") -> 0 | BJ16: =BG16/C16 -> #DIV/0! | BK16: {=IFERROR(INDIRECT("'"&$A16&"'!"&BK$1),"")} -> 0 | BL16: =IFERROR(INDIRECT("'"&$A16&"'!"&$BL$1),"") -> 0 | BM16: =IFERROR(INDIRECT("'"&$A16&"'!"&$BM$1),"") -> 0 | BN16: =BK16/C16 -> #DIV/0! | BO16: {=IFERROR(INDIRECT("'"&$A16&"'!"&BO$1),"")} -> 0 | BP16: =IFERROR(INDIRECT("'"&$A16&"'!"&$BP$1),"") -> 0 | BQ16: =IFERROR(INDIRECT("'"&$A16&"'!"&$BQ$1),"") -> 0 | BR16: =BO16/C16 -> #DIV/0! | BS16: {=IFERROR(INDIRECT("'"&$A16&"'!"&BS$1),"")} -> 0 | BT16: =IFERROR(INDIRECT("'"&$A16&"'!"&$BT$1),"") -> 0 | BU16: =IFERROR(INDIRECT("'"&$A16&"'!"&$BU$1),"") -> 0 | BV16: =BS16/C16 -> #DIV/0!
A17: 9 | B17: F | E17: {=IFERROR(INDIRECT("'"&$A17&"'!"&E$1),"")} -> 0 | F17: =IFERROR(INDIRECT("'"&$A17&"'!"&$F$1),"") -> 0 | G17: =F17/D17 -> #DIV/0! | H17: {=IFERROR(INDIRECT("'"&$A17&"'!"&H$1),"")} -> 0 | I17: =IFERROR(INDIRECT("'"&$A17&"'!"&$I$1),"") -> 0 | J17: =H17/C17 -> #DIV/0! | K17: {=IFERROR(INDIRECT("'"&$A17&"'!"&K$1),"")} -> 0 | L17: =IFERROR(INDIRECT("'"&$A17&"'!"&$L$1),"") -> 0 | M17: =K17/C17 -> #DIV/0! | N17: {=IFERROR(INDIRECT("'"&$A17&"'!"&N$1),"")} -> 0 | O17: =IFERROR(INDIRECT("'"&$A17&"'!"&$O$1),"") -> 0 | P17: =N17/C17 -> #DIV/0! | Q17: {=IFERROR(INDIRECT("'"&$A17&"'!"&Q$1),"")} -> 0 | R17: =IFERROR(INDIRECT("'"&$A17&"'!"&$R$1),"") -> 0 | S17: =Q17/C17 -> #DIV/0! | T17: {=IFERROR(INDIRECT("'"&$A17&"'!"&T$1),"")} -> 0 | U17: =IFERROR(INDIRECT("'"&$A17&"'!"&$U$1),"") -> 0 | V17: =T17/C17 -> #DIV/0! | W17: {=IFERROR(INDIRECT("'"&$A17&"'!"&W$1),"")} | X17: =IFERROR(INDIRECT("'"&$A17&"'!"&$X$1),"") | Y17: =W17/C17 -> #VALUE! | Z17: {=IFERROR(INDIRECT("'"&$A17&"'!"&Z$1),"")} | AA17: =IFERROR(INDIRECT("'"&$A17&"'!"&$AA$1),"") | AB17: =Z17/C17 -> #VALUE! | AC17: {=IFERROR(INDIRECT("'"&$A17&"'!"&AC$1),"")} | AD17: =IFERROR(INDIRECT("'"&$A17&"'!"&$AD$1),"") | AE17: =AC17/C17 -> #VALUE! | AF17: {=IFERROR(INDIRECT("'"&$A17&"'!"&AF$1),"")} | AG17: =IFERROR(INDIRECT("'"&$A17&"'!"&$AG$1),"") | AH17: =AF17/C17 -> #VALUE! | AI17: {=IFERROR(INDIRECT("'"&$A17&"'!"&AI$1),"")} -> 0 | AJ17: =IFERROR(INDIRECT("'"&$A17&"'!"&$AJ$1),"") -> 0 | AK17: =AI17/C17 -> #DIV/0! | AL17: {=IFERROR(INDIRECT("'"&$A17&"'!"&AL$1),"")} -> 0 | AM17: =IFERROR(INDIRECT("'"&$A17&"'!"&$AM$1),"") -> 0 | AN17: =AL17/C17 -> #DIV/0! | AO17: {=IFERROR(INDIRECT("'"&$A17&"'!"&AO$1),"")} -> 0 | AP17: =IFERROR(INDIRECT("'"&$A17&"'!"&$AP$1),"") -> 0 | AQ17: =AO17/C17 -> #DIV/0! | AR17: {=IFERROR(INDIRECT("'"&$A17&"'!"&AR$1),"")} -> 0 | AS17: =IFERROR(INDIRECT("'"&$A17&"'!"&$AS$1),"") -> 0 | AT17: =AR17/C17 -> #DIV/0! | AU17: {=IFERROR(INDIRECT("'"&$A17&"'!"&AU$1),"")} -> 0 | AV17: =IFERROR(INDIRECT("'"&$A17&"'!"&$AV$1),"") -> 0 | AW17: =AU17/C17 -> #DIV/0! | AX17: {=IFERROR(INDIRECT("'"&$A17&"'!"&AX$1),"")} -> 0 | AY17: =IFERROR(INDIRECT("'"&$A17&"'!"&$AY$1),"") -> 0 | AZ17: =AX17/C17 -> #DIV/0! | BA17: {=IFERROR(INDIRECT("'"&$A17&"'!"&BA$1),"")} -> 0 | BB17: =IFERROR(INDIRECT("'"&$A17&"'!"&$BB$1),"") -> 0 | BC17: =BA17/C17 -> #DIV/0! | BD17: {=IFERROR(INDIRECT("'"&$A17&"'!"&BD$1),"")} -> 0 | BE17: =IFERROR(INDIRECT("'"&$A17&"'!"&$BE$1),"") -> 0 | BF17: =BD17/C17 -> #DIV/0! | BG17: {=IFERROR(INDIRECT("'"&$A17&"'!"&BG$1),"")} -> 0 | BH17: =IFERROR(INDIRECT("'"&$A17&"'!"&$BH$1),"") -> 0 | BI17: =IFERROR(INDIRECT("'"&$A17&"'!"&$BI$1),"") -> 0 | BJ17: =BG17/C17 -> #DIV/0! | BK17: {=IFERROR(INDIRECT("'"&$A17&"'!"&BK$1),"")} -> 0 | BL17: =IFERROR(INDIRECT("'"&$A17&"'!"&$BL$1),"") -> 0 | BM17: =IFERROR(INDIRECT("'"&$A17&"'!"&$BM$1),"") -> 0 | BN17: =BK17/C17 -> #DIV/0! | BO17: {=IFERROR(INDIRECT("'"&$A17&"'!"&BO$1),"")} -> 0 | BP17: =IFERROR(INDIRECT("'"&$A17&"'!"&$BP$1),"") -> 0 | BQ17: =IFERROR(INDIRECT("'"&$A17&"'!"&$BQ$1),"") -> 0 | BR17: =BO17/C17 -> #DIV/0! | BS17: {=IFERROR(INDIRECT("'"&$A17&"'!"&BS$1),"")} -> 0 | BT17: =IFERROR(INDIRECT("'"&$A17&"'!"&$BT$1),"") -> 0 | BU17: =IFERROR(INDIRECT("'"&$A17&"'!"&$BU$1),"") -> 0 | BV17: =BS17/C17 -> #DIV/0!
A18: 10 | B18: S | E18: {=IFERROR(INDIRECT("'"&$A18&"'!"&E$1),"")} -> 0 | F18: =IFERROR(INDIRECT("'"&$A18&"'!"&$F$1),"") -> 0 | G18: =F18/D18 -> #DIV/0! | H18: {=IFERROR(INDIRECT("'"&$A18&"'!"&H$1),"")} -> 0 | I18: =IFERROR(INDIRECT("'"&$A18&"'!"&$I$1),"") -> 0 | J18: =H18/C18 -> #DIV/0! | K18: {=IFERROR(INDIRECT("'"&$A18&"'!"&K$1),"")} -> 0 | L18: =IFERROR(INDIRECT("'"&$A18&"'!"&$L$1),"") -> 0 | M18: =K18/C18 -> #DIV/0! | N18: {=IFERROR(INDIRECT("'"&$A18&"'!"&N$1),"")} -> 0 | O18: =IFERROR(INDIRECT("'"&$A18&"'!"&$O$1),"") -> 0 | P18: =N18/C18 -> #DIV/0! | Q18: {=IFERROR(INDIRECT("'"&$A18&"'!"&Q$1),"")} -> 0 | R18: =IFERROR(INDIRECT("'"&$A18&"'!"&$R$1),"") -> 0 | S18: =Q18/C18 -> #DIV/0! | T18: {=IFERROR(INDIRECT("'"&$A18&"'!"&T$1),"")} -> 0 | U18: =IFERROR(INDIRECT("'"&$A18&"'!"&$U$1),"") -> 0 | V18: =T18/C18 -> #DIV/0! | W18: {=IFERROR(INDIRECT("'"&$A18&"'!"&W$1),"")} | X18: =IFERROR(INDIRECT("'"&$A18&"'!"&$X$1),"") | Y18: =W18/C18 -> #VALUE! | Z18: {=IFERROR(INDIRECT("'"&$A18&"'!"&Z$1),"")} | AA18: =IFERROR(INDIRECT("'"&$A18&"'!"&$AA$1),"") | AB18: =Z18/C18 -> #VALUE! | AC18: {=IFERROR(INDIRECT("'"&$A18&"'!"&AC$1),"")} | AD18: =IFERROR(INDIRECT("'"&$A18&"'!"&$AD$1),"") | AE18: =AC18/C18 -> #VALUE! | AF18: {=IFERROR(INDIRECT("'"&$A18&"'!"&AF$1),"")} | AG18: =IFERROR(INDIRECT("'"&$A18&"'!"&$AG$1),"") | AH18: =AF18/C18 -> #VALUE! | AI18: {=IFERROR(INDIRECT("'"&$A18&"'!"&AI$1),"")} -> 0 | AJ18: =IFERROR(INDIRECT("'"&$A18&"'!"&$AJ$1),"") -> 0 | AK18: =AI18/C18 -> #DIV/0! | AL18: {=IFERROR(INDIRECT("'"&$A18&"'!"&AL$1),"")} -> 0 | AM18: =IFERROR(INDIRECT("'"&$A18&"'!"&$AM$1),"") -> 0 | AN18: =AL18/C18 -> #DIV/0! | AO18: {=IFERROR(INDIRECT("'"&$A18&"'!"&AO$1),"")} -> 0 | AP18: =IFERROR(INDIRECT("'"&$A18&"'!"&$AP$1),"") -> 0 | AQ18: =AO18/C18 -> #DIV/0! | AR18: {=IFERROR(INDIRECT("'"&$A18&"'!"&AR$1),"")} -> 0 | AS18: =IFERROR(INDIRECT("'"&$A18&"'!"&$AS$1),"") -> 0 | AT18: =AR18/C18 -> #DIV/0! | AU18: {=IFERROR(INDIRECT("'"&$A18&"'!"&AU$1),"")} -> 0 | AV18: =IFERROR(INDIRECT("'"&$A18&"'!"&$AV$1),"") -> 0 | AW18: =AU18/C18 -> #DIV/0! | AX18: {=IFERROR(INDIRECT("'"&$A18&"'!"&AX$1),"")} -> 0 | AY18: =IFERROR(INDIRECT("'"&$A18&"'!"&$AY$1),"") -> 0 | AZ18: =AX18/C18 -> #DIV/0! | BA18: {=IFERROR(INDIRECT("'"&$A18&"'!"&BA$1),"")} -> 0 | BB18: =IFERROR(INDIRECT("'"&$A18&"'!"&$BB$1),"") -> 0 | BC18: =BA18/C18 -> #DIV/0! | BD18: {=IFERROR(INDIRECT("'"&$A18&"'!"&BD$1),"")} -> 0 | BE18: =IFERROR(INDIRECT("'"&$A18&"'!"&$BE$1),"") -> 0 | BF18: =BD18/C18 -> #DIV/0! | BG18: {=IFERROR(INDIRECT("'"&$A18&"'!"&BG$1),"")} -> 0 | BH18: =IFERROR(INDIRECT("'"&$A18&"'!"&$BH$1),"") -> 0 | BI18: =IFERROR(INDIRECT("'"&$A18&"'!"&$BI$1),"") -> 0 | BJ18: =BG18/C18 -> #DIV/0! | BK18: {=IFERROR(INDIRECT("'"&$A18&"'!"&BK$1),"")} -> 0 | BL18: =IFERROR(INDIRECT("'"&$A18&"'!"&$BL$1),"") -> 0 | BM18: =IFERROR(INDIRECT("'"&$A18&"'!"&$BM$1),"") -> 0 | BN18: =BK18/C18 -> #DIV/0! | BO18: {=IFERROR(INDIRECT("'"&$A18&"'!"&BO$1),"")} -> 0 | BP18: =IFERROR(INDIRECT("'"&$A18&"'!"&$BP$1),"") -> 0 | BQ18: =IFERROR(INDIRECT("'"&$A18&"'!"&$BQ$1),"") -> 0 | BR18: =BO18/C18 -> #DIV/0! | BS18: {=IFERROR(INDIRECT("'"&$A18&"'!"&BS$1),"")} -> 0 | BT18: =IFERROR(INDIRECT("'"&$A18&"'!"&$BT$1),"") -> 0 | BU18: =IFERROR(INDIRECT("'"&$A18&"'!"&$BU$1),"") -> 0 | BV18: =BS18/C18 -> #DIV/0!
A19: 11 | B19: S | E19: {=IFERROR(INDIRECT("'"&$A19&"'!"&E$1),"")} -> 0 | F19: =IFERROR(INDIRECT("'"&$A19&"'!"&$F$1),"") -> 0 | G19: =F19/D19 -> #DIV/0! | H19: {=IFERROR(INDIRECT("'"&$A19&"'!"&H$1),"")} -> 0 | I19: =IFERROR(INDIRECT("'"&$A19&"'!"&$I$1),"") -> 0 | J19: =H19/C19 -> #DIV/0! | K19: {=IFERROR(INDIRECT("'"&$A19&"'!"&K$1),"")} -> 0 | L19: =IFERROR(INDIRECT("'"&$A19&"'!"&$L$1),"") -> 0 | M19: =K19/C19 -> #DIV/0! | N19: {=IFERROR(INDIRECT("'"&$A19&"'!"&N$1),"")} -> 0 | O19: =IFERROR(INDIRECT("'"&$A19&"'!"&$O$1),"") -> 0 | P19: =N19/C19 -> #DIV/0! | Q19: {=IFERROR(INDIRECT("'"&$A19&"'!"&Q$1),"")} -> 0 | R19: =IFERROR(INDIRECT("'"&$A19&"'!"&$R$1),"") -> 0 | S19: =Q19/C19 -> #DIV/0! | T19: {=IFERROR(INDIRECT("'"&$A19&"'!"&T$1),"")} -> 0 | U19: =IFERROR(INDIRECT("'"&$A19&"'!"&$U$1),"") -> 0 | V19: =T19/C19 -> #DIV/0! | W19: {=IFERROR(INDIRECT("'"&$A19&"'!"&W$1),"")} | X19: =IFERROR(INDIRECT("'"&$A19&"'!"&$X$1),"") | Y19: =W19/C19 -> #VALUE! | Z19: {=IFERROR(INDIRECT("'"&$A19&"'!"&Z$1),"")} | AA19: =IFERROR(INDIRECT("'"&$A19&"'!"&$AA$1),"") | AB19: =Z19/C19 -> #VALUE! | AC19: {=IFERROR(INDIRECT("'"&$A19&"'!"&AC$1),"")} | AD19: =IFERROR(INDIRECT("'"&$A19&"'!"&$AD$1),"") | AE19: =AC19/C19 -> #VALUE! | AF19: {=IFERROR(INDIRECT("'"&$A19&"'!"&AF$1),"")} | AG19: =IFERROR(INDIRECT("'"&$A19&"'!"&$AG$1),"") | AH19: =AF19/C19 -> #VALUE! | AI19: {=IFERROR(INDIRECT("'"&$A19&"'!"&AI$1),"")} -> 0 | AJ19: =IFERROR(INDIRECT("'"&$A19&"'!"&$AJ$1),"") -> 0 | AK19: =AI19/C19 -> #DIV/0! | AL19: {=IFERROR(INDIRECT("'"&$A19&"'!"&AL$1),"")} -> 0 | AM19: =IFERROR(INDIRECT("'"&$A19&"'!"&$AM$1),"") -> 0 | AN19: =AL19/C19 -> #DIV/0! | AO19: {=IFERROR(INDIRECT("'"&$A19&"'!"&AO$1),"")} -> 0 | AP19: =IFERROR(INDIRECT("'"&$A19&"'!"&$AP$1),"") -> 0 | AQ19: =AO19/C19 -> #DIV/0! | AR19: {=IFERROR(INDIRECT("'"&$A19&"'!"&AR$1),"")} -> 0 | AS19: =IFERROR(INDIRECT("'"&$A19&"'!"&$AS$1),"") -> 0 | AT19: =AR19/C19 -> #DIV/0! | AU19: {=IFERROR(INDIRECT("'"&$A19&"'!"&AU$1),"")} -> 0 | AV19: =IFERROR(INDIRECT("'"&$A19&"'!"&$AV$1),"") -> 0 | AW19: =AU19/C19 -> #DIV/0! | AX19: {=IFERROR(INDIRECT("'"&$A19&"'!"&AX$1),"")} -> 0 | AY19: =IFERROR(INDIRECT("'"&$A19&"'!"&$AY$1),"") -> 0 | AZ19: =AX19/C19 -> #DIV/0! | BA19: {=IFERROR(INDIRECT("'"&$A19&"'!"&BA$1),"")} -> 0 | BB19: =IFERROR(INDIRECT("'"&$A19&"'!"&$BB$1),"") -> 0 | BC19: =BA19/C19 -> #DIV/0! | BD19: {=IFERROR(INDIRECT("'"&$A19&"'!"&BD$1),"")} -> 0 | BE19: =IFERROR(INDIRECT("'"&$A19&"'!"&$BE$1),"") -> 0 | BF19: =BD19/C19 -> #DIV/0! | BG19: {=IFERROR(INDIRECT("'"&$A19&"'!"&BG$1),"")} -> 0 | BH19: =IFERROR(INDIRECT("'"&$A19&"'!"&$BH$1),"") -> 0 | BI19: =IFERROR(INDIRECT("'"&$A19&"'!"&$BI$1),"") -> 0 | BJ19: =BG19/C19 -> #DIV/0! | BK19: {=IFERROR(INDIRECT("'"&$A19&"'!"&BK$1),"")} -> 0 | BL19: =IFERROR(INDIRECT("'"&$A19&"'!"&$BL$1),"") -> 0 | BM19: =IFERROR(INDIRECT("'"&$A19&"'!"&$BM$1),"") -> 0 | BN19: =BK19/C19 -> #DIV/0! | BO19: {=IFERROR(INDIRECT("'"&$A19&"'!"&BO$1),"")} -> 0 | BP19: =IFERROR(INDIRECT("'"&$A19&"'!"&$BP$1),"") -> 0 | BQ19: =IFERROR(INDIRECT("'"&$A19&"'!"&$BQ$1),"") -> 0 | BR19: =BO19/C19 -> #DIV/0! | BS19: {=IFERROR(INDIRECT("'"&$A19&"'!"&BS$1),"")} -> 0 | BT19: =IFERROR(INDIRECT("'"&$A19&"'!"&$BT$1),"") -> 0 | BU19: =IFERROR(INDIRECT("'"&$A19&"'!"&$BU$1),"") -> 0 | BV19: =BS19/C19 -> #DIV/0!
A20: Weekly | C20: =SUM(C13:C19) -> 0 | D20: =SUM(D13:D19) -> 0 | E20: =SUM(E13:E19) -> 0 | F20: =SUM(F13:F19) -> 0 | G20: =F20/D20 -> #DIV/0! | H20: =SUM(H13:H19) -> 0 | I20: =SUM(I13:I19) -> 0 | J20: =H20/C20 -> #DIV/0! | K20: =SUM(K13:K19) -> 0 | L20: =SUM(L13:L19) -> 0 | M20: =K20/C20 -> #DIV/0! | N20: =SUM(N13:N19) -> 0 | O20: =SUM(O13:O19) -> 0 | P20: =N20/C20 -> #DIV/0! | Q20: =SUM(Q13:Q19) -> 0 | R20: =SUM(R13:R19) -> 0 | S20: =Q20/C20 -> #DIV/0! | T20: =SUM(T13:T19) -> 0 | U20: =SUM(U13:U19) -> 0 | V20: =T20/C20 -> #DIV/0! | W20: =SUM(W13:W19) -> 0 | X20: =SUM(X13:X19) -> 0 | Y20: =W20/C20 -> #DIV/0! | Z20: =SUM(Z13:Z19) -> 0 | AA20: =SUM(AA13:AA19) -> 0 | AB20: =Z20/C20 -> #DIV/0! | AC20: =SUM(AC13:AC19) -> 0 | AD20: =SUM(AD13:AD19) -> 0 | AE20: =AC20/C20 -> #DIV/0! | AF20: =SUM(AF13:AF19) -> 0 | AG20: =SUM(AG13:AG19) -> 0 | AH20: =AF20/C20 -> #DIV/0! | AI20: =SUM(AI13:AI19) -> 0 | AJ20: =SUM(AJ13:AJ19) -> 0 | AK20: =AI20/C20 -> #DIV/0! | AL20: =SUM(AL13:AL19) -> 0 | AM20: =SUM(AM13:AM19) -> 0 | AN20: =AL20/C20 -> #DIV/0! | AO20: =SUM(AO13:AO19) -> 0 | AP20: =SUM(AP13:AP19) -> 0 | AQ20: =AO20/C20 -> #DIV/0! | AR20: =SUM(AR13:AR19) -> 0 | AS20: =SUM(AS13:AS19) -> 0 | AT20: =AR20/C20 -> #DIV/0! | AU20: =SUM(AU13:AU19) -> 0 | AV20: =SUM(AV13:AV19) -> 0 | AW20: =AU20/C20 -> #DIV/0! | AX20: =SUM(AX13:AX19) -> 0 | AY20: =SUM(AY13:AY19) -> 0 | AZ20: =AX20/C20 -> #DIV/0! | BA20: =SUM(BA13:BA19) -> 0 | BB20: =SUM(BB13:BB19) -> 0 | BC20: =BA20/C20 -> #DIV/0! | BD20: =SUM(BD13:BD19) -> 0 | BE20: =SUM(BE13:BE19) -> 0 | BF20: =BD20/C20 -> #DIV/0! | BG20: =SUM(BG13:BG19) -> 0 | BH20: =SUM(BH13:BH19) -> 0 | BI20: =SUM(BI13:BI19) -> 0 | BJ20: =BG20/C20 -> #DIV/0! | BK20: =SUM(BK13:BK19) -> 0 | BL20: =SUM(BL13:BL19) -> 0 | BM20: =SUM(BM13:BM19) -> 0 | BN20: =BK20/C20 -> #DIV/0! | BO20: =SUM(BO13:BO19) -> 0 | BP20: =SUM(BP13:BP19) -> 0 | BQ20: =SUM(BQ13:BQ19) -> 0 | BR20: =BO20/C20 -> #DIV/0! | BS20: =SUM(BS13:BS19) -> 0 | BT20: =SUM(BT13:BT19) -> 0 | BU20: =SUM(BU13:BU19) -> 0 | BV20: =BS20/C20 -> #DIV/0!
A21: 12 | B21: M | E21: {=IFERROR(INDIRECT("'"&$A21&"'!"&E$1),"")} -> 0 | F21: =IFERROR(INDIRECT("'"&$A21&"'!"&$F$1),"") -> 0 | G21: =F21/D21 -> #DIV/0! | H21: {=IFERROR(INDIRECT("'"&$A21&"'!"&H$1),"")} -> 0 | I21: =IFERROR(INDIRECT("'"&$A21&"'!"&$I$1),"") -> 0 | J21: =H21/C21 -> #DIV/0! | K21: {=IFERROR(INDIRECT("'"&$A21&"'!"&K$1),"")} -> 0 | L21: =IFERROR(INDIRECT("'"&$A21&"'!"&$L$1),"") -> 0 | M21: =K21/C21 -> #DIV/0! | N21: {=IFERROR(INDIRECT("'"&$A21&"'!"&N$1),"")} -> 0 | O21: =IFERROR(INDIRECT("'"&$A21&"'!"&$O$1),"") -> 0 | P21: =N21/C21 -> #DIV/0! | Q21: {=IFERROR(INDIRECT("'"&$A21&"'!"&Q$1),"")} -> 0 | R21: =IFERROR(INDIRECT("'"&$A21&"'!"&$R$1),"") -> 0 | S21: =Q21/C21 -> #DIV/0! | T21: {=IFERROR(INDIRECT("'"&$A21&"'!"&T$1),"")} -> 0 | U21: =IFERROR(INDIRECT("'"&$A21&"'!"&$U$1),"") -> 0 | V21: =T21/C21 -> #DIV/0! | W21: {=IFERROR(INDIRECT("'"&$A21&"'!"&W$1),"")} | X21: =IFERROR(INDIRECT("'"&$A21&"'!"&$X$1),"") | Y21: =W21/C21 -> #VALUE! | Z21: {=IFERROR(INDIRECT("'"&$A21&"'!"&Z$1),"")} | AA21: =IFERROR(INDIRECT("'"&$A21&"'!"&$AA$1),"") | AB21: =Z21/C21 -> #VALUE! | AC21: {=IFERROR(INDIRECT("'"&$A21&"'!"&AC$1),"")} | AD21: =IFERROR(INDIRECT("'"&$A21&"'!"&$AD$1),"") | AE21: =AC21/C21 -> #VALUE! | AF21: {=IFERROR(INDIRECT("'"&$A21&"'!"&AF$1),"")} | AG21: =IFERROR(INDIRECT("'"&$A21&"'!"&$AG$1),"") | AH21: =AF21/C21 -> #VALUE! | AI21: {=IFERROR(INDIRECT("'"&$A21&"'!"&AI$1),"")} -> 0 | AJ21: =IFERROR(INDIRECT("'"&$A21&"'!"&$AJ$1),"") -> 0 | AK21: =AI21/C21 -> #DIV/0! | AL21: {=IFERROR(INDIRECT("'"&$A21&"'!"&AL$1),"")} -> 0 | AM21: =IFERROR(INDIRECT("'"&$A21&"'!"&$AM$1),"") -> 0 | AN21: =AL21/C21 -> #DIV/0! | AO21: {=IFERROR(INDIRECT("'"&$A21&"'!"&AO$1),"")} -> 0 | AP21: =IFERROR(INDIRECT("'"&$A21&"'!"&$AP$1),"") -> 0 | AQ21: =AO21/C21 -> #DIV/0! | AR21: {=IFERROR(INDIRECT("'"&$A21&"'!"&AR$1),"")} -> 0 | AS21: =IFERROR(INDIRECT("'"&$A21&"'!"&$AS$1),"") -> 0 | AT21: =AR21/C21 -> #DIV/0! | AU21: {=IFERROR(INDIRECT("'"&$A21&"'!"&AU$1),"")} -> 0 | AV21: =IFERROR(INDIRECT("'"&$A21&"'!"&$AV$1),"") -> 0 | AW21: =AU21/C21 -> #DIV/0! | AX21: {=IFERROR(INDIRECT("'"&$A21&"'!"&AX$1),"")} -> 0 | AY21: =IFERROR(INDIRECT("'"&$A21&"'!"&$AY$1),"") -> 0 | AZ21: =AX21/C21 -> #DIV/0! | BA21: {=IFERROR(INDIRECT("'"&$A21&"'!"&BA$1),"")} -> 0 | BB21: =IFERROR(INDIRECT("'"&$A21&"'!"&$BB$1),"") -> 0 | BC21: =BA21/C21 -> #DIV/0! | BD21: {=IFERROR(INDIRECT("'"&$A21&"'!"&BD$1),"")} -> 0 | BE21: =IFERROR(INDIRECT("'"&$A21&"'!"&$BE$1),"") -> 0 | BF21: =BD21/C21 -> #DIV/0! | BG21: {=IFERROR(INDIRECT("'"&$A21&"'!"&BG$1),"")} -> 0 | BH21: =IFERROR(INDIRECT("'"&$A21&"'!"&$BH$1),"") -> 0 | BI21: =IFERROR(INDIRECT("'"&$A21&"'!"&$BI$1),"") -> 0 | BJ21: =BG21/C21 -> #DIV/0! | BK21: {=IFERROR(INDIRECT("'"&$A21&"'!"&BK$1),"")} -> 0 | BL21: =IFERROR(INDIRECT("'"&$A21&"'!"&$BL$1),"") -> 0 | BM21: =IFERROR(INDIRECT("'"&$A21&"'!"&$BM$1),"") -> 0 | BN21: =BK21/C21 -> #DIV/0! | BO21: {=IFERROR(INDIRECT("'"&$A21&"'!"&BO$1),"")} -> 0 | BP21: =IFERROR(INDIRECT("'"&$A21&"'!"&$BP$1),"") -> 0 | BQ21: =IFERROR(INDIRECT("'"&$A21&"'!"&$BQ$1),"") -> 0 | BR21: =BO21/C21 -> #DIV/0! | BS21: {=IFERROR(INDIRECT("'"&$A21&"'!"&BS$1),"")} -> 0 | BT21: =IFERROR(INDIRECT("'"&$A21&"'!"&$BT$1),"") -> 0 | BU21: =IFERROR(INDIRECT("'"&$A21&"'!"&$BU$1),"") -> 0 | BV21: =BS21/C21 -> #DIV/0!
A22: 13 | B22: T | E22: {=IFERROR(INDIRECT("'"&$A22&"'!"&E$1),"")} -> 0 | F22: =IFERROR(INDIRECT("'"&$A22&"'!"&$F$1),"") -> 0 | G22: =F22/D22 -> #DIV/0! | H22: {=IFERROR(INDIRECT("'"&$A22&"'!"&H$1),"")} -> 0 | I22: =IFERROR(INDIRECT("'"&$A22&"'!"&$I$1),"") -> 0 | J22: =H22/C22 -> #DIV/0! | K22: {=IFERROR(INDIRECT("'"&$A22&"'!"&K$1),"")} -> 0 | L22: =IFERROR(INDIRECT("'"&$A22&"'!"&$L$1),"") -> 0 | M22: =K22/C22 -> #DIV/0! | N22: {=IFERROR(INDIRECT("'"&$A22&"'!"&N$1),"")} -> 0 | O22: =IFERROR(INDIRECT("'"&$A22&"'!"&$O$1),"") -> 0 | P22: =N22/C22 -> #DIV/0! | Q22: {=IFERROR(INDIRECT("'"&$A22&"'!"&Q$1),"")} -> 0 | R22: =IFERROR(INDIRECT("'"&$A22&"'!"&$R$1),"") -> 0 | S22: =Q22/C22 -> #DIV/0! | T22: {=IFERROR(INDIRECT("'"&$A22&"'!"&T$1),"")} -> 0 | U22: =IFERROR(INDIRECT("'"&$A22&"'!"&$U$1),"") -> 0 | V22: =T22/C22 -> #DIV/0! | W22: {=IFERROR(INDIRECT("'"&$A22&"'!"&W$1),"")} | X22: =IFERROR(INDIRECT("'"&$A22&"'!"&$X$1),"") | Y22: =W22/C22 -> #VALUE! | Z22: {=IFERROR(INDIRECT("'"&$A22&"'!"&Z$1),"")} | AA22: =IFERROR(INDIRECT("'"&$A22&"'!"&$AA$1),"") | AB22: =Z22/C22 -> #VALUE! | AC22: {=IFERROR(INDIRECT("'"&$A22&"'!"&AC$1),"")} | AD22: =IFERROR(INDIRECT("'"&$A22&"'!"&$AD$1),"") | AE22: =AC22/C22 -> #VALUE! | AF22: {=IFERROR(INDIRECT("'"&$A22&"'!"&AF$1),"")} | AG22: =IFERROR(INDIRECT("'"&$A22&"'!"&$AG$1),"") | AH22: =AF22/C22 -> #VALUE! | AI22: {=IFERROR(INDIRECT("'"&$A22&"'!"&AI$1),"")} -> 0 | AJ22: =IFERROR(INDIRECT("'"&$A22&"'!"&$AJ$1),"") -> 0 | AK22: =AI22/C22 -> #DIV/0! | AL22: {=IFERROR(INDIRECT("'"&$A22&"'!"&AL$1),"")} -> 0 | AM22: =IFERROR(INDIRECT("'"&$A22&"'!"&$AM$1),"") -> 0 | AN22: =AL22/C22 -> #DIV/0! | AO22: {=IFERROR(INDIRECT("'"&$A22&"'!"&AO$1),"")} -> 0 | AP22: =IFERROR(INDIRECT("'"&$A22&"'!"&$AP$1),"") -> 0 | AQ22: =AO22/C22 -> #DIV/0! | AR22: {=IFERROR(INDIRECT("'"&$A22&"'!"&AR$1),"")} -> 0 | AS22: =IFERROR(INDIRECT("'"&$A22&"'!"&$AS$1),"") -> 0 | AT22: =AR22/C22 -> #DIV/0! | AU22: {=IFERROR(INDIRECT("'"&$A22&"'!"&AU$1),"")} -> 0 | AV22: =IFERROR(INDIRECT("'"&$A22&"'!"&$AV$1),"") -> 0 | AW22: =AU22/C22 -> #DIV/0! | AX22: {=IFERROR(INDIRECT("'"&$A22&"'!"&AX$1),"")} -> 0 | AY22: =IFERROR(INDIRECT("'"&$A22&"'!"&$AY$1),"") -> 0 | AZ22: =AX22/C22 -> #DIV/0! | BA22: {=IFERROR(INDIRECT("'"&$A22&"'!"&BA$1),"")} -> 0 | BB22: =IFERROR(INDIRECT("'"&$A22&"'!"&$BB$1),"") -> 0 | BC22: =BA22/C22 -> #DIV/0! | BD22: {=IFERROR(INDIRECT("'"&$A22&"'!"&BD$1),"")} -> 0 | BE22: =IFERROR(INDIRECT("'"&$A22&"'!"&$BE$1),"") -> 0 | BF22: =BD22/C22 -> #DIV/0! | BG22: {=IFERROR(INDIRECT("'"&$A22&"'!"&BG$1),"")} -> 0 | BH22: =IFERROR(INDIRECT("'"&$A22&"'!"&$BH$1),"") -> 0 | BI22: =IFERROR(INDIRECT("'"&$A22&"'!"&$BI$1),"") -> 0 | BJ22: =BG22/C22 -> #DIV/0! | BK22: {=IFERROR(INDIRECT("'"&$A22&"'!"&BK$1),"")} -> 0 | BL22: =IFERROR(INDIRECT("'"&$A22&"'!"&$BL$1),"") -> 0 | BM22: =IFERROR(INDIRECT("'"&$A22&"'!"&$BM$1),"") -> 0 | BN22: =BK22/C22 -> #DIV/0! | BO22: {=IFERROR(INDIRECT("'"&$A22&"'!"&BO$1),"")} -> 0 | BP22: =IFERROR(INDIRECT("'"&$A22&"'!"&$BP$1),"") -> 0 | BQ22: =IFERROR(INDIRECT("'"&$A22&"'!"&$BQ$1),"") -> 0 | BR22: =BO22/C22 -> #DIV/0! | BS22: {=IFERROR(INDIRECT("'"&$A22&"'!"&BS$1),"")} -> 0 | BT22: =IFERROR(INDIRECT("'"&$A22&"'!"&$BT$1),"") -> 0 | BU22: =IFERROR(INDIRECT("'"&$A22&"'!"&$BU$1),"") -> 0 | BV22: =BS22/C22 -> #DIV/0!
A23: 14 | B23: W | E23: {=IFERROR(INDIRECT("'"&$A23&"'!"&E$1),"")} -> 0 | F23: =IFERROR(INDIRECT("'"&$A23&"'!"&$F$1),"") -> 0 | G23: =F23/D23 -> #DIV/0! | H23: {=IFERROR(INDIRECT("'"&$A23&"'!"&H$1),"")} -> 0 | I23: =IFERROR(INDIRECT("'"&$A23&"'!"&$I$1),"") -> 0 | J23: =H23/C23 -> #DIV/0! | K23: {=IFERROR(INDIRECT("'"&$A23&"'!"&K$1),"")} -> 0 | L23: =IFERROR(INDIRECT("'"&$A23&"'!"&$L$1),"") -> 0 | M23: =K23/C23 -> #DIV/0! | N23: {=IFERROR(INDIRECT("'"&$A23&"'!"&N$1),"")} -> 0 | O23: =IFERROR(INDIRECT("'"&$A23&"'!"&$O$1),"") -> 0 | P23: =N23/C23 -> #DIV/0! | Q23: {=IFERROR(INDIRECT("'"&$A23&"'!"&Q$1),"")} -> 0 | R23: =IFERROR(INDIRECT("'"&$A23&"'!"&$R$1),"") -> 0 | S23: =Q23/C23 -> #DIV/0! | T23: {=IFERROR(INDIRECT("'"&$A23&"'!"&T$1),"")} -> 0 | U23: =IFERROR(INDIRECT("'"&$A23&"'!"&$U$1),"") -> 0 | V23: =T23/C23 -> #DIV/0! | W23: {=IFERROR(INDIRECT("'"&$A23&"'!"&W$1),"")} | X23: =IFERROR(INDIRECT("'"&$A23&"'!"&$X$1),"") | Y23: =W23/C23 -> #VALUE! | Z23: {=IFERROR(INDIRECT("'"&$A23&"'!"&Z$1),"")} | AA23: =IFERROR(INDIRECT("'"&$A23&"'!"&$AA$1),"") | AB23: =Z23/C23 -> #VALUE! | AC23: {=IFERROR(INDIRECT("'"&$A23&"'!"&AC$1),"")} | AD23: =IFERROR(INDIRECT("'"&$A23&"'!"&$AD$1),"") | AE23: =AC23/C23 -> #VALUE! | AF23: {=IFERROR(INDIRECT("'"&$A23&"'!"&AF$1),"")} | AG23: =IFERROR(INDIRECT("'"&$A23&"'!"&$AG$1),"") | AH23: =AF23/C23 -> #VALUE! | AI23: {=IFERROR(INDIRECT("'"&$A23&"'!"&AI$1),"")} -> 0 | AJ23: =IFERROR(INDIRECT("'"&$A23&"'!"&$AJ$1),"") -> 0 | AK23: =AI23/C23 -> #DIV/0! | AL23: {=IFERROR(INDIRECT("'"&$A23&"'!"&AL$1),"")} -> 0 | AM23: =IFERROR(INDIRECT("'"&$A23&"'!"&$AM$1),"") -> 0 | AN23: =AL23/C23 -> #DIV/0! | AO23: {=IFERROR(INDIRECT("'"&$A23&"'!"&AO$1),"")} -> 0 | AP23: =IFERROR(INDIRECT("'"&$A23&"'!"&$AP$1),"") -> 0 | AQ23: =AO23/C23 -> #DIV/0! | AR23: {=IFERROR(INDIRECT("'"&$A23&"'!"&AR$1),"")} -> 0 | AS23: =IFERROR(INDIRECT("'"&$A23&"'!"&$AS$1),"") -> 0 | AT23: =AR23/C23 -> #DIV/0! | AU23: {=IFERROR(INDIRECT("'"&$A23&"'!"&AU$1),"")} -> 0 | AV23: =IFERROR(INDIRECT("'"&$A23&"'!"&$AV$1),"") -> 0 | AW23: =AU23/C23 -> #DIV/0! | AX23: {=IFERROR(INDIRECT("'"&$A23&"'!"&AX$1),"")} -> 0 | AY23: =IFERROR(INDIRECT("'"&$A23&"'!"&$AY$1),"") -> 0 | AZ23: =AX23/C23 -> #DIV/0! | BA23: {=IFERROR(INDIRECT("'"&$A23&"'!"&BA$1),"")} -> 0 | BB23: =IFERROR(INDIRECT("'"&$A23&"'!"&$BB$1),"") -> 0 | BC23: =BA23/C23 -> #DIV/0! | BD23: {=IFERROR(INDIRECT("'"&$A23&"'!"&BD$1),"")} -> 0 | BE23: =IFERROR(INDIRECT("'"&$A23&"'!"&$BE$1),"") -> 0 | BF23: =BD23/C23 -> #DIV/0! | BG23: {=IFERROR(INDIRECT("'"&$A23&"'!"&BG$1),"")} -> 0 | BH23: =IFERROR(INDIRECT("'"&$A23&"'!"&$BH$1),"") -> 0 | BI23: =IFERROR(INDIRECT("'"&$A23&"'!"&$BI$1),"") -> 0 | BJ23: =BG23/C23 -> #DIV/0! | BK23: {=IFERROR(INDIRECT("'"&$A23&"'!"&BK$1),"")} -> 0 | BL23: =IFERROR(INDIRECT("'"&$A23&"'!"&$BL$1),"") -> 0 | BM23: =IFERROR(INDIRECT("'"&$A23&"'!"&$BM$1),"") -> 0 | BN23: =BK23/C23 -> #DIV/0! | BO23: {=IFERROR(INDIRECT("'"&$A23&"'!"&BO$1),"")} -> 0 | BP23: =IFERROR(INDIRECT("'"&$A23&"'!"&$BP$1),"") -> 0 | BQ23: =IFERROR(INDIRECT("'"&$A23&"'!"&$BQ$1),"") -> 0 | BR23: =BO23/C23 -> #DIV/0! | BS23: {=IFERROR(INDIRECT("'"&$A23&"'!"&BS$1),"")} -> 0 | BT23: =IFERROR(INDIRECT("'"&$A23&"'!"&$BT$1),"") -> 0 | BU23: =IFERROR(INDIRECT("'"&$A23&"'!"&$BU$1),"") -> 0 | BV23: =BS23/C23 -> #DIV/0!
