Workbook

Sheet 工作表4
I2: 縂數量
A3: 店舖 | C3: 7211 | I3: 箱 | J3: 包 | K3: 扎 | L3: 非貨品
A4: Maersk運輸收貨日期 | C4: =TODAY()+1 -> 46272 | I4: =SUM(E12:E36,I12:I36) -> 0 | J4: =SUM(F12:F36,J12:J36) -> 0 | K4: =SUM(G12:G36,K12:K36) -> 0 | L4: =SUM(H12:H36,L12:L36) -> 0
B8: 送往地點
B9: 送往店舖/ WHR/ GBA/ OFFICE | C9: 店舖 | I9: 貨倉 | M9: 總數 | N9: 備註 | O9: 送對家店指定日期
C10: 數量 | I10: 數量
A11: 項目 | C11: 店鋪名 | D11: 店鋪代號 | E11: 箱 | F11: 包 | G11: 扎 | H11: 非貨品 | I11: 箱 | J11: 包 | K11: 扎 | L11: 非貨品
A12: 1 | C12: =_xlfn.IFNA(VLOOKUP(B12,門店清單!A:B,2,0),"") | D12: =_xlfn.IFNA(VLOOKUP(B12,店鋪地址!B:C,2,0),"") | M12: =SUM(E12:L12) -> 0
A13: 2 | C13: =_xlfn.IFNA(VLOOKUP(B13,門店清單!A:B,2,0),"") | D13: =_xlfn.IFNA(VLOOKUP(B13,店鋪地址!B:C,2,0),"") | M13: =SUM(E13:L13) -> 0
A14: 3 | C14: =_xlfn.IFNA(VLOOKUP(B14,門店清單!A:B,2,0),"") | D14: =_xlfn.IFNA(VLOOKUP(B14,店鋪地址!B:C,2,0),"") | M14: =SUM(E14:L14) -> 0
A15: 4 | C15: =_xlfn.IFNA(VLOOKUP(B15,門店清單!A:B,2,0),"") | D15: =_xlfn.IFNA(VLOOKUP(B15,店鋪地址!B:C,2,0),"") | M15: =SUM(E15:L15) -> 0
A16: 5 | C16: =_xlfn.IFNA(VLOOKUP(B16,門店清單!A:B,2,0),"") | D16: =_xlfn.IFNA(VLOOKUP(B16,店鋪地址!B:C,2,0),"") | M16: =SUM(E16:L16) -> 0
A17: 6 | C17: =_xlfn.IFNA(VLOOKUP(B17,門店清單!A:B,2,0),"") | D17: =_xlfn.IFNA(VLOOKUP(B17,店鋪地址!B:C,2,0),"") | M17: =SUM(E17:L17) -> 0
A18: 7 | C18: =_xlfn.IFNA(VLOOKUP(B18,門店清單!A:B,2,0),"") | D18: =_xlfn.IFNA(VLOOKUP(B18,店鋪地址!B:C,2,0),"") | M18: =SUM(E18:L18) -> 0
A19: 8 | C19: =_xlfn.IFNA(VLOOKUP(B19,門店清單!A:B,2,0),"") | D19: =_xlfn.IFNA(VLOOKUP(B19,店鋪地址!B:C,2,0),"") | M19: =SUM(E19:L19) -> 0
A20: 9 | C20: =_xlfn.IFNA(VLOOKUP(B20,門店清單!A:B,2,0),"") | D20: =_xlfn.IFNA(VLOOKUP(B20,店鋪地址!B:C,2,0),"") | M20: =SUM(E20:L20) -> 0
A21: 10 | C21: =_xlfn.IFNA(VLOOKUP(B21,門店清單!A:B,2,0),"") | D21: =_xlfn.IFNA(VLOOKUP(B21,店鋪地址!B:C,2,0),"") | M21: =SUM(E21:L21) -> 0
A22: 11 | C22: =_xlfn.IFNA(VLOOKUP(B22,門店清單!A:B,2,0),"") | D22: =_xlfn.IFNA(VLOOKUP(B22,店鋪地址!B:C,2,0),"") | M22: =SUM(E22:L22) -> 0
A23: 12 | C23: =_xlfn.IFNA(VLOOKUP(B23,門店清單!A:B,2,0),"") | D23: =_xlfn.IFNA(VLOOKUP(B23,店鋪地址!B:C,2,0),"") | M23: =SUM(E23:L23) -> 0
... A36: 25 | C36: =_xlfn.IFNA(VLOOKUP(B36,門店清單!A:B,2,0),"") | D36: =_xlfn.IFNA(VLOOKUP(B36,店鋪地址!B:C,2,0),"") | M36: =SUM(E36:L36) -> 0

Sheet 工作表16
I2: 縂數量
A3: 店舖 | C3: 7211 | I3: 箱 | J3: 包 | K3: 扎 | L3: 非貨品
A4: Maersk運輸收貨日期 | C4: =TODAY()+1 -> 46272 | I4: =SUM(E12:E36,I12:I36) -> 0 | J4: =SUM(F12:F36,J12:J36) -> 0 | K4: =SUM(G12:G36,K12:K36) -> 0 | L4: =SUM(H12:H36,L12:L36) -> 0
B8: 送往地點
B9: 送往店舖/ WHR/ GBA/ OFFICE | C9: 店舖 | I9: 貨倉 | M9: 總數 | N9: 備註 | O9: 送對家店指定日期
C10: 數量 | I10: 數量
A11: 項目 | C11: 店鋪名 | D11: 店鋪代號 | E11: 箱 | F11: 包 | G11: 扎 | H11: 非貨品 | I11: 箱 | J11: 包 | K11: 扎 | L11: 非貨品
A12: 1 | C12: =_xlfn.IFNA(VLOOKUP(B12,門店清單!A:B,2,0),"") | D12: =_xlfn.IFNA(VLOOKUP(B12,店鋪地址!B:C,2,0),"") | M12: =SUM(E12:L12) -> 0
A13: 2 | C13: =_xlfn.IFNA(VLOOKUP(B13,門店清單!A:B,2,0),"") | D13: =_xlfn.IFNA(VLOOKUP(B13,店鋪地址!B:C,2,0),"") | M13: =SUM(E13:L13) -> 0
A14: 3 | C14: =_xlfn.IFNA(VLOOKUP(B14,門店清單!A:B,2,0),"") | D14: =_xlfn.IFNA(VLOOKUP(B14,店鋪地址!B:C,2,0),"") | M14: =SUM(E14:L14) -> 0
A15: 4 | C15: =_xlfn.IFNA(VLOOKUP(B15,門店清單!A:B,2,0),"") | D15: =_xlfn.IFNA(VLOOKUP(B15,店鋪地址!B:C,2,0),"") | M15: =SUM(E15:L15) -> 0
A16: 5 | C16: =_xlfn.IFNA(VLOOKUP(B16,門店清單!A:B,2,0),"") | D16: =_xlfn.IFNA(VLOOKUP(B16,店鋪地址!B:C,2,0),"") | M16: =SUM(E16:L16) -> 0
A17: 6 | C17: =_xlfn.IFNA(VLOOKUP(B17,門店清單!A:B,2,0),"") | D17: =_xlfn.IFNA(VLOOKUP(B17,店鋪地址!B:C,2,0),"") | M17: =SUM(E17:L17) -> 0
A18: 7 | C18: =_xlfn.IFNA(VLOOKUP(B18,門店清單!A:B,2,0),"") | D18: =_xlfn.IFNA(VLOOKUP(B18,店鋪地址!B:C,2,0),"") | M18: =SUM(E18:L18) -> 0
A19: 8 | C19: =_xlfn.IFNA(VLOOKUP(B19,門店清單!A:B,2,0),"") | D19: =_xlfn.IFNA(VLOOKUP(B19,店鋪地址!B:C,2,0),"") | M19: =SUM(E19:L19) -> 0
A20: 9 | C20: =_xlfn.IFNA(VLOOKUP(B20,門店清單!A:B,2,0),"") | D20: =_xlfn.IFNA(VLOOKUP(B20,店鋪地址!B:C,2,0),"") | M20: =SUM(E20:L20) -> 0
A21: 10 | C21: =_xlfn.IFNA(VLOOKUP(B21,門店清單!A:B,2,0),"") | D21: =_xlfn.IFNA(VLOOKUP(B21,店鋪地址!B:C,2,0),"") | M21: =SUM(E21:L21) -> 0
A22: 11 | C22: =_xlfn.IFNA(VLOOKUP(B22,門店清單!A:B,2,0),"") | D22: =_xlfn.IFNA(VLOOKUP(B22,店鋪地址!B:C,2,0),"") | M22: =SUM(E22:L22) -> 0
A23: 12 | C23: =_xlfn.IFNA(VLOOKUP(B23,門店清單!A:B,2,0),"") | D23: =_xlfn.IFNA(VLOOKUP(B23,店鋪地址!B:C,2,0),"") | M23: =SUM(E23:L23) -> 0
... A36: 25 | C36: =_xlfn.IFNA(VLOOKUP(B36,門店清單!A:B,2,0),"") | D36: =_xlfn.IFNA(VLOOKUP(B36,店鋪地址!B:C,2,0),"") | M36: =SUM(E36:L36) -> 0

Sheet 工作表15
I2: 縂數量
A3: 店舖 | C3: 7211 | I3: 箱 | J3: 包 | K3: 扎 | L3: 非貨品
A4: Maersk運輸收貨日期 | C4: =TODAY()+1 -> 46272 | I4: =SUM(E12:E36,I12:I36) -> 0 | J4: =SUM(F12:F36,J12:J36) -> 0 | K4: =SUM(G12:G36,K12:K36) -> 0 | L4: =SUM(H12:H36,L12:L36) -> 0
B8: 送往地點
B9: 送往店舖/ WHR/ GBA/ OFFICE | C9: 店舖 | I9: 貨倉 | M9: 總數 | N9: 備註 | O9: 送對家店指定日期
C10: 數量 | I10: 數量
A11: 項目 | C11: 店鋪名 | D11: 店鋪代號 | E11: 箱 | F11: 包 | G11: 扎 | H11: 非貨品 | I11: 箱 | J11: 包 | K11: 扎 | L11: 非貨品
A12: 1 | C12: =_xlfn.IFNA(VLOOKUP(B12,門店清單!A:B,2,0),"") | D12: =_xlfn.IFNA(VLOOKUP(B12,店鋪地址!B:C,2,0),"") | M12: =SUM(E12:L12) -> 0
A13: 2 | C13: =_xlfn.IFNA(VLOOKUP(B13,門店清單!A:B,2,0),"") | D13: =_xlfn.IFNA(VLOOKUP(B13,店鋪地址!B:C,2,0),"") | M13: =SUM(E13:L13) -> 0
A14: 3 | C14: =_xlfn.IFNA(VLOOKUP(B14,門店清單!A:B,2,0),"") | D14: =_xlfn.IFNA(VLOOKUP(B14,店鋪地址!B:C,2,0),"") | M14: =SUM(E14:L14) -> 0
A15: 4 | C15: =_xlfn.IFNA(VLOOKUP(B15,門店清單!A:B,2,0),"") | D15: =_xlfn.IFNA(VLOOKUP(B15,店鋪地址!B:C,2,0),"") | M15: =SUM(E15:L15) -> 0
A16: 5 | C16: =_xlfn.IFNA(VLOOKUP(B16,門店清單!A:B,2,0),"") | D16: =_xlfn.IFNA(VLOOKUP(B16,店鋪地址!B:C,2,0),"") | M16: =SUM(E16:L16) -> 0
A17: 6 | C17: =_xlfn.IFNA(VLOOKUP(B17,門店清單!A:B,2,0),"") | D17: =_xlfn.IFNA(VLOOKUP(B17,店鋪地址!B:C,2,0),"") | M17: =SUM(E17:L17) -> 0
A18: 7 | C18: =_xlfn.IFNA(VLOOKUP(B18,門店清單!A:B,2,0),"") | D18: =_xlfn.IFNA(VLOOKUP(B18,店鋪地址!B:C,2,0),"") | M18: =SUM(E18:L18) -> 0
A19: 8 | C19: =_xlfn.IFNA(VLOOKUP(B19,門店清單!A:B,2,0),"") | D19: =_xlfn.IFNA(VLOOKUP(B19,店鋪地址!B:C,2,0),"") | M19: =SUM(E19:L19) -> 0
A20: 9 | C20: =_xlfn.IFNA(VLOOKUP(B20,門店清單!A:B,2,0),"") | D20: =_xlfn.IFNA(VLOOKUP(B20,店鋪地址!B:C,2,0),"") | M20: =SUM(E20:L20) -> 0
A21: 10 | C21: =_xlfn.IFNA(VLOOKUP(B21,門店清單!A:B,2,0),"") | D21: =_xlfn.IFNA(VLOOKUP(B21,店鋪地址!B:C,2,0),"") | M21: =SUM(E21:L21) -> 0
A22: 11 | C22: =_xlfn.IFNA(VLOOKUP(B22,門店清單!A:B,2,0),"") | D22: =_xlfn.IFNA(VLOOKUP(B22,店鋪地址!B:C,2,0),"") | M22: =SUM(E22:L22) -> 0
A23: 12 | C23: =_xlfn.IFNA(VLOOKUP(B23,門店清單!A:B,2,0),"") | D23: =_xlfn.IFNA(VLOOKUP(B23,店鋪地址!B:C,2,0),"") | M23: =SUM(E23:L23) -> 0
... A36: 25 | C36: =_xlfn.IFNA(VLOOKUP(B36,門店清單!A:B,2,0),"") | D36: =_xlfn.IFNA(VLOOKUP(B36,店鋪地址!B:C,2,0),"") | M36: =SUM(E36:L36) -> 0

Sheet 工作表14
I2: 縂數量
A3: 店舖 | C3: 7211 | I3: 箱 | J3: 包 | K3: 扎 | L3: 非貨品
A4: Maersk運輸收貨日期 | C4: =TODAY()+1 -> 46272 | I4: =SUM(E12:E36,I12:I36) -> 0 | J4: =SUM(F12:F36,J12:J36) -> 0 | K4: =SUM(G12:G36,K12:K36) -> 0 | L4: =SUM(H12:H36,L12:L36) -> 0
B8: 送往地點
B9: 送往店舖/ WHR/ GBA/ OFFICE | C9: 店舖 | I9: 貨倉 | M9: 總數 | N9: 備註 | O9: 送對家店指定日期
C10: 數量 | I10: 數量
A11: 項目 | C11: 店鋪名 | D11: 店鋪代號 | E11: 箱 | F11: 包 | G11: 扎 | H11: 非貨品 | I11: 箱 | J11: 包 | K11: 扎 | L11: 非貨品
A12: 1 | C12: =_xlfn.IFNA(VLOOKUP(B12,門店清單!A:B,2,0),"") | D12: =_xlfn.IFNA(VLOOKUP(B12,店鋪地址!B:C,2,0),"") | M12: =SUM(E12:L12) -> 0
A13: 2 | C13: =_xlfn.IFNA(VLOOKUP(B13,門店清單!A:B,2,0),"") | D13: =_xlfn.IFNA(VLOOKUP(B13,店鋪地址!B:C,2,0),"") | M13: =SUM(E13:L13) -> 0
A14: 3 | C14: =_xlfn.IFNA(VLOOKUP(B14,門店清單!A:B,2,0),"") | D14: =_xlfn.IFNA(VLOOKUP(B14,店鋪地址!B:C,2,0),"") | M14: =SUM(E14:L14) -> 0
A15: 4 | C15: =_xlfn.IFNA(VLOOKUP(B15,門店清單!A:B,2,0),"") | D15: =_xlfn.IFNA(VLOOKUP(B15,店鋪地址!B:C,2,0),"") | M15: =SUM(E15:L15) -> 0
A16: 5 | C16: =_xlfn.IFNA(VLOOKUP(B16,門店清單!A:B,2,0),"") | D16: =_xlfn.IFNA(VLOOKUP(B16,店鋪地址!B:C,2,0),"") | M16: =SUM(E16:L16) -> 0
A17: 6 | C17: =_xlfn.IFNA(VLOOKUP(B17,門店清單!A:B,2,0),"") | D17: =_xlfn.IFNA(VLOOKUP(B17,店鋪地址!B:C,2,0),"") | M17: =SUM(E17:L17) -> 0
A18: 7 | C18: =_xlfn.IFNA(VLOOKUP(B18,門店清單!A:B,2,0),"") | D18: =_xlfn.IFNA(VLOOKUP(B18,店鋪地址!B:C,2,0),"") | M18: =SUM(E18:L18) -> 0
A19: 8 | C19: =_xlfn.IFNA(VLOOKUP(B19,門店清單!A:B,2,0),"") | D19: =_xlfn.IFNA(VLOOKUP(B19,店鋪地址!B:C,2,0),"") | M19: =SUM(E19:L19) -> 0
A20: 9 | C20: =_xlfn.IFNA(VLOOKUP(B20,門店清單!A:B,2,0),"") | D20: =_xlfn.IFNA(VLOOKUP(B20,店鋪地址!B:C,2,0),"") | M20: =SUM(E20:L20) -> 0
A21: 10 | C21: =_xlfn.IFNA(VLOOKUP(B21,門店清單!A:B,2,0),"") | D21: =_xlfn.IFNA(VLOOKUP(B21,店鋪地址!B:C,2,0),"") | M21: =SUM(E21:L21) -> 0
A22: 11 | C22: =_xlfn.IFNA(VLOOKUP(B22,門店清單!A:B,2,0),"") | D22: =_xlfn.IFNA(VLOOKUP(B22,店鋪地址!B:C,2,0),"") | M22: =SUM(E22:L22) -> 0
A23: 12 | C23: =_xlfn.IFNA(VLOOKUP(B23,門店清單!A:B,2,0),"") | D23: =_xlfn.IFNA(VLOOKUP(B23,店鋪地址!B:C,2,0),"") | M23: =SUM(E23:L23) -> 0
... A36: 25 | C36: =_xlfn.IFNA(VLOOKUP(B36,門店清單!A:B,2,0),"") | D36: =_xlfn.IFNA(VLOOKUP(B36,店鋪地址!B:C,2,0),"") | M36: =SUM(E36:L36) -> 0

Sheet 工作表13
I2: 縂數量
A3: 店舖 | C3: 7211 | I3: 箱 | J3: 包 | K3: 扎 | L3: 非貨品
A4: Maersk運輸收貨日期 | C4: =TODAY()+1 -> 46272 | I4: =SUM(E12:E36,I12:I36) -> 0 | J4: =SUM(F12:F36,J12:J36) -> 0 | K4: =SUM(G12:G36,K12:K36) -> 0 | L4: =SUM(H12:H36,L12:L36) -> 0
B8: 送往地點
B9: 送往店舖/ WHR/ GBA/ OFFICE | C9: 店舖 | I9: 貨倉 | M9: 總數 | N9: 備註 | O9: 送對家店指定日期
C10: 數量 | I10: 數量
A11: 項目 | C11: 店鋪名 | D11: 店鋪代號 | E11: 箱 | F11: 包 | G11: 扎 | H11: 非貨品 | I11: 箱 | J11: 包 | K11: 扎 | L11: 非貨品
A12: 1 | C12: =_xlfn.IFNA(VLOOKUP(B12,門店清單!A:B,2,0),"") | D12: =_xlfn.IFNA(VLOOKUP(B12,店鋪地址!B:C,2,0),"") | M12: =SUM(E12:L12) -> 0
A13: 2 | C13: =_xlfn.IFNA(VLOOKUP(B13,門店清單!A:B,2,0),"") | D13: =_xlfn.IFNA(VLOOKUP(B13,店鋪地址!B:C,2,0),"") | M13: =SUM(E13:L13) -> 0
A14: 3 | C14: =_xlfn.IFNA(VLOOKUP(B14,門店清單!A:B,2,0),"") | D14: =_xlfn.IFNA(VLOOKUP(B14,店鋪地址!B:C,2,0),"") | M14: =SUM(E14:L14) -> 0
A15: 4 | C15: =_xlfn.IFNA(VLOOKUP(B15,門店清單!A:B,2,0),"") | D15: =_xlfn.IFNA(VLOOKUP(B15,店鋪地址!B:C,2,0),"") | M15: =SUM(E15:L15) -> 0
A16: 5 | C16: =_xlfn.IFNA(VLOOKUP(B16,門店清單!A:B,2,0),"") | D16: =_xlfn.IFNA(VLOOKUP(B16,店鋪地址!B:C,2,0),"") | M16: =SUM(E16:L16) -> 0
A17: 6 | C17: =_xlfn.IFNA(VLOOKUP(B17,門店清單!A:B,2,0),"") | D17: =_xlfn.IFNA(VLOOKUP(B17,店鋪地址!B:C,2,0),"") | M17: =SUM(E17:L17) -> 0
A18: 7 | C18: =_xlfn.IFNA(VLOOKUP(B18,門店清單!A:B,2,0),"") | D18: =_xlfn.IFNA(VLOOKUP(B18,店鋪地址!B:C,2,0),"") | M18: =SUM(E18:L18) -> 0
A19: 8 | C19: =_xlfn.IFNA(VLOOKUP(B19,門店清單!A:B,2,0),"") | D19: =_xlfn.IFNA(VLOOKUP(B19,店鋪地址!B:C,2,0),"") | M19: =SUM(E19:L19) -> 0
A20: 9 | C20: =_xlfn.IFNA(VLOOKUP(B20,門店清單!A:B,2,0),"") | D20: =_xlfn.IFNA(VLOOKUP(B20,店鋪地址!B:C,2,0),"") | M20: =SUM(E20:L20) -> 0
A21: 10 | C21: =_xlfn.IFNA(VLOOKUP(B21,門店清單!A:B,2,0),"") | D21: =_xlfn.IFNA(VLOOKUP(B21,店鋪地址!B:C,2,0),"") | M21: =SUM(E21:L21) -> 0
A22: 11 | C22: =_xlfn.IFNA(VLOOKUP(B22,門店清單!A:B,2,0),"") | D22: =_xlfn.IFNA(VLOOKUP(B22,店鋪地址!B:C,2,0),"") | M22: =SUM(E22:L22) -> 0
A23: 12 | C23: =_xlfn.IFNA(VLOOKUP(B23,門店清單!A:B,2,0),"") | D23: =_xlfn.IFNA(VLOOKUP(B23,店鋪地址!B:C,2,0),"") | M23: =SUM(E23:L23) -> 0
... A36: 25 | C36: =_xlfn.IFNA(VLOOKUP(B36,門店清單!A:B,2,0),"") | D36: =_xlfn.IFNA(VLOOKUP(B36,店鋪地址!B:C,2,0),"") | M36: =SUM(E36:L36) -> 0

Sheet 工作表12
I2: 縂數量
A3: 店舖 | C3: 7211 | I3: 箱 | J3: 包 | K3: 扎 | L3: 非貨品
A4: Maersk運輸收貨日期 | C4: =TODAY()+1 -> 46272 | I4: =SUM(E12:E36,I12:I36) -> 0 | J4: =SUM(F12:F36,J12:J36) -> 0 | K4: =SUM(G12:G36,K12:K36) -> 0 | L4: =SUM(H12:H36,L12:L36) -> 0
B8: 送往地點
B9: 送往店舖/ WHR/ GBA/ OFFICE | C9: 店舖 | I9: 貨倉 | M9: 總數 | N9: 備註 | O9: 送對家店指定日期
C10: 數量 | I10: 數量
A11: 項目 | C11: 店鋪名 | D11: 店鋪代號 | E11: 箱 | F11: 包 | G11: 扎 | H11: 非貨品 | I11: 箱 | J11: 包 | K11: 扎 | L11: 非貨品
A12: 1 | C12: =_xlfn.IFNA(VLOOKUP(B12,門店清單!A:B,2,0),"") | D12: =_xlfn.IFNA(VLOOKUP(B12,店鋪地址!B:C,2,0),"") | M12: =SUM(E12:L12) -> 0
A13: 2 | C13: =_xlfn.IFNA(VLOOKUP(B13,門店清單!A:B,2,0),"") | D13: =_xlfn.IFNA(VLOOKUP(B13,店鋪地址!B:C,2,0),"") | M13: =SUM(E13:L13) -> 0
A14: 3 | C14: =_xlfn.IFNA(VLOOKUP(B14,門店清單!A:B,2,0),"") | D14: =_xlfn.IFNA(VLOOKUP(B14,店鋪地址!B:C,2,0),"") | M14: =SUM(E14:L14) -> 0
A15: 4 | C15: =_xlfn.IFNA(VLOOKUP(B15,門店清單!A:B,2,0),"") | D15: =_xlfn.IFNA(VLOOKUP(B15,店鋪地址!B:C,2,0),"") | M15: =SUM(E15:L15) -> 0
A16: 5 | C16: =_xlfn.IFNA(VLOOKUP(B16,門店清單!A:B,2,0),"") | D16: =_xlfn.IFNA(VLOOKUP(B16,店鋪地址!B:C,2,0),"") | M16: =SUM(E16:L16) -> 0
A17: 6 | C17: =_xlfn.IFNA(VLOOKUP(B17,門店清單!A:B,2,0),"") | D17: =_xlfn.IFNA(VLOOKUP(B17,店鋪地址!B:C,2,0),"") | M17: =SUM(E17:L17) -> 0
A18: 7 | C18: =_xlfn.IFNA(VLOOKUP(B18,門店清單!A:B,2,0),"") | D18: =_xlfn.IFNA(VLOOKUP(B18,店鋪地址!B:C,2,0),"") | M18: =SUM(E18:L18) -> 0
A19: 8 | C19: =_xlfn.IFNA(VLOOKUP(B19,門店清單!A:B,2,0),"") | D19: =_xlfn.IFNA(VLOOKUP(B19,店鋪地址!B:C,2,0),"") | M19: =SUM(E19:L19) -> 0
A20: 9 | C20: =_xlfn.IFNA(VLOOKUP(B20,門店清單!A:B,2,0),"") | D20: =_xlfn.IFNA(VLOOKUP(B20,店鋪地址!B:C,2,0),"") | M20: =SUM(E20:L20) -> 0
A21: 10 | C21: =_xlfn.IFNA(VLOOKUP(B21,門店清單!A:B,2,0),"") | D21: =_xlfn.IFNA(VLOOKUP(B21,店鋪地址!B:C,2,0),"") | M21: =SUM(E21:L21) -> 0
A22: 11 | C22: =_xlfn.IFNA(VLOOKUP(B22,門店清單!A:B,2,0),"") | D22: =_xlfn.IFNA(VLOOKUP(B22,店鋪地址!B:C,2,0),"") | M22: =SUM(E22:L22) -> 0
A23: 12 | C23: =_xlfn.IFNA(VLOOKUP(B23,門店清單!A:B,2,0),"") | D23: =_xlfn.IFNA(VLOOKUP(B23,店鋪地址!B:C,2,0),"") | M23: =SUM(E23:L23) -> 0
... A36: 25 | C36: =_xlfn.IFNA(VLOOKUP(B36,門店清單!A:B,2,0),"") | D36: =_xlfn.IFNA(VLOOKUP(B36,店鋪地址!B:C,2,0),"") | M36: =SUM(E36:L36) -> 0

Sheet 工作表11
I2: 縂數量
A3: 店舖 | C3: 7211 | I3: 箱 | J3: 包 | K3: 扎 | L3: 非貨品
A4: Maersk運輸收貨日期 | C4: =TODAY()+1 -> 46272 | I4: =SUM(E12:E36,I12:I36) -> 0 | J4: =SUM(F12:F36,J12:J36) -> 0 | K4: =SUM(G12:G36,K12:K36) -> 0 | L4: =SUM(H12:H36,L12:L36) -> 0
B8: 送往地點
B9: 送往店舖/ WHR/ GBA/ OFFICE | C9: 店舖 | I9: 貨倉 | M9: 總數 | N9: 備註 | O9: 送對家店指定日期
C10: 數量 | I10: 數量
A11: 項目 | C11: 店鋪名 | D11: 店鋪代號 | E11: 箱 | F11: 包 | G11: 扎 | H11: 非貨品 | I11: 箱 | J11: 包 | K11: 扎 | L11: 非貨品
A12: 1 | C12: =_xlfn.IFNA(VLOOKUP(B12,門店清單!A:B,2,0),"") | D12: =_xlfn.IFNA(VLOOKUP(B12,店鋪地址!B:C,2,0),"") | M12: =SUM(E12:L12) -> 0
A13: 2 | C13: =_xlfn.IFNA(VLOOKUP(B13,門店清單!A:B,2,0),"") | D13: =_xlfn.IFNA(VLOOKUP(B13,店鋪地址!B:C,2,0),"") | M13: =SUM(E13:L13) -> 0
A14: 3 | C14: =_xlfn.IFNA(VLOOKUP(B14,門店清單!A:B,2,0),"") | D14: =_xlfn.IFNA(VLOOKUP(B14,店鋪地址!B:C,2,0),"") | M14: =SUM(E14:L14) -> 0
A15: 4 | C15: =_xlfn.IFNA(VLOOKUP(B15,門店清單!A:B,2,0),"") | D15: =_xlfn.IFNA(VLOOKUP(B15,店鋪地址!B:C,2,0),"") | M15: =SUM(E15:L15) -> 0
A16: 5 | C16: =_xlfn.IFNA(VLOOKUP(B16,門店清單!A:B,2,0),"") | D16: =_xlfn.IFNA(VLOOKUP(B16,店鋪地址!B:C,2,0),"") | M16: =SUM(E16:L16) -> 0
A17: 6 | C17: =_xlfn.IFNA(VLOOKUP(B17,門店清單!A:B,2,0),"") | D17: =_xlfn.IFNA(VLOOKUP(B17,店鋪地址!B:C,2,0),"") | M17: =SUM(E17:L17) -> 0
A18: 7 | C18: =_xlfn.IFNA(VLOOKUP(B18,門店清單!A:B,2,0),"") | D18: =_xlfn.IFNA(VLOOKUP(B18,店鋪地址!B:C,2,0),"") | M18: =SUM(E18:L18) -> 0
A19: 8 | C19: =_xlfn.IFNA(VLOOKUP(B19,門店清單!A:B,2,0),"") | D19: =_xlfn.IFNA(VLOOKUP(B19,店鋪地址!B:C,2,0),"") | M19: =SUM(E19:L19) -> 0
A20: 9 | C20: =_xlfn.IFNA(VLOOKUP(B20,門店清單!A:B,2,0),"") | D20: =_xlfn.IFNA(VLOOKUP(B20,店鋪地址!B:C,2,0),"") | M20: =SUM(E20:L20) -> 0
A21: 10 | C21: =_xlfn.IFNA(VLOOKUP(B21,門店清單!A:B,2,0),"") | D21: =_xlfn.IFNA(VLOOKUP(B21,店鋪地址!B:C,2,0),"") | M21: =SUM(E21:L21) -> 0
A22: 11 | C22: =_xlfn.IFNA(VLOOKUP(B22,門店清單!A:B,2,0),"") | D22: =_xlfn.IFNA(VLOOKUP(B22,店鋪地址!B:C,2,0),"") | M22: =SUM(E22:L22) -> 0
A23: 12 | C23: =_xlfn.IFNA(VLOOKUP(B23,門店清單!A:B,2,0),"") | D23: =_xlfn.IFNA(VLOOKUP(B23,店鋪地址!B:C,2,0),"") | M23: =SUM(E23:L23) -> 0
... A36: 25 | C36: =_xlfn.IFNA(VLOOKUP(B36,門店清單!A:B,2,0),"") | D36: =_xlfn.IFNA(VLOOKUP(B36,店鋪地址!B:C,2,0),"") | M36: =SUM(E36:L36) -> 0

Sheet 工作表10
I2: 縂數量
A3: 店舖 | C3: 7211 | I3: 箱 | J3: 包 | K3: 扎 | L3: 非貨品
A4: Maersk運輸收貨日期 | C4: =TODAY()+1 -> 46272 | I4: =SUM(E12:E36,I12:I36) -> 0 | J4: =SUM(F12:F36,J12:J36) -> 0 | K4: =SUM(G12:G36,K12:K36) -> 0 | L4: =SUM(H12:H36,L12:L36) -> 0
B8: 送往地點
B9: 送往店舖/ WHR/ GBA/ OFFICE | C9: 店舖 | I9: 貨倉 | M9: 總數 | N9: 備註 | O9: 送對家店指定日期
C10: 數量 | I10: 數量
A11: 項目 | C11: 店鋪名 | D11: 店鋪代號 | E11: 箱 | F11: 包 | G11: 扎 | H11: 非貨品 | I11: 箱 | J11: 包 | K11: 扎 | L11: 非貨品
A12: 1 | C12: =_xlfn.IFNA(VLOOKUP(B12,門店清單!A:B,2,0),"") | D12: =_xlfn.IFNA(VLOOKUP(B12,店鋪地址!B:C,2,0),"") | M12: =SUM(E12:L12) -> 0
A13: 2 | C13: =_xlfn.IFNA(VLOOKUP(B13,門店清單!A:B,2,0),"") | D13: =_xlfn.IFNA(VLOOKUP(B13,店鋪地址!B:C,2,0),"") | M13: =SUM(E13:L13) -> 0
A14: 3 | C14: =_xlfn.IFNA(VLOOKUP(B14,門店清單!A:B,2,0),"") | D14: =_xlfn.IFNA(VLOOKUP(B14,店鋪地址!B:C,2,0),"") | M14: =SUM(E14:L14) -> 0
A15: 4 | C15: =_xlfn.IFNA(VLOOKUP(B15,門店清單!A:B,2,0),"") | D15: =_xlfn.IFNA(VLOOKUP(B15,店鋪地址!B:C,2,0),"") | M15: =SUM(E15:L15) -> 0
A16: 5 | C16: =_xlfn.IFNA(VLOOKUP(B16,門店清單!A:B,2,0),"") | D16: =_xlfn.IFNA(VLOOKUP(B16,店鋪地址!B:C,2,0),"") | M16: =SUM(E16:L16) -> 0
A17: 6 | C17: =_xlfn.IFNA(VLOOKUP(B17,門店清單!A:B,2,0),"") | D17: =_xlfn.IFNA(VLOOKUP(B17,店鋪地址!B:C,2,0),"") | M17: =SUM(E17:L17) -> 0
A18: 7 | C18: =_xlfn.IFNA(VLOOKUP(B18,門店清單!A:B,2,0),"") | D18: =_xlfn.IFNA(VLOOKUP(B18,店鋪地址!B:C,2,0),"") | M18: =SUM(E18:L18) -> 0
A19: 8 | C19: =_xlfn.IFNA(VLOOKUP(B19,門店清單!A:B,2,0),"") | D19: =_xlfn.IFNA(VLOOKUP(B19,店鋪地址!B:C,2,0),"") | M19: =SUM(E19:L19) -> 0
A20: 9 | C20: =_xlfn.IFNA(VLOOKUP(B20,門店清單!A:B,2,0),"") | D20: =_xlfn.IFNA(VLOOKUP(B20,店鋪地址!B:C,2,0),"") | M20: =SUM(E20:L20) -> 0
A21: 10 | C21: =_xlfn.IFNA(VLOOKUP(B21,門店清單!A:B,2,0),"") | D21: =_xlfn.IFNA(VLOOKUP(B21,店鋪地址!B:C,2,0),"") | M21: =SUM(E21:L21) -> 0
A22: 11 | C22: =_xlfn.IFNA(VLOOKUP(B22,門店清單!A:B,2,0),"") | D22: =_xlfn.IFNA(VLOOKUP(B22,店鋪地址!B:C,2,0),"") | M22: =SUM(E22:L22) -> 0
A23: 12 | C23: =_xlfn.IFNA(VLOOKUP(B23,門店清單!A:B,2,0),"") | D23: =_xlfn.IFNA(VLOOKUP(B23,店鋪地址!B:C,2,0),"") | M23: =SUM(E23:L23) -> 0
... A36: 25 | C36: =_xlfn.IFNA(VLOOKUP(B36,門店清單!A:B,2,0),"") | D36: =_xlfn.IFNA(VLOOKUP(B36,店鋪地址!B:C,2,0),"") | M36: =SUM(E36:L36) -> 0

Sheet 工作表9
I2: 縂數量
A3: 店舖 | C3: 7211 | I3: 箱 | J3: 包 | K3: 扎 | L3: 非貨品
A4: Maersk運輸收貨日期 | C4: =TODAY()+1 -> 46272 | I4: =SUM(E12:E36,I12:I36) -> 0 | J4: =SUM(F12:F36,J12:J36) -> 0 | K4: =SUM(G12:G36,K12:K36) -> 0 | L4: =SUM(H12:H36,L12:L36) -> 0
B8: 送往地點
B9: 送往店舖/ WHR/ GBA/ OFFICE | C9: 店舖 | I9: 貨倉 | M9: 總數 | N9: 備註 | O9: 送對家店指定日期
C10: 數量 | I10: 數量
A11: 項目 | C11: 店鋪名 | D11: 店鋪代號 | E11: 箱 | F11: 包 | G11: 扎 | H11: 非貨品 | I11: 箱 | J11: 包 | K11: 扎 | L11: 非貨品
A12: 1 | C12: =_xlfn.IFNA(VLOOKUP(B12,門店清單!A:B,2,0),"") | D12: =_xlfn.IFNA(VLOOKUP(B12,店鋪地址!B:C,2,0),"") | M12: =SUM(E12:L12) -> 0
A13: 2 | C13: =_xlfn.IFNA(VLOOKUP(B13,門店清單!A:B,2,0),"") | D13: =_xlfn.IFNA(VLOOKUP(B13,店鋪地址!B:C,2,0),"") | M13: =SUM(E13:L13) -> 0
A14: 3 | C14: =_xlfn.IFNA(VLOOKUP(B14,門店清單!A:B,2,0),"") | D14: =_xlfn.IFNA(VLOOKUP(B14,店鋪地址!B:C,2,0),"") | M14: =SUM(E14:L14) -> 0
A15: 4 | C15: =_xlfn.IFNA(VLOOKUP(B15,門店清單!A:B,2,0),"") | D15: =_xlfn.IFNA(VLOOKUP(B15,店鋪地址!B:C,2,0),"") | M15: =SUM(E15:L15) -> 0
A16: 5 | C16: =_xlfn.IFNA(VLOOKUP(B16,門店清單!A:B,2,0),"") | D16: =_xlfn.IFNA(VLOOKUP(B16,店鋪地址!B:C,2,0),"") | M16: =SUM(E16:L16) -> 0
A17: 6 | C17: =_xlfn.IFNA(VLOOKUP(B17,門店清單!A:B,2,0),"") | D17: =_xlfn.IFNA(VLOOKUP(B17,店鋪地址!B:C,2,0),"") | M17: =SUM(E17:L17) -> 0
A18: 7 | C18: =_xlfn.IFNA(VLOOKUP(B18,門店清單!A:B,2,0),"") | D18: =_xlfn.IFNA(VLOOKUP(B18,店鋪地址!B:C,2,0),"") | M18: =SUM(E18:L18) -> 0
A19: 8 | C19: =_xlfn.IFNA(VLOOKUP(B19,門店清單!A:B,2,0),"") | D19: =_xlfn.IFNA(VLOOKUP(B19,店鋪地址!B:C,2,0),"") | M19: =SUM(E19:L19) -> 0
A20: 9 | C20: =_xlfn.IFNA(VLOOKUP(B20,門店清單!A:B,2,0),"") | D20: =_xlfn.IFNA(VLOOKUP(B20,店鋪地址!B:C,2,0),"") | M20: =SUM(E20:L20) -> 0
A21: 10 | C21: =_xlfn.IFNA(VLOOKUP(B21,門店清單!A:B,2,0),"") | D21: =_xlfn.IFNA(VLOOKUP(B21,店鋪地址!B:C,2,0),"") | M21: =SUM(E21:L21) -> 0
A22: 11 | C22: =_xlfn.IFNA(VLOOKUP(B22,門店清單!A:B,2,0),"") | D22: =_xlfn.IFNA(VLOOKUP(B22,店鋪地址!B:C,2,0),"") | M22: =SUM(E22:L22) -> 0
A23: 12 | C23: =_xlfn.IFNA(VLOOKUP(B23,門店清單!A:B,2,0),"") | D23: =_xlfn.IFNA(VLOOKUP(B23,店鋪地址!B:C,2,0),"") | M23: =SUM(E23:L23) -> 0
... A36: 25 | C36: =_xlfn.IFNA(VLOOKUP(B36,門店清單!A:B,2,0),"") | D36: =_xlfn.IFNA(VLOOKUP(B36,店鋪地址!B:C,2,0),"") | M36: =SUM(E36:L36) -> 0

Sheet 工作表8
I2: 縂數量
A3: 店舖 | C3: 7211 | I3: 箱 | J3: 包 | K3: 扎 | L3: 非貨品
A4: Maersk運輸收貨日期 | C4: =TODAY()+1 -> 46272 | I4: =SUM(E12:E36,I12:I36) -> 0 | J4: =SUM(F12:F36,J12:J36) -> 0 | K4: =SUM(G12:G36,K12:K36) -> 0 | L4: =SUM(H12:H36,L12:L36) -> 0
B8: 送往地點
B9: 送往店舖/ WHR/ GBA/ OFFICE | C9: 店舖 | I9: 貨倉 | M9: 總數 | N9: 備註 | O9: 送對家店指定日期
C10: 數量 | I10: 數量
A11: 項目 | C11: 店鋪名 | D11: 店鋪代號 | E11: 箱 | F11: 包 | G11: 扎 | H11: 非貨品 | I11: 箱 | J11: 包 | K11: 扎 | L11: 非貨品
A12: 1 | C12: =_xlfn.IFNA(VLOOKUP(B12,門店清單!A:B,2,0),"") | D12: =_xlfn.IFNA(VLOOKUP(B12,店鋪地址!B:C,2,0),"") | M12: =SUM(E12:L12) -> 0
A13: 2 | C13: =_xlfn.IFNA(VLOOKUP(B13,門店清單!A:B,2,0),"") | D13: =_xlfn.IFNA(VLOOKUP(B13,店鋪地址!B:C,2,0),"") | M13: =SUM(E13:L13) -> 0
A14: 3 | C14: =_xlfn.IFNA(VLOOKUP(B14,門店清單!A:B,2,0),"") | D14: =_xlfn.IFNA(VLOOKUP(B14,店鋪地址!B:C,2,0),"") | M14: =SUM(E14:L14) -> 0
A15: 4 | C15: =_xlfn.IFNA(VLOOKUP(B15,門店清單!A:B,2,0),"") | D15: =_xlfn.IFNA(VLOOKUP(B15,店鋪地址!B:C,2,0),"") | M15: =SUM(E15:L15) -> 0
A16: 5 | C16: =_xlfn.IFNA(VLOOKUP(B16,門店清單!A:B,2,0),"") | D16: =_xlfn.IFNA(VLOOKUP(B16,店鋪地址!B:C,2,0),"") | M16: =SUM(E16:L16) -> 0
A17: 6 | C17: =_xlfn.IFNA(VLOOKUP(B17,門店清單!A:B,2,0),"") | D17: =_xlfn.IFNA(VLOOKUP(B17,店鋪地址!B:C,2,0),"") | M17: =SUM(E17:L17) -> 0
A18: 7 | C18: =_xlfn.IFNA(VLOOKUP(B18,門店清單!A:B,2,0),"") | D18: =_xlfn.IFNA(VLOOKUP(B18,店鋪地址!B:C,2,0),"") | M18: =SUM(E18:L18) -> 0
A19: 8 | C19: =_xlfn.IFNA(VLOOKUP(B19,門店清單!A:B,2,0),"") | D19: =_xlfn.IFNA(VLOOKUP(B19,店鋪地址!B:C,2,0),"") | M19: =SUM(E19:L19) -> 0
A20: 9 | C20: =_xlfn.IFNA(VLOOKUP(B20,門店清單!A:B,2,0),"") | D20: =_xlfn.IFNA(VLOOKUP(B20,店鋪地址!B:C,2,0),"") | M20: =SUM(E20:L20) -> 0
A21: 10 | C21: =_xlfn.IFNA(VLOOKUP(B21,門店清單!A:B,2,0),"") | D21: =_xlfn.IFNA(VLOOKUP(B21,店鋪地址!B:C,2,0),"") | M21: =SUM(E21:L21) -> 0
A22: 11 | C22: =_xlfn.IFNA(VLOOKUP(B22,門店清單!A:B,2,0),"") | D22: =_xlfn.IFNA(VLOOKUP(B22,店鋪地址!B:C,2,0),"") | M22: =SUM(E22:L22) -> 0
A23: 12 | C23: =_xlfn.IFNA(VLOOKUP(B23,門店清單!A:B,2,0),"") | D23: =_xlfn.IFNA(VLOOKUP(B23,店鋪地址!B:C,2,0),"") | M23: =SUM(E23:L23) -> 0
... A36: 25 | C36: =_xlfn.IFNA(VLOOKUP(B36,門店清單!A:B,2,0),"") | D36: =_xlfn.IFNA(VLOOKUP(B36,店鋪地址!B:C,2,0),"") | M36: =SUM(E36:L36) -> 0

Sheet 工作表7
I2: 縂數量
A3: 店舖 | C3: 7211 | I3: 箱 | J3: 包 | K3: 扎 | L3: 非貨品
A4: Maersk運輸收貨日期 | C4: =TODAY()+1 -> 46272 | I4: =SUM(E12:E36,I12:I36) -> 0 | J4: =SUM(F12:F36,J12:J36) -> 0 | K4: =SUM(G12:G36,K12:K36) -> 0 | L4: =SUM(H12:H36,L12:L36) -> 0
B8: 送往地點
B9: 送往店舖/ WHR/ GBA/ OFFICE | C9: 店舖 | I9: 貨倉 | M9: 總數 | N9: 備註 | O9: 送對家店指定日期
C10: 數量 | I10: 數量
A11: 項目 | C11: 店鋪名 | D11: 店鋪代號 | E11: 箱 | F11: 包 | G11: 扎 | H11: 非貨品 | I11: 箱 | J11: 包 | K11: 扎 | L11: 非貨品
A12: 1 | C12: =_xlfn.IFNA(VLOOKUP(B12,門店清單!A:B,2,0),"") | D12: =_xlfn.IFNA(VLOOKUP(B12,店鋪地址!B:C,2,0),"") | M12: =SUM(E12:L12) -> 0
A13: 2 | C13: =_xlfn.IFNA(VLOOKUP(B13,門店清單!A:B,2,0),"") | D13: =_xlfn.IFNA(VLOOKUP(B13,店鋪地址!B:C,2,0),"") | M13: =SUM(E13:L13) -> 0
A14: 3 | C14: =_xlfn.IFNA(VLOOKUP(B14,門店清單!A:B,2,0),"") | D14: =_xlfn.IFNA(VLOOKUP(B14,店鋪地址!B:C,2,0),"") | M14: =SUM(E14:L14) -> 0
A15: 4 | C15: =_xlfn.IFNA(VLOOKUP(B15,門店清單!A:B,2,0),"") | D15: =_xlfn.IFNA(VLOOKUP(B15,店鋪地址!B:C,2,0),"") | M15: =SUM(E15:L15) -> 0
A16: 5 | C16: =_xlfn.IFNA(VLOOKUP(B16,門店清單!A:B,2,0),"") | D16: =_xlfn.IFNA(VLOOKUP(B16,店鋪地址!B:C,2,0),"") | M16: =SUM(E16:L16) -> 0
A17: 6 | C17: =_xlfn.IFNA(VLOOKUP(B17,門店清單!A:B,2,0),"") | D17: =_xlfn.IFNA(VLOOKUP(B17,店鋪地址!B:C,2,0),"") | M17: =SUM(E17:L17) -> 0
A18: 7 | C18: =_xlfn.IFNA(VLOOKUP(B18,門店清單!A:B,2,0),"") | D18: =_xlfn.IFNA(VLOOKUP(B18,店鋪地址!B:C,2,0),"") | M18: =SUM(E18:L18) -> 0
A19: 8 | C19: =_xlfn.IFNA(VLOOKUP(B19,門店清單!A:B,2,0),"") | D19: =_xlfn.IFNA(VLOOKUP(B19,店鋪地址!B:C,2,0),"") | M19: =SUM(E19:L19) -> 0
A20: 9 | C20: =_xlfn.IFNA(VLOOKUP(B20,門店清單!A:B,2,0),"") | D20: =_xlfn.IFNA(VLOOKUP(B20,店鋪地址!B:C,2,0),"") | M20: =SUM(E20:L20) -> 0
A21: 10 | C21: =_xlfn.IFNA(VLOOKUP(B21,門店清單!A:B,2,0),"") | D21: =_xlfn.IFNA(VLOOKUP(B21,店鋪地址!B:C,2,0),"") | M21: =SUM(E21:L21) -> 0
A22: 11 | C22: =_xlfn.IFNA(VLOOKUP(B22,門店清單!A:B,2,0),"") | D22: =_xlfn.IFNA(VLOOKUP(B22,店鋪地址!B:C,2,0),"") | M22: =SUM(E22:L22) -> 0
A23: 12 | C23: =_xlfn.IFNA(VLOOKUP(B23,門店清單!A:B,2,0),"") | D23: =_xlfn.IFNA(VLOOKUP(B23,店鋪地址!B:C,2,0),"") | M23: =SUM(E23:L23) -> 0
... A36: 25 | C36: =_xlfn.IFNA(VLOOKUP(B36,門店清單!A:B,2,0),"") | D36: =_xlfn.IFNA(VLOOKUP(B36,店鋪地址!B:C,2,0),"") | M36: =SUM(E36:L36) -> 0

Sheet 工作表6
I2: 縂數量
A3: 店舖 | C3: 7211 | I3: 箱 | J3: 包 | K3: 扎 | L3: 非貨品
A4: Maersk運輸收貨日期 | C4: =TODAY()+1 -> 46272 | I4: =SUM(E12:E36,I12:I36) -> 0 | J4: =SUM(F12:F36,J12:J36) -> 0 | K4: =SUM(G12:G36,K12:K36) -> 0 | L4: =SUM(H12:H36,L12:L36) -> 0
B8: 送往地點
B9: 送往店舖/ WHR/ GBA/ OFFICE | C9: 店舖 | I9: 貨倉 | M9: 總數 | N9: 備註 | O9: 送對家店指定日期
C10: 數量 | I10: 數量
A11: 項目 | C11: 店鋪名 | D11: 店鋪代號 | E11: 箱 | F11: 包 | G11: 扎 | H11: 非貨品 | I11: 箱 | J11: 包 | K11: 扎 | L11: 非貨品
A12: 1 | C12: =_xlfn.IFNA(VLOOKUP(B12,門店清單!A:B,2,0),"") | D12: =_xlfn.IFNA(VLOOKUP(B12,店鋪地址!B:C,2,0),"") | M12: =SUM(E12:L12) -> 0
A13: 2 | C13: =_xlfn.IFNA(VLOOKUP(B13,門店清單!A:B,2,0),"") | D13: =_xlfn.IFNA(VLOOKUP(B13,店鋪地址!B:C,2,0),"") | M13: =SUM(E13:L13) -> 0
A14: 3 | C14: =_xlfn.IFNA(VLOOKUP(B14,門店清單!A:B,2,0),"") | D14: =_xlfn.IFNA(VLOOKUP(B14,店鋪地址!B:C,2,0),"") | M14: =SUM(E14:L14) -> 0
A15: 4 | C15: =_xlfn.IFNA(VLOOKUP(B15,門店清單!A:B,2,0),"") | D15: =_xlfn.IFNA(VLOOKUP(B15,店鋪地址!B:C,2,0),"") | M15: =SUM(E15:L15) -> 0
A16: 5 | C16: =_xlfn.IFNA(VLOOKUP(B16,門店清單!A:B,2,0),"") | D16: =_xlfn.IFNA(VLOOKUP(B16,店鋪地址!B:C,2,0),"") | M16: =SUM(E16:L16) -> 0
A17: 6 | C17: =_xlfn.IFNA(VLOOKUP(B17,門店清單!A:B,2,0),"") | D17: =_xlfn.IFNA(VLOOKUP(B17,店鋪地址!B:C,2,0),"") | M17: =SUM(E17:L17) -> 0
A18: 7 | C18: =_xlfn.IFNA(VLOOKUP(B18,門店清單!A:B,2,0),"") | D18: =_xlfn.IFNA(VLOOKUP(B18,店鋪地址!B:C,2,0),"") | M18: =SUM(E18:L18) -> 0
A19: 8 | C19: =_xlfn.IFNA(VLOOKUP(B19,門店清單!A:B,2,0),"") | D19: =_xlfn.IFNA(VLOOKUP(B19,店鋪地址!B:C,2,0),"") | M19: =SUM(E19:L19) -> 0
A20: 9 | C20: =_xlfn.IFNA(VLOOKUP(B20,門店清單!A:B,2,0),"") | D20: =_xlfn.IFNA(VLOOKUP(B20,店鋪地址!B:C,2,0),"") | M20: =SUM(E20:L20) -> 0
A21: 10 | C21: =_xlfn.IFNA(VLOOKUP(B21,門店清單!A:B,2,0),"") | D21: =_xlfn.IFNA(VLOOKUP(B21,店鋪地址!B:C,2,0),"") | M21: =SUM(E21:L21) -> 0
A22: 11 | C22: =_xlfn.IFNA(VLOOKUP(B22,門店清單!A:B,2,0),"") | D22: =_xlfn.IFNA(VLOOKUP(B22,店鋪地址!B:C,2,0),"") | M22: =SUM(E22:L22) -> 0
A23: 12 | C23: =_xlfn.IFNA(VLOOKUP(B23,門店清單!A:B,2,0),"") | D23: =_xlfn.IFNA(VLOOKUP(B23,店鋪地址!B:C,2,0),"") | M23: =SUM(E23:L23) -> 0
... A36: 25 | C36: =_xlfn.IFNA(VLOOKUP(B36,門店清單!A:B,2,0),"") | D36: =_xlfn.IFNA(VLOOKUP(B36,店鋪地址!B:C,2,0),"") | M36: =SUM(E36:L36) -> 0

Sheet 工作表5
I2: 縂數量
A3: 店舖 | C3: 7211 | I3: 箱 | J3: 包 | K3: 扎 | L3: 非貨品
A4: Maersk運輸收貨日期 | C4: =TODAY()+1 -> 46272 | I4: =SUM(E12:E36,I12:I36) -> 0 | J4: =SUM(F12:F36,J12:J36) -> 0 | K4: =SUM(G12:G36,K12:K36) -> 0 | L4: =SUM(H12:H36,L12:L36) -> 0
B8: 送往地點
B9: 送往店舖/ WHR/ GBA/ OFFICE | C9: 店舖 | I9: 貨倉 | M9: 總數 | N9: 備註 | O9: 送對家店指定日期
C10: 數量 | I10: 數量
A11: 項目 | C11: 店鋪名 | D11: 店鋪代號 | E11: 箱 | F11: 包 | G11: 扎 | H11: 非貨品 | I11: 箱 | J11: 包 | K11: 扎 | L11: 非貨品
A12: 1 | C12: =_xlfn.IFNA(VLOOKUP(B12,門店清單!A:B,2,0),"") | D12: =_xlfn.IFNA(VLOOKUP(B12,店鋪地址!B:C,2,0),"") | M12: =SUM(E12:L12) -> 0
A13: 2 | C13: =_xlfn.IFNA(VLOOKUP(B13,門店清單!A:B,2,0),"") | D13: =_xlfn.IFNA(VLOOKUP(B13,店鋪地址!B:C,2,0),"") | M13: =SUM(E13:L13) -> 0
A14: 3 | C14: =_xlfn.IFNA(VLOOKUP(B14,門店清單!A:B,2,0),"") | D14: =_xlfn.IFNA(VLOOKUP(B14,店鋪地址!B:C,2,0),"") | M14: =SUM(E14:L14) -> 0
A15: 4 | C15: =_xlfn.IFNA(VLOOKUP(B15,門店清單!A:B,2,0),"") | D15: =_xlfn.IFNA(VLOOKUP(B15,店鋪地址!B:C,2,0),"") | M15: =SUM(E15:L15) -> 0
A16: 5 | C16: =_xlfn.IFNA(VLOOKUP(B16,門店清單!A:B,2,0),"") | D16: =_xlfn.IFNA(VLOOKUP(B16,店鋪地址!B:C,2,0),"") | M16: =SUM(E16:L16) -> 0
A17: 6 | C17: =_xlfn.IFNA(VLOOKUP(B17,門店清單!A:B,2,0),"") | D17: =_xlfn.IFNA(VLOOKUP(B17,店鋪地址!B:C,2,0),"") | M17: =SUM(E17:L17) -> 0
A18: 7 | C18: =_xlfn.IFNA(VLOOKUP(B18,門店清單!A:B,2,0),"") | D18: =_xlfn.IFNA(VLOOKUP(B18,店鋪地址!B:C,2,0),"") | M18: =SUM(E18:L18) -> 0
A19: 8 | C19: =_xlfn.IFNA(VLOOKUP(B19,門店清單!A:B,2,0),"") | D19: =_xlfn.IFNA(VLOOKUP(B19,店鋪地址!B:C,2,0),"") | M19: =SUM(E19:L19) -> 0
A20: 9 | C20: =_xlfn.IFNA(VLOOKUP(B20,門店清單!A:B,2,0),"") | D20: =_xlfn.IFNA(VLOOKUP(B20,店鋪地址!B:C,2,0),"") | M20: =SUM(E20:L20) -> 0
A21: 10 | C21: =_xlfn.IFNA(VLOOKUP(B21,門店清單!A:B,2,0),"") | D21: =_xlfn.IFNA(VLOOKUP(B21,店鋪地址!B:C,2,0),"") | M21: =SUM(E21:L21) -> 0
A22: 11 | C22: =_xlfn.IFNA(VLOOKUP(B22,門店清單!A:B,2,0),"") | D22: =_xlfn.IFNA(VLOOKUP(B22,店鋪地址!B:C,2,0),"") | M22: =SUM(E22:L22) -> 0
A23: 12 | C23: =_xlfn.IFNA(VLOOKUP(B23,門店清單!A:B,2,0),"") | D23: =_xlfn.IFNA(VLOOKUP(B23,店鋪地址!B:C,2,0),"") | M23: =SUM(E23:L23) -> 0
... A36: 25 | C36: =_xlfn.IFNA(VLOOKUP(B36,門店清單!A:B,2,0),"") | D36: =_xlfn.IFNA(VLOOKUP(B36,店鋪地址!B:C,2,0),"") | M36: =SUM(E36:L36) -> 0

Sheet 工作表3
I2: 縂數量
A3: 店舖 | C3: 7211 | I3: 箱 | J3: 包 | K3: 扎 | L3: 非貨品
A4: Maersk運輸收貨日期 | C4: =TODAY()+1 -> 46272 | I4: =SUM(E12:E36,I12:I36) -> 0 | J4: =SUM(F12:F36,J12:J36) -> 0 | K4: =SUM(G12:G36,K12:K36) -> 0 | L4: =SUM(H12:H36,L12:L36) -> 0
B8: 送往地點
B9: 送往店舖/ WHR/ GBA/ OFFICE | C9: 店舖 | I9: 貨倉 | M9: 總數 | N9: 備註 | O9: 送對家店指定日期
C10: 數量 | I10: 數量
A11: 項目 | C11: 店鋪名 | D11: 店鋪代號 | E11: 箱 | F11: 包 | G11: 扎 | H11: 非貨品 | I11: 箱 | J11: 包 | K11: 扎 | L11: 非貨品
A12: 1 | C12: =_xlfn.IFNA(VLOOKUP(B12,門店清單!A:B,2,0),"") | D12: =_xlfn.IFNA(VLOOKUP(B12,店鋪地址!B:C,2,0),"") | M12: =SUM(E12:L12) -> 0
A13: 2 | C13: =_xlfn.IFNA(VLOOKUP(B13,門店清單!A:B,2,0),"") | D13: =_xlfn.IFNA(VLOOKUP(B13,店鋪地址!B:C,2,0),"") | M13: =SUM(E13:L13) -> 0
A14: 3 | C14: =_xlfn.IFNA(VLOOKUP(B14,門店清單!A:B,2,0),"") | D14: =_xlfn.IFNA(VLOOKUP(B14,店鋪地址!B:C,2,0),"") | M14: =SUM(E14:L14) -> 0
A15: 4 | C15: =_xlfn.IFNA(VLOOKUP(B15,門店清單!A:B,2,0),"") | D15: =_xlfn.IFNA(VLOOKUP(B15,店鋪地址!B:C,2,0),"") | M15: =SUM(E15:L15) -> 0
A16: 5 | C16: =_xlfn.IFNA(VLOOKUP(B16,門店清單!A:B,2,0),"") | D16: =_xlfn.IFNA(VLOOKUP(B16,店鋪地址!B:C,2,0),"") | M16: =SUM(E16:L16) -> 0
A17: 6 | C17: =_xlfn.IFNA(VLOOKUP(B17,門店清單!A:B,2,0),"") | D17: =_xlfn.IFNA(VLOOKUP(B17,店鋪地址!B:C,2,0),"") | M17: =SUM(E17:L17) -> 0
A18: 7 | C18: =_xlfn.IFNA(VLOOKUP(B18,門店清單!A:B,2,0),"") | D18: =_xlfn.IFNA(VLOOKUP(B18,店鋪地址!B:C,2,0),"") | M18: =SUM(E18:L18) -> 0
A19: 8 | C19: =_xlfn.IFNA(VLOOKUP(B19,門店清單!A:B,2,0),"") | D19: =_xlfn.IFNA(VLOOKUP(B19,店鋪地址!B:C,2,0),"") | M19: =SUM(E19:L19) -> 0
A20: 9 | C20: =_xlfn.IFNA(VLOOKUP(B20,門店清單!A:B,2,0),"") | D20: =_xlfn.IFNA(VLOOKUP(B20,店鋪地址!B:C,2,0),"") | M20: =SUM(E20:L20) -> 0
A21: 10 | C21: =_xlfn.IFNA(VLOOKUP(B21,門店清單!A:B,2,0),"") | D21: =_xlfn.IFNA(VLOOKUP(B21,店鋪地址!B:C,2,0),"") | M21: =SUM(E21:L21) -> 0
A22: 11 | C22: =_xlfn.IFNA(VLOOKUP(B22,門店清單!A:B,2,0),"") | D22: =_xlfn.IFNA(VLOOKUP(B22,店鋪地址!B:C,2,0),"") | M22: =SUM(E22:L22) -> 0
A23: 12 | C23: =_xlfn.IFNA(VLOOKUP(B23,門店清單!A:B,2,0),"") | D23: =_xlfn.IFNA(VLOOKUP(B23,店鋪地址!B:C,2,0),"") | M23: =SUM(E23:L23) -> 0
... A36: 25 | C36: =_xlfn.IFNA(VLOOKUP(B36,門店清單!A:B,2,0),"") | D36: =_xlfn.IFNA(VLOOKUP(B36,店鋪地址!B:C,2,0),"") | M36: =SUM(E36:L36) -> 0

Sheet 工作表2
I2: 縂數量
A3: 店舖 | C3: 7211 | I3: 箱 | J3: 包 | K3: 扎 | L3: 非貨品
A4: Maersk運輸收貨日期 | C4: =TODAY()+1 -> 46272 | I4: =SUM(E12:E36,I12:I36) -> 0 | J4: =SUM(F12:F36,J12:J36) -> 0 | K4: =SUM(G12:G36,K12:K36) -> 0 | L4: =SUM(H12:H36,L12:L36) -> 0
B8: 送往地點
B9: 送往店舖/ WHR/ GBA/ OFFICE | C9: 店舖 | I9: 貨倉 | M9: 總數 | N9: 備註 | O9: 送對家店指定日期
C10: 數量 | I10: 數量
A11: 項目 | C11: 店鋪名 | D11: 店鋪代號 | E11: 箱 | F11: 包 | G11: 扎 | H11: 非貨品 | I11: 箱 | J11: 包 | K11: 扎 | L11: 非貨品
A12: 1 | C12: =_xlfn.IFNA(VLOOKUP(B12,門店清單!A:B,2,0),"") | D12: =_xlfn.IFNA(VLOOKUP(B12,店鋪地址!B:C,2,0),"") | M12: =SUM(E12:L12) -> 0
A13: 2 | C13: =_xlfn.IFNA(VLOOKUP(B13,門店清單!A:B,2,0),"") | D13: =_xlfn.IFNA(VLOOKUP(B13,店鋪地址!B:C,2,0),"") | M13: =SUM(E13:L13) -> 0
A14: 3 | C14: =_xlfn.IFNA(VLOOKUP(B14,門店清單!A:B,2,0),"") | D14: =_xlfn.IFNA(VLOOKUP(B14,店鋪地址!B:C,2,0),"") | M14: =SUM(E14:L14) -> 0
A15: 4 | C15: =_xlfn.IFNA(VLOOKUP(B15,門店清單!A:B,2,0),"") | D15: =_xlfn.IFNA(VLOOKUP(B15,店鋪地址!B:C,2,0),"") | M15: =SUM(E15:L15) -> 0
A16: 5 | C16: =_xlfn.IFNA(VLOOKUP(B16,門店清單!A:B,2,0),"") | D16: =_xlfn.IFNA(VLOOKUP(B16,店鋪地址!B:C,2,0),"") | M16: =SUM(E16:L16) -> 0
A17: 6 | C17: =_xlfn.IFNA(VLOOKUP(B17,門店清單!A:B,2,0),"") | D17: =_xlfn.IFNA(VLOOKUP(B17,店鋪地址!B:C,2,0),"") | M17: =SUM(E17:L17) -> 0
A18: 7 | C18: =_xlfn.IFNA(VLOOKUP(B18,門店清單!A:B,2,0),"") | D18: =_xlfn.IFNA(VLOOKUP(B18,店鋪地址!B:C,2,0),"") | M18: =SUM(E18:L18) -> 0
A19: 8 | C19: =_xlfn.IFNA(VLOOKUP(B19,門店清單!A:B,2,0),"") | D19: =_xlfn.IFNA(VLOOKUP(B19,店鋪地址!B:C,2,0),"") | M19: =SUM(E19:L19) -> 0
A20: 9 | C20: =_xlfn.IFNA(VLOOKUP(B20,門店清單!A:B,2,0),"") | D20: =_xlfn.IFNA(VLOOKUP(B20,店鋪地址!B:C,2,0),"") | M20: =SUM(E20:L20) -> 0
A21: 10 | C21: =_xlfn.IFNA(VLOOKUP(B21,門店清單!A:B,2,0),"") | D21: =_xlfn.IFNA(VLOOKUP(B21,店鋪地址!B:C,2,0),"") | M21: =SUM(E21:L21) -> 0
A22: 11 | C22: =_xlfn.IFNA(VLOOKUP(B22,門店清單!A:B,2,0),"") | D22: =_xlfn.IFNA(VLOOKUP(B22,店鋪地址!B:C,2,0),"") | M22: =SUM(E22:L22) -> 0
A23: 12 | C23: =_xlfn.IFNA(VLOOKUP(B23,門店清單!A:B,2,0),"") | D23: =_xlfn.IFNA(VLOOKUP(B23,店鋪地址!B:C,2,0),"") | M23: =SUM(E23:L23) -> 0
... A36: 25 | C36: =_xlfn.IFNA(VLOOKUP(B36,門店清單!A:B,2,0),"") | D36: =_xlfn.IFNA(VLOOKUP(B36,店鋪地址!B:C,2,0),"") | M36: =SUM(E36:L36) -> 0

Sheet 工作表1

Sheet Maersk
I2: 縂數量
A3: 店舖 | C3: 7211 | I3: 箱 | J3: 包 | K3: 扎 | L3: 非貨品
A4: Maersk運輸收貨日期 | C4: =TODAY()+1 -> 46272 | I4: =SUM(E12:E36,I12:I36) -> 0 | J4: =SUM(F12:F36,J12:J36) -> 0 | K4: =SUM(G12:G36,K12:K36) -> 0 | L4: =SUM(H12:H36,L12:L36) -> 0
B8: 送往地點
B9: 送往店舖/ WHR/ GBA/ OFFICE | C9: 店舖 | I9: 貨倉 | M9: 總數 | N9: 備註 | O9: 送對家店指定日期
C10: 數量 | I10: 數量
A11: 項目 | C11: 店鋪名 | D11: 店鋪代號 | E11: 箱 | F11: 包 | G11: 扎 | H11: 非貨品 | I11: 箱 | J11: 包 | K11: 扎 | L11: 非貨品
A12: 1 | C12: =_xlfn.IFNA(VLOOKUP(B12,門店清單!A:B,2,0),"") | D12: =_xlfn.IFNA(VLOOKUP(B12,店鋪地址!B:C,2,0),"") | M12: =SUM(E12:L12) -> 0
A13: 2 | C13: =_xlfn.IFNA(VLOOKUP(B13,門店清單!A:B,2,0),"") | D13: =_xlfn.IFNA(VLOOKUP(B13,店鋪地址!B:C,2,0),"") | M13: =SUM(E13:L13) -> 0
A14: 3 | C14: =_xlfn.IFNA(VLOOKUP(B14,門店清單!A:B,2,0),"") | D14: =_xlfn.IFNA(VLOOKUP(B14,店鋪地址!B:C,2,0),"") | M14: =SUM(E14:L14) -> 0
A15: 4 | C15: =_xlfn.IFNA(VLOOKUP(B15,門店清單!A:B,2,0),"") | D15: =_xlfn.IFNA(VLOOKUP(B15,店鋪地址!B:C,2,0),"") | M15: =SUM(E15:L15) -> 0
A16: 5 | C16: =_xlfn.IFNA(VLOOKUP(B16,門店清單!A:B,2,0),"") | D16: =_xlfn.IFNA(VLOOKUP(B16,店鋪地址!B:C,2,0),"") | M16: =SUM(E16:L16) -> 0
A17: 6 | C17: =_xlfn.IFNA(VLOOKUP(B17,門店清單!A:B,2,0),"") | D17: =_xlfn.IFNA(VLOOKUP(B17,店鋪地址!B:C,2,0),"") | M17: =SUM(E17:L17) -> 0
A18: 7 | C18: =_xlfn.IFNA(VLOOKUP(B18,門店清單!A:B,2,0),"") | D18: =_xlfn.IFNA(VLOOKUP(B18,店鋪地址!B:C,2,0),"") | M18: =SUM(E18:L18) -> 0
A19: 8 | C19: =_xlfn.IFNA(VLOOKUP(B19,門店清單!A:B,2,0),"") | D19: =_xlfn.IFNA(VLOOKUP(B19,店鋪地址!B:C,2,0),"") | M19: =SUM(E19:L19) -> 0
A20: 9 | C20: =_xlfn.IFNA(VLOOKUP(B20,門店清單!A:B,2,0),"") | D20: =_xlfn.IFNA(VLOOKUP(B20,店鋪地址!B:C,2,0),"") | M20: =SUM(E20:L20) -> 0
A21: 10 | C21: =_xlfn.IFNA(VLOOKUP(B21,門店清單!A:B,2,0),"") | D21: =_xlfn.IFNA(VLOOKUP(B21,店鋪地址!B:C,2,0),"") | M21: =SUM(E21:L21) -> 0
A22: 11 | C22: =_xlfn.IFNA(VLOOKUP(B22,門店清單!A:B,2,0),"") | D22: =_xlfn.IFNA(VLOOKUP(B22,店鋪地址!B:C,2,0),"") | M22: =SUM(E22:L22) -> 0
A23: 12 | C23: =_xlfn.IFNA(VLOOKUP(B23,門店清單!A:B,2,0),"") | D23: =_xlfn.IFNA(VLOOKUP(B23,店鋪地址!B:C,2,0),"") | M23: =SUM(E23:L23) -> 0
... A36: 25 | C36: =_xlfn.IFNA(VLOOKUP(B36,門店清單!A:B,2,0),"") | D36: =_xlfn.IFNA(VLOOKUP(B36,店鋪地址!B:C,2,0),"") | M36: =SUM(E36:L36) -> 0

Sheet 範例
H2: 數量
A3: 店舖 | H3: 箱 | I3: 包 | J3: 扎 | K3: 非貨品
A4: Maersk運輸收貨日期 | C4: =TODAY() -> 46271 | H4: =SUM(D12:D36,H12:H36) -> 2 | I4: =SUM(E12:E36,I12:I36) -> 10 | J4: =SUM(F12:F36,J12:J36) -> 0 | K4: =SUM(G12:G36,K12:K36) -> 4
B8: 送往店舖/ WHR/ GBA/ OFFICE | C8: 送往地點
C9: 店舖 | H9: 貨倉 | L9: 總數 | M9: 備註 | N9: 送對家店指定日期
C10: 數量 | H10: 數量
A11: 項目 | C11: 店鋪名 | D11: 箱 | E11: 包 | F11: 扎 | G11: 非貨品 | H11: 箱 | I11: 包 | J11: 扎 | K11: 非貨品
A12: 1 | B12: 7169 | E12: 10 | G12: 1 | L12: =SUM(D12:K12) -> 11 | M12: AHKAL25070718，車兜-OPS
A13: 2 | B13: WHR | H13: 1 | L13: =SUM(D13:K13) -> 1 | M13: AHKWF1234567890
A14: 3 | B14: GBA | K14: 1 | L14: =SUM(D14:K14) -> 1 | M14: VM-男模公仔（GBA存）
A15: 4 | B15: GBA | K15: 1 | L15: =SUM(D15:K15) -> 1 | M15: GBA掉
A16: 5 | B16: OFFICE | D16: 1 | G16: 1 | L16: =SUM(D16:K16) -> 2 | M16: AHKWF1114567990，(VM)女公仔
A17: 6 | L17: =SUM(D17:K17) -> 0
A18: 7 | L18: =SUM(D18:K18) -> 0
A19: 8 | L19: =SUM(D19:K19) -> 0
A20: 9 | L20: =SUM(D20:K20) -> 0
A21: 10 | L21: =SUM(D21:K21) -> 0
A22: 11 | L22: =SUM(D22:K22) -> 0
A23: 12 | L23: =SUM(D23:K23) -> 0
A24: 13 | L24: =SUM(D24:K24) -> 0
A25: 14 | L25: =SUM(D25:K25) -> 0
A26: 15 | L26: =SUM(D26:K26) -> 0
A27: 16 | L27: =SUM(D27:K27) -> 0
A28: 17 | L28: =SUM(D28:K28) -> 0
... A36: 25 | L36: =SUM(D36:K36) -> 0

Sheet 門店清單
A1: 7152 | B1: 東薈城 - Outlet
A2: 7164 | B2: 東薈城 - 鞋Outlet
A3: 7169 | B3: City Plaza
A4: 7167 | B4: CityWalk
A5: 7160 | B5: 東港城
A6: 7130 | B6: 又一城
A7: 7111 | B7: 國際廣場
A8: 7168 | B8: Sogo KT
A9: 7163 | B9: Kai Tak Sports Park
A10: 7149 | B10: 荷里活 Mega
A11: 7115 | B11: 沙田新城市
A12: 7132 | B12: 海港城
... A34: 7292 | B34: 澳門上葡京新八佰伴童裝Popup
A35: B1 | B35: B1
A36: R3NU | B36: 美丽华旗舰店
A37: R3ZV | B37: 沙田新城市
A38: R4BF | B38: 屯門市廣場
A39: WHR | B39: WHR
A40: GBA | B40: GBA
A41: OFFICE | B41: OFFICE

Sheet 走貨紙
A2: FROM: | I2: 7211(RMV)
A4: TO: | H4: 7215(RMD)
A5: NO.OF CTN : | F5: 1 OF 1
A6: T/O NO. ： | E6: /
A7: Date ： | E7: 46267
A8: Remarks ： | E8: 車兜 TO RMD

Sheet Sales Memo地址單
A2: FROM: | C2: 7211(RMV)
A4: TO: | B4: WHR
A5: NO.OF CTN : | E5: 1 OF 1
A6: T/O NO. ： | E6: /
A7: Date ： | E7: 46006
A8: RMV Sales Memo TO WHR, FIN-1242 (Doc)
A9: Remarks ： | E9: 記錄 e.g 25年9月,10月,11月

Sheet Sales Memo箱封面
A1: FIN – 1361
A2: Shop Code: | G2: RMV
A3: Contents: SALES MEMO
A4: 2026年 3月/4月/5月

Sheet Sales Memo内
A2: FROM: | C2: 7211(RMV)
A4: TO: | B4: Finance
A5: NO.OF CTN : | E5: 1 OF 1
A6: T/O NO. ： | E6: /
A7: Date ： | E7: 46235
A8: Remarks ： | E8: RMV 26年7月Sales Memo

Sheet 店鋪地址
A1: Macau Shop | B1: Code Business | C1: Code Site | D1: Phone | E1: Email Address
A2: Venetian Macau Mega Shop 威尼斯人度假村 | B2: 7221 | C2: RMA | D2: 6297 7112 | E2: fmrma@fila.com.hk
A3: Venetian 威尼斯人度假村 | B3: 7211 | C3: RMV | D3: 6297 6663 | E3: fmrmv@fila.com.hk
A4: Rua De S Domingos 澳門板樟堂 | B4: 7215 | C4: RMD | D4: 6238 1513 | E4: fmrmd@fila.com.hk
A5: The Londoner 倫敦人購物中心 | B5: 7226 | C5: RML | D5: 6281 7288 | E5: fmrml@fila.com.hk
A6: New Yaohan Core Shop 新八佰伴 | B6: 7227 | C6: RYC | D6: 6332 3716 | E6: fmryc@fila.com.hk
A7: New Yaohan Kids Shop 新八佰伴童裝 | B7: 7224 | C7: RYK | D7: 6299 3607 | E7: fmryk@fila.com.hk
A8: 澳門上葡京綜合度假村2樓 兒童世界 (童裝部) | C8: SPL
A10: HK Shop Core | B10: Code Business | C10: Code Site | D10: Phone | E10: Email Address
A11: Citygate Outlet Shop 東薈城 | B11: 7152 | C11: RCG | D11: 9438 2674 | E11: fmrcg@fila.com.hk
A12: Citygate Footwear (Outlet) 東薈城 | B12: 7164 | C12: RCS | D12: 9689 2590 | E12: fmrcs@fila.com.hk
A13: Cityplaza 太古城中心 | B13: 7169 | C13: RCP | D13: 9689 1944 | E13: fmrcp@fila.com.hk
A14: CityWalk 荃新天地 | B14: 7167 | C14: RCW | D14: 9249 6748 | E14: fmrcw@fila.com.hk
A15: Festival Walk 又一城 | B15: 7130 | C15: RF4 | D15: 9451 8832 | E15: fmrf4@fila.com.hk
A16: Kai Tak Sport Part 啟德體育園 | B16: 7163 | C16: RKT | D16: 9689 1587 | E16: fmrkt@fila.com.hk
A17: Hollywood Plaza Mega Shop 荷李活商業中心 | B17: 7149 | C17: RM1 | D17: 9438 6479 | E17: fmrm1@fila.com.hk
A18: Mira Place 2 美麗華廣場2期 | B18: R3NU | C18: RMR | D18: 9249 8159 | E18: fmrmr@fila.com.hk
A19: New Town Plaza 新城市廣場(擴) | B19: R3ZV | C19: RN2 | D19: 9451 9842 | E19: fmrn2@fila.com.hk
A20: Ocean Terminal 海運大廈 | B20: 7132 | C20: RO4 | D20: 9451 8739 | E20: fmro4@fila.com.hk
A21: PopCorn | B21: 7118 | C21: RPC | D21: 9451 8962 | E21: fmrpc@fila.com.hk
A22: CWB SOGO Dept. Store 銅鑼灣祟光百貨 | B22: 7120 | C22: RS2 | D22: 9451 8955 | E22: fmrs2@fila.com.hk
A23: Times Square 時代廣場 | B23: 7162 | C23: RT5 | D23: 9452 4018 | E23: fmrt5@fila.com.hk
A24: Telford Plaza 德福廣場 | B24: 7165 | C24: RTC | D24: 9438 8702 | E24: fmrtc@fila.com.hk
A25: TMTP 屯門市廣場 | B25: R4BF | C25: RTM | D25: 9450 7082 | E25: fmrtm@fila.com.hk
A26: V City | B26: 7128 | C26: RVC | D26: 9451 8867 | E26: fmrvc@fila.com.hk
A27: YOHO Mall I 形點 I | B27: 7133 | C27: RYO | D27: 9451 8548 | E27: fmryo@fila.com.hk
A29: HK Shop Fusion | B29: Code Business | C29: Code Site | D29: Phone | E29: Email Address
A30: Citygate Fusion Outlet Shop 東薈城 | B30: 7158 | C30: RDF | D30: 9383 4058 | E30: fmrdf@fila.com.hk
A32: HK Shop Kids | B32: Code Business | C32: Code Site | D32: Phone | E32: Email Address
A33: Ocean Terminal Kids Shop 海港城童裝 | B33: 7150 | C33: RHK | D33: 9438 6249 | E33: fmrhk@fila.com.hk
A34: New Town Plaza Kids Shop 新城市廣場童裝 | B34: 7136 | C34: RNK | D34: 9451 8517 | E34: fmrnk@fila.com.hk
A35: Sogo Dept. Store Kids 祟光百貨 童裝 | B35: 7121 | C35: RSK | D35: 9451 8949 | E35: fmrsk@fila.com.hk
B36: WHR | C36: WHR
B37: GBA | C37: GBA
B38: OFFICE | C38: OFFICE
