Workbook

Sheet Shop Briefing
B1: RMA | E1: =TODAY() -> 45940
B2: 本月 | C2: 生意 | E2: ATV | G2: UPT | I2: 單數 | K2: 件数 | M2: 人流 | O2: 轉化率 | Q2: / | S2: /
C3: 累計 | D3: VS+/-%
B4: 昨天生意 | C4: 1105113 | D4: =SUM(C4/C5)-1 -> 18.98396 | E4: =SUM(C4/I4) -> 46046.375 | G4: =SUM(K4/I4) -> 4.875 | I4: 24 | K4: 117 | M4: 431 | O4: =SUM(I4/M4)*100% -> 0.055684455 | Q4: / | S4: /
B5: 去年同期 | C5: 55300 | M5: / | O5: /
B6: 本月累计 | C6: 245012 | E6: =SUM(C6/I6) -> 2076.3729 | G6: =SUM(K6/I6) -> 3.9152542 | I6: 118 | K6: 462 | M6: / | O6: /
B8: 當天 | C8: Promotion | M8: Promotion
C9: 項目 | G9: 單價 | I9: 單數 | K9: 銷售占比 | M9: 項目 | O9: 單價 | Q9: 單數 | S9: 銷售占比
C10: 2000-200 | K10: =G10/C4 -> 0 | S10: =O10/C4 -> 0
C11: 3000-400 | K11: =G11/C4 -> 0 | S11: =O11/C4 -> 0
C12: 4500-800 | K12: =G12/C4 -> 0 | S12: =O12/C4 -> 0
C13: 8000-1500 | K13: =G13/C4 -> 0 | S13: =O13/C4 -> 0
C14: 25Q1/Q2 3件88折 | K14: =G14/C4 -> 0 | S14: =O14/C4 -> 0
C15: 2對7折 | K15: =G15/C4 -> 0 | S15: =O15/C4 -> 0
B17: 斐樂大貨服裝 | C17: 系列/品類 | G17: 銷售金額 | I17: 件數 | K17: 銷售占比 | M17: 斐樂兒童服裝 | O17: 系列/品類 | Q17: 銷售金額 | S17: 件數 | T17: 銷售占比
C18: FILA ORIGINALE | G18: =SUMIFS('Sales receipt'!$K:$K,'Sales receipt'!$M:$M,'Sales receipt'!$M$2,'Sales receipt'!$B:$B,'Sales receipt'!$B$4,'Sales receipt'!$G:$G,'Sales receipt'!$G$6) -> 73033 | I18: =SUMIFS('Sales receipt'!J:J,'Sales receipt'!M:M,'Sales receipt'!M2,'Sales receipt'!B:B,'Sales receipt'!B4,'Sales receipt'!G:G,'Sales receipt'!G6) -> 75 | K18: =G18/G34 -> 0.089077235 | O18: FILA ORIGINALE | Q18: =SUMIFS('Sales receipt'!K:K,'Sales receipt'!M:M,'Sales receipt'!M3,'Sales receipt'!B:B,'Sales receipt'!B4,'Sales receipt'!G:G,'Sales receipt'!G20) -> 75894 | S18: =SUMIFS('Sales receipt'!J:J,'Sales receipt'!M:M,'Sales receipt'!M3,'Sales receipt'!B:B,'Sales receipt'!B4,'Sales receipt'!G:G,'Sales receipt'!G20) -> 130 | T18: =Q18/Q26 -> 0.18626671
C19: HERITAGE | G19: =SUMIFS('Sales receipt'!K:K,'Sales receipt'!M:M,'Sales receipt'!M2,'Sales receipt'!B:B,'Sales receipt'!B4,'Sales receipt'!G:G,'Sales receipt'!G9) -> 112166 | I19: =SUMIFS('Sales receipt'!J:J,'Sales receipt'!M:M,'Sales receipt'!M2,'Sales receipt'!B:B,'Sales receipt'!B4,'Sales receipt'!G:G,'Sales receipt'!G9) -> 128 | K19: =G19/G34 -> 0.13680716 | O19: FILA X 小恐龙大冒险 | Q19: =SUMIFS('Sales receipt'!K:K,'Sales receipt'!M:M,'Sales receipt'!M3,'Sales receipt'!B:B,'Sales receipt'!B4,'Sales receipt'!G:G,'Sales receipt'!G21) -> 0 | S19: =SUMIFS('Sales receipt'!J:J,'Sales receipt'!M:M,'Sales receipt'!M3,'Sales receipt'!B:B,'Sales receipt'!B4,'Sales receipt'!G:G,'Sales receipt'!G21) -> 0 | T19: =Q19/Q26 -> 0
C20: WHITE | G20: =SUMIFS('Sales receipt'!K:K,'Sales receipt'!M:M,'Sales receipt'!M2,'Sales receipt'!B:B,'Sales receipt'!B4,'Sales receipt'!G:G,'Sales receipt'!G17) -> 137305 | I20: =SUMIFS('Sales receipt'!J:J,'Sales receipt'!M:M,'Sales receipt'!M2,'Sales receipt'!B:B,'Sales receipt'!B4,'Sales receipt'!G:G,'Sales receipt'!G17) -> 123 | K20: =G20/G34 -> 0.16746881 | O20: GOLF | Q20: =SUMIFS('Sales receipt'!K:K,'Sales receipt'!M:M,'Sales receipt'!M3,'Sales receipt'!B:B,'Sales receipt'!B4,'Sales receipt'!G:G,'Sales receipt'!G8) -> 31640 | S20: =SUMIFS('Sales receipt'!J:J,'Sales receipt'!M:M,'Sales receipt'!M3,'Sales receipt'!B:B,'Sales receipt'!B4,'Sales receipt'!G:G,'Sales receipt'!G8) -> 28 | T20: =Q20/Q26 -> 0.077654081
C21: BLUE | G21: =SUMIFS('Sales receipt'!K:K,'Sales receipt'!M:M,'Sales receipt'!M2,'Sales receipt'!B:B,'Sales receipt'!B4,'Sales receipt'!G:G,'Sales receipt'!G3) -> 40998 | I21: =SUMIFS('Sales receipt'!J:J,'Sales receipt'!M:M,'Sales receipt'!M2,'Sales receipt'!B:B,'Sales receipt'!B4,'Sales receipt'!G:G,'Sales receipt'!G3) -> 23 | K21: =G21/G34 -> 0.050004635 | O21: TENNIS | Q21: =SUMIFS('Sales receipt'!K:K,'Sales receipt'!M:M,'Sales receipt'!M3,'Sales receipt'!B:B,'Sales receipt'!B4,'Sales receipt'!G:G,'Sales receipt'!G16) -> 45791 | S21: =SUMIFS('Sales receipt'!J:J,'Sales receipt'!M:M,'Sales receipt'!M3,'Sales receipt'!B:B,'Sales receipt'!B4,'Sales receipt'!G:G,'Sales receipt'!G16) -> 61 | T21: =Q21/Q26 -> 0.11238489
C22: FITNESS | G22: =SUMIFS('Sales receipt'!K:K,'Sales receipt'!M:M,'Sales receipt'!M2,'Sales receipt'!B:B,'Sales receipt'!B4,'Sales receipt'!G:G,'Sales receipt'!G7) -> 79051 | I22: =SUMIFS('Sales receipt'!J:J,'Sales receipt'!M:M,'Sales receipt'!M2,'Sales receipt'!B:B,'Sales receipt'!B4,'Sales receipt'!G:G,'Sales receipt'!G7) -> 89 | K22: =G22/G34 -> 0.096417298 | O22: WHITE LINE | Q22: =SUMIFS('Sales receipt'!K:K,'Sales receipt'!M:M,'Sales receipt'!M3,'Sales receipt'!B:B,'Sales receipt'!B4,'Sales receipt'!G:G,'Sales receipt'!G23) -> 87912 | S22: =SUMIFS('Sales receipt'!J:J,'Sales receipt'!M:M,'Sales receipt'!M3,'Sales receipt'!B:B,'Sales receipt'!B4,'Sales receipt'!G:G,'Sales receipt'!G23) -> 76 | T22: =Q22/Q26 -> 0.2157625
C23: A.P. | G23: =SUMIFS('Sales receipt'!K:K,'Sales receipt'!M:M,'Sales receipt'!M2,'Sales receipt'!B:B,'Sales receipt'!B4,'Sales receipt'!G:G,'Sales receipt'!G2) -> 3348 | I23: =SUMIFS('Sales receipt'!J:J,'Sales receipt'!M:M,'Sales receipt'!M2,'Sales receipt'!B:B,'Sales receipt'!B4,'Sales receipt'!G:G,'Sales receipt'!G2) -> 4 | K23: =G23/G34 -> 0.0040835045 | O23: - | Q23: =SUMIFS('Sales receipt'!K:K,'Sales receipt'!M:M,'Sales receipt'!M3,'Sales receipt'!B:B,'Sales receipt'!B4,'Sales receipt'!G:G,'Sales receipt'!G66) -> 0 | S23: =SUMIFS('Sales receipt'!J:J,'Sales receipt'!M:M,'Sales receipt'!M3,'Sales receipt'!B:B,'Sales receipt'!B4,'Sales receipt'!G:G,'Sales receipt'!G66) -> 0 | T23: =Q23/Q26 -> 0
C24: GOLF | G24: =SUMIFS('Sales receipt'!K:K,'Sales receipt'!M:M,'Sales receipt'!M2,'Sales receipt'!B:B,'Sales receipt'!B4,'Sales receipt'!G:G,'Sales receipt'!G8) -> 244082 | I24: =SUMIFS('Sales receipt'!J:J,'Sales receipt'!M:M,'Sales receipt'!M2,'Sales receipt'!B:B,'Sales receipt'!B4,'Sales receipt'!G:G,'Sales receipt'!G8) -> 152 | K24: =G24/G34 -> 0.29770309 | M24: 斐樂兒童 服裝 | O24: 男 | Q24: =SUM(SUMIFS('Sales receipt'!K:K,'Sales receipt'!M:M,'Sales receipt'!M3,'Sales receipt'!B:B,'Sales receipt'!B4,'Sales receipt'!H:H,{"MALE","男"})) -> 207652 | S24: =SUM(SUMIFS('Sales receipt'!J:J,'Sales receipt'!M:M,'Sales receipt'!M3,'Sales receipt'!B:B,'Sales receipt'!B4,'Sales receipt'!H:H,{"MALE","男"})) -> 257 | T24: =Q24/Q26 -> 0.50964049
C25: EXPLORE | G25: =SUMIFS('Sales receipt'!K:K,'Sales receipt'!M:M,'Sales receipt'!M2,'Sales receipt'!B:B,'Sales receipt'!B4,'Sales receipt'!G:G,'Sales receipt'!G4) -> 12005 | I25: =SUMIFS('Sales receipt'!J:J,'Sales receipt'!M:M,'Sales receipt'!M2,'Sales receipt'!B:B,'Sales receipt'!B4,'Sales receipt'!G:G,'Sales receipt'!G4) -> 5 | K25: =G25/G34 -> 0.014642315 | O25: 女 | Q25: =SUM(SUMIFS('Sales receipt'!K:K,'Sales receipt'!M:M,'Sales receipt'!M3,'Sales receipt'!B:B,'Sales receipt'!B4,'Sales receipt'!H:H,{"FEMALE","女"})) -> 199796 | S25: =SUM(SUMIFS('Sales receipt'!J:J,'Sales receipt'!M:M,'Sales receipt'!M3,'Sales receipt'!B:B,'Sales receipt'!B4,'Sales receipt'!H:H,{"FEMALE","女"})) -> 229 | T25: =Q25/Q26 -> 0.49035951
C26: TENNIS | G26: =SUMIFS('Sales receipt'!K:K,'Sales receipt'!M:M,'Sales receipt'!M2,'Sales receipt'!B:B,'Sales receipt'!B4,'Sales receipt'!G:G,'Sales receipt'!G16) -> 1188 | I26: =SUMIFS('Sales receipt'!J:J,'Sales receipt'!M:M,'Sales receipt'!M2,'Sales receipt'!B:B,'Sales receipt'!B4,'Sales receipt'!G:G,'Sales receipt'!G16) -> 2 | K26: =G26/G34 -> 0.0014489855 | O26: Total | Q26: =SUMIFS('Sales receipt'!K:K,'Sales receipt'!M:M,'Sales receipt'!M3,'Sales receipt'!B:B,'Sales receipt'!B4) -> 407448 | S26: =SUMIFS('Sales receipt'!J:J,'Sales receipt'!M:M,'Sales receipt'!M3,'Sales receipt'!B:B,'Sales receipt'!B4) -> 486 | T26: =Q26/C4 -> 0.36869352
C27: FILA EMERALD | G27: =SUMIFS('Sales receipt'!K:K,'Sales receipt'!M:M,'Sales receipt'!M2,'Sales receipt'!B:B,'Sales receipt'!B4,'Sales receipt'!G:G,'Sales receipt'!G18) -> 26801 | I27: =SUMIFS('Sales receipt'!J:J,'Sales receipt'!M:M,'Sales receipt'!M2,'Sales receipt'!B:B,'Sales receipt'!B4,'Sales receipt'!G:G,'Sales receipt'!G18) -> 19 | K27: =G27/G34 -> 0.032688771 | M27: 鞋 | Q27: =SUMIFS('Sales receipt'!K:K,'Sales receipt'!M:M,'Sales receipt'!M3,'Sales receipt'!B:B,'Sales receipt'!B6) -> 114304 | S27: =SUMIFS('Sales receipt'!J:J,'Sales receipt'!M:M,'Sales receipt'!M3,'Sales receipt'!B:B,'Sales receipt'!B6) -> 139 | T27: =Q27/C4 -> 0.10343196
C28: FILA MILANO | G28: =SUMIFS('Sales receipt'!K:K,'Sales receipt'!M:M,'Sales receipt'!M2,'Sales receipt'!B:B,'Sales receipt'!B4,'Sales receipt'!G:G,'Sales receipt'!G5) -> 39179 | I28: =SUMIFS('Sales receipt'!J:J,'Sales receipt'!M:M,'Sales receipt'!M2,'Sales receipt'!B:B,'Sales receipt'!B4,'Sales receipt'!G:G,'Sales receipt'!G5) -> 32 | K28: =G28/G34 -> 0.047786028 | M28: 配件 | Q28: =SUMIFS('Sales receipt'!K:K,'Sales receipt'!M:M,'Sales receipt'!M3,'Sales receipt'!B:B,'Sales receipt'!B5) -> 4236 | S28: =SUMIFS('Sales receipt'!J:J,'Sales receipt'!M:M,'Sales receipt'!M3,'Sales receipt'!B:B,'Sales receipt'!B5) -> 14 | T28: =Q28/C4 -> 0.0038330922
C29: - | G29: =SUMIFS('Sales receipt'!K:K,'Sales receipt'!M:M,'Sales receipt'!M2,'Sales receipt'!B:B,'Sales receipt'!B4,'Sales receipt'!G:G,'Sales receipt'!G66) -> 0 | I29: =SUMIFS('Sales receipt'!J:J,'Sales receipt'!M:M,'Sales receipt'!M2,'Sales receipt'!B:B,'Sales receipt'!B4,'Sales receipt'!G:G,'Sales receipt'!G66) -> 0 | K29: =G29/G34 -> 0 | M29: 斐樂潮牌服裝 | O29: URBAN TECH | Q29: =SUMIFS('Sales receipt'!K:K,'Sales receipt'!M:M,'Sales receipt'!M4,'Sales receipt'!B:B,'Sales receipt'!B4,'Sales receipt'!G:G,'Sales receipt'!G22) -> 16330 | S29: =SUMIFS('Sales receipt'!J:J,'Sales receipt'!M:M,'Sales receipt'!M4,'Sales receipt'!B:B,'Sales receipt'!B4,'Sales receipt'!G:G,'Sales receipt'!G22) -> 13 | T29: =Q29/C4 -> 0.014776769
C30: - | G30: =SUMIFS('Sales receipt'!K:K,'Sales receipt'!M:M,'Sales receipt'!M2,'Sales receipt'!B:B,'Sales receipt'!B4,'Sales receipt'!G:G,'Sales receipt'!G66) -> 0 | I30: =SUMIFS('Sales receipt'!J:J,'Sales receipt'!M:M,'Sales receipt'!M2,'Sales receipt'!B:B,'Sales receipt'!B4,'Sales receipt'!G:G,'Sales receipt'!G66) -> 0 | K30: =G30/G34 -> 0 | O30: WORKWEAR | Q30: =SUMIFS('Sales receipt'!K:K,'Sales receipt'!M:M,'Sales receipt'!M4,'Sales receipt'!B:B,'Sales receipt'!B4,'Sales receipt'!G:G,'Sales receipt'!G24) -> 7975 | S30: =SUMIFS('Sales receipt'!J:J,'Sales receipt'!M:M,'Sales receipt'!M4,'Sales receipt'!B:B,'Sales receipt'!B4,'Sales receipt'!G:G,'Sales receipt'!G24) -> 8 | T30: =Q30/C4 -> 0.0072164566
C31: - | G31: =SUMIFS('Sales receipt'!K:K,'Sales receipt'!M:M,'Sales receipt'!M2,'Sales receipt'!B:B,'Sales receipt'!B4,'Sales receipt'!G:G,'Sales receipt'!G66) -> 0 | I31: =SUMIFS('Sales receipt'!J:J,'Sales receipt'!M:M,'Sales receipt'!M2,'Sales receipt'!B:B,'Sales receipt'!B4,'Sales receipt'!G:G,'Sales receipt'!G66) -> 0 | K31: =G31/G34 -> 0 | O31: - | Q31: =SUMIFS('Sales receipt'!K:K,'Sales receipt'!M:M,'Sales receipt'!M4,'Sales receipt'!B:B,'Sales receipt'!B4,'Sales receipt'!G:G,'Sales receipt'!G66) -> 0 | S31: =SUMIFS('Sales receipt'!J:J,'Sales receipt'!M:M,'Sales receipt'!M4,'Sales receipt'!B:B,'Sales receipt'!B4,'Sales receipt'!G:G,'Sales receipt'!G66) -> 0 | T31: =Q31/C4 -> 0
B32: 斐樂大貨 服裝 | C32: 男 | G32: =SUM(SUMIFS('Sales receipt'!K:K,'Sales receipt'!M:M,'Sales receipt'!M2,'Sales receipt'!B:B,'Sales receipt'!B4,'Sales receipt'!H:H,{"MALE","男"})) -> 441794 | I32: =SUM(SUMIFS('Sales receipt'!J:J,'Sales receipt'!M:M,'Sales receipt'!M2,'Sales receipt'!B:B,'Sales receipt'!B4,'Sales receipt'!H:H,{"MALE","男"})) -> 382 | K32: =G32/G34 -> 0.5388494 | M32: 斐樂潮牌 服裝 | O32: 男 | Q32: =SUM(SUMIFS('Sales receipt'!K:K,'Sales receipt'!M:M,'Sales receipt'!M4,'Sales receipt'!B:B,'Sales receipt'!B4,'Sales receipt'!H:H,{"MALE","男"})) -> 4297 | S32: =SUM(SUMIFS('Sales receipt'!J:J,'Sales receipt'!M:M,'Sales receipt'!M4,'Sales receipt'!B:B,'Sales receipt'!B4,'Sales receipt'!H:H,{"MALE","男"})) -> 6 | T32: =Q32/C4 -> 0.0038882902
C33: 女 | G33: =SUM(SUMIFS('Sales receipt'!K:K,'Sales receipt'!M:M,'Sales receipt'!M2,'Sales receipt'!B:B,'Sales receipt'!B4,'Sales receipt'!H:H,{"FEMALE","女"})) -> 378090 | I33: =SUM(SUMIFS('Sales receipt'!J:J,'Sales receipt'!M:M,'Sales receipt'!M2,'Sales receipt'!B:B,'Sales receipt'!B4,'Sales receipt'!H:H,{"FEMALE","女"})) -> 304 | K33: =G33/G34 -> 0.4611506 | O33: 女 | Q33: =SUM(SUMIFS('Sales receipt'!K:K,'Sales receipt'!M:M,'Sales receipt'!M4,'Sales receipt'!B:B,'Sales receipt'!B4,'Sales receipt'!H:H,{"FEMALE","女"})) -> 20345 | S33: =SUM(SUMIFS('Sales receipt'!J:J,'Sales receipt'!M:M,'Sales receipt'!M4,'Sales receipt'!B:B,'Sales receipt'!B4,'Sales receipt'!H:H,{"FEMALE","女"})) -> 15 | T33: =Q33/C4 -> 0.018409882
C34: Total | G34: =SUMIFS('Sales receipt'!K:K,'Sales receipt'!M:M,'Sales receipt'!M2,'Sales receipt'!B:B,'Sales receipt'!B4) -> 819884 | I34: =SUMIFS('Sales receipt'!J:J,'Sales receipt'!M:M,'Sales receipt'!M2,'Sales receipt'!B:B,'Sales receipt'!B4) -> 686 | K34: =G34/C4 -> 0.7419006 | O34: Total | Q34: =SUMIFS('Sales receipt'!K:K,'Sales receipt'!M:M,'Sales receipt'!M4,'Sales receipt'!B:B,'Sales receipt'!B4) -> 25563 | S34: =SUMIFS('Sales receipt'!J:J,'Sales receipt'!M:M,'Sales receipt'!M4,'Sales receipt'!B:B,'Sales receipt'!B4) -> 22 | T34: =Q34/C4 -> 0.023131571
B35: 鞋 | G35: =SUMIFS('Sales receipt'!K:K,'Sales receipt'!M:M,'Sales receipt'!M2,'Sales receipt'!B:B,'Sales receipt'!B6) -> 150528 | I35: =SUMIFS('Sales receipt'!J:J,'Sales receipt'!M:M,'Sales receipt'!M2,'Sales receipt'!B:B,'Sales receipt'!B6) -> 158 | K35: =G35/C4 -> 0.13621051 | M35: 鞋 | Q35: =SUMIFS('Sales receipt'!K:K,'Sales receipt'!M:M,'Sales receipt'!M4,'Sales receipt'!B:B,'Sales receipt'!B6) -> 68829 | S35: =SUMIFS('Sales receipt'!J:J,'Sales receipt'!M:M,'Sales receipt'!M4,'Sales receipt'!B:B,'Sales receipt'!B6) -> 77 | T35: =Q35/C4 -> 0.062282319
B36: 配件 | G36: =SUMIFS('Sales receipt'!K:K,'Sales receipt'!M:M,'Sales receipt'!M2,'Sales receipt'!B:B,'Sales receipt'!B5) -> 19122 | I36: =SUMIFS('Sales receipt'!J:J,'Sales receipt'!M:M,'Sales receipt'!M2,'Sales receipt'!B:B,'Sales receipt'!B5) -> 120 | K36: =G36/C4 -> 0.017303208 | M36: 配件 | Q36: =SUMIFS('Sales receipt'!K:K,'Sales receipt'!M:M,'Sales receipt'!M4,'Sales receipt'!B:B,'Sales receipt'!B5) -> 5190 | S36: =SUMIFS('Sales receipt'!J:J,'Sales receipt'!M:M,'Sales receipt'!M4,'Sales receipt'!B:B,'Sales receipt'!B5) -> 48 | T36: =Q36/C4 -> 0.0046963523
B40: / | C40: M1776 Derrick | E40: M0990 Mia | G40: M2767 Christy | I40: M2034 Joanna | K40: M2518 Silver | M40: M2521 Maggie | O40: M2710 Pan | Q40: M2720 Ceci | S40: M2921 Grace
C41: Sales | D41: Qty | E41: Sales | F41: Qty | G41: Sales | H41: Qty | I41: Sales | J41: Qty | K41: Sales | L41: Qty | M41: Sales | N41: Qty | O41: Sales | P41: Qty | Q41: Sales | R41: Qty | S41: Sales | T41: Qty
A42: 斐樂 大貨 | B42: APP | C42: =SUMIFS('Sales receipt'!K:K,'Sales receipt'!$M:$M,'Sales receipt'!M$2,'Sales receipt'!$A:$A,'Sales receipt'!$A$2,'Sales receipt'!$B:$B,'Sales receipt'!B4) -> 86043 | D42: =SUMIFS('Sales receipt'!$J:$J,'Sales receipt'!$M:$M,'Sales receipt'!$M$2,'Sales receipt'!$A:$A,'Sales receipt'!$A$2,'Sales receipt'!$B:$B,'Sales receipt'!B4) -> 64 | E42: =SUMIFS('Sales receipt'!K:K,'Sales receipt'!M:M,'Sales receipt'!M2,'Sales receipt'!A:A,'Sales receipt'!A3,'Sales receipt'!B:B,'Sales receipt'!B4) -> 125716 | F42: =SUMIFS('Sales receipt'!J:J,'Sales receipt'!M:M,'Sales receipt'!M2,'Sales receipt'!A:A,'Sales receipt'!A3,'Sales receipt'!B:B,'Sales receipt'!B4) -> 106 | G42: =SUMIFS('Sales receipt'!K:K,'Sales receipt'!M:M,'Sales receipt'!M2,'Sales receipt'!A:A,'Sales receipt'!A4,'Sales receipt'!B:B,'Sales receipt'!B4) -> 73560 | H42: =SUMIFS('Sales receipt'!J:J,'Sales receipt'!M:M,'Sales receipt'!M2,'Sales receipt'!A:A,'Sales receipt'!A4,'Sales receipt'!B:B,'Sales receipt'!B4) -> 64 | I42: =SUMIFS('Sales receipt'!K:K,'Sales receipt'!M:M,'Sales receipt'!M2,'Sales receipt'!A:A,'Sales receipt'!A5,'Sales receipt'!B:B,'Sales receipt'!B4) -> 113719 | J42: =SUMIFS('Sales receipt'!J:J,'Sales receipt'!M:M,'Sales receipt'!M2,'Sales receipt'!A:A,'Sales receipt'!A5,'Sales receipt'!B:B,'Sales receipt'!B4) -> 104 | K42: =SUMIFS('Sales receipt'!K:K,'Sales receipt'!M:M,'Sales receipt'!M2,'Sales receipt'!A:A,'Sales receipt'!A6,'Sales receipt'!B:B,'Sales receipt'!B4) -> 76632 | L42: =SUMIFS('Sales receipt'!J:J,'Sales receipt'!M:M,'Sales receipt'!M2,'Sales receipt'!A:A,'Sales receipt'!A6,'Sales receipt'!B:B,'Sales receipt'!B4) -> 63 | M42: =SUMIFS('Sales receipt'!K:K,'Sales receipt'!M:M,'Sales receipt'!M2,'Sales receipt'!A:A,'Sales receipt'!A7,'Sales receipt'!B:B,'Sales receipt'!B4) -> 58807 | N42: =SUMIFS('Sales receipt'!J:J,'Sales receipt'!M:M,'Sales receipt'!M2,'Sales receipt'!A:A,'Sales receipt'!A7,'Sales receipt'!B:B,'Sales receipt'!B4) -> 53 | O42: =SUMIFS('Sales receipt'!K:K,'Sales receipt'!M:M,'Sales receipt'!M2,'Sales receipt'!A:A,'Sales receipt'!A8,'Sales receipt'!B:B,'Sales receipt'!B4) -> 113548 | P42: =SUMIFS('Sales receipt'!J:J,'Sales receipt'!M:M,'Sales receipt'!M2,'Sales receipt'!A:A,'Sales receipt'!A8,'Sales receipt'!B:B,'Sales receipt'!B4) -> 89 | Q42: =SUMIFS('Sales receipt'!K:K,'Sales receipt'!M:M,'Sales receipt'!M2,'Sales receipt'!A:A,'Sales receipt'!A9,'Sales receipt'!B:B,'Sales receipt'!B4) -> 94822 | R42: =SUMIFS('Sales receipt'!J:J,'Sales receipt'!M:M,'Sales receipt'!M2,'Sales receipt'!A:A,'Sales receipt'!A9,'Sales receipt'!B:B,'Sales receipt'!B4) -> 79 | S42: =SUMIFS('Sales receipt'!K:K,'Sales receipt'!M:M,'Sales receipt'!M2,'Sales receipt'!A:A,'Sales receipt'!A10,'Sales receipt'!B:B,'Sales receipt'!B4) -> 77037 | T42: =SUMIFS('Sales receipt'!J:J,'Sales receipt'!M:M,'Sales receipt'!M2,'Sales receipt'!A:A,'Sales receipt'!A10,'Sales receipt'!B:B,'Sales receipt'!B4) -> 64
B43: ORIGINALE | C43: =SUMIFS('Sales receipt'!K:K,'Sales receipt'!M:M,'Sales receipt'!M2,'Sales receipt'!A:A,'Sales receipt'!A2,'Sales receipt'!B:B,'Sales receipt'!B4,'Sales receipt'!G:G,'Sales receipt'!G6) -> 7215 | D43: =SUMIFS('Sales receipt'!J:J,'Sales receipt'!M:M,'Sales receipt'!M2,'Sales receipt'!A:A,'Sales receipt'!A2,'Sales receipt'!B:B,'Sales receipt'!B4,'Sales receipt'!G:G,'Sales receipt'!G6) -> 6 | E43: =SUMIFS('Sales receipt'!K:K,'Sales receipt'!M:M,'Sales receipt'!M2,'Sales receipt'!A:A,'Sales receipt'!A3,'Sales receipt'!B:B,'Sales receipt'!B4,'Sales receipt'!G:G,'Sales receipt'!G6) -> 15565 | F43: =SUMIFS('Sales receipt'!J:J,'Sales receipt'!M:M,'Sales receipt'!M2,'Sales receipt'!A:A,'Sales receipt'!A3,'Sales receipt'!B:B,'Sales receipt'!B4,'Sales receipt'!G:G,'Sales receipt'!G6) -> 16 | G43: =SUMIFS('Sales receipt'!K:K,'Sales receipt'!M:M,'Sales receipt'!M2,'Sales receipt'!A:A,'Sales receipt'!A4,'Sales receipt'!B:B,'Sales receipt'!B4,'Sales receipt'!G:G,'Sales receipt'!G6) -> 16324 | H43: =SUMIFS('Sales receipt'!J:J,'Sales receipt'!M:M,'Sales receipt'!M2,'Sales receipt'!A:A,'Sales receipt'!A4,'Sales receipt'!B:B,'Sales receipt'!B4,'Sales receipt'!G:G,'Sales receipt'!G6) -> 14 | I43: =SUMIFS('Sales receipt'!K:K,'Sales receipt'!M:M,'Sales receipt'!M2,'Sales receipt'!A:A,'Sales receipt'!A5,'Sales receipt'!B:B,'Sales receipt'!B4,'Sales receipt'!G:G,'Sales receipt'!G6) -> 7749 | J43: =SUMIFS('Sales receipt'!J:J,'Sales receipt'!M:M,'Sales receipt'!M2,'Sales receipt'!A:A,'Sales receipt'!A5,'Sales receipt'!B:B,'Sales receipt'!B4,'Sales receipt'!G:G,'Sales receipt'!G6) -> 11 | K43: =SUMIFS('Sales receipt'!K:K,'Sales receipt'!M:M,'Sales receipt'!M2,'Sales receipt'!A:A,'Sales receipt'!A6,'Sales receipt'!B:B,'Sales receipt'!B4,'Sales receipt'!G:G,'Sales receipt'!G6) -> 4144 | L43: =SUMIFS('Sales receipt'!J:J,'Sales receipt'!M:M,'Sales receipt'!M2,'Sales receipt'!A:A,'Sales receipt'!A6,'Sales receipt'!B:B,'Sales receipt'!B4,'Sales receipt'!G:G,'Sales receipt'!G6) -> 4 | M43: =SUMIFS('Sales receipt'!K:K,'Sales receipt'!M:M,'Sales receipt'!M2,'Sales receipt'!A:A,'Sales receipt'!A7,'Sales receipt'!B:B,'Sales receipt'!B4,'Sales receipt'!G:G,'Sales receipt'!G6) -> 5087 | N43: =SUMIFS('Sales receipt'!J:J,'Sales receipt'!M:M,'Sales receipt'!M2,'Sales receipt'!A:A,'Sales receipt'!A7,'Sales receipt'!B:B,'Sales receipt'!B4,'Sales receipt'!G:G,'Sales receipt'!G6) -> 6 | O43: =SUMIFS('Sales receipt'!K:K,'Sales receipt'!M:M,'Sales receipt'!M2,'Sales receipt'!A:A,'Sales receipt'!A8,'Sales receipt'!B:B,'Sales receipt'!B4,'Sales receipt'!G:G,'Sales receipt'!G6) -> 3397 | P43: =SUMIFS('Sales receipt'!J:J,'Sales receipt'!M:M,'Sales receipt'!M2,'Sales receipt'!A:A,'Sales receipt'!A8,'Sales receipt'!B:B,'Sales receipt'!B4,'Sales receipt'!G:G,'Sales receipt'!G6) -> 4 | Q43: =SUMIFS('Sales receipt'!K:K,'Sales receipt'!M:M,'Sales receipt'!M2,'Sales receipt'!A:A,'Sales receipt'!A9,'Sales receipt'!B:B,'Sales receipt'!B4,'Sales receipt'!G:G,'Sales receipt'!G6) -> 8299 | R43: =SUMIFS('Sales receipt'!J:J,'Sales receipt'!M:M,'Sales receipt'!M2,'Sales receipt'!A:A,'Sales receipt'!A9,'Sales receipt'!B:B,'Sales receipt'!B4,'Sales receipt'!G:G,'Sales receipt'!G6) -> 9 | S43: =SUMIFS('Sales receipt'!K:K,'Sales receipt'!M:M,'Sales receipt'!M2,'Sales receipt'!A:A,'Sales receipt'!A10,'Sales receipt'!B:B,'Sales receipt'!B4,'Sales receipt'!G:G,'Sales receipt'!G6) -> 5253 | T43: =SUMIFS('Sales receipt'!J:J,'Sales receipt'!M:M,'Sales receipt'!M2,'Sales receipt'!A:A,'Sales receipt'!A10,'Sales receipt'!B:B,'Sales receipt'!B4,'Sales receipt'!G:G,'Sales receipt'!G6) -> 5
B44: HERITAGE | C44: =SUMIFS('Sales receipt'!K:K,'Sales receipt'!M:M,'Sales receipt'!M2,'Sales receipt'!A:A,'Sales receipt'!A2,'Sales receipt'!B:B,'Sales receipt'!B4,'Sales receipt'!G:G,'Sales receipt'!G9) -> 9502 | D44: =SUMIFS('Sales receipt'!J:J,'Sales receipt'!M:M,'Sales receipt'!M2,'Sales receipt'!A:A,'Sales receipt'!A2,'Sales receipt'!B:B,'Sales receipt'!B4,'Sales receipt'!G:G,'Sales receipt'!G9) -> 11 | E44: =SUMIFS('Sales receipt'!K:K,'Sales receipt'!M:M,'Sales receipt'!M2,'Sales receipt'!A:A,'Sales receipt'!A3,'Sales receipt'!B:B,'Sales receipt'!B4,'Sales receipt'!G:G,'Sales receipt'!G9) -> 21838 | F44: =SUMIFS('Sales receipt'!J:J,'Sales receipt'!M:M,'Sales receipt'!M2,'Sales receipt'!A:A,'Sales receipt'!A3,'Sales receipt'!B:B,'Sales receipt'!B4,'Sales receipt'!G:G,'Sales receipt'!G9) -> 25 | G44: =SUMIFS('Sales receipt'!K:K,'Sales receipt'!M:M,'Sales receipt'!M2,'Sales receipt'!A:A,'Sales receipt'!A4,'Sales receipt'!B:B,'Sales receipt'!B4,'Sales receipt'!G:G,'Sales receipt'!G9) -> 10323 | H44: =SUMIFS('Sales receipt'!J:J,'Sales receipt'!M:M,'Sales receipt'!M2,'Sales receipt'!A:A,'Sales receipt'!A4,'Sales receipt'!B:B,'Sales receipt'!B4,'Sales receipt'!G:G,'Sales receipt'!G9) -> 11 | I44: =SUMIFS('Sales receipt'!K:K,'Sales receipt'!M:M,'Sales receipt'!M2,'Sales receipt'!A:A,'Sales receipt'!A5,'Sales receipt'!B:B,'Sales receipt'!B4,'Sales receipt'!G:G,'Sales receipt'!G9) -> 18534 | J44: =SUMIFS('Sales receipt'!J:J,'Sales receipt'!M:M,'Sales receipt'!M2,'Sales receipt'!A:A,'Sales receipt'!A5,'Sales receipt'!B:B,'Sales receipt'!B4,'Sales receipt'!G:G,'Sales receipt'!G9) -> 22 | K44: =SUMIFS('Sales receipt'!K:K,'Sales receipt'!M:M,'Sales receipt'!M2,'Sales receipt'!A:A,'Sales receipt'!A6,'Sales receipt'!B:B,'Sales receipt'!B4,'Sales receipt'!G:G,'Sales receipt'!G9) -> 10056 | L44: =SUMIFS('Sales receipt'!J:J,'Sales receipt'!M:M,'Sales receipt'!M2,'Sales receipt'!A:A,'Sales receipt'!A6,'Sales receipt'!B:B,'Sales receipt'!B4,'Sales receipt'!G:G,'Sales receipt'!G9) -> 11 | M44: =SUMIFS('Sales receipt'!K:K,'Sales receipt'!M:M,'Sales receipt'!M2,'Sales receipt'!A:A,'Sales receipt'!A7,'Sales receipt'!B:B,'Sales receipt'!B4,'Sales receipt'!G:G,'Sales receipt'!G9) -> 8001 | N44: =SUMIFS('Sales receipt'!J:J,'Sales receipt'!M:M,'Sales receipt'!M2,'Sales receipt'!A:A,'Sales receipt'!A7,'Sales receipt'!B:B,'Sales receipt'!B4,'Sales receipt'!G:G,'Sales receipt'!G9) -> 10 | O44: =SUMIFS('Sales receipt'!K:K,'Sales receipt'!M:M,'Sales receipt'!M2,'Sales receipt'!A:A,'Sales receipt'!A8,'Sales receipt'!B:B,'Sales receipt'!B4,'Sales receipt'!G:G,'Sales receipt'!G9) -> 8868 | P44: =SUMIFS('Sales receipt'!J:J,'Sales receipt'!M:M,'Sales receipt'!M2,'Sales receipt'!A:A,'Sales receipt'!A8,'Sales receipt'!B:B,'Sales receipt'!B4,'Sales receipt'!G:G,'Sales receipt'!G9) -> 10 | Q44: =SUMIFS('Sales receipt'!K:K,'Sales receipt'!M:M,'Sales receipt'!M2,'Sales receipt'!A:A,'Sales receipt'!A9,'Sales receipt'!B:B,'Sales receipt'!B4,'Sales receipt'!G:G,'Sales receipt'!G9) -> 14788 | R44: =SUMIFS('Sales receipt'!J:J,'Sales receipt'!M:M,'Sales receipt'!M2,'Sales receipt'!A:A,'Sales receipt'!A9,'Sales receipt'!B:B,'Sales receipt'!B4,'Sales receipt'!G:G,'Sales receipt'!G9) -> 16 | S44: =SUMIFS('Sales receipt'!K:K,'Sales receipt'!M:M,'Sales receipt'!M2,'Sales receipt'!A:A,'Sales receipt'!A10,'Sales receipt'!B:B,'Sales receipt'!B4,'Sales receipt'!G:G,'Sales receipt'!G9) -> 10256 | T44: =SUMIFS('Sales receipt'!J:J,'Sales receipt'!M:M,'Sales receipt'!M2,'Sales receipt'!A:A,'Sales receipt'!A10,'Sales receipt'!B:B,'Sales receipt'!B4,'Sales receipt'!G:G,'Sales receipt'!G9) -> 12
B45: WHITE | C45: =SUMIFS('Sales receipt'!K:K,'Sales receipt'!M:M,'Sales receipt'!M2,'Sales receipt'!A:A,'Sales receipt'!A2,'Sales receipt'!B:B,'Sales receipt'!B4,'Sales receipt'!G:G,'Sales receipt'!G17) -> 10724 | D45: =SUMIFS('Sales receipt'!J:J,'Sales receipt'!M:M,'Sales receipt'!M2,'Sales receipt'!A:A,'Sales receipt'!A2,'Sales receipt'!B:B,'Sales receipt'!B4,'Sales receipt'!G:G,'Sales receipt'!G17) -> 7 | E45: =SUMIFS('Sales receipt'!K:K,'Sales receipt'!M:M,'Sales receipt'!M2,'Sales receipt'!A:A,'Sales receipt'!A3,'Sales receipt'!B:B,'Sales receipt'!B4,'Sales receipt'!G:G,'Sales receipt'!G17) -> 16894 | F45: =SUMIFS('Sales receipt'!J:J,'Sales receipt'!M:M,'Sales receipt'!M2,'Sales receipt'!A:A,'Sales receipt'!A3,'Sales receipt'!B:B,'Sales receipt'!B4,'Sales receipt'!G:G,'Sales receipt'!G17) -> 15 | G45: =SUMIFS('Sales receipt'!K:K,'Sales receipt'!M:M,'Sales receipt'!M2,'Sales receipt'!A:A,'Sales receipt'!A4,'Sales receipt'!B:B,'Sales receipt'!B4,'Sales receipt'!G:G,'Sales receipt'!G17) -> 18036 | H45: =SUMIFS('Sales receipt'!J:J,'Sales receipt'!M:M,'Sales receipt'!M2,'Sales receipt'!A:A,'Sales receipt'!A4,'Sales receipt'!B:B,'Sales receipt'!B4,'Sales receipt'!G:G,'Sales receipt'!G17) -> 17 | I45: =SUMIFS('Sales receipt'!K:K,'Sales receipt'!M:M,'Sales receipt'!M2,'Sales receipt'!A:A,'Sales receipt'!A5,'Sales receipt'!B:B,'Sales receipt'!B4,'Sales receipt'!G:G,'Sales receipt'!G17) -> 20925 | J45: =SUMIFS('Sales receipt'!J:J,'Sales receipt'!M:M,'Sales receipt'!M2,'Sales receipt'!A:A,'Sales receipt'!A5,'Sales receipt'!B:B,'Sales receipt'!B4,'Sales receipt'!G:G,'Sales receipt'!G17) -> 20 | K45: =SUMIFS('Sales receipt'!K:K,'Sales receipt'!M:M,'Sales receipt'!M2,'Sales receipt'!A:A,'Sales receipt'!A6,'Sales receipt'!B:B,'Sales receipt'!B4,'Sales receipt'!G:G,'Sales receipt'!G17) -> 14508 | L45: =SUMIFS('Sales receipt'!J:J,'Sales receipt'!M:M,'Sales receipt'!M2,'Sales receipt'!A:A,'Sales receipt'!A6,'Sales receipt'!B:B,'Sales receipt'!B4,'Sales receipt'!G:G,'Sales receipt'!G17) -> 11 | M45: =SUMIFS('Sales receipt'!K:K,'Sales receipt'!M:M,'Sales receipt'!M2,'Sales receipt'!A:A,'Sales receipt'!A7,'Sales receipt'!B:B,'Sales receipt'!B4,'Sales receipt'!G:G,'Sales receipt'!G17) -> 13223 | N45: =SUMIFS('Sales receipt'!J:J,'Sales receipt'!M:M,'Sales receipt'!M2,'Sales receipt'!A:A,'Sales receipt'!A7,'Sales receipt'!B:B,'Sales receipt'!B4,'Sales receipt'!G:G,'Sales receipt'!G17) -> 15 | O45: =SUMIFS('Sales receipt'!K:K,'Sales receipt'!M:M,'Sales receipt'!M2,'Sales receipt'!A:A,'Sales receipt'!A8,'Sales receipt'!B:B,'Sales receipt'!B4,'Sales receipt'!G:G,'Sales receipt'!G17) -> 18020 | P45: =SUMIFS('Sales receipt'!J:J,'Sales receipt'!M:M,'Sales receipt'!M2,'Sales receipt'!A:A,'Sales receipt'!A8,'Sales receipt'!B:B,'Sales receipt'!B4,'Sales receipt'!G:G,'Sales receipt'!G17) -> 15 | Q45: =SUMIFS('Sales receipt'!K:K,'Sales receipt'!M:M,'Sales receipt'!M2,'Sales receipt'!A:A,'Sales receipt'!A9,'Sales receipt'!B:B,'Sales receipt'!B4,'Sales receipt'!G:G,'Sales receipt'!G17) -> 11693 | R45: =SUMIFS('Sales receipt'!J:J,'Sales receipt'!M:M,'Sales receipt'!M2,'Sales receipt'!A:A,'Sales receipt'!A9,'Sales receipt'!B:B,'Sales receipt'!B4,'Sales receipt'!G:G,'Sales receipt'!G17) -> 12 | S45: =SUMIFS('Sales receipt'!K:K,'Sales receipt'!M:M,'Sales receipt'!M2,'Sales receipt'!A:A,'Sales receipt'!A10,'Sales receipt'!B:B,'Sales receipt'!B4,'Sales receipt'!G:G,'Sales receipt'!G17) -> 13282 | T45: =SUMIFS('Sales receipt'!J:J,'Sales receipt'!M:M,'Sales receipt'!M2,'Sales receipt'!A:A,'Sales receipt'!A10,'Sales receipt'!B:B,'Sales receipt'!B4,'Sales receipt'!G:G,'Sales receipt'!G17) -> 11
...

Sheet Sales receipt
A1: 營業員 | B1: 大類 | C1: 中類 | D1: 商品名稱 | E1: 季節 | F1: 系列 | G1: 子系列 | H1: 性別 | I1: 上市日期 | J1: 銷售數量 | K1: 結算金額 | L1: 銷售日期 | M1: 品牌 | N1: 回流判斷 | O1: 後臺系統-POS管理-銷售小票-商品明細 選擇 “Shop Briefing每日記錄表” 模板 把需要 Briefing 日期的銷售小票内容全部粘貼 在“Sales receipt”工作表
A2: M1776 Derrick | B2: 广宣用品 | C2: 內搭 | D2: 上衣两件套 | E2: 冬季 | F2: ATHLETICS | G2: A.P. | H2: FEMALE | M2: 斐樂大貨 | N2: 回流
A3: M0990 Mia | B3: 其它 | C3: 內搭類 | D3: 上衣两件套-K | E3: 春季 | F3: FASHION | G3: BLUE | H3: MALE | M3: 斐樂兒童 | N3: 新注册
A4: M2767 Christy | B4: 服装 | C4: 內衣類 | D4: 女装上衣-K | E4: 秋季 | F4: LIFESTYLE | G4: EXPLORE | H4: UNISEX | M4: 斐樂潮牌 | N4: (空白)
A5: M2034 Joanna | B5: 配件 | C5: 短T類 | D5: 休闲西装 | E5: 夏季 | F5: INLINE | G5: FILA MILANO | H5: (空白)
A6: M2518 Silver | B6: 鞋类 | C6: 編織衫 | D6: 男装上衣-K | E6: 常青 | F6: ORIGINALE | G6: FILA ORIGINALE | H6: 男
A7: M2521 Maggie | B7: (空白) | C7: 襯衫 | D7: 男装外套-K | E7: (空白) | F7: PERFORMANCE | G7: FITNESS | H7: 女
A8: M2710 Pan | C8: 針織上衣 | D8: 针织马甲 | F8: WHITE LINE | G8: GOLF
A9: M2720 Ceci | C9: 梭織上衣 | D9: 针织五分裤 | G9: HERITAGE
A10: M2921 Grace | C10: 連衣裙 | D10: 针织五分裤-K | G10: ICONA
C11: 裙裝 | D11: 针织打底裤 | G11: MODERN HERITAGE
C12: 外套類 | D12: 针织长袖上衣 | G12: MODERNO
C13: 下裝類 | D13: 针织长裤 | G13: ORIGINALE
C14: 針織褲 | D14: 针织长裤-K | G14: SKI
C15: 梭織褲 | D15: 针织连衣裙 | G15: SPORT PERFORMANCE
C16: 棉服 | D16: 针织连衣裙-K | G16: TENNIS
C17: 棉羽類 | D17: 针织连帽外套 | G17: WHITE
D18: 针织连帽外套-K | G18: FILA EMERALD
D19: 针织背心 | G19: FILA MILANO
D20: 针织短袖POLO衫 | G20: FILA ORIGINALE
D21: 针织短袖POLO衫-K | G21: FILA X 小恐龙大冒险
D22: 针织短袖外套 | G22: URBAN TECH
D23: 针织短袖连帽上衣 | G23: WHITE LINE
D24: 针织短袖衫 | G24: WORKWEAR
D25: 针织短袖衫-K
D26: 针织短裤
D27: 针织短裤-K
D28: 连衣裙(含短裤）
D29: 连衣裙(含短裤)-K
D30: 连衣裙-K
D31: 连衣裙两件套
D32: 背心两件套
D33: 梭织上衣
D34: 梭织马甲
D35: 梭织五分裤
D36: 梭织五分裤-K
... D63: 裙裤-K
A96: 請把要分析的小票複製在以下
A97: M2720 Ceci | B97: 鞋类 | C97: 戶外鞋 | D97: 儿童户外鞋 | E97: 冬季 | F97: PERFORMANCE | G97: PERFORMANCE-FPH | H97: FEMALE | I97: 45904 | J97: 1 | K97: 880 | L97: 45931 | M97: 斐樂兒童
A98: M2034 Joanna | B98: 鞋类 | C98: 運動鞋 | D98: 摩登运动鞋 | E98: 秋季 | F98: FASHION | G98: MODERNO | H98: MALE | I98: 45841 | J98: 1 | K98: 780 | L98: 45931 | M98: 斐樂大貨
...
