Workbook

Sheet Shop Briefing
B1: RMA | E1: =TODAY() -> 45940
B2: 本月 | C2: 生意 | E2: ATV | G2: UPT | I2: 單數 | K2: 件数 | M2: 人流 | O2: 轉化率 | Q2: / | S2: /
C3: 累計 | D3: VS+/-%
B4: 昨天生意 | C4: 1105113 | D4: =SUM(C4/C5)-1 -> 18.98396 | E4: =SUM(C4/I4) -> 46046.375 | G4: =SUM(K4/I4) -> 4.875 | I4: 24 | K4: 117 | M4: 431 | O4: =SUM(I4/M4)*100% -> 0.055684455 | Q4: / | S4: /
B5: 去年同期 | C5: 55300 | M5: / | O5: /
B6: 本月累计 | C6: 245012 | E6: =SUM(C6/I6) -> 2076.3729 | G6: =SUM(K6/I6) -> 3.9152542 | I6: 118 | K6: 462 | M6: / | O6: /
B8: 當天 | C8: Promotion | M8: Promotion
C9: 項目 | G9: 單價 | I9: 單數 | K9: 銷售占比 | M9: 項目 | O9: 單價 | Q9: 單數 | S9: 銷售占比
C10: 2000-200 | K10: =G10/C4 -> 0 | S10: =O10/C4 -> 0
C11: 3000-400 | K11: =G11/C4 -> 0 | S11: =O11/C4 -> 0
C12: 4500-800 | K12: =G12/C4 -> 0 | S12: =O12/C4 -> 0
C13: 8000-1500 | K13: =G13/C4 -> 0 | S13: =O13/C4 -> 0
C14: 25Q1/Q2 3件88折 | K14: =G14/C4 -> 0 | S14: =O14/C4 -> 0
C15: 2對7折 | K15: =G15/C4 -> 0 | S15: =O15/C4 -> 0
B17: 斐樂大貨服裝 | C17: 系列/品類 | G17: 銷售金額 | I17: 件數 | K17: 銷售占比 | M17: 斐樂兒童服裝 | O17: 系列/品類 | Q17: 銷售金額 | S17: 件數 | T17: 銷售占比
C18: FILA ORIGINALE | G18: =SUMIFS('Sales receipt'!$K:$K,'Sales receipt'!$M:$M,'Sales receipt'!$M$2,'Sales receipt'!$B:$B,'Sales receipt'!$B$4,'Sales receipt'!$G:$G,'Sales receipt'!$G$6) -> 73033 | I18: =SUMIFS('Sales receipt'!J:J,'Sales receipt'!M:M,'Sales receipt'!M2,'Sales receipt'!B:B,'Sales receipt'!B4,'Sales receipt'!G:G,'Sales receipt'!G6) -> 75 | K18: =G18/G34 -> 0.089077235 | O18: FILA ORIGINALE | Q18: =SUMIFS('Sales receipt'!K:K,'Sales receipt'!M:M,'Sales receipt'!M3,'Sales receipt'!B:B,'Sales receipt'!B4,'Sales receipt'!G:G,'Sales receipt'!G20) -> 75894 | S18: =SUMIFS('Sales receipt'!J:J,'Sales receipt'!M:M,'Sales receipt'!M3,'Sales receipt'!B:B,'Sales receipt'!B4,'Sales receipt'!G:G,'Sales receipt'!G20) -> 130 | T18: =Q18/Q26 -> 0.18626671
C19: HERITAGE | G19: =SUMIFS('Sales receipt'!K:K,'Sales receipt'!M:M,'Sales receipt'!M2,'Sales receipt'!B:B,'Sales receipt'!B4,'Sales receipt'!G:G,'Sales receipt'!G9) -> 112166 | I19: =SUMIFS('Sales receipt'!J:J,'Sales receipt'!M:M,'Sales receipt'!M2,'Sales receipt'!B:B,'Sales receipt'!B4,'Sales receipt'!G:G,'Sales receipt'!G9) -> 128 | K19: =G19/G34 -> 0.13680716 | O19: FILA X 小恐龙大冒险 | Q19: =SUMIFS('Sales receipt'!K:K,'Sales receipt'!M:M,'Sales receipt'!M3,'Sales receipt'!B:B,'Sales receipt'!B4,'Sales receipt'!G:G,'Sales receipt'!G21) -> 0 | S19: =SUMIFS('Sales receipt'!J:J,'Sales receipt'!M:M,'Sales receipt'!M3,'Sales receipt'!B:B,'Sales receipt'!B4,'Sales receipt'!G:G,'Sales receipt'!G21) -> 0 | T19: =Q19/Q26 -> 0
C20: WHITE | G20: =SUMIFS('Sales receipt'!K:K,'Sales receipt'!M:M,'Sales receipt'!M2,'Sales receipt'!B:B,'Sales receipt'!B4,'Sales receipt'!G:G,'Sales receipt'!G17) -> 137305 | I20: =SUMIFS('Sales receipt'!J:J,'Sales receipt'!M:M,'Sales receipt'!M2,'Sales receipt'!B:B,'Sales receipt'!B4,'Sales receipt'!G:G,'Sales receipt'!G17) -> 123 | K20: =G20/G34 -> 0.16746881 | O20: GOLF | Q20: =SUMIFS('Sales receipt'!K:K,'Sales receipt'!M:M,'Sales receipt'!M3,'Sales receipt'!B:B,'Sales receipt'!B4,'Sales receipt'!G:G,'Sales receipt'!G8) -> 31640 | S20: =SUMIFS('Sales receipt'!J:J,'Sales receipt'!M:M,'Sales receipt'!M3,'Sales receipt'!B:B,'Sales receipt'!B4,'Sales receipt'!G:G,'Sales receipt'!G8) -> 28 | T20: =Q20/Q26 -> 0.077654081
C21: BLUE | G21: =SUMIFS('Sales receipt'!K:K,'Sales receipt'!M:M,'Sales receipt'!M2,'Sales receipt'!B:B,'Sales receipt'!B4,'Sales receipt'!G:G,'Sales receipt'!G3) -> 40998 | I21: =SUMIFS('Sales receipt'!J:J,'Sales receipt'!M:M,'Sales receipt'!M2,'Sales receipt'!B:B,'Sales receipt'!B4,'Sales receipt'!G:G,'Sales receipt'!G3) -> 23 | K21: =G21/G34 -> 0.050004635 | O21: TENNIS | Q21: =SUMIFS('Sales receipt'!K:K,'Sales receipt'!M:M,'Sales receipt'!M3,'Sales receipt'!B:B,'Sales receipt'!B4,'Sales receipt'!G:G,'Sales receipt'!G16) -> 45791 | S21: =SUMIFS('Sales receipt'!J:J,'Sales receipt'!M:M,'Sales receipt'!M3,'Sales receipt'!B:B,'Sales receipt'!B4,'Sales receipt'!G:G,'Sales receipt'!G16) -> 61 | T21: =Q21/Q26 -> 0.11238489
C22: FITNESS | G22: =SUMIFS('Sales receipt'!K:K,'Sales receipt'!M:M,'Sales receipt'!M2,'Sales receipt'!B:B,'Sales receipt'!B4,'Sales receipt'!G:G,'Sales receipt'!G7) -> 79051 | I22: =SUMIFS('Sales receipt'!J:J,'Sales receipt'!M:M,'Sales receipt'!M2,'Sales receipt'!B:B,'Sales receipt'!B4,'Sales receipt'!G:G,'Sales receipt'!G7) -> 89 | K22: =G22/G34 -> 0.096417298 | O22: WHITE LINE | Q22: =SUMIFS('Sales receipt'!K:K,'Sales receipt'!M:M,'Sales receipt'!M3,'Sales receipt'!B:B,'Sales receipt'!B4,'Sales receipt'!G:G,'Sales receipt'!G23) -> 87912 | S22: =SUMIFS('Sales receipt'!J:J,'Sales receipt'!M:M,'Sales receipt'!M3,'Sales receipt'!B:B,'Sales receipt'!B4,'Sales receipt'!G:G,'Sales receipt'!G23) -> 76 | T22: =Q22/Q26 -> 0.2157625
C23: A.P. | G23: =SUMIFS('Sales receipt'!K:K,'Sales receipt'!M:M,'Sales receipt'!M2,'Sales receipt'!B:B,'Sales receipt'!B4,'Sales receipt'!G:G,'Sales receipt'!G2) -> 3348 | I23: =SUMIFS('Sales receipt'!J:J,'Sales receipt'!M:M,'Sales receipt'!M2,'Sales receipt'!B:B,'Sales receipt'!B4,'Sales receipt'!G:G,'Sales receipt'!G2) -> 4 | K23: =G23/G34 -> 0.0040835045 | O23: - | Q23: =SUMIFS('Sales receipt'!K:K,'Sales receipt'!M:M,'Sales receipt'!M3,'Sales receipt'!B:B,'Sales receipt'!B4,'Sales receipt'!G:G,'Sales receipt'!G66) -> 0 | S23: =SUMIFS('Sales receipt'!J:J,'Sales receipt'!M:M,'Sales receipt'!M3,'Sales receipt'!B:B,'Sales receipt'!B4,'Sales receipt'!G:G,'Sales receipt'!G66) -> 0 | T23: =Q23/Q26 -> 0
C24: GOLF | G24: =SUMIFS('Sales receipt'!K:K,'Sales receipt'!M:M,'Sales receipt'!M2,'Sales receipt'!B:B,'Sales receipt'!B4,'Sales receipt'!G:G,'Sales receipt'!G8) -> 244082 | I24: =SUMIFS('Sales receipt'!J:J,'Sales receipt'!M:M,'Sales receipt'!M2,'Sales receipt'!B:B,'Sales receipt'!B4,'Sales receipt'!G:G,'Sales receipt'!G8) -> 152 | K24: =G24/G34 -> 0.29770309 | M24: 斐樂兒童 服裝 | O24: 男 | Q24: =SUM(SUMIFS('Sales receipt'!K:K,'Sales receipt'!M:M,'Sales receipt'!M3,'Sales receipt'!B:B,'Sales receipt'!B4,'Sales receipt'!H:H,{"MALE","男"})) -> 207652 | S24: =SUM(SUMIFS('Sales receipt'!J:J,'Sales receipt'!M:M,'Sales receipt'!M3,'Sales receipt'!B:B,'Sales receipt'!B4,'Sales receipt'!H:H,{"MALE","男"})) -> 257 | T24: =Q24/Q26 -> 0.50964049
C25: EXPLORE | G25: =SUMIFS('Sales receipt'!K:K,'Sales receipt'!M:M,'Sales receipt'!M2,'Sales receipt'!B:B,'Sales receipt'!B4,'Sales receipt'!G:G,'Sales receipt'!G4) -> 12005 | I25: =SUMIFS('Sales receipt'!J:J,'Sales receipt'!M:M,'Sales receipt'!M2,'Sales receipt'!B:B,'Sales receipt'!B4,'Sales receipt'!G:G,'Sales receipt'!G4) -> 5 | K25: =G25/G34 -> 0.014642315 | O25: 女 | Q25: =SUM(SUMIFS('Sales receipt'!K:K,'Sales receipt'!M:M,'Sales receipt'!M3,'Sales receipt'!B:B,'Sales receipt'!B4,'Sales receipt'!H:H,{"FEMALE","女"})) -> 199796 | S25: =SUM(SUMIFS('Sales receipt'!J:J,'Sales receipt'!M:M,'Sales receipt'!M3,'Sales receipt'!B:B,'Sales receipt'!B4,'Sales receipt'!H:H,{"FEMALE","女"})) -> 229 | T25: =Q25/Q26 -> 0.49035951
C26: TENNIS | G26: =SUMIFS('Sales receipt'!K:K,'Sales receipt'!M:M,'Sales receipt'!M2,'Sales receipt'!B:B,'Sales receipt'!B4,'Sales receipt'!G:G,'Sales receipt'!G16) -> 1188 | I26: =SUMIFS('Sales receipt'!J:J,'Sales receipt'!M:M,'Sales receipt'!M2,'Sales receipt'!B:B,'Sales receipt'!B4,'Sales receipt'!G:G,'Sales receipt'!G16) -> 2 | K26: =G26/G34 -> 0.0014489855 | O26: Total | Q26: =SUMIFS('Sales receipt'!K:K,'Sales receipt'!M:M,'Sales receipt'!M3,'Sales receipt'!B:B,'Sales receipt'!B4) -> 407448 | S26: =SUMIFS('Sales receipt'!J:J,'Sales receipt'!M:M,'Sales receipt'!M3,'Sales receipt'!B:B,'Sales receipt'!B4) -> 486 | T26: =Q26/C4 -> 0.36869352
C27: FILA EMERALD | G27: =SUMIFS('Sales receipt'!K:K,'Sales receipt'!M:M,'Sales receipt'!M2,'Sales receipt'!B:B,'Sales receipt'!B4,'Sales receipt'!G:G,'Sales receipt'!G18) -> 26801 | I27: =SUMIFS('Sales receipt'!J:J,'Sales receipt'!M:M,'Sales receipt'!M2,'Sales receipt'!B:B,'Sales receipt'!B4,'Sales receipt'!G:G,'Sales receipt'!G18) -> 19 | K27: =G27/G34 -> 0.032688771 | M27: 鞋 | Q27: =SUMIFS('Sales receipt'!K:K,'Sales receipt'!M:M,'Sales receipt'!M3,'Sales receipt'!B:B,'Sales receipt'!B6) -> 114304 | S27: =SUMIFS('Sales receipt'!J:J,'Sales receipt'!M:M,'Sales receipt'!M3,'Sales receipt'!B:B,'Sales receipt'!B6) -> 139 | T27: =Q27/C4 -> 0.10343196
C28: FILA MILANO | G28: =SUMIFS('Sales receipt'!K:K,'Sales receipt'!M:M,'Sales receipt'!M2,'Sales receipt'!B:B,'Sales receipt'!B4,'Sales receipt'!G:G,'Sales receipt'!G5) -> 39179 | I28: =SUMIFS('Sales receipt'!J:J,'Sales receipt'!M:M,'Sales receipt'!M2,'Sales receipt'!B:B,'Sales receipt'!B4,'Sales receipt'!G:G,'Sales receipt'!G5) -> 32 | K28: =G28/G34 -> 0.047786028 | M28: 配件 | Q28: =SUMIFS('Sales receipt'!K:K,'Sales receipt'!M:M,'Sales receipt'!M3,'Sales receipt'!B:B,'Sales receipt'!B5) -> 4236 | S28: =SUMIFS('Sales receipt'!J:J,'Sales receipt'!M:M,'Sales receipt'!M3,'Sales receipt'!B:B,'Sales receipt'!B5) -> 14 | T28: =Q28/C4 -> 0.0038330922
C29: - | G29: =SUMIFS('Sales receipt'!K:K,'Sales receipt'!M:M,'Sales receipt'!M2,'Sales receipt'!B:B,'Sales receipt'!B4,'Sales receipt'!G:G,'Sales receipt'!G66) -> 0 | I29: =SUMIFS('Sales receipt'!J:J,'Sales receipt'!M:M,'Sales receipt'!M2,'Sales receipt'!B:B,'Sales receipt'!B4,'Sales receipt'!G:G,'Sales receipt'!G66) -> 0 | K29: =G29/G34 -> 0 | M29: 斐樂潮牌服裝 | O29: URBAN TECH | Q29: =SUMIFS('Sales receipt'!K:K,'Sales receipt'!M:M,'Sales receipt'!M4,'Sales receipt'!B:B,'Sales receipt'!B4,'Sales receipt'!G:G,'Sales receipt'!G22) -> 16330 | S29: =SUMIFS('Sales receipt'!J:J,'Sales receipt'!M:M,'Sales receipt'!M4,'Sales receipt'!B:B,'Sales receipt'!B4,'Sales receipt'!G:G,'Sales receipt'!G22) -> 13 | T29: =Q29/C4 -> 0.014776769
C30: - | G30: =SUMIFS('Sales receipt'!K:K,'Sales receipt'!M:M,'Sales receipt'!M2,'Sales receipt'!B:B,'Sales receipt'!B4,'Sales receipt'!G:G,'Sales receipt'!G66) -> 0 | I30: =SUMIFS('Sales receipt'!J:J,'Sales receipt'!M:M,'Sales receipt'!M2,'Sales receipt'!B:B,'Sales receipt'!B4,'Sales receipt'!G:G,'Sales receipt'!G66) -> 0 | K30: =G30/G34 -> 0 | O30: WORKWEAR | Q30: =SUMIFS('Sales receipt'!K:K,'Sales receipt'!M:M,'Sales receipt'!M4,'Sales receipt'!B:B,'Sales receipt'!B4,'Sales receipt'!G:G,'Sales receipt'!G24) -> 7975 | S30: =SUMIFS('Sales receipt'!J:J,'Sales receipt'!M:M,'Sales receipt'!M4,'Sales receipt'!B:B,'Sales receipt'!B4,'Sales receipt'!G:G,'Sales receipt'!G24) -> 8 | T30: =Q30/C4 -> 0.0072164566
C31: - | G31: =SUMIFS('Sales receipt'!K:K,'Sales receipt'!M:M,'Sales receipt'!M2,'Sales receipt'!B:B,'Sales receipt'!B4,'Sales receipt'!G:G,'Sales receipt'!G66) -> 0 | I31: =SUMIFS('Sales receipt'!J:J,'Sales receipt'!M:M,'Sales receipt'!M2,'Sales receipt'!B:B,'Sales receipt'!B4,'Sales receipt'!G:G,'Sales receipt'!G66) -> 0 | K31: =G31/G34 -> 0 | O31: - | Q31: =SUMIFS('Sales receipt'!K:K,'Sales receipt'!M:M,'Sales receipt'!M4,'Sales receipt'!B:B,'Sales receipt'!B4,'Sales receipt'!G:G,'Sales receipt'!G66) -> 0 | S31: =SUMIFS('Sales receipt'!J:J,'Sales receipt'!M:M,'Sales receipt'!M4,'Sales receipt'!B:B,'Sales receipt'!B4,'Sales receipt'!G:G,'Sales receipt'!G66) -> 0 | T31: =Q31/C4 -> 0
B32: 斐樂大貨 服裝 | C32: 男 | G32: =SUM(SUMIFS('Sales receipt'!K:K,'Sales receipt'!M:M,'Sales receipt'!M2,'Sales receipt'!B:B,'Sales receipt'!B4,'Sales receipt'!H:H,{"MALE","男"})) -> 441794 | I32: =SUM(SUMIFS('Sales receipt'!J:J,'Sales receipt'!M:M,'Sales receipt'!M2,'Sales receipt'!B:B,'Sales receipt'!B4,'Sales receipt'!H:H,{"MALE","男"})) -> 382 | K32: =G32/G34 -> 0.5388494 | M32: 斐樂潮牌 服裝 | O32: 男 | Q32: =SUM(SUMIFS('Sales receipt'!K:K,'Sales receipt'!M:M,'Sales receipt'!M4,'Sales receipt'!B:B,'Sales receipt'!B4,'Sales receipt'!H:H,{"MALE","男"})) -> 4297 | S32: =SUM(SUMIFS('Sales receipt'!J:J,'Sales receipt'!M:M,'Sales receipt'!M4,'Sales receipt'!B:B,'Sales receipt'!B4,'Sales receipt'!H:H,{"MALE","男"})) -> 6 | T32: =Q32/C4 -> 0.0038882902
C33: 女 | G33: =SUM(SUMIFS('Sales receipt'!K:K,'Sales receipt'!M:M,'Sales receipt'!M2,'Sales receipt'!B:B,'Sales receipt'!B4,'Sales receipt'!H:H,{"FEMALE","女"})) -> 378090 | I33: =SUM(SUMIFS('Sales receipt'!J:J,'Sales receipt'!M:M,'Sales receipt'!M2,'Sales receipt'!B:B,'Sales receipt'!B4,'Sales receipt'!H:H,{"FEMALE","女"})) -> 304 | K33: =G33/G34 -> 0.4611506 | O33: 女 | Q33: =SUM(SUMIFS('Sales receipt'!K:K,'Sales receipt'!M:M,'Sales receipt'!M4,'Sales receipt'!B:B,'Sales receipt'!B4,'Sales receipt'!H:H,{"FEMALE","女"})) -> 20345 | S33: =SUM(SUMIFS('Sales receipt'!J:J,'Sales receipt'!M:M,'Sales receipt'!M4,'Sales receipt'!B:B,'Sales receipt'!B4,'Sales receipt'!H:H,{"FEMALE","女"})) -> 15 | T33: =Q33/C4 -> 0.018409882
C34: Total | G34: =SUMIFS('Sales receipt'!K:K,'Sales receipt'!M:M,'Sales receipt'!M2,'Sales receipt'!B:B,'Sales receipt'!B4) -> 819884 | I34: =SUMIFS('Sales receipt'!J:J,'Sales receipt'!M:M,'Sales receipt'!M2,'Sales receipt'!B:B,'Sales receipt'!B4) -> 686 | K34: =G34/C4 -> 0.7419006 | O34: Total | Q34: =SUMIFS('Sales receipt'!K:K,'Sales receipt'!M:M,'Sales receipt'!M4,'Sales receipt'!B:B,'Sales receipt'!B4) -> 25563 | S34: =SUMIFS('Sales receipt'!J:J,'Sales receipt'!M:M,'Sales receipt'!M4,'Sales receipt'!B:B,'Sales receipt'!B4) -> 22 | T34: =Q34/C4 -> 0.023131571
B35: 鞋 | G35: =SUMIFS('Sales receipt'!K:K,'Sales receipt'!M:M,'Sales receipt'!M2,'Sales receipt'!B:B,'Sales receipt'!B6) -> 150528 | I35: =SUMIFS('Sales receipt'!J:J,'Sales receipt'!M:M,'Sales receipt'!M2,'Sales receipt'!B:B,'Sales receipt'!B6) -> 158 | K35: =G35/C4 -> 0.13621051 | M35: 鞋 | Q35: =SUMIFS('Sales receipt'!K:K,'Sales receipt'!M:M,'Sales receipt'!M4,'Sales receipt'!B:B,'Sales receipt'!B6) -> 68829 | S35: =SUMIFS('Sales receipt'!J:J,'Sales receipt'!M:M,'Sales receipt'!M4,'Sales receipt'!B:B,'Sales receipt'!B6) -> 77 | T35: =Q35/C4 -> 0.062282319
B36: 配件 | G36: =SUMIFS('Sales receipt'!K:K,'Sales receipt'!M:M,'Sales receipt'!M2,'Sales receipt'!B:B,'Sales receipt'!B5) -> 19122 | I36: =SUMIFS('Sales receipt'!J:J,'Sales receipt'!M:M,'Sales receipt'!M2,'Sales receipt'!B:B,'Sales receipt'!B5) -> 120 | K36: =G36/C4 -> 0.017303208 | M36: 配件 | Q36: =SUMIFS('Sales receipt'!K:K,'Sales receipt'!M:M,'Sales receipt'!M4,'Sales receipt'!B:B,'Sales receipt'!B5) -> 5190 | S36: =SUMIFS('Sales receipt'!J:J,'Sales receipt'!M:M,'Sales receipt'!M4,'Sales receipt'!B:B,'Sales receipt'!B5) -> 48 | T36: =Q36/C4 -> 0.0046963523
B40: / | C40: M1776 Derrick | E40: M0990 Mia | G40: M2767 Christy | I40: M2034 Joanna | K40: M2518 Silver | M40: M2521 Maggie | O40: M2710 Pan | Q40: M2720 Ceci | S40: M2921 Grace
C41: Sales | D41: Qty | E41: Sales | F41: Qty | G41: Sales | H41: Qty | I41: Sales | J41: Qty | K41: Sales | L41: Qty | M41: Sales | N41: Qty | O41: Sales | P41: Qty | Q41: Sales | R41: Qty | S41: Sales | T41: Qty
A42: 斐樂 大貨 | B42: APP | C42: =SUMIFS('Sales receipt'!K:K,'Sales receipt'!$M:$M,'Sales receipt'!M$2,'Sales receipt'!$A:$A,'Sales receipt'!$A$2,'Sales receipt'!$B:$B,'Sales receipt'!B4) -> 86043 | D42: =SUMIFS('Sales receipt'!$J:$J,'Sales receipt'!$M:$M,'Sales receipt'!$M$2,'Sales receipt'!$A:$A,'Sales receipt'!$A$2,'Sales receipt'!$B:$B,'Sales receipt'!B4) -> 64 | E42: =SUMIFS('Sales receipt'!K:K,'Sales receipt'!M:M,'Sales receipt'!M2,'Sales receipt'!A:A,'Sales receipt'!A3,'Sales receipt'!B:B,'Sales receipt'!B4) -> 125716 | F42: =SUMIFS('Sales receipt'!J:J,'Sales receipt'!M:M,'Sales receipt'!M2,'Sales receipt'!A:A,'Sales receipt'!A3,'Sales receipt'!B:B,'Sales receipt'!B4) -> 106 | G42: =SUMIFS('Sales receipt'!K:K,'Sales receipt'!M:M,'Sales receipt'!M2,'Sales receipt'!A:A,'Sales receipt'!A4,'Sales receipt'!B:B,'Sales receipt'!B4) -> 73560 | H42: =SUMIFS('Sales receipt'!J:J,'Sales receipt'!M:M,'Sales receipt'!M2,'Sales receipt'!A:A,'Sales receipt'!A4,'Sales receipt'!B:B,'Sales receipt'!B4) -> 64 | I42: =SUMIFS('Sales receipt'!K:K,'Sales receipt'!M:M,'Sales receipt'!M2,'Sales receipt'!A:A,'Sales receipt'!A5,'Sales receipt'!B:B,'Sales receipt'!B4) -> 113719 | J42: =SUMIFS('Sales receipt'!J:J,'Sales receipt'!M:M,'Sales receipt'!M2,'Sales receipt'!A:A,'Sales receipt'!A5,'Sales receipt'!B:B,'Sales receipt'!B4) -> 104 | K42: =SUMIFS('Sales receipt'!K:K,'Sales receipt'!M:M,'Sales receipt'!M2,'Sales receipt'!A:A,'Sales receipt'!A6,'Sales receipt'!B:B,'Sales receipt'!B4) -> 76632 | L42: =SUMIFS('Sales receipt'!J:J,'Sales receipt'!M:M,'Sales receipt'!M2,'Sales receipt'!A:A,'Sales receipt'!A6,'Sales receipt'!B:B,'Sales receipt'!B4) -> 63 | M42: =SUMIFS('Sales receipt'!K:K,'Sales receipt'!M:M,'Sales receipt'!M2,'Sales receipt'!A:A,'Sales receipt'!A7,'Sales receipt'!B:B,'Sales receipt'!B4) -> 58807 | N42: =SUMIFS('Sales receipt'!J:J,'Sales receipt'!M:M,'Sales receipt'!M2,'Sales receipt'!A:A,'Sales receipt'!A7,'Sales receipt'!B:B,'Sales receipt'!B4) -> 53 | O42: =SUMIFS('Sales receipt'!K:K,'Sales receipt'!M:M,'Sales receipt'!M2,'Sales receipt'!A:A,'Sales receipt'!A8,'Sales receipt'!B:B,'Sales receipt'!B4) -> 113548 | P42: =SUMIFS('Sales receipt'!J:J,'Sales receipt'!M:M,'Sales receipt'!M2,'Sales receipt'!A:A,'Sales receipt'!A8,'Sales receipt'!B:B,'Sales receipt'!B4) -> 89 | Q42: =SUMIFS('Sales receipt'!K:K,'Sales receipt'!M:M,'Sales receipt'!M2,'Sales receipt'!A:A,'Sales receipt'!A9,'Sales receipt'!B:B,'Sales receipt'!B4) -> 94822 | R42: =SUMIFS('Sales receipt'!J:J,'Sales receipt'!M:M,'Sales receipt'!M2,'Sales receipt'!A:A,'Sales receipt'!A9,'Sales receipt'!B:B,'Sales receipt'!B4) -> 79 | S42: =SUMIFS('Sales receipt'!K:K,'Sales receipt'!M:M,'Sales receipt'!M2,'Sales receipt'!A:A,'Sales receipt'!A10,'Sales receipt'!B:B,'Sales receipt'!B4) -> 77037 | T42: =SUMIFS('Sales receipt'!J:J,'Sales receipt'!M:M,'Sales receipt'!M2,'Sales receipt'!A:A,'Sales receipt'!A10,'Sales receipt'!B:B,'Sales receipt'!B4) -> 64
B43: ORIGINALE | C43: =SUMIFS('Sales receipt'!K:K,'Sales receipt'!M:M,'Sales receipt'!M2,'Sales receipt'!A:A,'Sales receipt'!A2,'Sales receipt'!B:B,'Sales receipt'!B4,'Sales receipt'!G:G,'Sales receipt'!G6) -> 7215 | D43: =SUMIFS('Sales receipt'!J:J,'Sales receipt'!M:M,'Sales receipt'!M2,'Sales receipt'!A:A,'Sales receipt'!A2,'Sales receipt'!B:B,'Sales receipt'!B4,'Sales receipt'!G:G,'Sales receipt'!G6) -> 6 | E43: =SUMIFS('Sales receipt'!K:K,'Sales receipt'!M:M,'Sales receipt'!M2,'Sales receipt'!A:A,'Sales receipt'!A3,'Sales receipt'!B:B,'Sales receipt'!B4,'Sales receipt'!G:G,'Sales receipt'!G6) -> 15565 | F43: =SUMIFS('Sales receipt'!J:J,'Sales receipt'!M:M,'Sales receipt'!M2,'Sales receipt'!A:A,'Sales receipt'!A3,'Sales receipt'!B:B,'Sales receipt'!B4,'Sales receipt'!G:G,'Sales receipt'!G6) -> 16 | G43: =SUMIFS('Sales receipt'!K:K,'Sales receipt'!M:M,'Sales receipt'!M2,'Sales receipt'!A:A,'Sales receipt'!A4,'Sales receipt'!B:B,'Sales receipt'!B4,'Sales receipt'!G:G,'Sales receipt'!G6) -> 16324 | H43: =SUMIFS('Sales receipt'!J:J,'Sales receipt'!M:M,'Sales receipt'!M2,'Sales receipt'!A:A,'Sales receipt'!A4,'Sales receipt'!B:B,'Sales receipt'!B4,'Sales receipt'!G:G,'Sales receipt'!G6) -> 14 | I43: =SUMIFS('Sales receipt'!K:K,'Sales receipt'!M:M,'Sales receipt'!M2,'Sales receipt'!A:A,'Sales receipt'!A5,'Sales receipt'!B:B,'Sales receipt'!B4,'Sales receipt'!G:G,'Sales receipt'!G6) -> 7749 | J43: =SUMIFS('Sales receipt'!J:J,'Sales receipt'!M:M,'Sales receipt'!M2,'Sales receipt'!A:A,'Sales receipt'!A5,'Sales receipt'!B:B,'Sales receipt'!B4,'Sales receipt'!G:G,'Sales receipt'!G6) -> 11 | K43: =SUMIFS('Sales receipt'!K:K,'Sales receipt'!M:M,'Sales receipt'!M2,'Sales receipt'!A:A,'Sales receipt'!A6,'Sales receipt'!B:B,'Sales receipt'!B4,'Sales receipt'!G:G,'Sales receipt'!G6) -> 4144 | L43: =SUMIFS('Sales receipt'!J:J,'Sales receipt'!M:M,'Sales receipt'!M2,'Sales receipt'!A:A,'Sales receipt'!A6,'Sales receipt'!B:B,'Sales receipt'!B4,'Sales receipt'!G:G,'Sales receipt'!G6) -> 4 | M43: =SUMIFS('Sales receipt'!K:K,'Sales receipt'!M:M,'Sales receipt'!M2,'Sales receipt'!A:A,'Sales receipt'!A7,'Sales receipt'!B:B,'Sales receipt'!B4,'Sales receipt'!G:G,'Sales receipt'!G6) -> 5087 | N43: =SUMIFS('Sales receipt'!J:J,'Sales receipt'!M:M,'Sales receipt'!M2,'Sales receipt'!A:A,'Sales receipt'!A7,'Sales receipt'!B:B,'Sales receipt'!B4,'Sales receipt'!G:G,'Sales receipt'!G6) -> 6 | O43: =SUMIFS('Sales receipt'!K:K,'Sales receipt'!M:M,'Sales receipt'!M2,'Sales receipt'!A:A,'Sales receipt'!A8,'Sales receipt'!B:B,'Sales receipt'!B4,'Sales receipt'!G:G,'Sales receipt'!G6) -> 3397 | P43: =SUMIFS('Sales receipt'!J:J,'Sales receipt'!M:M,'Sales receipt'!M2,'Sales receipt'!A:A,'Sales receipt'!A8,'Sales receipt'!B:B,'Sales receipt'!B4,'Sales receipt'!G:G,'Sales receipt'!G6) -> 4 | Q43: =SUMIFS('Sales receipt'!K:K,'Sales receipt'!M:M,'Sales receipt'!M2,'Sales receipt'!A:A,'Sales receipt'!A9,'Sales receipt'!B:B,'Sales receipt'!B4,'Sales receipt'!G:G,'Sales receipt'!G6) -> 8299 | R43: =SUMIFS('Sales receipt'!J:J,'Sales receipt'!M:M,'Sales receipt'!M2,'Sales receipt'!A:A,'Sales receipt'!A9,'Sales receipt'!B:B,'Sales receipt'!B4,'Sales receipt'!G:G,'Sales receipt'!G6) -> 9 | S43: =SUMIFS('Sales receipt'!K:K,'Sales receipt'!M:M,'Sales receipt'!M2,'Sales receipt'!A:A,'Sales receipt'!A10,'Sales receipt'!B:B,'Sales receipt'!B4,'Sales receipt'!G:G,'Sales receipt'!G6) -> 5253 | T43: =SUMIFS('Sales receipt'!J:J,'Sales receipt'!M:M,'Sales receipt'!M2,'Sales receipt'!A:A,'Sales receipt'!A10,'Sales receipt'!B:B,'Sales receipt'!B4,'Sales receipt'!G:G,'Sales receipt'!G6) -> 5
B44: HERITAGE | C44: =SUMIFS('Sales receipt'!K:K,'Sales receipt'!M:M,'Sales receipt'!M2,'Sales receipt'!A:A,'Sales receipt'!A2,'Sales receipt'!B:B,'Sales receipt'!B4,'Sales receipt'!G:G,'Sales receipt'!G9) -> 9502 | D44: =SUMIFS('Sales receipt'!J:J,'Sales receipt'!M:M,'Sales receipt'!M2,'Sales receipt'!A:A,'Sales receipt'!A2,'Sales receipt'!B:B,'Sales receipt'!B4,'Sales receipt'!G:G,'Sales receipt'!G9) -> 11 | E44: =SUMIFS('Sales receipt'!K:K,'Sales receipt'!M:M,'Sales receipt'!M2,'Sales receipt'!A:A,'Sales receipt'!A3,'Sales receipt'!B:B,'Sales receipt'!B4,'Sales receipt'!G:G,'Sales receipt'!G9) -> 21838 | F44: =SUMIFS('Sales receipt'!J:J,'Sales receipt'!M:M,'Sales receipt'!M2,'Sales receipt'!A:A,'Sales receipt'!A3,'Sales receipt'!B:B,'Sales receipt'!B4,'Sales receipt'!G:G,'Sales receipt'!G9) -> 25 | G44: =SUMIFS('Sales receipt'!K:K,'Sales receipt'!M:M,'Sales receipt'!M2,'Sales receipt'!A:A,'Sales receipt'!A4,'Sales receipt'!B:B,'Sales receipt'!B4,'Sales receipt'!G:G,'Sales receipt'!G9) -> 10323 | H44: =SUMIFS('Sales receipt'!J:J,'Sales receipt'!M:M,'Sales receipt'!M2,'Sales receipt'!A:A,'Sales receipt'!A4,'Sales receipt'!B:B,'Sales receipt'!B4,'Sales receipt'!G:G,'Sales receipt'!G9) -> 11 | I44: =SUMIFS('Sales receipt'!K:K,'Sales receipt'!M:M,'Sales receipt'!M2,'Sales receipt'!A:A,'Sales receipt'!A5,'Sales receipt'!B:B,'Sales receipt'!B4,'Sales receipt'!G:G,'Sales receipt'!G9) -> 18534 | J44: =SUMIFS('Sales receipt'!J:J,'Sales receipt'!M:M,'Sales receipt'!M2,'Sales receipt'!A:A,'Sales receipt'!A5,'Sales receipt'!B:B,'Sales receipt'!B4,'Sales receipt'!G:G,'Sales receipt'!G9) -> 22 | K44: =SUMIFS('Sales receipt'!K:K,'Sales receipt'!M:M,'Sales receipt'!M2,'Sales receipt'!A:A,'Sales receipt'!A6,'Sales receipt'!B:B,'Sales receipt'!B4,'Sales receipt'!G:G,'Sales receipt'!G9) -> 10056 | L44: =SUMIFS('Sales receipt'!J:J,'Sales receipt'!M:M,'Sales receipt'!M2,'Sales receipt'!A:A,'Sales receipt'!A6,'Sales receipt'!B:B,'Sales receipt'!B4,'Sales receipt'!G:G,'Sales receipt'!G9) -> 11 | M44: =SUMIFS('Sales receipt'!K:K,'Sales receipt'!M:M,'Sales receipt'!M2,'Sales receipt'!A:A,'Sales receipt'!A7,'Sales receipt'!B:B,'Sales receipt'!B4,'Sales receipt'!G:G,'Sales receipt'!G9) -> 8001 | N44: =SUMIFS('Sales receipt'!J:J,'Sales receipt'!M:M,'Sales receipt'!M2,'Sales receipt'!A:A,'Sales receipt'!A7,'Sales receipt'!B:B,'Sales receipt'!B4,'Sales receipt'!G:G,'Sales receipt'!G9) -> 10 | O44: =SUMIFS('Sales receipt'!K:K,'Sales receipt'!M:M,'Sales receipt'!M2,'Sales receipt'!A:A,'Sales receipt'!A8,'Sales receipt'!B:B,'Sales receipt'!B4,'Sales receipt'!G:G,'Sales receipt'!G9) -> 8868 | P44: =SUMIFS('Sales receipt'!J:J,'Sales receipt'!M:M,'Sales receipt'!M2,'Sales receipt'!A:A,'Sales receipt'!A8,'Sales receipt'!B:B,'Sales receipt'!B4,'Sales receipt'!G:G,'Sales receipt'!G9) -> 10 | Q44: =SUMIFS('Sales receipt'!K:K,'Sales receipt'!M:M,'Sales receipt'!M2,'Sales receipt'!A:A,'Sales receipt'!A9,'Sales receipt'!B:B,'Sales receipt'!B4,'Sales receipt'!G:G,'Sales receipt'!G9) -> 14788 | R44: =SUMIFS('Sales receipt'!J:J,'Sales receipt'!M:M,'Sales receipt'!M2,'Sales receipt'!A:A,'Sales receipt'!A9,'Sales receipt'!B:B,'Sales receipt'!B4,'Sales receipt'!G:G,'Sales receipt'!G9) -> 16 | S44: =SUMIFS('Sales receipt'!K:K,'Sales receipt'!M:M,'Sales receipt'!M2,'Sales receipt'!A:A,'Sales receipt'!A10,'Sales receipt'!B:B,'Sales receipt'!B4,'Sales receipt'!G:G,'Sales receipt'!G9) -> 10256 | T44: =SUMIFS('Sales receipt'!J:J,'Sales receipt'!M:M,'Sales receipt'!M2,'Sales receipt'!A:A,'Sales receipt'!A10,'Sales receipt'!B:B,'Sales receipt'!B4,'Sales receipt'!G:G,'Sales receipt'!G9) -> 12
B45: WHITE | C45: =SUMIFS('Sales receipt'!K:K,'Sales receipt'!M:M,'Sales receipt'!M2,'Sales receipt'!A:A,'Sales receipt'!A2,'Sales receipt'!B:B,'Sales receipt'!B4,'Sales receipt'!G:G,'Sales receipt'!G17) -> 10724 | D45: =SUMIFS('Sales receipt'!J:J,'Sales receipt'!M:M,'Sales receipt'!M2,'Sales receipt'!A:A,'Sales receipt'!A2,'Sales receipt'!B:B,'Sales receipt'!B4,'Sales receipt'!G:G,'Sales receipt'!G17) -> 7 | E45: =SUMIFS('Sales receipt'!K:K,'Sales receipt'!M:M,'Sales receipt'!M2,'Sales receipt'!A:A,'Sales receipt'!A3,'Sales receipt'!B:B,'Sales receipt'!B4,'Sales receipt'!G:G,'Sales receipt'!G17) -> 16894 | F45: =SUMIFS('Sales receipt'!J:J,'Sales receipt'!M:M,'Sales receipt'!M2,'Sales receipt'!A:A,'Sales receipt'!A3,'Sales receipt'!B:B,'Sales receipt'!B4,'Sales receipt'!G:G,'Sales receipt'!G17) -> 15 | G45: =SUMIFS('Sales receipt'!K:K,'Sales receipt'!M:M,'Sales receipt'!M2,'Sales receipt'!A:A,'Sales receipt'!A4,'Sales receipt'!B:B,'Sales receipt'!B4,'Sales receipt'!G:G,'Sales receipt'!G17) -> 18036 | H45: =SUMIFS('Sales receipt'!J:J,'Sales receipt'!M:M,'Sales receipt'!M2,'Sales receipt'!A:A,'Sales receipt'!A4,'Sales receipt'!B:B,'Sales receipt'!B4,'Sales receipt'!G:G,'Sales receipt'!G17) -> 17 | I45: =SUMIFS('Sales receipt'!K:K,'Sales receipt'!M:M,'Sales receipt'!M2,'Sales receipt'!A:A,'Sales receipt'!A5,'Sales receipt'!B:B,'Sales receipt'!B4,'Sales receipt'!G:G,'Sales receipt'!G17) -> 20925 | J45: =SUMIFS('Sales receipt'!J:J,'Sales receipt'!M:M,'Sales receipt'!M2,'Sales receipt'!A:A,'Sales receipt'!A5,'Sales receipt'!B:B,'Sales receipt'!B4,'Sales receipt'!G:G,'Sales receipt'!G17) -> 20 | K45: =SUMIFS('Sales receipt'!K:K,'Sales receipt'!M:M,'Sales receipt'!M2,'Sales receipt'!A:A,'Sales receipt'!A6,'Sales receipt'!B:B,'Sales receipt'!B4,'Sales receipt'!G:G,'Sales receipt'!G17) -> 14508 | L45: =SUMIFS('Sales receipt'!J:J,'Sales receipt'!M:M,'Sales receipt'!M2,'Sales receipt'!A:A,'Sales receipt'!A6,'Sales receipt'!B:B,'Sales receipt'!B4,'Sales receipt'!G:G,'Sales receipt'!G17) -> 11 | M45: =SUMIFS('Sales receipt'!K:K,'Sales receipt'!M:M,'Sales receipt'!M2,'Sales receipt'!A:A,'Sales receipt'!A7,'Sales receipt'!B:B,'Sales receipt'!B4,'Sales receipt'!G:G,'Sales receipt'!G17) -> 13223 | N45: =SUMIFS('Sales receipt'!J:J,'Sales receipt'!M:M,'Sales receipt'!M2,'Sales receipt'!A:A,'Sales receipt'!A7,'Sales receipt'!B:B,'Sales receipt'!B4,'Sales receipt'!G:G,'Sales receipt'!G17) -> 15 | O45: =SUMIFS('Sales receipt'!K:K,'Sales receipt'!M:M,'Sales receipt'!M2,'Sales receipt'!A:A,'Sales receipt'!A8,'Sales receipt'!B:B,'Sales receipt'!B4,'Sales receipt'!G:G,'Sales receipt'!G17) -> 18020 | P45: =SUMIFS('Sales receipt'!J:J,'Sales receipt'!M:M,'Sales receipt'!M2,'Sales receipt'!A:A,'Sales receipt'!A8,'Sales receipt'!B:B,'Sales receipt'!B4,'Sales receipt'!G:G,'Sales receipt'!G17) -> 15 | Q45: =SUMIFS('Sales receipt'!K:K,'Sales receipt'!M:M,'Sales receipt'!M2,'Sales receipt'!A:A,'Sales receipt'!A9,'Sales receipt'!B:B,'Sales receipt'!B4,'Sales receipt'!G:G,'Sales receipt'!G17) -> 11693 | R45: =SUMIFS('Sales receipt'!J:J,'Sales receipt'!M:M,'Sales receipt'!M2,'Sales receipt'!A:A,'Sales receipt'!A9,'Sales receipt'!B:B,'Sales receipt'!B4,'Sales receipt'!G:G,'Sales receipt'!G17) -> 12 | S45: =SUMIFS('Sales receipt'!K:K,'Sales receipt'!M:M,'Sales receipt'!M2,'Sales receipt'!A:A,'Sales receipt'!A10,'Sales receipt'!B:B,'Sales receipt'!B4,'Sales receipt'!G:G,'Sales receipt'!G17) -> 13282 | T45: =SUMIFS('Sales receipt'!J:J,'Sales receipt'!M:M,'Sales receipt'!M2,'Sales receipt'!A:A,'Sales receipt'!A10,'Sales receipt'!B:B,'Sales receipt'!B4,'Sales receipt'!G:G,'Sales receipt'!G17) -> 11
B46: BLUE | C46: =SUMIFS('Sales receipt'!K:K,'Sales receipt'!M:M,'Sales receipt'!M2,'Sales receipt'!A:A,'Sales receipt'!A2,'Sales receipt'!B:B,'Sales receipt'!B4,'Sales receipt'!G:G,'Sales receipt'!G3) -> 8020 | D46: =SUMIFS('Sales receipt'!J:J,'Sales receipt'!M:M,'Sales receipt'!M2,'Sales receipt'!A:A,'Sales receipt'!A2,'Sales receipt'!B:B,'Sales receipt'!B4,'Sales receipt'!G:G,'Sales receipt'!G3) -> 4 | E46: =SUMIFS('Sales receipt'!K:K,'Sales receipt'!M:M,'Sales receipt'!M2,'Sales receipt'!A:A,'Sales receipt'!A3,'Sales receipt'!B:B,'Sales receipt'!B4,'Sales receipt'!G:G,'Sales receipt'!G3) -> 2506 | F46: =SUMIFS('Sales receipt'!J:J,'Sales receipt'!M:M,'Sales receipt'!M2,'Sales receipt'!A:A,'Sales receipt'!A3,'Sales receipt'!B:B,'Sales receipt'!B4,'Sales receipt'!G:G,'Sales receipt'!G3) -> 2 | G46: =SUMIFS('Sales receipt'!K:K,'Sales receipt'!M:M,'Sales receipt'!M2,'Sales receipt'!A:A,'Sales receipt'!A4,'Sales receipt'!B:B,'Sales receipt'!B4,'Sales receipt'!G:G,'Sales receipt'!G3) -> 3268 | H46: =SUMIFS('Sales receipt'!J:J,'Sales receipt'!M:M,'Sales receipt'!M2,'Sales receipt'!A:A,'Sales receipt'!A4,'Sales receipt'!B:B,'Sales receipt'!B4,'Sales receipt'!G:G,'Sales receipt'!G3) -> 2 | I46: =SUMIFS('Sales receipt'!K:K,'Sales receipt'!M:M,'Sales receipt'!M2,'Sales receipt'!A:A,'Sales receipt'!A5,'Sales receipt'!B:B,'Sales receipt'!B4,'Sales receipt'!G:G,'Sales receipt'!G3) -> 1649 | J46: =SUMIFS('Sales receipt'!J:J,'Sales receipt'!M:M,'Sales receipt'!M2,'Sales receipt'!A:A,'Sales receipt'!A5,'Sales receipt'!B:B,'Sales receipt'!B4,'Sales receipt'!G:G,'Sales receipt'!G3) -> 1 | K46: =SUMIFS('Sales receipt'!K:K,'Sales receipt'!M:M,'Sales receipt'!M2,'Sales receipt'!A:A,'Sales receipt'!A6,'Sales receipt'!B:B,'Sales receipt'!B4,'Sales receipt'!G:G,'Sales receipt'!G3) -> 3280 | L46: =SUMIFS('Sales receipt'!J:J,'Sales receipt'!M:M,'Sales receipt'!M2,'Sales receipt'!A:A,'Sales receipt'!A6,'Sales receipt'!B:B,'Sales receipt'!B4,'Sales receipt'!G:G,'Sales receipt'!G3) -> 1 | M46: =SUMIFS('Sales receipt'!K:K,'Sales receipt'!M:M,'Sales receipt'!M2,'Sales receipt'!A:A,'Sales receipt'!A7,'Sales receipt'!B:B,'Sales receipt'!B4,'Sales receipt'!G:G,'Sales receipt'!G3) -> 3363 | N46: =SUMIFS('Sales receipt'!J:J,'Sales receipt'!M:M,'Sales receipt'!M2,'Sales receipt'!A:A,'Sales receipt'!A7,'Sales receipt'!B:B,'Sales receipt'!B4,'Sales receipt'!G:G,'Sales receipt'!G3) -> 2 | O46: =SUMIFS('Sales receipt'!K:K,'Sales receipt'!M:M,'Sales receipt'!M2,'Sales receipt'!A:A,'Sales receipt'!A8,'Sales receipt'!B:B,'Sales receipt'!B4,'Sales receipt'!G:G,'Sales receipt'!G3) -> 10341 | P46: =SUMIFS('Sales receipt'!J:J,'Sales receipt'!M:M,'Sales receipt'!M2,'Sales receipt'!A:A,'Sales receipt'!A8,'Sales receipt'!B:B,'Sales receipt'!B4,'Sales receipt'!G:G,'Sales receipt'!G3) -> 5 | Q46: =SUMIFS('Sales receipt'!K:K,'Sales receipt'!M:M,'Sales receipt'!M2,'Sales receipt'!A:A,'Sales receipt'!A9,'Sales receipt'!B:B,'Sales receipt'!B4,'Sales receipt'!G:G,'Sales receipt'!G3) -> 6636 | R46: =SUMIFS('Sales receipt'!J:J,'Sales receipt'!M:M,'Sales receipt'!M2,'Sales receipt'!A:A,'Sales receipt'!A9,'Sales receipt'!B:B,'Sales receipt'!B4,'Sales receipt'!G:G,'Sales receipt'!G3) -> 4 | S46: =SUMIFS('Sales receipt'!K:K,'Sales receipt'!M:M,'Sales receipt'!M2,'Sales receipt'!A:A,'Sales receipt'!A10,'Sales receipt'!B:B,'Sales receipt'!B4,'Sales receipt'!G:G,'Sales receipt'!G3) -> 1935 | T46: =SUMIFS('Sales receipt'!J:J,'Sales receipt'!M:M,'Sales receipt'!M2,'Sales receipt'!A:A,'Sales receipt'!A10,'Sales receipt'!B:B,'Sales receipt'!B4,'Sales receipt'!G:G,'Sales receipt'!G3) -> 2
B47: FITNESS | C47: =SUMIFS('Sales receipt'!K:K,'Sales receipt'!M:M,'Sales receipt'!M2,'Sales receipt'!A:A,'Sales receipt'!A2,'Sales receipt'!B:B,'Sales receipt'!B4,'Sales receipt'!G:G,'Sales receipt'!G7) -> 4374 | D47: =SUMIFS('Sales receipt'!J:J,'Sales receipt'!M:M,'Sales receipt'!M2,'Sales receipt'!A:A,'Sales receipt'!A2,'Sales receipt'!B:B,'Sales receipt'!B4,'Sales receipt'!G:G,'Sales receipt'!G7) -> 5 | E47: =SUMIFS('Sales receipt'!K:K,'Sales receipt'!M:M,'Sales receipt'!M2,'Sales receipt'!A:A,'Sales receipt'!A3,'Sales receipt'!B:B,'Sales receipt'!B4,'Sales receipt'!G:G,'Sales receipt'!G7) -> 16736 | F47: =SUMIFS('Sales receipt'!J:J,'Sales receipt'!M:M,'Sales receipt'!M2,'Sales receipt'!A:A,'Sales receipt'!A3,'Sales receipt'!B:B,'Sales receipt'!B4,'Sales receipt'!G:G,'Sales receipt'!G7) -> 16 | G47: =SUMIFS('Sales receipt'!K:K,'Sales receipt'!M:M,'Sales receipt'!M2,'Sales receipt'!A:A,'Sales receipt'!A4,'Sales receipt'!B:B,'Sales receipt'!B4,'Sales receipt'!G:G,'Sales receipt'!G7) -> 5996 | H47: =SUMIFS('Sales receipt'!J:J,'Sales receipt'!M:M,'Sales receipt'!M2,'Sales receipt'!A:A,'Sales receipt'!A4,'Sales receipt'!B:B,'Sales receipt'!B4,'Sales receipt'!G:G,'Sales receipt'!G7) -> 7 | I47: =SUMIFS('Sales receipt'!K:K,'Sales receipt'!M:M,'Sales receipt'!M2,'Sales receipt'!A:A,'Sales receipt'!A5,'Sales receipt'!B:B,'Sales receipt'!B4,'Sales receipt'!G:G,'Sales receipt'!G7) -> 14412 | J47: =SUMIFS('Sales receipt'!J:J,'Sales receipt'!M:M,'Sales receipt'!M2,'Sales receipt'!A:A,'Sales receipt'!A5,'Sales receipt'!B:B,'Sales receipt'!B4,'Sales receipt'!G:G,'Sales receipt'!G7) -> 16 | K47: =SUMIFS('Sales receipt'!K:K,'Sales receipt'!M:M,'Sales receipt'!M2,'Sales receipt'!A:A,'Sales receipt'!A6,'Sales receipt'!B:B,'Sales receipt'!B4,'Sales receipt'!G:G,'Sales receipt'!G7) -> 10502 | L47: =SUMIFS('Sales receipt'!J:J,'Sales receipt'!M:M,'Sales receipt'!M2,'Sales receipt'!A:A,'Sales receipt'!A6,'Sales receipt'!B:B,'Sales receipt'!B4,'Sales receipt'!G:G,'Sales receipt'!G7) -> 12 | M47: =SUMIFS('Sales receipt'!K:K,'Sales receipt'!M:M,'Sales receipt'!M2,'Sales receipt'!A:A,'Sales receipt'!A7,'Sales receipt'!B:B,'Sales receipt'!B4,'Sales receipt'!G:G,'Sales receipt'!G7) -> 2014 | N47: =SUMIFS('Sales receipt'!J:J,'Sales receipt'!M:M,'Sales receipt'!M2,'Sales receipt'!A:A,'Sales receipt'!A7,'Sales receipt'!B:B,'Sales receipt'!B4,'Sales receipt'!G:G,'Sales receipt'!G7) -> 3 | O47: =SUMIFS('Sales receipt'!K:K,'Sales receipt'!M:M,'Sales receipt'!M2,'Sales receipt'!A:A,'Sales receipt'!A8,'Sales receipt'!B:B,'Sales receipt'!B4,'Sales receipt'!G:G,'Sales receipt'!G7) -> 12617 | P47: =SUMIFS('Sales receipt'!J:J,'Sales receipt'!M:M,'Sales receipt'!M2,'Sales receipt'!A:A,'Sales receipt'!A8,'Sales receipt'!B:B,'Sales receipt'!B4,'Sales receipt'!G:G,'Sales receipt'!G7) -> 15 | Q47: =SUMIFS('Sales receipt'!K:K,'Sales receipt'!M:M,'Sales receipt'!M2,'Sales receipt'!A:A,'Sales receipt'!A9,'Sales receipt'!B:B,'Sales receipt'!B4,'Sales receipt'!G:G,'Sales receipt'!G7) -> 5727 | R47: =SUMIFS('Sales receipt'!J:J,'Sales receipt'!M:M,'Sales receipt'!M2,'Sales receipt'!A:A,'Sales receipt'!A9,'Sales receipt'!B:B,'Sales receipt'!B4,'Sales receipt'!G:G,'Sales receipt'!G7) -> 7 | S47: =SUMIFS('Sales receipt'!K:K,'Sales receipt'!M:M,'Sales receipt'!M2,'Sales receipt'!A:A,'Sales receipt'!A10,'Sales receipt'!B:B,'Sales receipt'!B4,'Sales receipt'!G:G,'Sales receipt'!G7) -> 6673 | T47: =SUMIFS('Sales receipt'!J:J,'Sales receipt'!M:M,'Sales receipt'!M2,'Sales receipt'!A:A,'Sales receipt'!A10,'Sales receipt'!B:B,'Sales receipt'!B4,'Sales receipt'!G:G,'Sales receipt'!G7) -> 8
B48: A.P. | C48: =SUMIFS('Sales receipt'!K:K,'Sales receipt'!M:M,'Sales receipt'!M2,'Sales receipt'!A:A,'Sales receipt'!A2,'Sales receipt'!B:B,'Sales receipt'!B4,'Sales receipt'!G:G,'Sales receipt'!G2) -> 0 | D48: =SUMIFS('Sales receipt'!J:J,'Sales receipt'!M:M,'Sales receipt'!M2,'Sales receipt'!A:A,'Sales receipt'!A2,'Sales receipt'!B:B,'Sales receipt'!B4,'Sales receipt'!G:G,'Sales receipt'!G2) -> 0 | E48: =SUMIFS('Sales receipt'!K:K,'Sales receipt'!M:M,'Sales receipt'!M2,'Sales receipt'!A:A,'Sales receipt'!A3,'Sales receipt'!B:B,'Sales receipt'!B4,'Sales receipt'!G:G,'Sales receipt'!G2) -> 833 | F48: =SUMIFS('Sales receipt'!J:J,'Sales receipt'!M:M,'Sales receipt'!M2,'Sales receipt'!A:A,'Sales receipt'!A3,'Sales receipt'!B:B,'Sales receipt'!B4,'Sales receipt'!G:G,'Sales receipt'!G2) -> 1 | G48: =SUMIFS('Sales receipt'!K:K,'Sales receipt'!M:M,'Sales receipt'!M2,'Sales receipt'!A:A,'Sales receipt'!A4,'Sales receipt'!B:B,'Sales receipt'!B4,'Sales receipt'!G:G,'Sales receipt'!G2) -> 0 | H48: =SUMIFS('Sales receipt'!J:J,'Sales receipt'!M:M,'Sales receipt'!M2,'Sales receipt'!A:A,'Sales receipt'!A4,'Sales receipt'!B:B,'Sales receipt'!B4,'Sales receipt'!G:G,'Sales receipt'!G2) -> 0 | I48: =SUMIFS('Sales receipt'!K:K,'Sales receipt'!M:M,'Sales receipt'!M2,'Sales receipt'!A:A,'Sales receipt'!A5,'Sales receipt'!B:B,'Sales receipt'!B4,'Sales receipt'!G:G,'Sales receipt'!G2) -> 0 | J48: =SUMIFS('Sales receipt'!J:J,'Sales receipt'!M:M,'Sales receipt'!M2,'Sales receipt'!A:A,'Sales receipt'!A5,'Sales receipt'!B:B,'Sales receipt'!B4,'Sales receipt'!G:G,'Sales receipt'!G2) -> 0 | K48: =SUMIFS('Sales receipt'!K:K,'Sales receipt'!M:M,'Sales receipt'!M2,'Sales receipt'!A:A,'Sales receipt'!A6,'Sales receipt'!B:B,'Sales receipt'!B4,'Sales receipt'!G:G,'Sales receipt'!G2) -> 0 | L48: =SUMIFS('Sales receipt'!J:J,'Sales receipt'!M:M,'Sales receipt'!M2,'Sales receipt'!A:A,'Sales receipt'!A6,'Sales receipt'!B:B,'Sales receipt'!B4,'Sales receipt'!G:G,'Sales receipt'!G2) -> 0 | M48: =SUMIFS('Sales receipt'!K:K,'Sales receipt'!M:M,'Sales receipt'!M2,'Sales receipt'!A:A,'Sales receipt'!A7,'Sales receipt'!B:B,'Sales receipt'!B4,'Sales receipt'!G:G,'Sales receipt'!G2) -> 0 | N48: =SUMIFS('Sales receipt'!J:J,'Sales receipt'!M:M,'Sales receipt'!M2,'Sales receipt'!A:A,'Sales receipt'!A7,'Sales receipt'!B:B,'Sales receipt'!B4,'Sales receipt'!G:G,'Sales receipt'!G2) -> 0 | O48: =SUMIFS('Sales receipt'!K:K,'Sales receipt'!M:M,'Sales receipt'!M2,'Sales receipt'!A:A,'Sales receipt'!A8,'Sales receipt'!B:B,'Sales receipt'!B4,'Sales receipt'!G:G,'Sales receipt'!G2) -> 2515 | P48: =SUMIFS('Sales receipt'!J:J,'Sales receipt'!M:M,'Sales receipt'!M2,'Sales receipt'!A:A,'Sales receipt'!A8,'Sales receipt'!B:B,'Sales receipt'!B4,'Sales receipt'!G:G,'Sales receipt'!G2) -> 3 | Q48: =SUMIFS('Sales receipt'!K:K,'Sales receipt'!M:M,'Sales receipt'!M2,'Sales receipt'!A:A,'Sales receipt'!A9,'Sales receipt'!B:B,'Sales receipt'!B4,'Sales receipt'!G:G,'Sales receipt'!G2) -> 0 | R48: =SUMIFS('Sales receipt'!J:J,'Sales receipt'!M:M,'Sales receipt'!M2,'Sales receipt'!A:A,'Sales receipt'!A9,'Sales receipt'!B:B,'Sales receipt'!B4,'Sales receipt'!G:G,'Sales receipt'!G2) -> 0 | S48: =SUMIFS('Sales receipt'!K:K,'Sales receipt'!M:M,'Sales receipt'!M2,'Sales receipt'!A:A,'Sales receipt'!A10,'Sales receipt'!B:B,'Sales receipt'!B4,'Sales receipt'!G:G,'Sales receipt'!G2) -> 0 | T48: =SUMIFS('Sales receipt'!J:J,'Sales receipt'!M:M,'Sales receipt'!M2,'Sales receipt'!A:A,'Sales receipt'!A10,'Sales receipt'!B:B,'Sales receipt'!B4,'Sales receipt'!G:G,'Sales receipt'!G2) -> 0
B49: GOLF | C49: =SUMIFS('Sales receipt'!K:K,'Sales receipt'!M:M,'Sales receipt'!M2,'Sales receipt'!A:A,'Sales receipt'!A2,'Sales receipt'!B:B,'Sales receipt'!B4,'Sales receipt'!G:G,'Sales receipt'!G8) -> 30346 | D49: =SUMIFS('Sales receipt'!J:J,'Sales receipt'!M:M,'Sales receipt'!M2,'Sales receipt'!A:A,'Sales receipt'!A2,'Sales receipt'!B:B,'Sales receipt'!B4,'Sales receipt'!G:G,'Sales receipt'!G8) -> 18 | E49: =SUMIFS('Sales receipt'!K:K,'Sales receipt'!M:M,'Sales receipt'!M2,'Sales receipt'!A:A,'Sales receipt'!A3,'Sales receipt'!B:B,'Sales receipt'!B4,'Sales receipt'!G:G,'Sales receipt'!G8) -> 29639 | F49: =SUMIFS('Sales receipt'!J:J,'Sales receipt'!M:M,'Sales receipt'!M2,'Sales receipt'!A:A,'Sales receipt'!A3,'Sales receipt'!B:B,'Sales receipt'!B4,'Sales receipt'!G:G,'Sales receipt'!G8) -> 17 | G49: =SUMIFS('Sales receipt'!K:K,'Sales receipt'!M:M,'Sales receipt'!M2,'Sales receipt'!A:A,'Sales receipt'!A4,'Sales receipt'!B:B,'Sales receipt'!B4,'Sales receipt'!G:G,'Sales receipt'!G8) -> 13852 | H49: =SUMIFS('Sales receipt'!J:J,'Sales receipt'!M:M,'Sales receipt'!M2,'Sales receipt'!A:A,'Sales receipt'!A4,'Sales receipt'!B:B,'Sales receipt'!B4,'Sales receipt'!G:G,'Sales receipt'!G8) -> 9 | I49: =SUMIFS('Sales receipt'!K:K,'Sales receipt'!M:M,'Sales receipt'!M2,'Sales receipt'!A:A,'Sales receipt'!A5,'Sales receipt'!B:B,'Sales receipt'!B4,'Sales receipt'!G:G,'Sales receipt'!G8) -> 31394 | J49: =SUMIFS('Sales receipt'!J:J,'Sales receipt'!M:M,'Sales receipt'!M2,'Sales receipt'!A:A,'Sales receipt'!A5,'Sales receipt'!B:B,'Sales receipt'!B4,'Sales receipt'!G:G,'Sales receipt'!G8) -> 19 | K49: =SUMIFS('Sales receipt'!K:K,'Sales receipt'!M:M,'Sales receipt'!M2,'Sales receipt'!A:A,'Sales receipt'!A6,'Sales receipt'!B:B,'Sales receipt'!B4,'Sales receipt'!G:G,'Sales receipt'!G8) -> 16816 | L49: =SUMIFS('Sales receipt'!J:J,'Sales receipt'!M:M,'Sales receipt'!M2,'Sales receipt'!A:A,'Sales receipt'!A6,'Sales receipt'!B:B,'Sales receipt'!B4,'Sales receipt'!G:G,'Sales receipt'!G8) -> 12 | M49: =SUMIFS('Sales receipt'!K:K,'Sales receipt'!M:M,'Sales receipt'!M2,'Sales receipt'!A:A,'Sales receipt'!A7,'Sales receipt'!B:B,'Sales receipt'!B4,'Sales receipt'!G:G,'Sales receipt'!G8) -> 26541 | N49: =SUMIFS('Sales receipt'!J:J,'Sales receipt'!M:M,'Sales receipt'!M2,'Sales receipt'!A:A,'Sales receipt'!A7,'Sales receipt'!B:B,'Sales receipt'!B4,'Sales receipt'!G:G,'Sales receipt'!G8) -> 16 | O49: =SUMIFS('Sales receipt'!K:K,'Sales receipt'!M:M,'Sales receipt'!M2,'Sales receipt'!A:A,'Sales receipt'!A8,'Sales receipt'!B:B,'Sales receipt'!B4,'Sales receipt'!G:G,'Sales receipt'!G8) -> 39374 | P49: =SUMIFS('Sales receipt'!J:J,'Sales receipt'!M:M,'Sales receipt'!M2,'Sales receipt'!A:A,'Sales receipt'!A8,'Sales receipt'!B:B,'Sales receipt'!B4,'Sales receipt'!G:G,'Sales receipt'!G8) -> 25 | Q49: =SUMIFS('Sales receipt'!K:K,'Sales receipt'!M:M,'Sales receipt'!M2,'Sales receipt'!A:A,'Sales receipt'!A9,'Sales receipt'!B:B,'Sales receipt'!B4,'Sales receipt'!G:G,'Sales receipt'!G8) -> 23237 | R49: =SUMIFS('Sales receipt'!J:J,'Sales receipt'!M:M,'Sales receipt'!M2,'Sales receipt'!A:A,'Sales receipt'!A9,'Sales receipt'!B:B,'Sales receipt'!B4,'Sales receipt'!G:G,'Sales receipt'!G8) -> 15 | S49: =SUMIFS('Sales receipt'!K:K,'Sales receipt'!M:M,'Sales receipt'!M2,'Sales receipt'!A:A,'Sales receipt'!A10,'Sales receipt'!B:B,'Sales receipt'!B4,'Sales receipt'!G:G,'Sales receipt'!G8) -> 32883 | T49: =SUMIFS('Sales receipt'!J:J,'Sales receipt'!M:M,'Sales receipt'!M2,'Sales receipt'!A:A,'Sales receipt'!A10,'Sales receipt'!B:B,'Sales receipt'!B4,'Sales receipt'!G:G,'Sales receipt'!G8) -> 21
B50: EXPLORE | C50: =SUMIFS('Sales receipt'!K:K,'Sales receipt'!M:M,'Sales receipt'!M2,'Sales receipt'!A:A,'Sales receipt'!A2,'Sales receipt'!B:B,'Sales receipt'!B4,'Sales receipt'!G:G,'Sales receipt'!G4) -> 4256 | D50: =SUMIFS('Sales receipt'!J:J,'Sales receipt'!M:M,'Sales receipt'!M2,'Sales receipt'!A:A,'Sales receipt'!A2,'Sales receipt'!B:B,'Sales receipt'!B4,'Sales receipt'!G:G,'Sales receipt'!G4) -> 2 | E50: =SUMIFS('Sales receipt'!K:K,'Sales receipt'!M:M,'Sales receipt'!M2,'Sales receipt'!A:A,'Sales receipt'!A3,'Sales receipt'!B:B,'Sales receipt'!B4,'Sales receipt'!G:G,'Sales receipt'!G4) -> 0 | F50: =SUMIFS('Sales receipt'!J:J,'Sales receipt'!M:M,'Sales receipt'!M2,'Sales receipt'!A:A,'Sales receipt'!A3,'Sales receipt'!B:B,'Sales receipt'!B4,'Sales receipt'!G:G,'Sales receipt'!G4) -> 0 | G50: =SUMIFS('Sales receipt'!K:K,'Sales receipt'!M:M,'Sales receipt'!M2,'Sales receipt'!A:A,'Sales receipt'!A4,'Sales receipt'!B:B,'Sales receipt'!B4,'Sales receipt'!G:G,'Sales receipt'!G4) -> 0 | H50: =SUMIFS('Sales receipt'!J:J,'Sales receipt'!M:M,'Sales receipt'!M2,'Sales receipt'!A:A,'Sales receipt'!A4,'Sales receipt'!B:B,'Sales receipt'!B4,'Sales receipt'!G:G,'Sales receipt'!G4) -> 0 | I50: =SUMIFS('Sales receipt'!K:K,'Sales receipt'!M:M,'Sales receipt'!M2,'Sales receipt'!A:A,'Sales receipt'!A5,'Sales receipt'!B:B,'Sales receipt'!B4,'Sales receipt'!G:G,'Sales receipt'!G4) -> 0 | J50: =SUMIFS('Sales receipt'!J:J,'Sales receipt'!M:M,'Sales receipt'!M2,'Sales receipt'!A:A,'Sales receipt'!A5,'Sales receipt'!B:B,'Sales receipt'!B4,'Sales receipt'!G:G,'Sales receipt'!G4) -> 0 | K50: =SUMIFS('Sales receipt'!K:K,'Sales receipt'!M:M,'Sales receipt'!M2,'Sales receipt'!A:A,'Sales receipt'!A6,'Sales receipt'!B:B,'Sales receipt'!B4,'Sales receipt'!G:G,'Sales receipt'!G4) -> 3312 | L50: =SUMIFS('Sales receipt'!J:J,'Sales receipt'!M:M,'Sales receipt'!M2,'Sales receipt'!A:A,'Sales receipt'!A6,'Sales receipt'!B:B,'Sales receipt'!B4,'Sales receipt'!G:G,'Sales receipt'!G4) -> 1 | M50: =SUMIFS('Sales receipt'!K:K,'Sales receipt'!M:M,'Sales receipt'!M2,'Sales receipt'!A:A,'Sales receipt'!A7,'Sales receipt'!B:B,'Sales receipt'!B4,'Sales receipt'!G:G,'Sales receipt'!G4) -> 0 | N50: =SUMIFS('Sales receipt'!J:J,'Sales receipt'!M:M,'Sales receipt'!M2,'Sales receipt'!A:A,'Sales receipt'!A7,'Sales receipt'!B:B,'Sales receipt'!B4,'Sales receipt'!G:G,'Sales receipt'!G4) -> 0 | O50: =SUMIFS('Sales receipt'!K:K,'Sales receipt'!M:M,'Sales receipt'!M2,'Sales receipt'!A:A,'Sales receipt'!A8,'Sales receipt'!B:B,'Sales receipt'!B4,'Sales receipt'!G:G,'Sales receipt'!G4) -> 4437 | P50: =SUMIFS('Sales receipt'!J:J,'Sales receipt'!M:M,'Sales receipt'!M2,'Sales receipt'!A:A,'Sales receipt'!A8,'Sales receipt'!B:B,'Sales receipt'!B4,'Sales receipt'!G:G,'Sales receipt'!G4) -> 2 | Q50: =SUMIFS('Sales receipt'!K:K,'Sales receipt'!M:M,'Sales receipt'!M2,'Sales receipt'!A:A,'Sales receipt'!A9,'Sales receipt'!B:B,'Sales receipt'!B4,'Sales receipt'!G:G,'Sales receipt'!G4) -> 0 | R50: =SUMIFS('Sales receipt'!J:J,'Sales receipt'!M:M,'Sales receipt'!M2,'Sales receipt'!A:A,'Sales receipt'!A9,'Sales receipt'!B:B,'Sales receipt'!B4,'Sales receipt'!G:G,'Sales receipt'!G4) -> 0 | S50: =SUMIFS('Sales receipt'!K:K,'Sales receipt'!M:M,'Sales receipt'!M2,'Sales receipt'!A:A,'Sales receipt'!A10,'Sales receipt'!B:B,'Sales receipt'!B4,'Sales receipt'!G:G,'Sales receipt'!G4) -> 0 | T50: =SUMIFS('Sales receipt'!J:J,'Sales receipt'!M:M,'Sales receipt'!M2,'Sales receipt'!A:A,'Sales receipt'!A1,'Sales receipt'!B:B,'Sales receipt'!B4,'Sales receipt'!G:G,'Sales receipt'!G4) -> 0
B51: TENNIS | C51: =SUMIFS('Sales receipt'!K:K,'Sales receipt'!M:M,'Sales receipt'!M2,'Sales receipt'!A:A,'Sales receipt'!A2,'Sales receipt'!B:B,'Sales receipt'!B4,'Sales receipt'!G:G,'Sales receipt'!G16) -> 0 | D51: =SUMIFS('Sales receipt'!J:J,'Sales receipt'!M:M,'Sales receipt'!M2,'Sales receipt'!A:A,'Sales receipt'!A2,'Sales receipt'!B:B,'Sales receipt'!B4,'Sales receipt'!G:G,'Sales receipt'!G16) -> 0 | E51: =SUMIFS('Sales receipt'!K:K,'Sales receipt'!M:M,'Sales receipt'!M2,'Sales receipt'!A:A,'Sales receipt'!A3,'Sales receipt'!B:B,'Sales receipt'!B4,'Sales receipt'!G:G,'Sales receipt'!G16) -> 0 | F51: =SUMIFS('Sales receipt'!J:J,'Sales receipt'!M:M,'Sales receipt'!M2,'Sales receipt'!A:A,'Sales receipt'!A3,'Sales receipt'!B:B,'Sales receipt'!B4,'Sales receipt'!G:G,'Sales receipt'!G16) -> 0 | G51: =SUMIFS('Sales receipt'!K:K,'Sales receipt'!M:M,'Sales receipt'!M2,'Sales receipt'!A:A,'Sales receipt'!A4,'Sales receipt'!B:B,'Sales receipt'!B4,'Sales receipt'!G:G,'Sales receipt'!G16) -> 748 | H51: =SUMIFS('Sales receipt'!J:J,'Sales receipt'!M:M,'Sales receipt'!M2,'Sales receipt'!A:A,'Sales receipt'!A4,'Sales receipt'!B:B,'Sales receipt'!B4,'Sales receipt'!G:G,'Sales receipt'!G16) -> 1 | I51: =SUMIFS('Sales receipt'!K:K,'Sales receipt'!M:M,'Sales receipt'!M2,'Sales receipt'!A:A,'Sales receipt'!A5,'Sales receipt'!B:B,'Sales receipt'!B4,'Sales receipt'!G:G,'Sales receipt'!G16) -> 440 | J51: =SUMIFS('Sales receipt'!J:J,'Sales receipt'!M:M,'Sales receipt'!M2,'Sales receipt'!A:A,'Sales receipt'!A5,'Sales receipt'!B:B,'Sales receipt'!B4,'Sales receipt'!G:G,'Sales receipt'!G16) -> 1 | K51: =SUMIFS('Sales receipt'!K:K,'Sales receipt'!M:M,'Sales receipt'!M2,'Sales receipt'!A:A,'Sales receipt'!A6,'Sales receipt'!B:B,'Sales receipt'!B4,'Sales receipt'!G:G,'Sales receipt'!G16) -> 0 | L51: =SUMIFS('Sales receipt'!J:J,'Sales receipt'!M:M,'Sales receipt'!M2,'Sales receipt'!A:A,'Sales receipt'!A6,'Sales receipt'!B:B,'Sales receipt'!B4,'Sales receipt'!G:G,'Sales receipt'!G16) -> 0 | M51: =SUMIFS('Sales receipt'!K:K,'Sales receipt'!M:M,'Sales receipt'!M2,'Sales receipt'!A:A,'Sales receipt'!A7,'Sales receipt'!B:B,'Sales receipt'!B4,'Sales receipt'!G:G,'Sales receipt'!G16) -> 0 | N51: =SUMIFS('Sales receipt'!J:J,'Sales receipt'!M:M,'Sales receipt'!M2,'Sales receipt'!A:A,'Sales receipt'!A7,'Sales receipt'!B:B,'Sales receipt'!B4,'Sales receipt'!G:G,'Sales receipt'!G16) -> 0 | O51: =SUMIFS('Sales receipt'!K:K,'Sales receipt'!M:M,'Sales receipt'!M2,'Sales receipt'!A:A,'Sales receipt'!A8,'Sales receipt'!B:B,'Sales receipt'!B4,'Sales receipt'!G:G,'Sales receipt'!G16) -> 0 | P51: =SUMIFS('Sales receipt'!J:J,'Sales receipt'!M:M,'Sales receipt'!M2,'Sales receipt'!A:A,'Sales receipt'!A8,'Sales receipt'!B:B,'Sales receipt'!B4,'Sales receipt'!G:G,'Sales receipt'!G16) -> 0 | Q51: =SUMIFS('Sales receipt'!K:K,'Sales receipt'!M:M,'Sales receipt'!M2,'Sales receipt'!A:A,'Sales receipt'!A9,'Sales receipt'!B:B,'Sales receipt'!B4,'Sales receipt'!G:G,'Sales receipt'!G16) -> 0 | R51: =SUMIFS('Sales receipt'!J:J,'Sales receipt'!M:M,'Sales receipt'!M2,'Sales receipt'!A:A,'Sales receipt'!A9,'Sales receipt'!B:B,'Sales receipt'!B4,'Sales receipt'!G:G,'Sales receipt'!G16) -> 0 | S51: =SUMIFS('Sales receipt'!K:K,'Sales receipt'!M:M,'Sales receipt'!M2,'Sales receipt'!A:A,'Sales receipt'!A10,'Sales receipt'!B:B,'Sales receipt'!B4,'Sales receipt'!G:G,'Sales receipt'!G16) -> 0 | T51: =SUMIFS('Sales receipt'!J:J,'Sales receipt'!M:M,'Sales receipt'!M2,'Sales receipt'!A:A,'Sales receipt'!A1,'Sales receipt'!B:B,'Sales receipt'!B4,'Sales receipt'!G:G,'Sales receipt'!G16) -> 0
B52: FILA EMERALD | C52: =SUMIFS('Sales receipt'!K:K,'Sales receipt'!M:M,'Sales receipt'!M2,'Sales receipt'!A:A,'Sales receipt'!A2,'Sales receipt'!B:B,'Sales receipt'!B4,'Sales receipt'!G:G,'Sales receipt'!G18) -> 5005 | D52: =SUMIFS('Sales receipt'!J:J,'Sales receipt'!M:M,'Sales receipt'!M2,'Sales receipt'!A:A,'Sales receipt'!A2,'Sales receipt'!B:B,'Sales receipt'!B4,'Sales receipt'!G:G,'Sales receipt'!G18) -> 4 | E52: =SUMIFS('Sales receipt'!K:K,'Sales receipt'!M:M,'Sales receipt'!M2,'Sales receipt'!A:A,'Sales receipt'!A3,'Sales receipt'!B:B,'Sales receipt'!B4,'Sales receipt'!G:G,'Sales receipt'!G18) -> 1456 | F52: =SUMIFS('Sales receipt'!J:J,'Sales receipt'!M:M,'Sales receipt'!M2,'Sales receipt'!A:A,'Sales receipt'!A3,'Sales receipt'!B:B,'Sales receipt'!B4,'Sales receipt'!G:G,'Sales receipt'!G18) -> 1 | G52: =SUMIFS('Sales receipt'!K:K,'Sales receipt'!M:M,'Sales receipt'!M2,'Sales receipt'!A:A,'Sales receipt'!A4,'Sales receipt'!B:B,'Sales receipt'!B4,'Sales receipt'!G:G,'Sales receipt'!G18) -> 787 | H52: =SUMIFS('Sales receipt'!J:J,'Sales receipt'!M:M,'Sales receipt'!M2,'Sales receipt'!A:A,'Sales receipt'!A4,'Sales receipt'!B:B,'Sales receipt'!B4,'Sales receipt'!G:G,'Sales receipt'!G18) -> 1 | I52: =SUMIFS('Sales receipt'!K:K,'Sales receipt'!M:M,'Sales receipt'!M2,'Sales receipt'!A:A,'Sales receipt'!A5,'Sales receipt'!B:B,'Sales receipt'!B4,'Sales receipt'!G:G,'Sales receipt'!G18) -> 6779 | J52: =SUMIFS('Sales receipt'!J:J,'Sales receipt'!M:M,'Sales receipt'!M2,'Sales receipt'!A:A,'Sales receipt'!A5,'Sales receipt'!B:B,'Sales receipt'!B4,'Sales receipt'!G:G,'Sales receipt'!G18) -> 5 | K52: =SUMIFS('Sales receipt'!K:K,'Sales receipt'!M:M,'Sales receipt'!M2,'Sales receipt'!A:A,'Sales receipt'!A6,'Sales receipt'!B:B,'Sales receipt'!B4,'Sales receipt'!G:G,'Sales receipt'!G18) -> 3587 | L52: =SUMIFS('Sales receipt'!J:J,'Sales receipt'!M:M,'Sales receipt'!M2,'Sales receipt'!A:A,'Sales receipt'!A6,'Sales receipt'!B:B,'Sales receipt'!B4,'Sales receipt'!G:G,'Sales receipt'!G18) -> 3 | M52: =SUMIFS('Sales receipt'!K:K,'Sales receipt'!M:M,'Sales receipt'!M2,'Sales receipt'!A:A,'Sales receipt'!A7,'Sales receipt'!B:B,'Sales receipt'!B4,'Sales receipt'!G:G,'Sales receipt'!G18) -> 0 | N52: =SUMIFS('Sales receipt'!J:J,'Sales receipt'!M:M,'Sales receipt'!M2,'Sales receipt'!A:A,'Sales receipt'!A7,'Sales receipt'!B:B,'Sales receipt'!B4,'Sales receipt'!G:G,'Sales receipt'!G18) -> 0 | O52: =SUMIFS('Sales receipt'!K:K,'Sales receipt'!M:M,'Sales receipt'!M2,'Sales receipt'!A:A,'Sales receipt'!A8,'Sales receipt'!B:B,'Sales receipt'!B4,'Sales receipt'!G:G,'Sales receipt'!G18) -> 5308 | P52: =SUMIFS('Sales receipt'!J:J,'Sales receipt'!M:M,'Sales receipt'!M2,'Sales receipt'!A:A,'Sales receipt'!A8,'Sales receipt'!B:B,'Sales receipt'!B4,'Sales receipt'!G:G,'Sales receipt'!G18) -> 3 | Q52: =SUMIFS('Sales receipt'!K:K,'Sales receipt'!M:M,'Sales receipt'!M2,'Sales receipt'!A:A,'Sales receipt'!A9,'Sales receipt'!B:B,'Sales receipt'!B4,'Sales receipt'!G:G,'Sales receipt'!G18) -> 3879 | R52: =SUMIFS('Sales receipt'!J:J,'Sales receipt'!M:M,'Sales receipt'!M2,'Sales receipt'!A:A,'Sales receipt'!A9,'Sales receipt'!B:B,'Sales receipt'!B4,'Sales receipt'!G:G,'Sales receipt'!G18) -> 2 | S52: =SUMIFS('Sales receipt'!K:K,'Sales receipt'!M:M,'Sales receipt'!M2,'Sales receipt'!A:A,'Sales receipt'!A10,'Sales receipt'!B:B,'Sales receipt'!B4,'Sales receipt'!G:G,'Sales receipt'!G18) -> 0 | T52: =SUMIFS('Sales receipt'!J:J,'Sales receipt'!M:M,'Sales receipt'!M2,'Sales receipt'!A:A,'Sales receipt'!A10,'Sales receipt'!B:B,'Sales receipt'!B4,'Sales receipt'!G:G,'Sales receipt'!G18) -> 0
B53: FILA MILANO | C53: =SUMIFS('Sales receipt'!K:K,'Sales receipt'!M:M,'Sales receipt'!M2,'Sales receipt'!A:A,'Sales receipt'!A2,'Sales receipt'!B:B,'Sales receipt'!B4,'Sales receipt'!G:G,'Sales receipt'!G5) -> 5485 | D53: =SUMIFS('Sales receipt'!J:J,'Sales receipt'!M:M,'Sales receipt'!M2,'Sales receipt'!A:A,'Sales receipt'!A2,'Sales receipt'!B:B,'Sales receipt'!B4,'Sales receipt'!G:G,'Sales receipt'!G5) -> 6 | E53: =SUMIFS('Sales receipt'!K:K,'Sales receipt'!M:M,'Sales receipt'!M2,'Sales receipt'!A:A,'Sales receipt'!A3,'Sales receipt'!B:B,'Sales receipt'!B4,'Sales receipt'!G:G,'Sales receipt'!G5) -> 5711 | F53: =SUMIFS('Sales receipt'!J:J,'Sales receipt'!M:M,'Sales receipt'!M2,'Sales receipt'!A:A,'Sales receipt'!A3,'Sales receipt'!B:B,'Sales receipt'!B4,'Sales receipt'!G:G,'Sales receipt'!G5) -> 4 | G53: =SUMIFS('Sales receipt'!K:K,'Sales receipt'!M:M,'Sales receipt'!M2,'Sales receipt'!A:A,'Sales receipt'!A4,'Sales receipt'!B:B,'Sales receipt'!B4,'Sales receipt'!G:G,'Sales receipt'!G5) -> 0 | H53: =SUMIFS('Sales receipt'!J:J,'Sales receipt'!M:M,'Sales receipt'!M2,'Sales receipt'!A:A,'Sales receipt'!A4,'Sales receipt'!B:B,'Sales receipt'!B4,'Sales receipt'!G:G,'Sales receipt'!G5) -> 0 | I53: =SUMIFS('Sales receipt'!K:K,'Sales receipt'!M:M,'Sales receipt'!M2,'Sales receipt'!A:A,'Sales receipt'!A5,'Sales receipt'!B:B,'Sales receipt'!B4,'Sales receipt'!G:G,'Sales receipt'!G5) -> 2186 | J53: =SUMIFS('Sales receipt'!J:J,'Sales receipt'!M:M,'Sales receipt'!M2,'Sales receipt'!A:A,'Sales receipt'!A5,'Sales receipt'!B:B,'Sales receipt'!B4,'Sales receipt'!G:G,'Sales receipt'!G5) -> 2 | K53: =SUMIFS('Sales receipt'!K:K,'Sales receipt'!M:M,'Sales receipt'!M2,'Sales receipt'!A:A,'Sales receipt'!A6,'Sales receipt'!B:B,'Sales receipt'!B4,'Sales receipt'!G:G,'Sales receipt'!G5) -> 6982 | L53: =SUMIFS('Sales receipt'!J:J,'Sales receipt'!M:M,'Sales receipt'!M2,'Sales receipt'!A:A,'Sales receipt'!A6,'Sales receipt'!B:B,'Sales receipt'!B4,'Sales receipt'!G:G,'Sales receipt'!G5) -> 5 | M53: =SUMIFS('Sales receipt'!K:K,'Sales receipt'!M:M,'Sales receipt'!M2,'Sales receipt'!A:A,'Sales receipt'!A7,'Sales receipt'!B:B,'Sales receipt'!B4,'Sales receipt'!G:G,'Sales receipt'!G5) -> 578 | N53: =SUMIFS('Sales receipt'!J:J,'Sales receipt'!M:M,'Sales receipt'!M2,'Sales receipt'!A:A,'Sales receipt'!A7,'Sales receipt'!B:B,'Sales receipt'!B4,'Sales receipt'!G:G,'Sales receipt'!G5) -> 1 | O53: =SUMIFS('Sales receipt'!K:K,'Sales receipt'!M:M,'Sales receipt'!M2,'Sales receipt'!A:A,'Sales receipt'!A8,'Sales receipt'!B:B,'Sales receipt'!B4,'Sales receipt'!G:G,'Sales receipt'!G5) -> 4546 | P53: =SUMIFS('Sales receipt'!J:J,'Sales receipt'!M:M,'Sales receipt'!M2,'Sales receipt'!A:A,'Sales receipt'!A8,'Sales receipt'!B:B,'Sales receipt'!B4,'Sales receipt'!G:G,'Sales receipt'!G5) -> 4 | Q53: =SUMIFS('Sales receipt'!K:K,'Sales receipt'!M:M,'Sales receipt'!M2,'Sales receipt'!A:A,'Sales receipt'!A9,'Sales receipt'!B:B,'Sales receipt'!B4,'Sales receipt'!G:G,'Sales receipt'!G5) -> 7990 | R53: =SUMIFS('Sales receipt'!J:J,'Sales receipt'!M:M,'Sales receipt'!M2,'Sales receipt'!A:A,'Sales receipt'!A9,'Sales receipt'!B:B,'Sales receipt'!B4,'Sales receipt'!G:G,'Sales receipt'!G5) -> 6 | S53: =SUMIFS('Sales receipt'!K:K,'Sales receipt'!M:M,'Sales receipt'!M2,'Sales receipt'!A:A,'Sales receipt'!A10,'Sales receipt'!B:B,'Sales receipt'!B4,'Sales receipt'!G:G,'Sales receipt'!G5) -> 5701 | T53: =SUMIFS('Sales receipt'!J:J,'Sales receipt'!M:M,'Sales receipt'!M2,'Sales receipt'!A:A,'Sales receipt'!A10,'Sales receipt'!B:B,'Sales receipt'!B4,'Sales receipt'!G:G,'Sales receipt'!G5) -> 4
B54: - | C54: =SUMIFS('Sales receipt'!K:K,'Sales receipt'!M:M,'Sales receipt'!M1,'Sales receipt'!A:A,'Sales receipt'!A2,'Sales receipt'!B:B,'Sales receipt'!B3,'Sales receipt'!G:G,'Sales receipt'!G65) -> 0 | D54: =SUMIFS('Sales receipt'!J:J,'Sales receipt'!M:M,'Sales receipt'!M1,'Sales receipt'!A:A,'Sales receipt'!A1,'Sales receipt'!B:B,'Sales receipt'!B3,'Sales receipt'!G:G,'Sales receipt'!G65) -> 0 | E54: =SUMIFS('Sales receipt'!K:K,'Sales receipt'!M:M,'Sales receipt'!M1,'Sales receipt'!A:A,'Sales receipt'!A2,'Sales receipt'!B:B,'Sales receipt'!B3,'Sales receipt'!G:G,'Sales receipt'!G65) -> 0 | F54: =SUMIFS('Sales receipt'!J:J,'Sales receipt'!M:M,'Sales receipt'!M1,'Sales receipt'!A:A,'Sales receipt'!A2,'Sales receipt'!B:B,'Sales receipt'!B3,'Sales receipt'!G:G,'Sales receipt'!G65) -> 0 | G54: =SUMIFS('Sales receipt'!K:K,'Sales receipt'!M:M,'Sales receipt'!M1,'Sales receipt'!A:A,'Sales receipt'!A3,'Sales receipt'!B:B,'Sales receipt'!B3,'Sales receipt'!G:G,'Sales receipt'!G65) -> 0 | H54: =SUMIFS('Sales receipt'!J:J,'Sales receipt'!M:M,'Sales receipt'!M1,'Sales receipt'!A:A,'Sales receipt'!A3,'Sales receipt'!B:B,'Sales receipt'!B3,'Sales receipt'!G:G,'Sales receipt'!G65) -> 0 | I54: =SUMIFS('Sales receipt'!K:K,'Sales receipt'!M:M,'Sales receipt'!M1,'Sales receipt'!A:A,'Sales receipt'!A4,'Sales receipt'!B:B,'Sales receipt'!B3,'Sales receipt'!G:G,'Sales receipt'!G65) -> 0 | J54: =SUMIFS('Sales receipt'!J:J,'Sales receipt'!M:M,'Sales receipt'!M1,'Sales receipt'!A:A,'Sales receipt'!A4,'Sales receipt'!B:B,'Sales receipt'!B3,'Sales receipt'!G:G,'Sales receipt'!G65) -> 0 | K54: =SUMIFS('Sales receipt'!K:K,'Sales receipt'!M:M,'Sales receipt'!M1,'Sales receipt'!A:A,'Sales receipt'!A5,'Sales receipt'!B:B,'Sales receipt'!B3,'Sales receipt'!G:G,'Sales receipt'!G65) -> 0 | L54: =SUMIFS('Sales receipt'!J:J,'Sales receipt'!M:M,'Sales receipt'!M1,'Sales receipt'!A:A,'Sales receipt'!A5,'Sales receipt'!B:B,'Sales receipt'!B3,'Sales receipt'!G:G,'Sales receipt'!G65) -> 0 | M54: =SUMIFS('Sales receipt'!K:K,'Sales receipt'!M:M,'Sales receipt'!M1,'Sales receipt'!A:A,'Sales receipt'!A6,'Sales receipt'!B:B,'Sales receipt'!B3,'Sales receipt'!G:G,'Sales receipt'!G65) -> 0 | N54: =SUMIFS('Sales receipt'!J:J,'Sales receipt'!M:M,'Sales receipt'!M1,'Sales receipt'!A:A,'Sales receipt'!A6,'Sales receipt'!B:B,'Sales receipt'!B3,'Sales receipt'!G:G,'Sales receipt'!G65) -> 0 | O54: =SUMIFS('Sales receipt'!K:K,'Sales receipt'!M:M,'Sales receipt'!M1,'Sales receipt'!A:A,'Sales receipt'!A7,'Sales receipt'!B:B,'Sales receipt'!B3,'Sales receipt'!G:G,'Sales receipt'!G65) -> 0 | P54: =SUMIFS('Sales receipt'!J:J,'Sales receipt'!M:M,'Sales receipt'!M1,'Sales receipt'!A:A,'Sales receipt'!A7,'Sales receipt'!B:B,'Sales receipt'!B3,'Sales receipt'!G:G,'Sales receipt'!G65) -> 0 | Q54: =SUMIFS('Sales receipt'!K:K,'Sales receipt'!M:M,'Sales receipt'!M1,'Sales receipt'!A:A,'Sales receipt'!A8,'Sales receipt'!B:B,'Sales receipt'!B3,'Sales receipt'!G:G,'Sales receipt'!G65) -> 0 | R54: =SUMIFS('Sales receipt'!J:J,'Sales receipt'!M:M,'Sales receipt'!M1,'Sales receipt'!A:A,'Sales receipt'!A8,'Sales receipt'!B:B,'Sales receipt'!B3,'Sales receipt'!G:G,'Sales receipt'!G65) -> 0 | S54: =SUMIFS('Sales receipt'!K:K,'Sales receipt'!M:M,'Sales receipt'!M1,'Sales receipt'!A:A,'Sales receipt'!A8,'Sales receipt'!B:B,'Sales receipt'!B3,'Sales receipt'!G:G,'Sales receipt'!G65) -> 0 | T54: =SUMIFS('Sales receipt'!J:J,'Sales receipt'!M:M,'Sales receipt'!M1,'Sales receipt'!A:A,'Sales receipt'!#REF!,'Sales receipt'!B:B,'Sales receipt'!B3,'Sales receipt'!G:G,'Sales receipt'!G65) -> 0
B55: - | C55: =SUMIFS('Sales receipt'!K:K,'Sales receipt'!M:M,'Sales receipt'!M2,'Sales receipt'!A:A,'Sales receipt'!A2,'Sales receipt'!B:B,'Sales receipt'!B4,'Sales receipt'!G:G,'Sales receipt'!G66) -> 0 | D55: =SUMIFS('Sales receipt'!J:J,'Sales receipt'!M:M,'Sales receipt'!M2,'Sales receipt'!A:A,'Sales receipt'!A2,'Sales receipt'!B:B,'Sales receipt'!B4,'Sales receipt'!G:G,'Sales receipt'!G66) -> 0 | E55: =SUMIFS('Sales receipt'!K:K,'Sales receipt'!M:M,'Sales receipt'!M2,'Sales receipt'!A:A,'Sales receipt'!A3,'Sales receipt'!B:B,'Sales receipt'!B4,'Sales receipt'!G:G,'Sales receipt'!G66) -> 0 | F55: =SUMIFS('Sales receipt'!J:J,'Sales receipt'!M:M,'Sales receipt'!M2,'Sales receipt'!A:A,'Sales receipt'!A3,'Sales receipt'!B:B,'Sales receipt'!B4,'Sales receipt'!G:G,'Sales receipt'!G66) -> 0 | G55: =SUMIFS('Sales receipt'!K:K,'Sales receipt'!M:M,'Sales receipt'!M2,'Sales receipt'!A:A,'Sales receipt'!A4,'Sales receipt'!B:B,'Sales receipt'!B4,'Sales receipt'!G:G,'Sales receipt'!G66) -> 0 | H55: =SUMIFS('Sales receipt'!J:J,'Sales receipt'!M:M,'Sales receipt'!M2,'Sales receipt'!A:A,'Sales receipt'!A4,'Sales receipt'!B:B,'Sales receipt'!B4,'Sales receipt'!G:G,'Sales receipt'!G66) -> 0 | I55: =SUMIFS('Sales receipt'!K:K,'Sales receipt'!M:M,'Sales receipt'!M2,'Sales receipt'!A:A,'Sales receipt'!A5,'Sales receipt'!B:B,'Sales receipt'!B4,'Sales receipt'!G:G,'Sales receipt'!G66) -> 0 | J55: =SUMIFS('Sales receipt'!J:J,'Sales receipt'!M:M,'Sales receipt'!M2,'Sales receipt'!A:A,'Sales receipt'!A5,'Sales receipt'!B:B,'Sales receipt'!B4,'Sales receipt'!G:G,'Sales receipt'!G66) -> 0 | K55: =SUMIFS('Sales receipt'!K:K,'Sales receipt'!M:M,'Sales receipt'!M2,'Sales receipt'!A:A,'Sales receipt'!A6,'Sales receipt'!B:B,'Sales receipt'!B4,'Sales receipt'!G:G,'Sales receipt'!G66) -> 0 | L55: =SUMIFS('Sales receipt'!J:J,'Sales receipt'!M:M,'Sales receipt'!M2,'Sales receipt'!A:A,'Sales receipt'!A6,'Sales receipt'!B:B,'Sales receipt'!B4,'Sales receipt'!G:G,'Sales receipt'!G66) -> 0 | M55: =SUMIFS('Sales receipt'!K:K,'Sales receipt'!M:M,'Sales receipt'!M2,'Sales receipt'!A:A,'Sales receipt'!A7,'Sales receipt'!B:B,'Sales receipt'!B4,'Sales receipt'!G:G,'Sales receipt'!G66) -> 0 | N55: =SUMIFS('Sales receipt'!J:J,'Sales receipt'!M:M,'Sales receipt'!M2,'Sales receipt'!A:A,'Sales receipt'!A7,'Sales receipt'!B:B,'Sales receipt'!B4,'Sales receipt'!G:G,'Sales receipt'!G66) -> 0 | O55: =SUMIFS('Sales receipt'!K:K,'Sales receipt'!M:M,'Sales receipt'!M2,'Sales receipt'!A:A,'Sales receipt'!A8,'Sales receipt'!B:B,'Sales receipt'!B4,'Sales receipt'!G:G,'Sales receipt'!G66) -> 0 | P55: =SUMIFS('Sales receipt'!J:J,'Sales receipt'!M:M,'Sales receipt'!M2,'Sales receipt'!A:A,'Sales receipt'!A8,'Sales receipt'!B:B,'Sales receipt'!B4,'Sales receipt'!G:G,'Sales receipt'!G66) -> 0 | Q55: =SUMIFS('Sales receipt'!K:K,'Sales receipt'!M:M,'Sales receipt'!M2,'Sales receipt'!A:A,'Sales receipt'!A9,'Sales receipt'!B:B,'Sales receipt'!B4,'Sales receipt'!G:G,'Sales receipt'!G66) -> 0 | R55: =SUMIFS('Sales receipt'!J:J,'Sales receipt'!M:M,'Sales receipt'!M2,'Sales receipt'!A:A,'Sales receipt'!A9,'Sales receipt'!B:B,'Sales receipt'!B4,'Sales receipt'!G:G,'Sales receipt'!G66) -> 0 | S55: =SUMIFS('Sales receipt'!K:K,'Sales receipt'!M:M,'Sales receipt'!M2,'Sales receipt'!A:A,'Sales receipt'!A9,'Sales receipt'!B:B,'Sales receipt'!B4,'Sales receipt'!G:G,'Sales receipt'!G66) -> 0 | T55: =SUMIFS('Sales receipt'!J:J,'Sales receipt'!M:M,'Sales receipt'!M2,'Sales receipt'!A:A,'Sales receipt'!A1,'Sales receipt'!B:B,'Sales receipt'!B4,'Sales receipt'!G:G,'Sales receipt'!G66) -> 0
B56: FOT | C56: =SUMIFS('Sales receipt'!K:K,'Sales receipt'!M:M,'Sales receipt'!M2,'Sales receipt'!A:A,'Sales receipt'!A2,'Sales receipt'!B:B,'Sales receipt'!B6) -> 14834 | D56: =SUMIFS('Sales receipt'!J:J,'Sales receipt'!M:M,'Sales receipt'!M2,'Sales receipt'!A:A,'Sales receipt'!A2,'Sales receipt'!B:B,'Sales receipt'!B6) -> 16 | E56: =SUMIFS('Sales receipt'!K:K,'Sales receipt'!M:M,'Sales receipt'!M2,'Sales receipt'!A:A,'Sales receipt'!A3,'Sales receipt'!B:B,'Sales receipt'!B6) -> 18257 | F56: =SUMIFS('Sales receipt'!J:J,'Sales receipt'!M:M,'Sales receipt'!M2,'Sales receipt'!A:A,'Sales receipt'!A3,'Sales receipt'!B:B,'Sales receipt'!B6) -> 21 | G56: =SUMIFS('Sales receipt'!K:K,'Sales receipt'!M:M,'Sales receipt'!M2,'Sales receipt'!A:A,'Sales receipt'!A4,'Sales receipt'!B:B,'Sales receipt'!B6) -> 19987 | H56: =SUMIFS('Sales receipt'!J:J,'Sales receipt'!M:M,'Sales receipt'!M2,'Sales receipt'!A:A,'Sales receipt'!A4,'Sales receipt'!B:B,'Sales receipt'!B6) -> 22 | I56: =SUMIFS('Sales receipt'!K:K,'Sales receipt'!M:M,'Sales receipt'!M2,'Sales receipt'!A:A,'Sales receipt'!A5,'Sales receipt'!B:B,'Sales receipt'!B6) -> 19451 | J56: =SUMIFS('Sales receipt'!J:J,'Sales receipt'!M:M,'Sales receipt'!M2,'Sales receipt'!A:A,'Sales receipt'!A5,'Sales receipt'!B:B,'Sales receipt'!B6) -> 21 | K56: =SUMIFS('Sales receipt'!K:K,'Sales receipt'!M:M,'Sales receipt'!M2,'Sales receipt'!A:A,'Sales receipt'!A6,'Sales receipt'!B:B,'Sales receipt'!B6) -> 13006 | L56: =SUMIFS('Sales receipt'!J:J,'Sales receipt'!M:M,'Sales receipt'!M2,'Sales receipt'!A:A,'Sales receipt'!A6,'Sales receipt'!B:B,'Sales receipt'!B6) -> 12 | M56: =SUMIFS('Sales receipt'!K:K,'Sales receipt'!M:M,'Sales receipt'!M2,'Sales receipt'!A:A,'Sales receipt'!A7,'Sales receipt'!B:B,'Sales receipt'!B6) -> 9064 | N56: =SUMIFS('Sales receipt'!J:J,'Sales receipt'!M:M,'Sales receipt'!M2,'Sales receipt'!A:A,'Sales receipt'!A7,'Sales receipt'!B:B,'Sales receipt'!B6) -> 9 | O56: =SUMIFS('Sales receipt'!K:K,'Sales receipt'!M:M,'Sales receipt'!M2,'Sales receipt'!A:A,'Sales receipt'!A8,'Sales receipt'!B:B,'Sales receipt'!B6) -> 28168 | P56: =SUMIFS('Sales receipt'!J:J,'Sales receipt'!M:M,'Sales receipt'!M2,'Sales receipt'!A:A,'Sales receipt'!A8,'Sales receipt'!B:B,'Sales receipt'!B6) -> 28 | Q56: =SUMIFS('Sales receipt'!K:K,'Sales receipt'!M:M,'Sales receipt'!M2,'Sales receipt'!A:A,'Sales receipt'!A9,'Sales receipt'!B:B,'Sales receipt'!B6) -> 16628 | R56: =SUMIFS('Sales receipt'!J:J,'Sales receipt'!M:M,'Sales receipt'!M2,'Sales receipt'!A:A,'Sales receipt'!A9,'Sales receipt'!B:B,'Sales receipt'!B6) -> 17 | S56: =SUMIFS('Sales receipt'!K:K,'Sales receipt'!M:M,'Sales receipt'!M2,'Sales receipt'!A:A,'Sales receipt'!A10,'Sales receipt'!B:B,'Sales receipt'!B6) -> 11133 | T56: =SUMIFS('Sales receipt'!J:J,'Sales receipt'!M:M,'Sales receipt'!M2,'Sales receipt'!A:A,'Sales receipt'!A10,'Sales receipt'!B:B,'Sales receipt'!B6) -> 12
B57: ACC | C57: =SUMIFS('Sales receipt'!K:K,'Sales receipt'!M:M,'Sales receipt'!M2,'Sales receipt'!A:A,'Sales receipt'!A2,'Sales receipt'!B:B,'Sales receipt'!B5) -> 3514 | D57: =SUMIFS('Sales receipt'!J:J,'Sales receipt'!M:M,'Sales receipt'!M2,'Sales receipt'!A:A,'Sales receipt'!A2,'Sales receipt'!B:B,'Sales receipt'!B5) -> 13 | E57: =SUMIFS('Sales receipt'!K:K,'Sales receipt'!M:M,'Sales receipt'!M2,'Sales receipt'!A:A,'Sales receipt'!A3,'Sales receipt'!B:B,'Sales receipt'!B5) -> 1693 | F57: =SUMIFS('Sales receipt'!J:J,'Sales receipt'!M:M,'Sales receipt'!M2,'Sales receipt'!A:A,'Sales receipt'!A3,'Sales receipt'!B:B,'Sales receipt'!B5) -> 17 | G57: =SUMIFS('Sales receipt'!K:K,'Sales receipt'!M:M,'Sales receipt'!M2,'Sales receipt'!A:A,'Sales receipt'!A4,'Sales receipt'!B:B,'Sales receipt'!B5) -> 2777 | H57: =SUMIFS('Sales receipt'!J:J,'Sales receipt'!M:M,'Sales receipt'!M2,'Sales receipt'!A:A,'Sales receipt'!A4,'Sales receipt'!B:B,'Sales receipt'!B5) -> 19 | I57: =SUMIFS('Sales receipt'!K:K,'Sales receipt'!M:M,'Sales receipt'!M2,'Sales receipt'!A:A,'Sales receipt'!A5,'Sales receipt'!B:B,'Sales receipt'!B5) -> 612 | J57: =SUMIFS('Sales receipt'!J:J,'Sales receipt'!M:M,'Sales receipt'!M2,'Sales receipt'!A:A,'Sales receipt'!A5,'Sales receipt'!B:B,'Sales receipt'!B5) -> 14 | K57: =SUMIFS('Sales receipt'!K:K,'Sales receipt'!M:M,'Sales receipt'!M2,'Sales receipt'!A:A,'Sales receipt'!A6,'Sales receipt'!B:B,'Sales receipt'!B5) -> 1067 | L57: =SUMIFS('Sales receipt'!J:J,'Sales receipt'!M:M,'Sales receipt'!M2,'Sales receipt'!A:A,'Sales receipt'!A6,'Sales receipt'!B:B,'Sales receipt'!B5) -> 7 | M57: =SUMIFS('Sales receipt'!K:K,'Sales receipt'!M:M,'Sales receipt'!M2,'Sales receipt'!A:A,'Sales receipt'!A7,'Sales receipt'!B:B,'Sales receipt'!B5) -> 995 | N57: =SUMIFS('Sales receipt'!J:J,'Sales receipt'!M:M,'Sales receipt'!M2,'Sales receipt'!A:A,'Sales receipt'!A7,'Sales receipt'!B:B,'Sales receipt'!B5) -> 1 | O57: =SUMIFS('Sales receipt'!K:K,'Sales receipt'!M:M,'Sales receipt'!M2,'Sales receipt'!A:A,'Sales receipt'!A8,'Sales receipt'!B:B,'Sales receipt'!B5) -> 835 | P57: =SUMIFS('Sales receipt'!J:J,'Sales receipt'!M:M,'Sales receipt'!M2,'Sales receipt'!A:A,'Sales receipt'!A8,'Sales receipt'!B:B,'Sales receipt'!B5) -> 7 | Q57: =SUMIFS('Sales receipt'!K:K,'Sales receipt'!M:M,'Sales receipt'!M2,'Sales receipt'!A:A,'Sales receipt'!A9,'Sales receipt'!B:B,'Sales receipt'!B5) -> 6638 | R57: =SUMIFS('Sales receipt'!J:J,'Sales receipt'!M:M,'Sales receipt'!M2,'Sales receipt'!A:A,'Sales receipt'!A9,'Sales receipt'!B:B,'Sales receipt'!B5) -> 34 | S57: =SUMIFS('Sales receipt'!K:K,'Sales receipt'!M:M,'Sales receipt'!M2,'Sales receipt'!A:A,'Sales receipt'!A10,'Sales receipt'!B:B,'Sales receipt'!B5) -> 991 | T57: =SUMIFS('Sales receipt'!J:J,'Sales receipt'!M:M,'Sales receipt'!M2,'Sales receipt'!A:A,'Sales receipt'!A10,'Sales receipt'!B:B,'Sales receipt'!B5) -> 8
A58: 斐樂 潮牌 | B58: APP | C58: =SUMIFS('Sales receipt'!K:K,'Sales receipt'!M:M,'Sales receipt'!M4,'Sales receipt'!A:A,'Sales receipt'!A2,'Sales receipt'!B:B,'Sales receipt'!B4) -> 5721 | D58: =SUMIFS('Sales receipt'!J:J,'Sales receipt'!M:M,'Sales receipt'!M4,'Sales receipt'!A:A,'Sales receipt'!A2,'Sales receipt'!B:B,'Sales receipt'!B4) -> 2 | E58: =SUMIFS('Sales receipt'!K:K,'Sales receipt'!M:M,'Sales receipt'!M4,'Sales receipt'!A:A,'Sales receipt'!A3,'Sales receipt'!B:B,'Sales receipt'!B4) -> 5678 | F58: =SUMIFS('Sales receipt'!J:J,'Sales receipt'!M:M,'Sales receipt'!M4,'Sales receipt'!A:A,'Sales receipt'!A3,'Sales receipt'!B:B,'Sales receipt'!B4) -> 4 | G58: =SUMIFS('Sales receipt'!K:K,'Sales receipt'!M:M,'Sales receipt'!M4,'Sales receipt'!A:A,'Sales receipt'!A4,'Sales receipt'!B:B,'Sales receipt'!B4) -> 710 | H58: =SUMIFS('Sales receipt'!J:J,'Sales receipt'!M:M,'Sales receipt'!M4,'Sales receipt'!A:A,'Sales receipt'!A4,'Sales receipt'!B:B,'Sales receipt'!B4) -> 1 | I58: =SUMIFS('Sales receipt'!K:K,'Sales receipt'!M:M,'Sales receipt'!M4,'Sales receipt'!A:A,'Sales receipt'!A5,'Sales receipt'!B:B,'Sales receipt'!B4) -> 3024 | J58: =SUMIFS('Sales receipt'!J:J,'Sales receipt'!M:M,'Sales receipt'!M4,'Sales receipt'!A:A,'Sales receipt'!A5,'Sales receipt'!B:B,'Sales receipt'!B4) -> 4 | K58: =SUMIFS('Sales receipt'!K:K,'Sales receipt'!M:M,'Sales receipt'!M4,'Sales receipt'!A:A,'Sales receipt'!A6,'Sales receipt'!B:B,'Sales receipt'!B4) -> 1395 | L58: =SUMIFS('Sales receipt'!J:J,'Sales receipt'!M:M,'Sales receipt'!M4,'Sales receipt'!A:A,'Sales receipt'!A6,'Sales receipt'!B:B,'Sales receipt'!B4) -> 1 | M58: =SUMIFS('Sales receipt'!K:K,'Sales receipt'!M:M,'Sales receipt'!M4,'Sales receipt'!A:A,'Sales receipt'!A7,'Sales receipt'!B:B,'Sales receipt'!B4) -> 0 | N58: =SUMIFS('Sales receipt'!J:J,'Sales receipt'!M:M,'Sales receipt'!M4,'Sales receipt'!A:A,'Sales receipt'!A7,'Sales receipt'!B:B,'Sales receipt'!B4) -> 0 | O58: =SUMIFS('Sales receipt'!K:K,'Sales receipt'!M:M,'Sales receipt'!M4,'Sales receipt'!A:A,'Sales receipt'!A8,'Sales receipt'!B:B,'Sales receipt'!B4) -> 921 | P58: =SUMIFS('Sales receipt'!J:J,'Sales receipt'!M:M,'Sales receipt'!M4,'Sales receipt'!A:A,'Sales receipt'!A8,'Sales receipt'!B:B,'Sales receipt'!B4) -> 1 | Q58: =SUMIFS('Sales receipt'!K:K,'Sales receipt'!M:M,'Sales receipt'!M4,'Sales receipt'!A:A,'Sales receipt'!A9,'Sales receipt'!B:B,'Sales receipt'!B4) -> 3847 | R58: =SUMIFS('Sales receipt'!J:J,'Sales receipt'!M:M,'Sales receipt'!M4,'Sales receipt'!A:A,'Sales receipt'!A9,'Sales receipt'!B:B,'Sales receipt'!B4) -> 4 | S58: =SUMIFS('Sales receipt'!K:K,'Sales receipt'!M:M,'Sales receipt'!M4,'Sales receipt'!A:A,'Sales receipt'!A10,'Sales receipt'!B:B,'Sales receipt'!B4) -> 4267 | T58: =SUMIFS('Sales receipt'!J:J,'Sales receipt'!M:M,'Sales receipt'!M4,'Sales receipt'!A:A,'Sales receipt'!A10,'Sales receipt'!B:B,'Sales receipt'!B4) -> 5
B59: FOT | C59: =SUMIFS('Sales receipt'!K:K,'Sales receipt'!M:M,'Sales receipt'!M4,'Sales receipt'!A:A,'Sales receipt'!A2,'Sales receipt'!B:B,'Sales receipt'!B6) -> 9194 | D59: =SUMIFS('Sales receipt'!J:J,'Sales receipt'!M:M,'Sales receipt'!M4,'Sales receipt'!A:A,'Sales receipt'!A2,'Sales receipt'!B:B,'Sales receipt'!B6) -> 10 | E59: =SUMIFS('Sales receipt'!K:K,'Sales receipt'!M:M,'Sales receipt'!M4,'Sales receipt'!A:A,'Sales receipt'!A3,'Sales receipt'!B:B,'Sales receipt'!B6) -> 6368 | F59: =SUMIFS('Sales receipt'!J:J,'Sales receipt'!M:M,'Sales receipt'!M4,'Sales receipt'!A:A,'Sales receipt'!A3,'Sales receipt'!B:B,'Sales receipt'!B6) -> 7 | G59: =SUMIFS('Sales receipt'!K:K,'Sales receipt'!M:M,'Sales receipt'!M4,'Sales receipt'!A:A,'Sales receipt'!A4,'Sales receipt'!B:B,'Sales receipt'!B6) -> 7875 | H59: =SUMIFS('Sales receipt'!J:J,'Sales receipt'!M:M,'Sales receipt'!M4,'Sales receipt'!A:A,'Sales receipt'!A4,'Sales receipt'!B:B,'Sales receipt'!B6) -> 9 | I59: =SUMIFS('Sales receipt'!K:K,'Sales receipt'!M:M,'Sales receipt'!M4,'Sales receipt'!A:A,'Sales receipt'!A5,'Sales receipt'!B:B,'Sales receipt'!B6) -> 8191 | J59: =SUMIFS('Sales receipt'!J:J,'Sales receipt'!M:M,'Sales receipt'!M4,'Sales receipt'!A:A,'Sales receipt'!A5,'Sales receipt'!B:B,'Sales receipt'!B6) -> 9 | K59: =SUMIFS('Sales receipt'!K:K,'Sales receipt'!M:M,'Sales receipt'!M4,'Sales receipt'!A:A,'Sales receipt'!A6,'Sales receipt'!B:B,'Sales receipt'!B6) -> 6273 | L59: =SUMIFS('Sales receipt'!J:J,'Sales receipt'!M:M,'Sales receipt'!M4,'Sales receipt'!A:A,'Sales receipt'!A6,'Sales receipt'!B:B,'Sales receipt'!B6) -> 7 | M59: =SUMIFS('Sales receipt'!K:K,'Sales receipt'!M:M,'Sales receipt'!M4,'Sales receipt'!A:A,'Sales receipt'!A7,'Sales receipt'!B:B,'Sales receipt'!B6) -> 5122 | N59: =SUMIFS('Sales receipt'!J:J,'Sales receipt'!M:M,'Sales receipt'!M4,'Sales receipt'!A:A,'Sales receipt'!A7,'Sales receipt'!B:B,'Sales receipt'!B6) -> 6 | O59: =SUMIFS('Sales receipt'!K:K,'Sales receipt'!M:M,'Sales receipt'!M4,'Sales receipt'!A:A,'Sales receipt'!A8,'Sales receipt'!B:B,'Sales receipt'!B6) -> 11286 | P59: =SUMIFS('Sales receipt'!J:J,'Sales receipt'!M:M,'Sales receipt'!M4,'Sales receipt'!A:A,'Sales receipt'!A8,'Sales receipt'!B:B,'Sales receipt'!B6) -> 13 | Q59: =SUMIFS('Sales receipt'!K:K,'Sales receipt'!M:M,'Sales receipt'!M4,'Sales receipt'!A:A,'Sales receipt'!A9,'Sales receipt'!B:B,'Sales receipt'!B6) -> 8272 | R59: =SUMIFS('Sales receipt'!J:J,'Sales receipt'!M:M,'Sales receipt'!M4,'Sales receipt'!A:A,'Sales receipt'!A9,'Sales receipt'!B:B,'Sales receipt'!B6) -> 9 | S59: =SUMIFS('Sales receipt'!K:K,'Sales receipt'!M:M,'Sales receipt'!M4,'Sales receipt'!A:A,'Sales receipt'!A10,'Sales receipt'!B:B,'Sales receipt'!B6) -> 6248 | T59: =SUMIFS('Sales receipt'!J:J,'Sales receipt'!M:M,'Sales receipt'!M4,'Sales receipt'!A:A,'Sales receipt'!A10,'Sales receipt'!B:B,'Sales receipt'!B6) -> 7
B60: ACC | C60: =SUMIFS('Sales receipt'!K:K,'Sales receipt'!M:M,'Sales receipt'!M4,'Sales receipt'!A:A,'Sales receipt'!A2,'Sales receipt'!B:B,'Sales receipt'!B5) -> 295 | D60: =SUMIFS('Sales receipt'!J:J,'Sales receipt'!M:M,'Sales receipt'!M4,'Sales receipt'!A:A,'Sales receipt'!A2,'Sales receipt'!B:B,'Sales receipt'!B5) -> 5 | E60: =SUMIFS('Sales receipt'!K:K,'Sales receipt'!M:M,'Sales receipt'!M4,'Sales receipt'!A:A,'Sales receipt'!A3,'Sales receipt'!B:B,'Sales receipt'!B5) -> 1161 | F60: =SUMIFS('Sales receipt'!J:J,'Sales receipt'!M:M,'Sales receipt'!M4,'Sales receipt'!A:A,'Sales receipt'!A3,'Sales receipt'!B:B,'Sales receipt'!B5) -> 8 | G60: =SUMIFS('Sales receipt'!K:K,'Sales receipt'!M:M,'Sales receipt'!M4,'Sales receipt'!A:A,'Sales receipt'!A4,'Sales receipt'!B:B,'Sales receipt'!B5) -> 664 | H60: =SUMIFS('Sales receipt'!J:J,'Sales receipt'!M:M,'Sales receipt'!M4,'Sales receipt'!A:A,'Sales receipt'!A4,'Sales receipt'!B:B,'Sales receipt'!B5) -> 5 | I60: =SUMIFS('Sales receipt'!K:K,'Sales receipt'!M:M,'Sales receipt'!M4,'Sales receipt'!A:A,'Sales receipt'!A5,'Sales receipt'!B:B,'Sales receipt'!B5) -> 1144 | J60: =SUMIFS('Sales receipt'!J:J,'Sales receipt'!M:M,'Sales receipt'!M4,'Sales receipt'!A:A,'Sales receipt'!A5,'Sales receipt'!B:B,'Sales receipt'!B5) -> 12 | K60: =SUMIFS('Sales receipt'!K:K,'Sales receipt'!M:M,'Sales receipt'!M4,'Sales receipt'!A:A,'Sales receipt'!A6,'Sales receipt'!B:B,'Sales receipt'!B5) -> 0 | L60: =SUMIFS('Sales receipt'!J:J,'Sales receipt'!M:M,'Sales receipt'!M4,'Sales receipt'!A:A,'Sales receipt'!A6,'Sales receipt'!B:B,'Sales receipt'!B5) -> 0 | M60: =SUMIFS('Sales receipt'!K:K,'Sales receipt'!M:M,'Sales receipt'!M4,'Sales receipt'!A:A,'Sales receipt'!A7,'Sales receipt'!B:B,'Sales receipt'!B5) -> 698 | N60: =SUMIFS('Sales receipt'!J:J,'Sales receipt'!M:M,'Sales receipt'!M4,'Sales receipt'!A:A,'Sales receipt'!A7,'Sales receipt'!B:B,'Sales receipt'!B5) -> 11 | O60: =SUMIFS('Sales receipt'!K:K,'Sales receipt'!M:M,'Sales receipt'!M4,'Sales receipt'!A:A,'Sales receipt'!A8,'Sales receipt'!B:B,'Sales receipt'!B5) -> 809 | P60: =SUMIFS('Sales receipt'!J:J,'Sales receipt'!M:M,'Sales receipt'!M4,'Sales receipt'!A:A,'Sales receipt'!A8,'Sales receipt'!B:B,'Sales receipt'!B5) -> 4 | Q60: =SUMIFS('Sales receipt'!K:K,'Sales receipt'!M:M,'Sales receipt'!M4,'Sales receipt'!A:A,'Sales receipt'!A9,'Sales receipt'!B:B,'Sales receipt'!B5) -> 419 | R60: =SUMIFS('Sales receipt'!J:J,'Sales receipt'!M:M,'Sales receipt'!M4,'Sales receipt'!A:A,'Sales receipt'!A9,'Sales receipt'!B:B,'Sales receipt'!B5) -> 3 | S60: =SUMIFS('Sales receipt'!K:K,'Sales receipt'!M:M,'Sales receipt'!M4,'Sales receipt'!A:A,'Sales receipt'!A10,'Sales receipt'!B:B,'Sales receipt'!B5) -> 0 | T60: =SUMIFS('Sales receipt'!J:J,'Sales receipt'!M:M,'Sales receipt'!M4,'Sales receipt'!A:A,'Sales receipt'!A10,'Sales receipt'!B:B,'Sales receipt'!B5) -> 0
A61: 斐樂 兒童 | B61: APP | C61: =SUMIFS('Sales receipt'!K:K,'Sales receipt'!M:M,'Sales receipt'!M3,'Sales receipt'!A:A,'Sales receipt'!A2,'Sales receipt'!B:B,'Sales receipt'!B4) -> 53272 | D61: =SUMIFS('Sales receipt'!J:J,'Sales receipt'!M:M,'Sales receipt'!M3,'Sales receipt'!A:A,'Sales receipt'!A2,'Sales receipt'!B:B,'Sales receipt'!B4) -> 65 | E61: =SUMIFS('Sales receipt'!K:K,'Sales receipt'!M:M,'Sales receipt'!M3,'Sales receipt'!A:A,'Sales receipt'!A3,'Sales receipt'!B:B,'Sales receipt'!B4) -> 41570 | F61: =SUMIFS('Sales receipt'!J:J,'Sales receipt'!M:M,'Sales receipt'!M3,'Sales receipt'!A:A,'Sales receipt'!A3,'Sales receipt'!B:B,'Sales receipt'!B4) -> 48 | G61: =SUMIFS('Sales receipt'!K:K,'Sales receipt'!M:M,'Sales receipt'!M3,'Sales receipt'!A:A,'Sales receipt'!A4,'Sales receipt'!B:B,'Sales receipt'!B4) -> 42360 | H61: =SUMIFS('Sales receipt'!J:J,'Sales receipt'!M:M,'Sales receipt'!M3,'Sales receipt'!A:A,'Sales receipt'!A4,'Sales receipt'!B:B,'Sales receipt'!B4) -> 43 | I61: =SUMIFS('Sales receipt'!K:K,'Sales receipt'!M:M,'Sales receipt'!M3,'Sales receipt'!A:A,'Sales receipt'!A5,'Sales receipt'!B:B,'Sales receipt'!B4) -> 65150 | J61: =SUMIFS('Sales receipt'!J:J,'Sales receipt'!M:M,'Sales receipt'!M3,'Sales receipt'!A:A,'Sales receipt'!A5,'Sales receipt'!B:B,'Sales receipt'!B4) -> 87 | K61: =SUMIFS('Sales receipt'!K:K,'Sales receipt'!M:M,'Sales receipt'!M3,'Sales receipt'!A:A,'Sales receipt'!A6,'Sales receipt'!B:B,'Sales receipt'!B4) -> 25325 | L61: =SUMIFS('Sales receipt'!J:J,'Sales receipt'!M:M,'Sales receipt'!M3,'Sales receipt'!A:A,'Sales receipt'!A6,'Sales receipt'!B:B,'Sales receipt'!B4) -> 31 | M61: =SUMIFS('Sales receipt'!K:K,'Sales receipt'!M:M,'Sales receipt'!M3,'Sales receipt'!A:A,'Sales receipt'!A7,'Sales receipt'!B:B,'Sales receipt'!B4) -> 38307 | N61: =SUMIFS('Sales receipt'!J:J,'Sales receipt'!M:M,'Sales receipt'!M3,'Sales receipt'!A:A,'Sales receipt'!A7,'Sales receipt'!B:B,'Sales receipt'!B4) -> 45 | O61: =SUMIFS('Sales receipt'!K:K,'Sales receipt'!M:M,'Sales receipt'!M3,'Sales receipt'!A:A,'Sales receipt'!A8,'Sales receipt'!B:B,'Sales receipt'!B4) -> 38144 | P61: =SUMIFS('Sales receipt'!J:J,'Sales receipt'!M:M,'Sales receipt'!M3,'Sales receipt'!A:A,'Sales receipt'!A8,'Sales receipt'!B:B,'Sales receipt'!B4) -> 59 | Q61: =SUMIFS('Sales receipt'!K:K,'Sales receipt'!M:M,'Sales receipt'!M3,'Sales receipt'!A:A,'Sales receipt'!A9,'Sales receipt'!B:B,'Sales receipt'!B4) -> 45266 | R61: =SUMIFS('Sales receipt'!J:J,'Sales receipt'!M:M,'Sales receipt'!M3,'Sales receipt'!A:A,'Sales receipt'!A9,'Sales receipt'!B:B,'Sales receipt'!B4) -> 55 | S61: =SUMIFS('Sales receipt'!K:K,'Sales receipt'!M:M,'Sales receipt'!M3,'Sales receipt'!A:A,'Sales receipt'!A10,'Sales receipt'!B:B,'Sales receipt'!B4) -> 58054 | T61: =SUMIFS('Sales receipt'!J:J,'Sales receipt'!M:M,'Sales receipt'!M3,'Sales receipt'!A:A,'Sales receipt'!A10,'Sales receipt'!B:B,'Sales receipt'!B4) -> 53
B62: FOT | C62: =SUMIFS('Sales receipt'!K:K,'Sales receipt'!M:M,'Sales receipt'!M3,'Sales receipt'!A:A,'Sales receipt'!A2,'Sales receipt'!B:B,'Sales receipt'!B6) -> 12975 | D62: =SUMIFS('Sales receipt'!J:J,'Sales receipt'!M:M,'Sales receipt'!M3,'Sales receipt'!A:A,'Sales receipt'!A2,'Sales receipt'!B:B,'Sales receipt'!B6) -> 16 | E62: =SUMIFS('Sales receipt'!K:K,'Sales receipt'!M:M,'Sales receipt'!M3,'Sales receipt'!A:A,'Sales receipt'!A3,'Sales receipt'!B:B,'Sales receipt'!B6) -> 9189 | F62: =SUMIFS('Sales receipt'!J:J,'Sales receipt'!M:M,'Sales receipt'!M3,'Sales receipt'!A:A,'Sales receipt'!A3,'Sales receipt'!B:B,'Sales receipt'!B6) -> 12 | G62: =SUMIFS('Sales receipt'!K:K,'Sales receipt'!M:M,'Sales receipt'!M3,'Sales receipt'!A:A,'Sales receipt'!A4,'Sales receipt'!B:B,'Sales receipt'!B6) -> 7695 | H62: =SUMIFS('Sales receipt'!J:J,'Sales receipt'!M:M,'Sales receipt'!M3,'Sales receipt'!A:A,'Sales receipt'!A4,'Sales receipt'!B:B,'Sales receipt'!B6) -> 8 | I62: =SUMIFS('Sales receipt'!K:K,'Sales receipt'!M:M,'Sales receipt'!M3,'Sales receipt'!A:A,'Sales receipt'!A5,'Sales receipt'!B:B,'Sales receipt'!B6) -> 22816 | J62: =SUMIFS('Sales receipt'!J:J,'Sales receipt'!M:M,'Sales receipt'!M3,'Sales receipt'!A:A,'Sales receipt'!A5,'Sales receipt'!B:B,'Sales receipt'!B6) -> 28 | K62: =SUMIFS('Sales receipt'!K:K,'Sales receipt'!M:M,'Sales receipt'!M3,'Sales receipt'!A:A,'Sales receipt'!A6,'Sales receipt'!B:B,'Sales receipt'!B6) -> 11962 | L62: =SUMIFS('Sales receipt'!J:J,'Sales receipt'!M:M,'Sales receipt'!M3,'Sales receipt'!A:A,'Sales receipt'!A6,'Sales receipt'!B:B,'Sales receipt'!B6) -> 14 | M62: =SUMIFS('Sales receipt'!K:K,'Sales receipt'!M:M,'Sales receipt'!M3,'Sales receipt'!A:A,'Sales receipt'!A7,'Sales receipt'!B:B,'Sales receipt'!B6) -> 11247 | N62: =SUMIFS('Sales receipt'!J:J,'Sales receipt'!M:M,'Sales receipt'!M3,'Sales receipt'!A:A,'Sales receipt'!A7,'Sales receipt'!B:B,'Sales receipt'!B6) -> 13 | O62: =SUMIFS('Sales receipt'!K:K,'Sales receipt'!M:M,'Sales receipt'!M3,'Sales receipt'!A:A,'Sales receipt'!A8,'Sales receipt'!B:B,'Sales receipt'!B6) -> 12650 | P62: =SUMIFS('Sales receipt'!J:J,'Sales receipt'!M:M,'Sales receipt'!M3,'Sales receipt'!A:A,'Sales receipt'!A8,'Sales receipt'!B:B,'Sales receipt'!B6) -> 16 | Q62: =SUMIFS('Sales receipt'!K:K,'Sales receipt'!M:M,'Sales receipt'!M3,'Sales receipt'!A:A,'Sales receipt'!A9,'Sales receipt'!B:B,'Sales receipt'!B6) -> 13621 | R62: =SUMIFS('Sales receipt'!J:J,'Sales receipt'!M:M,'Sales receipt'!M3,'Sales receipt'!A:A,'Sales receipt'!A9,'Sales receipt'!B:B,'Sales receipt'!B6) -> 17 | S62: =SUMIFS('Sales receipt'!K:K,'Sales receipt'!M:M,'Sales receipt'!M3,'Sales receipt'!A:A,'Sales receipt'!A10,'Sales receipt'!B:B,'Sales receipt'!B6) -> 12149 | T62: =SUMIFS('Sales receipt'!J:J,'Sales receipt'!M:M,'Sales receipt'!M3,'Sales receipt'!A:A,'Sales receipt'!A10,'Sales receipt'!B:B,'Sales receipt'!B6) -> 15
B63: ACC | C63: =SUMIFS('Sales receipt'!K:K,'Sales receipt'!M:M,'Sales receipt'!M3,'Sales receipt'!A:A,'Sales receipt'!A2,'Sales receipt'!B:B,'Sales receipt'!B5) -> 289 | D63: =SUMIFS('Sales receipt'!J:J,'Sales receipt'!M:M,'Sales receipt'!M3,'Sales receipt'!A:A,'Sales receipt'!A2,'Sales receipt'!B:B,'Sales receipt'!B5) -> 1 | E63: =SUMIFS('Sales receipt'!K:K,'Sales receipt'!M:M,'Sales receipt'!M3,'Sales receipt'!A:A,'Sales receipt'!A3,'Sales receipt'!B:B,'Sales receipt'!B5) -> 0 | F63: =SUMIFS('Sales receipt'!J:J,'Sales receipt'!M:M,'Sales receipt'!M3,'Sales receipt'!A:A,'Sales receipt'!A3,'Sales receipt'!B:B,'Sales receipt'!B5) -> 0 | G63: =SUMIFS('Sales receipt'!K:K,'Sales receipt'!M:M,'Sales receipt'!M3,'Sales receipt'!A:A,'Sales receipt'!A4,'Sales receipt'!B:B,'Sales receipt'!B5) -> 580 | H63: =SUMIFS('Sales receipt'!J:J,'Sales receipt'!M:M,'Sales receipt'!M3,'Sales receipt'!A:A,'Sales receipt'!A4,'Sales receipt'!B:B,'Sales receipt'!B5) -> 1 | I63: =SUMIFS('Sales receipt'!K:K,'Sales receipt'!M:M,'Sales receipt'!M3,'Sales receipt'!A:A,'Sales receipt'!A5,'Sales receipt'!B:B,'Sales receipt'!B5) -> 557 | J63: =SUMIFS('Sales receipt'!J:J,'Sales receipt'!M:M,'Sales receipt'!M3,'Sales receipt'!A:A,'Sales receipt'!A5,'Sales receipt'!B:B,'Sales receipt'!B5) -> 4 | K63: =SUMIFS('Sales receipt'!K:K,'Sales receipt'!M:M,'Sales receipt'!M3,'Sales receipt'!A:A,'Sales receipt'!A6,'Sales receipt'!B:B,'Sales receipt'!B5) -> 0 | L63: =SUMIFS('Sales receipt'!J:J,'Sales receipt'!M:M,'Sales receipt'!M3,'Sales receipt'!A:A,'Sales receipt'!A6,'Sales receipt'!B:B,'Sales receipt'!B5) -> 0 | M63: =SUMIFS('Sales receipt'!K:K,'Sales receipt'!M:M,'Sales receipt'!M3,'Sales receipt'!A:A,'Sales receipt'!A7,'Sales receipt'!B:B,'Sales receipt'!B5) -> 440 | N63: =SUMIFS('Sales receipt'!J:J,'Sales receipt'!M:M,'Sales receipt'!M3,'Sales receipt'!A:A,'Sales receipt'!A7,'Sales receipt'!B:B,'Sales receipt'!B5) -> 2 | O63: =SUMIFS('Sales receipt'!K:K,'Sales receipt'!M:M,'Sales receipt'!M3,'Sales receipt'!A:A,'Sales receipt'!A8,'Sales receipt'!B:B,'Sales receipt'!B5) -> 0 | P63: =SUMIFS('Sales receipt'!J:J,'Sales receipt'!M:M,'Sales receipt'!M3,'Sales receipt'!A:A,'Sales receipt'!A8,'Sales receipt'!B:B,'Sales receipt'!B5) -> 0 | Q63: =SUMIFS('Sales receipt'!K:K,'Sales receipt'!M:M,'Sales receipt'!M3,'Sales receipt'!A:A,'Sales receipt'!A9,'Sales receipt'!B:B,'Sales receipt'!B5) -> 1996 | R63: =SUMIFS('Sales receipt'!J:J,'Sales receipt'!M:M,'Sales receipt'!M3,'Sales receipt'!A:A,'Sales receipt'!A9,'Sales receipt'!B:B,'Sales receipt'!B5) -> 5 | S63: =SUMIFS('Sales receipt'!K:K,'Sales receipt'!M:M,'Sales receipt'!M3,'Sales receipt'!A:A,'Sales receipt'!A10,'Sales receipt'!B:B,'Sales receipt'!B5) -> 374 | T63: =SUMIFS('Sales receipt'!J:J,'Sales receipt'!M:M,'Sales receipt'!M3,'Sales receipt'!A:A,'Sales receipt'!A10,'Sales receipt'!B:B,'Sales receipt'!B5) -> 1
A70: 全部 中類 | B70: / | C70: M1776 Derrick | E70: M0990 Mia | G70: M2767 Christy | I70: M2034 Joanna | K70: M2518 Silver | M70: M2521 Maggie | O70: M2710 Pan | Q70: M2720 Ceci | S70: M2921 Grace
C71: Sales | D71: Qty | E71: Sales | F71: Qty | G71: Sales | H71: Qty | I71: Sales | J71: Qty | K71: Sales | L71: Qty | M71: Sales | N71: Qty | O71: Sales | P71: Qty | Q71: Sales | R71: Qty | S71: Sales | T71: Qty
B72: 內搭 | C72: =SUMIFS('Sales receipt'!K:K,'Sales receipt'!A:A,'Sales receipt'!A2,'Sales receipt'!B:B,'Sales receipt'!B4,'Sales receipt'!C:C,'Sales receipt'!C2) -> 5671 | D72: =SUMIFS('Sales receipt'!J:J,'Sales receipt'!A:A,'Sales receipt'!A2,'Sales receipt'!B:B,'Sales receipt'!B4,'Sales receipt'!C:C,'Sales receipt'!C2) -> 7 | E72: =SUMIFS('Sales receipt'!K:K,'Sales receipt'!A:A,'Sales receipt'!A3,'Sales receipt'!B:B,'Sales receipt'!B4,'Sales receipt'!C:C,'Sales receipt'!C2) -> 14919 | F72: =SUMIFS('Sales receipt'!J:J,'Sales receipt'!A:A,'Sales receipt'!A3,'Sales receipt'!B:B,'Sales receipt'!B4,'Sales receipt'!C:C,'Sales receipt'!C2) -> 17 | G72: =SUMIFS('Sales receipt'!K:K,'Sales receipt'!A:A,'Sales receipt'!A4,'Sales receipt'!B:B,'Sales receipt'!B4,'Sales receipt'!C:C,'Sales receipt'!C2) -> 15547 | H72: =SUMIFS('Sales receipt'!J:J,'Sales receipt'!A:A,'Sales receipt'!A4,'Sales receipt'!B:B,'Sales receipt'!B4,'Sales receipt'!C:C,'Sales receipt'!C2) -> 19 | I72: =SUMIFS('Sales receipt'!K:K,'Sales receipt'!A:A,'Sales receipt'!A5,'Sales receipt'!B:B,'Sales receipt'!B4,'Sales receipt'!C:C,'Sales receipt'!C2) -> 23519 | J72: =SUMIFS('Sales receipt'!J:J,'Sales receipt'!A:A,'Sales receipt'!A5,'Sales receipt'!B:B,'Sales receipt'!B4,'Sales receipt'!C:C,'Sales receipt'!C2) -> 30 | K72: =SUMIFS('Sales receipt'!K:K,'Sales receipt'!A:A,'Sales receipt'!A6,'Sales receipt'!B:B,'Sales receipt'!B4,'Sales receipt'!C:C,'Sales receipt'!C2) -> 14479 | L72: =SUMIFS('Sales receipt'!J:J,'Sales receipt'!A:A,'Sales receipt'!A6,'Sales receipt'!B:B,'Sales receipt'!B4,'Sales receipt'!C:C,'Sales receipt'!C2) -> 17 | M72: =SUMIFS('Sales receipt'!K:K,'Sales receipt'!A:A,'Sales receipt'!A7,'Sales receipt'!B:B,'Sales receipt'!B4,'Sales receipt'!C:C,'Sales receipt'!C2) -> 12192 | N72: =SUMIFS('Sales receipt'!J:J,'Sales receipt'!A:A,'Sales receipt'!A7,'Sales receipt'!B:B,'Sales receipt'!B4,'Sales receipt'!C:C,'Sales receipt'!C2) -> 17 | O72: =SUMIFS('Sales receipt'!K:K,'Sales receipt'!A:A,'Sales receipt'!A8,'Sales receipt'!B:B,'Sales receipt'!B4,'Sales receipt'!C:C,'Sales receipt'!C2) -> 13347 | P72: =SUMIFS('Sales receipt'!J:J,'Sales receipt'!A:A,'Sales receipt'!A8,'Sales receipt'!B:B,'Sales receipt'!B4,'Sales receipt'!C:C,'Sales receipt'!C2) -> 17 | Q72: =SUMIFS('Sales receipt'!K:K,'Sales receipt'!A:A,'Sales receipt'!A9,'Sales receipt'!B:B,'Sales receipt'!B4,'Sales receipt'!C:C,'Sales receipt'!C2) -> 13563 | R72: =SUMIFS('Sales receipt'!J:J,'Sales receipt'!A:A,'Sales receipt'!A9,'Sales receipt'!B:B,'Sales receipt'!B4,'Sales receipt'!C:C,'Sales receipt'!C2) -> 15 | S72: =SUMIFS('Sales receipt'!K:K,'Sales receipt'!A:A,'Sales receipt'!A10,'Sales receipt'!B:B,'Sales receipt'!B4,'Sales receipt'!C:C,'Sales receipt'!C2) -> 15049 | T72: =SUMIFS('Sales receipt'!J:J,'Sales receipt'!A:A,'Sales receipt'!A10,'Sales receipt'!B:B,'Sales receipt'!B4,'Sales receipt'!C:C,'Sales receipt'!C2) -> 17
B73: 內搭類 | C73: =SUMIFS('Sales receipt'!K:K,'Sales receipt'!A:A,'Sales receipt'!A2,'Sales receipt'!B:B,'Sales receipt'!B4,'Sales receipt'!C:C,'Sales receipt'!C3) -> 16628 | D73: =SUMIFS('Sales receipt'!J:J,'Sales receipt'!A:A,'Sales receipt'!A2,'Sales receipt'!B:B,'Sales receipt'!B4,'Sales receipt'!C:C,'Sales receipt'!C3) -> 26 | E73: =SUMIFS('Sales receipt'!K:K,'Sales receipt'!A:A,'Sales receipt'!A3,'Sales receipt'!B:B,'Sales receipt'!B4,'Sales receipt'!C:C,'Sales receipt'!C3) -> 6730 | F73: =SUMIFS('Sales receipt'!J:J,'Sales receipt'!A:A,'Sales receipt'!A3,'Sales receipt'!B:B,'Sales receipt'!B4,'Sales receipt'!C:C,'Sales receipt'!C3) -> 12 | G73: =SUMIFS('Sales receipt'!K:K,'Sales receipt'!A:A,'Sales receipt'!A4,'Sales receipt'!B:B,'Sales receipt'!B4,'Sales receipt'!C:C,'Sales receipt'!C3) -> 9817 | H73: =SUMIFS('Sales receipt'!J:J,'Sales receipt'!A:A,'Sales receipt'!A4,'Sales receipt'!B:B,'Sales receipt'!B4,'Sales receipt'!C:C,'Sales receipt'!C3) -> 13 | I73: =SUMIFS('Sales receipt'!K:K,'Sales receipt'!A:A,'Sales receipt'!A5,'Sales receipt'!B:B,'Sales receipt'!B4,'Sales receipt'!C:C,'Sales receipt'!C3) -> 16403 | J73: =SUMIFS('Sales receipt'!J:J,'Sales receipt'!A:A,'Sales receipt'!A5,'Sales receipt'!B:B,'Sales receipt'!B4,'Sales receipt'!C:C,'Sales receipt'!C3) -> 28 | K73: =SUMIFS('Sales receipt'!K:K,'Sales receipt'!A:A,'Sales receipt'!A6,'Sales receipt'!B:B,'Sales receipt'!B4,'Sales receipt'!C:C,'Sales receipt'!C3) -> 6392 | L73: =SUMIFS('Sales receipt'!J:J,'Sales receipt'!A:A,'Sales receipt'!A6,'Sales receipt'!B:B,'Sales receipt'!B4,'Sales receipt'!C:C,'Sales receipt'!C3) -> 11 | M73: =SUMIFS('Sales receipt'!K:K,'Sales receipt'!A:A,'Sales receipt'!A7,'Sales receipt'!B:B,'Sales receipt'!B4,'Sales receipt'!C:C,'Sales receipt'!C3) -> 10196 | N73: =SUMIFS('Sales receipt'!J:J,'Sales receipt'!A:A,'Sales receipt'!A7,'Sales receipt'!B:B,'Sales receipt'!B4,'Sales receipt'!C:C,'Sales receipt'!C3) -> 16 | O73: =SUMIFS('Sales receipt'!K:K,'Sales receipt'!A:A,'Sales receipt'!A8,'Sales receipt'!B:B,'Sales receipt'!B4,'Sales receipt'!C:C,'Sales receipt'!C3) -> 14362 | P73: =SUMIFS('Sales receipt'!J:J,'Sales receipt'!A:A,'Sales receipt'!A8,'Sales receipt'!B:B,'Sales receipt'!B4,'Sales receipt'!C:C,'Sales receipt'!C3) -> 25 | Q73: =SUMIFS('Sales receipt'!K:K,'Sales receipt'!A:A,'Sales receipt'!A9,'Sales receipt'!B:B,'Sales receipt'!B4,'Sales receipt'!C:C,'Sales receipt'!C3) -> 12659 | R73: =SUMIFS('Sales receipt'!J:J,'Sales receipt'!A:A,'Sales receipt'!A9,'Sales receipt'!B:B,'Sales receipt'!B4,'Sales receipt'!C:C,'Sales receipt'!C3) -> 22 | S73: =SUMIFS('Sales receipt'!K:K,'Sales receipt'!A:A,'Sales receipt'!A10,'Sales receipt'!B:B,'Sales receipt'!B4,'Sales receipt'!C:C,'Sales receipt'!C3) -> 12906 | T73: =SUMIFS('Sales receipt'!J:J,'Sales receipt'!A:A,'Sales receipt'!A10,'Sales receipt'!B:B,'Sales receipt'!B4,'Sales receipt'!C:C,'Sales receipt'!C3) -> 16
B74: 內衣類 | C74: =SUMIFS('Sales receipt'!K:K,'Sales receipt'!A:A,'Sales receipt'!A2,'Sales receipt'!B:B,'Sales receipt'!B4,'Sales receipt'!C:C,'Sales receipt'!C4) -> 0 | D74: =SUMIFS('Sales receipt'!J:J,'Sales receipt'!A:A,'Sales receipt'!A2,'Sales receipt'!B:B,'Sales receipt'!B4,'Sales receipt'!C:C,'Sales receipt'!C4) -> 0 | E74: =SUMIFS('Sales receipt'!K:K,'Sales receipt'!A:A,'Sales receipt'!A3,'Sales receipt'!B:B,'Sales receipt'!B4,'Sales receipt'!C:C,'Sales receipt'!C4) -> 0 | F74: =SUMIFS('Sales receipt'!J:J,'Sales receipt'!A:A,'Sales receipt'!A3,'Sales receipt'!B:B,'Sales receipt'!B4,'Sales receipt'!C:C,'Sales receipt'!C4) -> 0 | G74: =SUMIFS('Sales receipt'!K:K,'Sales receipt'!A:A,'Sales receipt'!A4,'Sales receipt'!B:B,'Sales receipt'!B4,'Sales receipt'!C:C,'Sales receipt'!C4) -> 0 | H74: =SUMIFS('Sales receipt'!J:J,'Sales receipt'!A:A,'Sales receipt'!A4,'Sales receipt'!B:B,'Sales receipt'!B4,'Sales receipt'!C:C,'Sales receipt'!C4) -> 0 | I74: =SUMIFS('Sales receipt'!K:K,'Sales receipt'!A:A,'Sales receipt'!A5,'Sales receipt'!B:B,'Sales receipt'!B4,'Sales receipt'!C:C,'Sales receipt'!C4) -> 0 | J74: =SUMIFS('Sales receipt'!J:J,'Sales receipt'!A:A,'Sales receipt'!A5,'Sales receipt'!B:B,'Sales receipt'!B4,'Sales receipt'!C:C,'Sales receipt'!C4) -> 0 | K74: =SUMIFS('Sales receipt'!K:K,'Sales receipt'!A:A,'Sales receipt'!A6,'Sales receipt'!B:B,'Sales receipt'!B4,'Sales receipt'!C:C,'Sales receipt'!C4) -> 0 | L74: =SUMIFS('Sales receipt'!J:J,'Sales receipt'!A:A,'Sales receipt'!A6,'Sales receipt'!B:B,'Sales receipt'!B4,'Sales receipt'!C:C,'Sales receipt'!C4) -> 0 | M74: =SUMIFS('Sales receipt'!K:K,'Sales receipt'!A:A,'Sales receipt'!A7,'Sales receipt'!B:B,'Sales receipt'!B4,'Sales receipt'!C:C,'Sales receipt'!C4) -> 0 | N74: =SUMIFS('Sales receipt'!J:J,'Sales receipt'!A:A,'Sales receipt'!A7,'Sales receipt'!B:B,'Sales receipt'!B4,'Sales receipt'!C:C,'Sales receipt'!C4) -> 0 | O74: =SUMIFS('Sales receipt'!K:K,'Sales receipt'!A:A,'Sales receipt'!A8,'Sales receipt'!B:B,'Sales receipt'!B4,'Sales receipt'!C:C,'Sales receipt'!C4) -> 0 | P74: =SUMIFS('Sales receipt'!J:J,'Sales receipt'!A:A,'Sales receipt'!A8,'Sales receipt'!B:B,'Sales receipt'!B4,'Sales receipt'!C:C,'Sales receipt'!C4) -> 0 | Q74: =SUMIFS('Sales receipt'!K:K,'Sales receipt'!A:A,'Sales receipt'!A9,'Sales receipt'!B:B,'Sales receipt'!B4,'Sales receipt'!C:C,'Sales receipt'!C4) -> 0 | R74: =SUMIFS('Sales receipt'!J:J,'Sales receipt'!A:A,'Sales receipt'!A9,'Sales receipt'!B:B,'Sales receipt'!B4,'Sales receipt'!C:C,'Sales receipt'!C4) -> 0 | S74: =SUMIFS('Sales receipt'!K:K,'Sales receipt'!A:A,'Sales receipt'!A10,'Sales receipt'!B:B,'Sales receipt'!B4,'Sales receipt'!C:C,'Sales receipt'!C4) -> 0 | T74: =SUMIFS('Sales receipt'!J:J,'Sales receipt'!A:A,'Sales receipt'!A10,'Sales receipt'!B:B,'Sales receipt'!B4,'Sales receipt'!C:C,'Sales receipt'!C4) -> 0
B75: 短T類 | C75: =SUMIFS('Sales receipt'!K:K,'Sales receipt'!A:A,'Sales receipt'!A2,'Sales receipt'!B:B,'Sales receipt'!B4,'Sales receipt'!C:C,'Sales receipt'!C5) -> 7050 | D75: =SUMIFS('Sales receipt'!J:J,'Sales receipt'!A:A,'Sales receipt'!A2,'Sales receipt'!B:B,'Sales receipt'!B4,'Sales receipt'!C:C,'Sales receipt'!C5) -> 10 | E75: =SUMIFS('Sales receipt'!K:K,'Sales receipt'!A:A,'Sales receipt'!A3,'Sales receipt'!B:B,'Sales receipt'!B4,'Sales receipt'!C:C,'Sales receipt'!C5) -> 5941 | F75: =SUMIFS('Sales receipt'!J:J,'Sales receipt'!A:A,'Sales receipt'!A3,'Sales receipt'!B:B,'Sales receipt'!B4,'Sales receipt'!C:C,'Sales receipt'!C5) -> 9 | G75: =SUMIFS('Sales receipt'!K:K,'Sales receipt'!A:A,'Sales receipt'!A4,'Sales receipt'!B:B,'Sales receipt'!B4,'Sales receipt'!C:C,'Sales receipt'!C5) -> 1320 | H75: =SUMIFS('Sales receipt'!J:J,'Sales receipt'!A:A,'Sales receipt'!A4,'Sales receipt'!B:B,'Sales receipt'!B4,'Sales receipt'!C:C,'Sales receipt'!C5) -> 2 | I75: =SUMIFS('Sales receipt'!K:K,'Sales receipt'!A:A,'Sales receipt'!A5,'Sales receipt'!B:B,'Sales receipt'!B4,'Sales receipt'!C:C,'Sales receipt'!C5) -> 10601 | J75: =SUMIFS('Sales receipt'!J:J,'Sales receipt'!A:A,'Sales receipt'!A5,'Sales receipt'!B:B,'Sales receipt'!B4,'Sales receipt'!C:C,'Sales receipt'!C5) -> 15 | K75: =SUMIFS('Sales receipt'!K:K,'Sales receipt'!A:A,'Sales receipt'!A6,'Sales receipt'!B:B,'Sales receipt'!B4,'Sales receipt'!C:C,'Sales receipt'!C5) -> 4250 | L75: =SUMIFS('Sales receipt'!J:J,'Sales receipt'!A:A,'Sales receipt'!A6,'Sales receipt'!B:B,'Sales receipt'!B4,'Sales receipt'!C:C,'Sales receipt'!C5) -> 5 | M75: =SUMIFS('Sales receipt'!K:K,'Sales receipt'!A:A,'Sales receipt'!A7,'Sales receipt'!B:B,'Sales receipt'!B4,'Sales receipt'!C:C,'Sales receipt'!C5) -> 4596 | N75: =SUMIFS('Sales receipt'!J:J,'Sales receipt'!A:A,'Sales receipt'!A7,'Sales receipt'!B:B,'Sales receipt'!B4,'Sales receipt'!C:C,'Sales receipt'!C5) -> 7 | O75: =SUMIFS('Sales receipt'!K:K,'Sales receipt'!A:A,'Sales receipt'!A8,'Sales receipt'!B:B,'Sales receipt'!B4,'Sales receipt'!C:C,'Sales receipt'!C5) -> 5653 | P75: =SUMIFS('Sales receipt'!J:J,'Sales receipt'!A:A,'Sales receipt'!A8,'Sales receipt'!B:B,'Sales receipt'!B4,'Sales receipt'!C:C,'Sales receipt'!C5) -> 8 | Q75: =SUMIFS('Sales receipt'!K:K,'Sales receipt'!A:A,'Sales receipt'!A9,'Sales receipt'!B:B,'Sales receipt'!B4,'Sales receipt'!C:C,'Sales receipt'!C5) -> 7799 | R75: =SUMIFS('Sales receipt'!J:J,'Sales receipt'!A:A,'Sales receipt'!A9,'Sales receipt'!B:B,'Sales receipt'!B4,'Sales receipt'!C:C,'Sales receipt'!C5) -> 10 | S75: =SUMIFS('Sales receipt'!K:K,'Sales receipt'!A:A,'Sales receipt'!A10,'Sales receipt'!B:B,'Sales receipt'!B4,'Sales receipt'!C:C,'Sales receipt'!C5) -> 5241 | T75: =SUMIFS('Sales receipt'!J:J,'Sales receipt'!A:A,'Sales receipt'!A10,'Sales receipt'!B:B,'Sales receipt'!B4,'Sales receipt'!C:C,'Sales receipt'!C5) -> 6
B76: 編織衫 | C76: =SUMIFS('Sales receipt'!K:K,'Sales receipt'!A:A,'Sales receipt'!A2,'Sales receipt'!B:B,'Sales receipt'!B4,'Sales receipt'!C:C,'Sales receipt'!C6) -> 5541 | D76: =SUMIFS('Sales receipt'!J:J,'Sales receipt'!A:A,'Sales receipt'!A2,'Sales receipt'!B:B,'Sales receipt'!B4,'Sales receipt'!C:C,'Sales receipt'!C6) -> 4 | E76: =SUMIFS('Sales receipt'!K:K,'Sales receipt'!A:A,'Sales receipt'!A3,'Sales receipt'!B:B,'Sales receipt'!B4,'Sales receipt'!C:C,'Sales receipt'!C6) -> 4751 | F76: =SUMIFS('Sales receipt'!J:J,'Sales receipt'!A:A,'Sales receipt'!A3,'Sales receipt'!B:B,'Sales receipt'!B4,'Sales receipt'!C:C,'Sales receipt'!C6) -> 4 | G76: =SUMIFS('Sales receipt'!K:K,'Sales receipt'!A:A,'Sales receipt'!A4,'Sales receipt'!B:B,'Sales receipt'!B4,'Sales receipt'!C:C,'Sales receipt'!C6) -> 7692 | H76: =SUMIFS('Sales receipt'!J:J,'Sales receipt'!A:A,'Sales receipt'!A4,'Sales receipt'!B:B,'Sales receipt'!B4,'Sales receipt'!C:C,'Sales receipt'!C6) -> 6 | I76: =SUMIFS('Sales receipt'!K:K,'Sales receipt'!A:A,'Sales receipt'!A5,'Sales receipt'!B:B,'Sales receipt'!B4,'Sales receipt'!C:C,'Sales receipt'!C6) -> 2970 | J76: =SUMIFS('Sales receipt'!J:J,'Sales receipt'!A:A,'Sales receipt'!A5,'Sales receipt'!B:B,'Sales receipt'!B4,'Sales receipt'!C:C,'Sales receipt'!C6) -> 2 | K76: =SUMIFS('Sales receipt'!K:K,'Sales receipt'!A:A,'Sales receipt'!A6,'Sales receipt'!B:B,'Sales receipt'!B4,'Sales receipt'!C:C,'Sales receipt'!C6) -> 2034 | L76: =SUMIFS('Sales receipt'!J:J,'Sales receipt'!A:A,'Sales receipt'!A6,'Sales receipt'!B:B,'Sales receipt'!B4,'Sales receipt'!C:C,'Sales receipt'!C6) -> 2 | M76: =SUMIFS('Sales receipt'!K:K,'Sales receipt'!A:A,'Sales receipt'!A7,'Sales receipt'!B:B,'Sales receipt'!B4,'Sales receipt'!C:C,'Sales receipt'!C6) -> 2676 | N76: =SUMIFS('Sales receipt'!J:J,'Sales receipt'!A:A,'Sales receipt'!A7,'Sales receipt'!B:B,'Sales receipt'!B4,'Sales receipt'!C:C,'Sales receipt'!C6) -> 2 | O76: =SUMIFS('Sales receipt'!K:K,'Sales receipt'!A:A,'Sales receipt'!A8,'Sales receipt'!B:B,'Sales receipt'!B4,'Sales receipt'!C:C,'Sales receipt'!C6) -> 10205 | P76: =SUMIFS('Sales receipt'!J:J,'Sales receipt'!A:A,'Sales receipt'!A8,'Sales receipt'!B:B,'Sales receipt'!B4,'Sales receipt'!C:C,'Sales receipt'!C6) -> 7 | Q76: =SUMIFS('Sales receipt'!K:K,'Sales receipt'!A:A,'Sales receipt'!A9,'Sales receipt'!B:B,'Sales receipt'!B4,'Sales receipt'!C:C,'Sales receipt'!C6) -> 6422 | R76: =SUMIFS('Sales receipt'!J:J,'Sales receipt'!A:A,'Sales receipt'!A9,'Sales receipt'!B:B,'Sales receipt'!B4,'Sales receipt'!C:C,'Sales receipt'!C6) -> 4 | S76: =SUMIFS('Sales receipt'!K:K,'Sales receipt'!A:A,'Sales receipt'!A10,'Sales receipt'!B:B,'Sales receipt'!B4,'Sales receipt'!C:C,'Sales receipt'!C6) -> 8041 | T76: =SUMIFS('Sales receipt'!J:J,'Sales receipt'!A:A,'Sales receipt'!A10,'Sales receipt'!B:B,'Sales receipt'!B4,'Sales receipt'!C:C,'Sales receipt'!C6) -> 6
B77: 襯衫 | C77: =SUMIFS('Sales receipt'!K:K,'Sales receipt'!A:A,'Sales receipt'!A2,'Sales receipt'!B:B,'Sales receipt'!B4,'Sales receipt'!C:C,'Sales receipt'!C7) -> 796 | D77: =SUMIFS('Sales receipt'!J:J,'Sales receipt'!A:A,'Sales receipt'!A2,'Sales receipt'!B:B,'Sales receipt'!B4,'Sales receipt'!C:C,'Sales receipt'!C7) -> 1 | E77: =SUMIFS('Sales receipt'!K:K,'Sales receipt'!A:A,'Sales receipt'!A3,'Sales receipt'!B:B,'Sales receipt'!B4,'Sales receipt'!C:C,'Sales receipt'!C7) -> 0 | F77: =SUMIFS('Sales receipt'!J:J,'Sales receipt'!A:A,'Sales receipt'!A3,'Sales receipt'!B:B,'Sales receipt'!B4,'Sales receipt'!C:C,'Sales receipt'!C7) -> 0 | G77: =SUMIFS('Sales receipt'!K:K,'Sales receipt'!A:A,'Sales receipt'!A4,'Sales receipt'!B:B,'Sales receipt'!B4,'Sales receipt'!C:C,'Sales receipt'!C7) -> 787 | H77: =SUMIFS('Sales receipt'!J:J,'Sales receipt'!A:A,'Sales receipt'!A4,'Sales receipt'!B:B,'Sales receipt'!B4,'Sales receipt'!C:C,'Sales receipt'!C7) -> 1 | I77: =SUMIFS('Sales receipt'!K:K,'Sales receipt'!A:A,'Sales receipt'!A5,'Sales receipt'!B:B,'Sales receipt'!B4,'Sales receipt'!C:C,'Sales receipt'!C7) -> 0 | J77: =SUMIFS('Sales receipt'!J:J,'Sales receipt'!A:A,'Sales receipt'!A5,'Sales receipt'!B:B,'Sales receipt'!B4,'Sales receipt'!C:C,'Sales receipt'!C7) -> 0 | K77: =SUMIFS('Sales receipt'!K:K,'Sales receipt'!A:A,'Sales receipt'!A6,'Sales receipt'!B:B,'Sales receipt'!B4,'Sales receipt'!C:C,'Sales receipt'!C7) -> 0 | L77: =SUMIFS('Sales receipt'!J:J,'Sales receipt'!A:A,'Sales receipt'!A6,'Sales receipt'!B:B,'Sales receipt'!B4,'Sales receipt'!C:C,'Sales receipt'!C7) -> 0 | M77: =SUMIFS('Sales receipt'!K:K,'Sales receipt'!A:A,'Sales receipt'!A7,'Sales receipt'!B:B,'Sales receipt'!B4,'Sales receipt'!C:C,'Sales receipt'!C7) -> 0 | N77: =SUMIFS('Sales receipt'!J:J,'Sales receipt'!A:A,'Sales receipt'!A7,'Sales receipt'!B:B,'Sales receipt'!B4,'Sales receipt'!C:C,'Sales receipt'!C7) -> 0 | O77: =SUMIFS('Sales receipt'!K:K,'Sales receipt'!A:A,'Sales receipt'!A8,'Sales receipt'!B:B,'Sales receipt'!B4,'Sales receipt'!C:C,'Sales receipt'!C7) -> 3037 | P77: =SUMIFS('Sales receipt'!J:J,'Sales receipt'!A:A,'Sales receipt'!A8,'Sales receipt'!B:B,'Sales receipt'!B4,'Sales receipt'!C:C,'Sales receipt'!C7) -> 3 | Q77: =SUMIFS('Sales receipt'!K:K,'Sales receipt'!A:A,'Sales receipt'!A9,'Sales receipt'!B:B,'Sales receipt'!B4,'Sales receipt'!C:C,'Sales receipt'!C7) -> 2195 | R77: =SUMIFS('Sales receipt'!J:J,'Sales receipt'!A:A,'Sales receipt'!A9,'Sales receipt'!B:B,'Sales receipt'!B4,'Sales receipt'!C:C,'Sales receipt'!C7) -> 2 | S77: =SUMIFS('Sales receipt'!K:K,'Sales receipt'!A:A,'Sales receipt'!A10,'Sales receipt'!B:B,'Sales receipt'!B4,'Sales receipt'!C:C,'Sales receipt'!C7) -> 1802 | T77: =SUMIFS('Sales receipt'!J:J,'Sales receipt'!A:A,'Sales receipt'!A10,'Sales receipt'!B:B,'Sales receipt'!B4,'Sales receipt'!C:C,'Sales receipt'!C7) -> 2
B78: 針織上衣 | C78: =SUMIFS('Sales receipt'!K:K,'Sales receipt'!A:A,'Sales receipt'!A2,'Sales receipt'!B:B,'Sales receipt'!B4,'Sales receipt'!C:C,'Sales receipt'!C8) -> 9885 | D78: =SUMIFS('Sales receipt'!J:J,'Sales receipt'!A:A,'Sales receipt'!A2,'Sales receipt'!B:B,'Sales receipt'!B4,'Sales receipt'!C:C,'Sales receipt'!C8) -> 7 | E78: =SUMIFS('Sales receipt'!K:K,'Sales receipt'!A:A,'Sales receipt'!A3,'Sales receipt'!B:B,'Sales receipt'!B4,'Sales receipt'!C:C,'Sales receipt'!C8) -> 20351 | F78: =SUMIFS('Sales receipt'!J:J,'Sales receipt'!A:A,'Sales receipt'!A3,'Sales receipt'!B:B,'Sales receipt'!B4,'Sales receipt'!C:C,'Sales receipt'!C8) -> 16 | G78: =SUMIFS('Sales receipt'!K:K,'Sales receipt'!A:A,'Sales receipt'!A4,'Sales receipt'!B:B,'Sales receipt'!B4,'Sales receipt'!C:C,'Sales receipt'!C8) -> 9158 | H78: =SUMIFS('Sales receipt'!J:J,'Sales receipt'!A:A,'Sales receipt'!A4,'Sales receipt'!B:B,'Sales receipt'!B4,'Sales receipt'!C:C,'Sales receipt'!C8) -> 6 | I78: =SUMIFS('Sales receipt'!K:K,'Sales receipt'!A:A,'Sales receipt'!A5,'Sales receipt'!B:B,'Sales receipt'!B4,'Sales receipt'!C:C,'Sales receipt'!C8) -> 18584 | J78: =SUMIFS('Sales receipt'!J:J,'Sales receipt'!A:A,'Sales receipt'!A5,'Sales receipt'!B:B,'Sales receipt'!B4,'Sales receipt'!C:C,'Sales receipt'!C8) -> 14 | K78: =SUMIFS('Sales receipt'!K:K,'Sales receipt'!A:A,'Sales receipt'!A6,'Sales receipt'!B:B,'Sales receipt'!B4,'Sales receipt'!C:C,'Sales receipt'!C8) -> 8410 | L78: =SUMIFS('Sales receipt'!J:J,'Sales receipt'!A:A,'Sales receipt'!A6,'Sales receipt'!B:B,'Sales receipt'!B4,'Sales receipt'!C:C,'Sales receipt'!C8) -> 6 | M78: =SUMIFS('Sales receipt'!K:K,'Sales receipt'!A:A,'Sales receipt'!A7,'Sales receipt'!B:B,'Sales receipt'!B4,'Sales receipt'!C:C,'Sales receipt'!C8) -> 3535 | N78: =SUMIFS('Sales receipt'!J:J,'Sales receipt'!A:A,'Sales receipt'!A7,'Sales receipt'!B:B,'Sales receipt'!B4,'Sales receipt'!C:C,'Sales receipt'!C8) -> 2 | O78: =SUMIFS('Sales receipt'!K:K,'Sales receipt'!A:A,'Sales receipt'!A8,'Sales receipt'!B:B,'Sales receipt'!B4,'Sales receipt'!C:C,'Sales receipt'!C8) -> 20467 | P78: =SUMIFS('Sales receipt'!J:J,'Sales receipt'!A:A,'Sales receipt'!A8,'Sales receipt'!B:B,'Sales receipt'!B4,'Sales receipt'!C:C,'Sales receipt'!C8) -> 14 | Q78: =SUMIFS('Sales receipt'!K:K,'Sales receipt'!A:A,'Sales receipt'!A9,'Sales receipt'!B:B,'Sales receipt'!B4,'Sales receipt'!C:C,'Sales receipt'!C8) -> 12674 | R78: =SUMIFS('Sales receipt'!J:J,'Sales receipt'!A:A,'Sales receipt'!A9,'Sales receipt'!B:B,'Sales receipt'!B4,'Sales receipt'!C:C,'Sales receipt'!C8) -> 11 | S78: =SUMIFS('Sales receipt'!K:K,'Sales receipt'!A:A,'Sales receipt'!A10,'Sales receipt'!B:B,'Sales receipt'!B4,'Sales receipt'!C:C,'Sales receipt'!C8) -> 9175 | T78: =SUMIFS('Sales receipt'!J:J,'Sales receipt'!A:A,'Sales receipt'!A10,'Sales receipt'!B:B,'Sales receipt'!B4,'Sales receipt'!C:C,'Sales receipt'!C8) -> 6
B79: 梭織上衣 | C79: =SUMIFS('Sales receipt'!K:K,'Sales receipt'!A:A,'Sales receipt'!A2,'Sales receipt'!B:B,'Sales receipt'!B4,'Sales receipt'!C:C,'Sales receipt'!C9) -> 18228 | D79: =SUMIFS('Sales receipt'!J:J,'Sales receipt'!A:A,'Sales receipt'!A2,'Sales receipt'!B:B,'Sales receipt'!B4,'Sales receipt'!C:C,'Sales receipt'!C9) -> 10 | E79: =SUMIFS('Sales receipt'!K:K,'Sales receipt'!A:A,'Sales receipt'!A3,'Sales receipt'!B:B,'Sales receipt'!B4,'Sales receipt'!C:C,'Sales receipt'!C9) -> 27170 | F79: =SUMIFS('Sales receipt'!J:J,'Sales receipt'!A:A,'Sales receipt'!A3,'Sales receipt'!B:B,'Sales receipt'!B4,'Sales receipt'!C:C,'Sales receipt'!C9) -> 17 | G79: =SUMIFS('Sales receipt'!K:K,'Sales receipt'!A:A,'Sales receipt'!A4,'Sales receipt'!B:B,'Sales receipt'!B4,'Sales receipt'!C:C,'Sales receipt'!C9) -> 24533 | H79: =SUMIFS('Sales receipt'!J:J,'Sales receipt'!A:A,'Sales receipt'!A4,'Sales receipt'!B:B,'Sales receipt'!B4,'Sales receipt'!C:C,'Sales receipt'!C9) -> 15 | I79: =SUMIFS('Sales receipt'!K:K,'Sales receipt'!A:A,'Sales receipt'!A5,'Sales receipt'!B:B,'Sales receipt'!B4,'Sales receipt'!C:C,'Sales receipt'!C9) -> 14314 | J79: =SUMIFS('Sales receipt'!J:J,'Sales receipt'!A:A,'Sales receipt'!A5,'Sales receipt'!B:B,'Sales receipt'!B4,'Sales receipt'!C:C,'Sales receipt'!C9) -> 9 | K79: =SUMIFS('Sales receipt'!K:K,'Sales receipt'!A:A,'Sales receipt'!A6,'Sales receipt'!B:B,'Sales receipt'!B4,'Sales receipt'!C:C,'Sales receipt'!C9) -> 19206 | L79: =SUMIFS('Sales receipt'!J:J,'Sales receipt'!A:A,'Sales receipt'!A6,'Sales receipt'!B:B,'Sales receipt'!B4,'Sales receipt'!C:C,'Sales receipt'!C9) -> 11 | M79: =SUMIFS('Sales receipt'!K:K,'Sales receipt'!A:A,'Sales receipt'!A7,'Sales receipt'!B:B,'Sales receipt'!B4,'Sales receipt'!C:C,'Sales receipt'!C9) -> 7113 | N79: =SUMIFS('Sales receipt'!J:J,'Sales receipt'!A:A,'Sales receipt'!A7,'Sales receipt'!B:B,'Sales receipt'!B4,'Sales receipt'!C:C,'Sales receipt'!C9) -> 5 | O79: =SUMIFS('Sales receipt'!K:K,'Sales receipt'!A:A,'Sales receipt'!A8,'Sales receipt'!B:B,'Sales receipt'!B4,'Sales receipt'!C:C,'Sales receipt'!C9) -> 22375 | P79: =SUMIFS('Sales receipt'!J:J,'Sales receipt'!A:A,'Sales receipt'!A8,'Sales receipt'!B:B,'Sales receipt'!B4,'Sales receipt'!C:C,'Sales receipt'!C9) -> 11 | Q79: =SUMIFS('Sales receipt'!K:K,'Sales receipt'!A:A,'Sales receipt'!A9,'Sales receipt'!B:B,'Sales receipt'!B4,'Sales receipt'!C:C,'Sales receipt'!C9) -> 19195 | R79: =SUMIFS('Sales receipt'!J:J,'Sales receipt'!A:A,'Sales receipt'!A9,'Sales receipt'!B:B,'Sales receipt'!B4,'Sales receipt'!C:C,'Sales receipt'!C9) -> 10 | S79: =SUMIFS('Sales receipt'!K:K,'Sales receipt'!A:A,'Sales receipt'!A10,'Sales receipt'!B:B,'Sales receipt'!B4,'Sales receipt'!C:C,'Sales receipt'!C9) -> 11382 | T79: =SUMIFS('Sales receipt'!J:J,'Sales receipt'!A:A,'Sales receipt'!A10,'Sales receipt'!B:B,'Sales receipt'!B4,'Sales receipt'!C:C,'Sales receipt'!C9) -> 7
B80: 連衣裙 | C80: =SUMIFS('Sales receipt'!K:K,'Sales receipt'!A:A,'Sales receipt'!A2,'Sales receipt'!B:B,'Sales receipt'!B4,'Sales receipt'!C:C,'Sales receipt'!C10) -> 629 | D80: =SUMIFS('Sales receipt'!J:J,'Sales receipt'!A:A,'Sales receipt'!A2,'Sales receipt'!B:B,'Sales receipt'!B4,'Sales receipt'!C:C,'Sales receipt'!C10) -> 1 | E80: =SUMIFS('Sales receipt'!K:K,'Sales receipt'!A:A,'Sales receipt'!A3,'Sales receipt'!B:B,'Sales receipt'!B4,'Sales receipt'!C:C,'Sales receipt'!C10) -> 629 | F80: =SUMIFS('Sales receipt'!J:J,'Sales receipt'!A:A,'Sales receipt'!A3,'Sales receipt'!B:B,'Sales receipt'!B4,'Sales receipt'!C:C,'Sales receipt'!C10) -> 1 | G80: =SUMIFS('Sales receipt'!K:K,'Sales receipt'!A:A,'Sales receipt'!A4,'Sales receipt'!B:B,'Sales receipt'!B4,'Sales receipt'!C:C,'Sales receipt'!C10) -> 0 | H80: =SUMIFS('Sales receipt'!J:J,'Sales receipt'!A:A,'Sales receipt'!A4,'Sales receipt'!B:B,'Sales receipt'!B4,'Sales receipt'!C:C,'Sales receipt'!C10) -> 0 | I80: =SUMIFS('Sales receipt'!K:K,'Sales receipt'!A:A,'Sales receipt'!A5,'Sales receipt'!B:B,'Sales receipt'!B4,'Sales receipt'!C:C,'Sales receipt'!C10) -> 645 | J80: =SUMIFS('Sales receipt'!J:J,'Sales receipt'!A:A,'Sales receipt'!A5,'Sales receipt'!B:B,'Sales receipt'!B4,'Sales receipt'!C:C,'Sales receipt'!C10) -> 1 | K80: =SUMIFS('Sales receipt'!K:K,'Sales receipt'!A:A,'Sales receipt'!A6,'Sales receipt'!B:B,'Sales receipt'!B4,'Sales receipt'!C:C,'Sales receipt'!C10) -> 0 | L80: =SUMIFS('Sales receipt'!J:J,'Sales receipt'!A:A,'Sales receipt'!A6,'Sales receipt'!B:B,'Sales receipt'!B4,'Sales receipt'!C:C,'Sales receipt'!C10) -> 0 | M80: =SUMIFS('Sales receipt'!K:K,'Sales receipt'!A:A,'Sales receipt'!A7,'Sales receipt'!B:B,'Sales receipt'!B4,'Sales receipt'!C:C,'Sales receipt'!C10) -> 629 | N80: =SUMIFS('Sales receipt'!J:J,'Sales receipt'!A:A,'Sales receipt'!A7,'Sales receipt'!B:B,'Sales receipt'!B4,'Sales receipt'!C:C,'Sales receipt'!C10) -> 1 | O80: =SUMIFS('Sales receipt'!K:K,'Sales receipt'!A:A,'Sales receipt'!A8,'Sales receipt'!B:B,'Sales receipt'!B4,'Sales receipt'!C:C,'Sales receipt'!C10) -> 2470 | P80: =SUMIFS('Sales receipt'!J:J,'Sales receipt'!A:A,'Sales receipt'!A8,'Sales receipt'!B:B,'Sales receipt'!B4,'Sales receipt'!C:C,'Sales receipt'!C10) -> 4 | Q80: =SUMIFS('Sales receipt'!K:K,'Sales receipt'!A:A,'Sales receipt'!A9,'Sales receipt'!B:B,'Sales receipt'!B4,'Sales receipt'!C:C,'Sales receipt'!C10) -> 0 | R80: =SUMIFS('Sales receipt'!J:J,'Sales receipt'!A:A,'Sales receipt'!A9,'Sales receipt'!B:B,'Sales receipt'!B4,'Sales receipt'!C:C,'Sales receipt'!C10) -> 0 | S80: =SUMIFS('Sales receipt'!K:K,'Sales receipt'!A:A,'Sales receipt'!A10,'Sales receipt'!B:B,'Sales receipt'!B4,'Sales receipt'!C:C,'Sales receipt'!C10) -> 0 | T80: =SUMIFS('Sales receipt'!J:J,'Sales receipt'!A:A,'Sales receipt'!A10,'Sales receipt'!B:B,'Sales receipt'!B4,'Sales receipt'!C:C,'Sales receipt'!C10) -> 0
B81: 裙裝 | C81: =SUMIFS('Sales receipt'!K:K,'Sales receipt'!A:A,'Sales receipt'!A2,'Sales receipt'!B:B,'Sales receipt'!B4,'Sales receipt'!C:C,'Sales receipt'!C11) -> 2362 | D81: =SUMIFS('Sales receipt'!J:J,'Sales receipt'!A:A,'Sales receipt'!A2,'Sales receipt'!B:B,'Sales receipt'!B4,'Sales receipt'!C:C,'Sales receipt'!C11) -> 2 | E81: =SUMIFS('Sales receipt'!K:K,'Sales receipt'!A:A,'Sales receipt'!A3,'Sales receipt'!B:B,'Sales receipt'!B4,'Sales receipt'!C:C,'Sales receipt'!C11) -> 0 | F81: =SUMIFS('Sales receipt'!J:J,'Sales receipt'!A:A,'Sales receipt'!A3,'Sales receipt'!B:B,'Sales receipt'!B4,'Sales receipt'!C:C,'Sales receipt'!C11) -> 0 | G81: =SUMIFS('Sales receipt'!K:K,'Sales receipt'!A:A,'Sales receipt'!A4,'Sales receipt'!B:B,'Sales receipt'!B4,'Sales receipt'!C:C,'Sales receipt'!C11) -> 2022 | H81: =SUMIFS('Sales receipt'!J:J,'Sales receipt'!A:A,'Sales receipt'!A4,'Sales receipt'!B:B,'Sales receipt'!B4,'Sales receipt'!C:C,'Sales receipt'!C11) -> 2 | I81: =SUMIFS('Sales receipt'!K:K,'Sales receipt'!A:A,'Sales receipt'!A5,'Sales receipt'!B:B,'Sales receipt'!B4,'Sales receipt'!C:C,'Sales receipt'!C11) -> 1258 | J81: =SUMIFS('Sales receipt'!J:J,'Sales receipt'!A:A,'Sales receipt'!A5,'Sales receipt'!B:B,'Sales receipt'!B4,'Sales receipt'!C:C,'Sales receipt'!C11) -> 1 | K81: =SUMIFS('Sales receipt'!K:K,'Sales receipt'!A:A,'Sales receipt'!A6,'Sales receipt'!B:B,'Sales receipt'!B4,'Sales receipt'!C:C,'Sales receipt'!C11) -> 2907 | L81: =SUMIFS('Sales receipt'!J:J,'Sales receipt'!A:A,'Sales receipt'!A6,'Sales receipt'!B:B,'Sales receipt'!B4,'Sales receipt'!C:C,'Sales receipt'!C11) -> 2 | M81: =SUMIFS('Sales receipt'!K:K,'Sales receipt'!A:A,'Sales receipt'!A7,'Sales receipt'!B:B,'Sales receipt'!B4,'Sales receipt'!C:C,'Sales receipt'!C11) -> 1428 | N81: =SUMIFS('Sales receipt'!J:J,'Sales receipt'!A:A,'Sales receipt'!A7,'Sales receipt'!B:B,'Sales receipt'!B4,'Sales receipt'!C:C,'Sales receipt'!C11) -> 1 | O81: =SUMIFS('Sales receipt'!K:K,'Sales receipt'!A:A,'Sales receipt'!A8,'Sales receipt'!B:B,'Sales receipt'!B4,'Sales receipt'!C:C,'Sales receipt'!C11) -> 1409 | P81: =SUMIFS('Sales receipt'!J:J,'Sales receipt'!A:A,'Sales receipt'!A8,'Sales receipt'!B:B,'Sales receipt'!B4,'Sales receipt'!C:C,'Sales receipt'!C11) -> 1 | Q81: =SUMIFS('Sales receipt'!K:K,'Sales receipt'!A:A,'Sales receipt'!A9,'Sales receipt'!B:B,'Sales receipt'!B4,'Sales receipt'!C:C,'Sales receipt'!C11) -> 4066 | R81: =SUMIFS('Sales receipt'!J:J,'Sales receipt'!A:A,'Sales receipt'!A9,'Sales receipt'!B:B,'Sales receipt'!B4,'Sales receipt'!C:C,'Sales receipt'!C11) -> 3 | S81: =SUMIFS('Sales receipt'!K:K,'Sales receipt'!A:A,'Sales receipt'!A10,'Sales receipt'!B:B,'Sales receipt'!B4,'Sales receipt'!C:C,'Sales receipt'!C11) -> 1428 | T81: =SUMIFS('Sales receipt'!J:J,'Sales receipt'!A:A,'Sales receipt'!A10,'Sales receipt'!B:B,'Sales receipt'!B4,'Sales receipt'!C:C,'Sales receipt'!C11) -> 1
B82: 外套類 | C82: =SUMIFS('Sales receipt'!K:K,'Sales receipt'!A:A,'Sales receipt'!A2,'Sales receipt'!B:B,'Sales receipt'!B4,'Sales receipt'!C:C,'Sales receipt'!C12) -> 4001 | D82: =SUMIFS('Sales receipt'!J:J,'Sales receipt'!A:A,'Sales receipt'!A2,'Sales receipt'!B:B,'Sales receipt'!B4,'Sales receipt'!C:C,'Sales receipt'!C12) -> 5 | E82: =SUMIFS('Sales receipt'!K:K,'Sales receipt'!A:A,'Sales receipt'!A3,'Sales receipt'!B:B,'Sales receipt'!B4,'Sales receipt'!C:C,'Sales receipt'!C12) -> 13199 | F82: =SUMIFS('Sales receipt'!J:J,'Sales receipt'!A:A,'Sales receipt'!A3,'Sales receipt'!B:B,'Sales receipt'!B4,'Sales receipt'!C:C,'Sales receipt'!C12) -> 11 | G82: =SUMIFS('Sales receipt'!K:K,'Sales receipt'!A:A,'Sales receipt'!A4,'Sales receipt'!B:B,'Sales receipt'!B4,'Sales receipt'!C:C,'Sales receipt'!C12) -> 13061 | H82: =SUMIFS('Sales receipt'!J:J,'Sales receipt'!A:A,'Sales receipt'!A4,'Sales receipt'!B:B,'Sales receipt'!B4,'Sales receipt'!C:C,'Sales receipt'!C12) -> 11 | I82: =SUMIFS('Sales receipt'!K:K,'Sales receipt'!A:A,'Sales receipt'!A5,'Sales receipt'!B:B,'Sales receipt'!B4,'Sales receipt'!C:C,'Sales receipt'!C12) -> 17521 | J82: =SUMIFS('Sales receipt'!J:J,'Sales receipt'!A:A,'Sales receipt'!A5,'Sales receipt'!B:B,'Sales receipt'!B4,'Sales receipt'!C:C,'Sales receipt'!C12) -> 19 | K82: =SUMIFS('Sales receipt'!K:K,'Sales receipt'!A:A,'Sales receipt'!A6,'Sales receipt'!B:B,'Sales receipt'!B4,'Sales receipt'!C:C,'Sales receipt'!C12) -> 633 | L82: =SUMIFS('Sales receipt'!J:J,'Sales receipt'!A:A,'Sales receipt'!A6,'Sales receipt'!B:B,'Sales receipt'!B4,'Sales receipt'!C:C,'Sales receipt'!C12) -> 1 | M82: =SUMIFS('Sales receipt'!K:K,'Sales receipt'!A:A,'Sales receipt'!A7,'Sales receipt'!B:B,'Sales receipt'!B4,'Sales receipt'!C:C,'Sales receipt'!C12) -> 6766 | N82: =SUMIFS('Sales receipt'!J:J,'Sales receipt'!A:A,'Sales receipt'!A7,'Sales receipt'!B:B,'Sales receipt'!B4,'Sales receipt'!C:C,'Sales receipt'!C12) -> 6 | O82: =SUMIFS('Sales receipt'!K:K,'Sales receipt'!A:A,'Sales receipt'!A8,'Sales receipt'!B:B,'Sales receipt'!B4,'Sales receipt'!C:C,'Sales receipt'!C12) -> 5287 | P82: =SUMIFS('Sales receipt'!J:J,'Sales receipt'!A:A,'Sales receipt'!A8,'Sales receipt'!B:B,'Sales receipt'!B4,'Sales receipt'!C:C,'Sales receipt'!C12) -> 7 | Q82: =SUMIFS('Sales receipt'!K:K,'Sales receipt'!A:A,'Sales receipt'!A9,'Sales receipt'!B:B,'Sales receipt'!B4,'Sales receipt'!C:C,'Sales receipt'!C12) -> 14423 | R82: =SUMIFS('Sales receipt'!J:J,'Sales receipt'!A:A,'Sales receipt'!A9,'Sales receipt'!B:B,'Sales receipt'!B4,'Sales receipt'!C:C,'Sales receipt'!C12) -> 13 | S82: =SUMIFS('Sales receipt'!K:K,'Sales receipt'!A:A,'Sales receipt'!A10,'Sales receipt'!B:B,'Sales receipt'!B4,'Sales receipt'!C:C,'Sales receipt'!C12) -> 17982 | T82: =SUMIFS('Sales receipt'!J:J,'Sales receipt'!A:A,'Sales receipt'!A10,'Sales receipt'!B:B,'Sales receipt'!B4,'Sales receipt'!C:C,'Sales receipt'!C12) -> 10
B83: 下裝類 | C83: =SUMIFS('Sales receipt'!K:K,'Sales receipt'!A:A,'Sales receipt'!A2,'Sales receipt'!B:B,'Sales receipt'!B4,'Sales receipt'!C:C,'Sales receipt'!C13) -> 10060 | D83: =SUMIFS('Sales receipt'!J:J,'Sales receipt'!A:A,'Sales receipt'!A2,'Sales receipt'!B:B,'Sales receipt'!B4,'Sales receipt'!C:C,'Sales receipt'!C13) -> 16 | E83: =SUMIFS('Sales receipt'!K:K,'Sales receipt'!A:A,'Sales receipt'!A3,'Sales receipt'!B:B,'Sales receipt'!B4,'Sales receipt'!C:C,'Sales receipt'!C13) -> 7557 | F83: =SUMIFS('Sales receipt'!J:J,'Sales receipt'!A:A,'Sales receipt'!A3,'Sales receipt'!B:B,'Sales receipt'!B4,'Sales receipt'!C:C,'Sales receipt'!C13) -> 13 | G83: =SUMIFS('Sales receipt'!K:K,'Sales receipt'!A:A,'Sales receipt'!A4,'Sales receipt'!B:B,'Sales receipt'!B4,'Sales receipt'!C:C,'Sales receipt'!C13) -> 5685 | H83: =SUMIFS('Sales receipt'!J:J,'Sales receipt'!A:A,'Sales receipt'!A4,'Sales receipt'!B:B,'Sales receipt'!B4,'Sales receipt'!C:C,'Sales receipt'!C13) -> 9 | I83: =SUMIFS('Sales receipt'!K:K,'Sales receipt'!A:A,'Sales receipt'!A5,'Sales receipt'!B:B,'Sales receipt'!B4,'Sales receipt'!C:C,'Sales receipt'!C13) -> 13679 | J83: =SUMIFS('Sales receipt'!J:J,'Sales receipt'!A:A,'Sales receipt'!A5,'Sales receipt'!B:B,'Sales receipt'!B4,'Sales receipt'!C:C,'Sales receipt'!C13) -> 26 | K83: =SUMIFS('Sales receipt'!K:K,'Sales receipt'!A:A,'Sales receipt'!A6,'Sales receipt'!B:B,'Sales receipt'!B4,'Sales receipt'!C:C,'Sales receipt'!C13) -> 4852 | L83: =SUMIFS('Sales receipt'!J:J,'Sales receipt'!A:A,'Sales receipt'!A6,'Sales receipt'!B:B,'Sales receipt'!B4,'Sales receipt'!C:C,'Sales receipt'!C13) -> 9 | M83: =SUMIFS('Sales receipt'!K:K,'Sales receipt'!A:A,'Sales receipt'!A7,'Sales receipt'!B:B,'Sales receipt'!B4,'Sales receipt'!C:C,'Sales receipt'!C13) -> 7343 | N83: =SUMIFS('Sales receipt'!J:J,'Sales receipt'!A:A,'Sales receipt'!A7,'Sales receipt'!B:B,'Sales receipt'!B4,'Sales receipt'!C:C,'Sales receipt'!C13) -> 12 | O83: =SUMIFS('Sales receipt'!K:K,'Sales receipt'!A:A,'Sales receipt'!A8,'Sales receipt'!B:B,'Sales receipt'!B4,'Sales receipt'!C:C,'Sales receipt'!C13) -> 8559 | P83: =SUMIFS('Sales receipt'!J:J,'Sales receipt'!A:A,'Sales receipt'!A8,'Sales receipt'!B:B,'Sales receipt'!B4,'Sales receipt'!C:C,'Sales receipt'!C13) -> 15 | Q83: =SUMIFS('Sales receipt'!K:K,'Sales receipt'!A:A,'Sales receipt'!A9,'Sales receipt'!B:B,'Sales receipt'!B4,'Sales receipt'!C:C,'Sales receipt'!C13) -> 7919 | R83: =SUMIFS('Sales receipt'!J:J,'Sales receipt'!A:A,'Sales receipt'!A9,'Sales receipt'!B:B,'Sales receipt'!B4,'Sales receipt'!C:C,'Sales receipt'!C13) -> 14 | S83: =SUMIFS('Sales receipt'!K:K,'Sales receipt'!A:A,'Sales receipt'!A10,'Sales receipt'!B:B,'Sales receipt'!B4,'Sales receipt'!C:C,'Sales receipt'!C13) -> 7910 | T83: =SUMIFS('Sales receipt'!J:J,'Sales receipt'!A:A,'Sales receipt'!A10,'Sales receipt'!B:B,'Sales receipt'!B4,'Sales receipt'!C:C,'Sales receipt'!C13) -> 14
B84: 針織褲 | C84: =SUMIFS('Sales receipt'!K:K,'Sales receipt'!A:A,'Sales receipt'!A2,'Sales receipt'!B:B,'Sales receipt'!B4,'Sales receipt'!C:C,'Sales receipt'!C14) -> 8183 | D84: =SUMIFS('Sales receipt'!J:J,'Sales receipt'!A:A,'Sales receipt'!A2,'Sales receipt'!B:B,'Sales receipt'!B4,'Sales receipt'!C:C,'Sales receipt'!C14) -> 8 | E84: =SUMIFS('Sales receipt'!K:K,'Sales receipt'!A:A,'Sales receipt'!A3,'Sales receipt'!B:B,'Sales receipt'!B4,'Sales receipt'!C:C,'Sales receipt'!C14) -> 17300 | F84: =SUMIFS('Sales receipt'!J:J,'Sales receipt'!A:A,'Sales receipt'!A3,'Sales receipt'!B:B,'Sales receipt'!B4,'Sales receipt'!C:C,'Sales receipt'!C14) -> 22 | G84: =SUMIFS('Sales receipt'!K:K,'Sales receipt'!A:A,'Sales receipt'!A4,'Sales receipt'!B:B,'Sales receipt'!B4,'Sales receipt'!C:C,'Sales receipt'!C14) -> 9307 | H84: =SUMIFS('Sales receipt'!J:J,'Sales receipt'!A:A,'Sales receipt'!A4,'Sales receipt'!B:B,'Sales receipt'!B4,'Sales receipt'!C:C,'Sales receipt'!C14) -> 11 | I84: =SUMIFS('Sales receipt'!K:K,'Sales receipt'!A:A,'Sales receipt'!A5,'Sales receipt'!B:B,'Sales receipt'!B4,'Sales receipt'!C:C,'Sales receipt'!C14) -> 15651 | J84: =SUMIFS('Sales receipt'!J:J,'Sales receipt'!A:A,'Sales receipt'!A5,'Sales receipt'!B:B,'Sales receipt'!B4,'Sales receipt'!C:C,'Sales receipt'!C14) -> 20 | K84: =SUMIFS('Sales receipt'!K:K,'Sales receipt'!A:A,'Sales receipt'!A6,'Sales receipt'!B:B,'Sales receipt'!B4,'Sales receipt'!C:C,'Sales receipt'!C14) -> 10734 | L84: =SUMIFS('Sales receipt'!J:J,'Sales receipt'!A:A,'Sales receipt'!A6,'Sales receipt'!B:B,'Sales receipt'!B4,'Sales receipt'!C:C,'Sales receipt'!C14) -> 12 | M84: =SUMIFS('Sales receipt'!K:K,'Sales receipt'!A:A,'Sales receipt'!A7,'Sales receipt'!B:B,'Sales receipt'!B4,'Sales receipt'!C:C,'Sales receipt'!C14) -> 5295 | N84: =SUMIFS('Sales receipt'!J:J,'Sales receipt'!A:A,'Sales receipt'!A7,'Sales receipt'!B:B,'Sales receipt'!B4,'Sales receipt'!C:C,'Sales receipt'!C14) -> 6 | O84: =SUMIFS('Sales receipt'!K:K,'Sales receipt'!A:A,'Sales receipt'!A8,'Sales receipt'!B:B,'Sales receipt'!B4,'Sales receipt'!C:C,'Sales receipt'!C14) -> 16072 | P84: =SUMIFS('Sales receipt'!J:J,'Sales receipt'!A:A,'Sales receipt'!A8,'Sales receipt'!B:B,'Sales receipt'!B4,'Sales receipt'!C:C,'Sales receipt'!C14) -> 17 | Q84: =SUMIFS('Sales receipt'!K:K,'Sales receipt'!A:A,'Sales receipt'!A9,'Sales receipt'!B:B,'Sales receipt'!B4,'Sales receipt'!C:C,'Sales receipt'!C14) -> 7734 | R84: =SUMIFS('Sales receipt'!J:J,'Sales receipt'!A:A,'Sales receipt'!A9,'Sales receipt'!B:B,'Sales receipt'!B4,'Sales receipt'!C:C,'Sales receipt'!C14) -> 10 | S84: =SUMIFS('Sales receipt'!K:K,'Sales receipt'!A:A,'Sales receipt'!A10,'Sales receipt'!B:B,'Sales receipt'!B4,'Sales receipt'!C:C,'Sales receipt'!C14) -> 10671 | T84: =SUMIFS('Sales receipt'!J:J,'Sales receipt'!A:A,'Sales receipt'!A10,'Sales receipt'!B:B,'Sales receipt'!B4,'Sales receipt'!C:C,'Sales receipt'!C14) -> 13
B85: 梭織褲 | C85: =SUMIFS('Sales receipt'!K:K,'Sales receipt'!A:A,'Sales receipt'!A2,'Sales receipt'!B:B,'Sales receipt'!B4,'Sales receipt'!C:C,'Sales receipt'!C15) -> 8339 | D85: =SUMIFS('Sales receipt'!J:J,'Sales receipt'!A:A,'Sales receipt'!A2,'Sales receipt'!B:B,'Sales receipt'!B4,'Sales receipt'!C:C,'Sales receipt'!C15) -> 6 | E85: =SUMIFS('Sales receipt'!K:K,'Sales receipt'!A:A,'Sales receipt'!A3,'Sales receipt'!B:B,'Sales receipt'!B4,'Sales receipt'!C:C,'Sales receipt'!C15) -> 7969 | F85: =SUMIFS('Sales receipt'!J:J,'Sales receipt'!A:A,'Sales receipt'!A3,'Sales receipt'!B:B,'Sales receipt'!B4,'Sales receipt'!C:C,'Sales receipt'!C15) -> 8 | G85: =SUMIFS('Sales receipt'!K:K,'Sales receipt'!A:A,'Sales receipt'!A4,'Sales receipt'!B:B,'Sales receipt'!B4,'Sales receipt'!C:C,'Sales receipt'!C15) -> 952 | H85: =SUMIFS('Sales receipt'!J:J,'Sales receipt'!A:A,'Sales receipt'!A4,'Sales receipt'!B:B,'Sales receipt'!B4,'Sales receipt'!C:C,'Sales receipt'!C15) -> 1 | I85: =SUMIFS('Sales receipt'!K:K,'Sales receipt'!A:A,'Sales receipt'!A5,'Sales receipt'!B:B,'Sales receipt'!B4,'Sales receipt'!C:C,'Sales receipt'!C15) -> 2303 | J85: =SUMIFS('Sales receipt'!J:J,'Sales receipt'!A:A,'Sales receipt'!A5,'Sales receipt'!B:B,'Sales receipt'!B4,'Sales receipt'!C:C,'Sales receipt'!C15) -> 3 | K85: =SUMIFS('Sales receipt'!K:K,'Sales receipt'!A:A,'Sales receipt'!A6,'Sales receipt'!B:B,'Sales receipt'!B4,'Sales receipt'!C:C,'Sales receipt'!C15) -> 4782 | L85: =SUMIFS('Sales receipt'!J:J,'Sales receipt'!A:A,'Sales receipt'!A6,'Sales receipt'!B:B,'Sales receipt'!B4,'Sales receipt'!C:C,'Sales receipt'!C15) -> 4 | M85: =SUMIFS('Sales receipt'!K:K,'Sales receipt'!A:A,'Sales receipt'!A7,'Sales receipt'!B:B,'Sales receipt'!B4,'Sales receipt'!C:C,'Sales receipt'!C15) -> 5302 | N85: =SUMIFS('Sales receipt'!J:J,'Sales receipt'!A:A,'Sales receipt'!A7,'Sales receipt'!B:B,'Sales receipt'!B4,'Sales receipt'!C:C,'Sales receipt'!C15) -> 4 | O85: =SUMIFS('Sales receipt'!K:K,'Sales receipt'!A:A,'Sales receipt'!A8,'Sales receipt'!B:B,'Sales receipt'!B4,'Sales receipt'!C:C,'Sales receipt'!C15) -> 5099 | P85: =SUMIFS('Sales receipt'!J:J,'Sales receipt'!A:A,'Sales receipt'!A8,'Sales receipt'!B:B,'Sales receipt'!B4,'Sales receipt'!C:C,'Sales receipt'!C15) -> 5 | Q85: =SUMIFS('Sales receipt'!K:K,'Sales receipt'!A:A,'Sales receipt'!A9,'Sales receipt'!B:B,'Sales receipt'!B4,'Sales receipt'!C:C,'Sales receipt'!C15) -> 12751 | R85: =SUMIFS('Sales receipt'!J:J,'Sales receipt'!A:A,'Sales receipt'!A9,'Sales receipt'!B:B,'Sales receipt'!B4,'Sales receipt'!C:C,'Sales receipt'!C15) -> 12 | S85: =SUMIFS('Sales receipt'!K:K,'Sales receipt'!A:A,'Sales receipt'!A10,'Sales receipt'!B:B,'Sales receipt'!B4,'Sales receipt'!C:C,'Sales receipt'!C15) -> 3111 | T85: =SUMIFS('Sales receipt'!J:J,'Sales receipt'!A:A,'Sales receipt'!A10,'Sales receipt'!B:B,'Sales receipt'!B4,'Sales receipt'!C:C,'Sales receipt'!C15) -> 3
B86: 羽絨服 | C86: =SUM(SUMIFS('Sales receipt'!K:K,'Sales receipt'!A:A,'Sales receipt'!A2,'Sales receipt'!B:B,'Sales receipt'!B4,'Sales receipt'!C:C,{"滑雪服","羽絨服","棉服","棉羽類"})) -> 47663 | D86: =SUM(SUMIFS('Sales receipt'!J:J,'Sales receipt'!A:A,'Sales receipt'!A2,'Sales receipt'!B:B,'Sales receipt'!B4,'Sales receipt'!C:C,{"滑雪服","羽絨服","棉服","棉羽類"})) -> 28 | E86: =SUM(SUMIFS('Sales receipt'!K:K,'Sales receipt'!A:A,'Sales receipt'!A3,'Sales receipt'!B:B,'Sales receipt'!B4,'Sales receipt'!C:C,{"滑雪服","羽絨服","棉服","棉羽類"})) -> 46448 | F86: =SUM(SUMIFS('Sales receipt'!J:J,'Sales receipt'!A:A,'Sales receipt'!A3,'Sales receipt'!B:B,'Sales receipt'!B4,'Sales receipt'!C:C,{"滑雪服","羽絨服","棉服","棉羽類"})) -> 28 | G86: =SUM(SUMIFS('Sales receipt'!K:K,'Sales receipt'!A:A,'Sales receipt'!A4,'Sales receipt'!B:B,'Sales receipt'!B4,'Sales receipt'!C:C,{"滑雪服","羽絨服","棉服","棉羽類"})) -> 16749 | H86: =SUM(SUMIFS('Sales receipt'!J:J,'Sales receipt'!A:A,'Sales receipt'!A4,'Sales receipt'!B:B,'Sales receipt'!B4,'Sales receipt'!C:C,{"滑雪服","羽絨服","棉服","棉羽類"})) -> 12 | I86: =SUM(SUMIFS('Sales receipt'!K:K,'Sales receipt'!A:A,'Sales receipt'!A5,'Sales receipt'!B:B,'Sales receipt'!B4,'Sales receipt'!C:C,{"滑雪服","羽絨服","棉服","棉羽類"})) -> 44445 | J86: =SUM(SUMIFS('Sales receipt'!J:J,'Sales receipt'!A:A,'Sales receipt'!A5,'Sales receipt'!B:B,'Sales receipt'!B4,'Sales receipt'!C:C,{"滑雪服","羽絨服","棉服","棉羽類"})) -> 27 | K86: =SUM(SUMIFS('Sales receipt'!K:K,'Sales receipt'!A:A,'Sales receipt'!A6,'Sales receipt'!B:B,'Sales receipt'!B4,'Sales receipt'!C:C,{"滑雪服","羽絨服","棉服","棉羽類"})) -> 24673 | L86: =SUM(SUMIFS('Sales receipt'!J:J,'Sales receipt'!A:A,'Sales receipt'!A6,'Sales receipt'!B:B,'Sales receipt'!B4,'Sales receipt'!C:C,{"滑雪服","羽絨服","棉服","棉羽類"})) -> 15 | M86: =SUM(SUMIFS('Sales receipt'!K:K,'Sales receipt'!A:A,'Sales receipt'!A7,'Sales receipt'!B:B,'Sales receipt'!B4,'Sales receipt'!C:C,{"滑雪服","羽絨服","棉服","棉羽類"})) -> 30043 | N86: =SUM(SUMIFS('Sales receipt'!J:J,'Sales receipt'!A:A,'Sales receipt'!A7,'Sales receipt'!B:B,'Sales receipt'!B4,'Sales receipt'!C:C,{"滑雪服","羽絨服","棉服","棉羽類"})) -> 19 | O86: =SUM(SUMIFS('Sales receipt'!K:K,'Sales receipt'!A:A,'Sales receipt'!A8,'Sales receipt'!B:B,'Sales receipt'!B4,'Sales receipt'!C:C,{"滑雪服","羽絨服","棉服","棉羽類"})) -> 24271 | P86: =SUM(SUMIFS('Sales receipt'!J:J,'Sales receipt'!A:A,'Sales receipt'!A8,'Sales receipt'!B:B,'Sales receipt'!B4,'Sales receipt'!C:C,{"滑雪服","羽絨服","棉服","棉羽類"})) -> 15 | Q86: =SUM(SUMIFS('Sales receipt'!K:K,'Sales receipt'!A:A,'Sales receipt'!A9,'Sales receipt'!B:B,'Sales receipt'!B4,'Sales receipt'!C:C,{"滑雪服","羽絨服","棉服","棉羽類"})) -> 22535 | R86: =SUM(SUMIFS('Sales receipt'!J:J,'Sales receipt'!A:A,'Sales receipt'!A9,'Sales receipt'!B:B,'Sales receipt'!B4,'Sales receipt'!C:C,{"滑雪服","羽絨服","棉服","棉羽類"})) -> 12 | S86: =SUM(SUMIFS('Sales receipt'!K:K,'Sales receipt'!A:A,'Sales receipt'!A10,'Sales receipt'!B:B,'Sales receipt'!B4,'Sales receipt'!C:C,{"滑雪服","羽絨服","棉服","棉羽類"})) -> 34660 | T86: =SUM(SUMIFS('Sales receipt'!J:J,'Sales receipt'!A:A,'Sales receipt'!A10,'Sales receipt'!B:B,'Sales receipt'!B4,'Sales receipt'!C:C,{"滑雪服","羽絨服","棉服","棉羽類"})) -> 21
B87: - | C87: - | D87: - | E87: - | F87: - | G87: - | H87: - | I87: - | J87: - | K87: - | L87: - | M87: - | N87: - | O87: - | P87: - | Q87: - | R87: - | S87: - | T87: -
A89: 姓名 | D89: 生意
D90: 當天目標 | F90: 實際 | H90: 月累計 | J90: 单数 | L90: 件数 | N90: ATV | P90: UPT
A91: M1776 Derrick | N91: =SUM(F91/J91) -> #DIV/0! | P91: =SUM(L91/J91) -> #DIV/0!
A92: M0990 Mia | N92: =SUM(F92/J92) -> #DIV/0! | P92: =SUM(L92/J92) -> #DIV/0!
A93: M2767 Christy | N93: =SUM(F93/J93) -> #DIV/0! | P93: =SUM(L93/J93) -> #DIV/0!
A94: M2034 Joanna | N94: =SUM(F94/J94) -> #DIV/0! | P94: =SUM(L94/J94) -> #DIV/0!
A95: M2518 Silver | N95: =SUM(F95/J95) -> #DIV/0! | P95: =SUM(L95/J95) -> #DIV/0!
A96: M2521 Maggie | N96: =SUM(F96/J96) -> #DIV/0! | P96: =SUM(L96/J96) -> #DIV/0!
A97: M2710 Pan | N97: =SUM(F97/J97) -> #DIV/0! | P97: =SUM(L97/J97) -> #DIV/0!
A98: M2720 Ceci | N98: =SUM(F98/J98) -> #DIV/0! | P98: =SUM(L98/J98) -> #DIV/0!
A99: M2921 Grace | N99: =SUM(F99/J99) -> #DIV/0! | P99: =SUM(L99/J99) -> #DIV/0!
N100: =SUM(F100/J100) -> #DIV/0! | P100: =SUM(L100/J100) -> #DIV/0!
N101: =SUM(F101/J101) -> #DIV/0! | P101: =SUM(L101/J101) -> #DIV/0!
D105: 3
A107: 店鋪事項

Sheet Sales receipt
A1: 營業員 | B1: 大類 | C1: 中類 | D1: 商品名稱 | E1: 季節 | F1: 系列 | G1: 子系列 | H1: 性別 | I1: 上市日期 | J1: 銷售數量 | K1: 結算金額 | L1: 銷售日期 | M1: 品牌 | N1: 回流判斷 | O1: 後臺系統-POS管理-銷售小票-商品明細 選擇 “Shop Briefing每日記錄表” 模板 把需要 Briefing 日期的銷售小票内容全部粘貼 在“Sales receipt”工作表
A2: M1776 Derrick | B2: 广宣用品 | C2: 內搭 | D2: 上衣两件套 | E2: 冬季 | F2: ATHLETICS | G2: A.P. | H2: FEMALE | M2: 斐樂大貨 | N2: 回流
A3: M0990 Mia | B3: 其它 | C3: 內搭類 | D3: 上衣两件套-K | E3: 春季 | F3: FASHION | G3: BLUE | H3: MALE | M3: 斐樂兒童 | N3: 新注册
A4: M2767 Christy | B4: 服装 | C4: 內衣類 | D4: 女装上衣-K | E4: 秋季 | F4: LIFESTYLE | G4: EXPLORE | H4: UNISEX | M4: 斐樂潮牌 | N4: (空白)
A5: M2034 Joanna | B5: 配件 | C5: 短T類 | D5: 休闲西装 | E5: 夏季 | F5: INLINE | G5: FILA MILANO | H5: (空白)
A6: M2518 Silver | B6: 鞋类 | C6: 編織衫 | D6: 男装上衣-K | E6: 常青 | F6: ORIGINALE | G6: FILA ORIGINALE | H6: 男
A7: M2521 Maggie | B7: (空白) | C7: 襯衫 | D7: 男装外套-K | E7: (空白) | F7: PERFORMANCE | G7: FITNESS | H7: 女
A8: M2710 Pan | C8: 針織上衣 | D8: 针织马甲 | F8: WHITE LINE | G8: GOLF
A9: M2720 Ceci | C9: 梭織上衣 | D9: 针织五分裤 | G9: HERITAGE
A10: M2921 Grace | C10: 連衣裙 | D10: 针织五分裤-K | G10: ICONA
C11: 裙裝 | D11: 针织打底裤 | G11: MODERN HERITAGE
C12: 外套類 | D12: 针织长袖上衣 | G12: MODERNO
C13: 下裝類 | D13: 针织长裤 | G13: ORIGINALE
C14: 針織褲 | D14: 针织长裤-K | G14: SKI
C15: 梭織褲 | D15: 针织连衣裙 | G15: SPORT PERFORMANCE
C16: 棉服 | D16: 针织连衣裙-K | G16: TENNIS
C17: 棉羽類 | D17: 针织连帽外套 | G17: WHITE
D18: 针织连帽外套-K | G18: FILA EMERALD
D19: 针织背心 | G19: FILA MILANO
D20: 针织短袖POLO衫 | G20: FILA ORIGINALE
D21: 针织短袖POLO衫-K | G21: FILA X 小恐龙大冒险
D22: 针织短袖外套 | G22: URBAN TECH
D23: 针织短袖连帽上衣 | G23: WHITE LINE
D24: 针织短袖衫 | G24: WORKWEAR
D25: 针织短袖衫-K
D26: 针织短裤
D27: 针织短裤-K
D28: 连衣裙(含短裤）
D29: 连衣裙(含短裤)-K
D30: 连衣裙-K
D31: 连衣裙两件套
D32: 背心两件套
D33: 梭织上衣
D34: 梭织马甲
D35: 梭织五分裤
D36: 梭织五分裤-K
... D63: 裙裤-K
A96: 請把要分析的小票複製在以下
A97: M2720 Ceci | B97: 鞋类 | C97: 戶外鞋 | D97: 儿童户外鞋 | E97: 冬季 | F97: PERFORMANCE | G97: PERFORMANCE-FPH | H97: FEMALE | I97: 45904 | J97: 1 | K97: 880 | L97: 45931 | M97: 斐樂兒童
A98: M2034 Joanna | B98: 鞋类 | C98: 運動鞋 | D98: 摩登运动鞋 | E98: 秋季 | F98: FASHION | G98: MODERNO | H98: MALE | I98: 45841 | J98: 1 | K98: 780 | L98: 45931 | M98: 斐樂大貨
A99: M0990 Mia | B99: 鞋类 | C99: 運動鞋 | D99: 复古运动鞋 | E99: 秋季 | F99: FASHION | G99: ORIGINALE | H99: MALE | I99: 45874 | J99: 1 | K99: 880 | L99: 45931 | M99: 斐樂大貨
A100: M2921 Grace | B100: 鞋类 | C100: 運動鞋 | D100: 先锋运动鞋 | E100: 秋季 | F100: FASHION | G100: ICONA | H100: MALE | I100: 45841 | J100: 1 | K100: 1054 | L100: 45931 | M100: 斐樂大貨
A101: M2921 Grace | B101: 鞋类 | C101: 運動鞋 | D101: 摩登运动鞋 | E101: 冬季 | F101: FASHION | G101: MODERNO | H101: MALE | I101: 45904 | J101: 1 | K101: 833 | L101: 45931 | M101: 斐樂大貨 | N101: 回流
A102: M0990 Mia | B102: 鞋类 | C102: 運動鞋 | D102: 复古运动鞋 | E102: 冬季 | F102: FASHION | G102: ORIGINALE | H102: MALE | I102: 45904 | J102: 1 | K102: 713 | L102: 45931 | M102: 斐樂大貨 | N102: 回流
A103: M2720 Ceci | B103: 鞋类 | C103: 運動鞋 | D103: 摩登运动鞋 | E103: 秋季 | F103: FASHION | G103: MODERNO | H103: FEMALE | I103: 45874 | J103: 1 | K103: 980 | L103: 45931 | M103: 斐樂大貨
A104: M2034 Joanna | B104: 鞋类 | C104: 運動鞋 | D104: 摩登运动鞋 | E104: 秋季 | F104: FASHION | G104: MODERNO | H104: FEMALE | I104: 45841 | J104: 1 | K104: 780 | L104: 45931 | M104: 斐樂大貨
A105: M2710 Pan | B105: 鞋类 | C105: 板鞋 | D105: 复古板鞋 | E105: 冬季 | F105: FASHION | G105: ORIGINALE | H105: MALE | I105: 45904 | J105: 1 | K105: 748 | L105: 45931 | M105: 斐樂大貨
A106: M2921 Grace | B106: 鞋类 | C106: 板鞋 | D106: 复古板鞋 | E106: 冬季 | F106: FASHION | G106: ORIGINALE | H106: FEMALE | I106: 45904 | J106: 1 | K106: 748 | L106: 45931 | M106: 斐樂大貨
A107: M2710 Pan | B107: 鞋类 | C107: 板鞋 | D107: 复古板鞋 | E107: 冬季 | F107: FASHION | G107: ORIGINALE | H107: FEMALE | I107: 45904 | J107: 1 | K107: 880 | L107: 45931 | M107: 斐樂大貨
A108: M2518 Silver | B108: 鞋类 | C108: 籃球鞋 | D108: 复古篮球鞋 | E108: 冬季 | F108: FUSION | G108: BASKETBALL | H108: FEMALE | I108: 45905 | J108: 1 | K108: 845 | L108: 45931 | M108: 斐樂潮牌 | N108: 回流
A109: M2518 Silver | B109: 鞋类 | C109: 籃球鞋 | D109: 复古篮球鞋 | E109: 冬季 | F109: FUSION | G109: BASKETBALL | H109: FEMALE | I109: 45905 | J109: 1 | K109: 845 | L109: 45931 | M109: 斐樂潮牌 | N109: 回流
A110: M2710 Pan | B110: 鞋类 | C110: 跑步鞋 | D110: 路跑鞋 | E110: 冬季 | F110: ATHLETICS | G110: SPORT PERFORMANCE | H110: MALE | I110: 45904 | J110: 1 | K110: 833 | L110: 45931 | M110: 斐樂大貨 | N110: 回流
A111: M2034 Joanna | B111: 鞋类 | C111: 跑步鞋 | D111: 路跑鞋 | E111: 冬季 | F111: ATHLETICS | G111: SPORT PERFORMANCE | H111: MALE | I111: 45904 | J111: 1 | K111: 992 | L111: 45931 | M111: 斐樂大貨 | N111: 回流
A112: M2720 Ceci | B112: 鞋类 | C112: 跑步鞋 | D112: 户外鞋 | E112: 冬季 | F112: ATHLETICS | G112: SPORT PERFORMANCE | H112: FEMALE | I112: 45904 | J112: 1 | K112: 1340 | L112: 45931 | M112: 斐樂大貨
A113: M1776 Derrick | B113: 鞋类 | C113: 跑步鞋 | D113: 户外鞋 | E113: 冬季 | F113: ATHLETICS | G113: SPORT PERFORMANCE | H113: FEMALE | I113: 45904 | J113: 1 | K113: 1077 | L113: 45931 | M113: 斐樂大貨 | N113: 回流
A114: M0990 Mia | B114: 鞋类 | C114: 跑步鞋 | D114: 儿童跑鞋 | E114: 冬季 | F114: PERFORMANCE | G114: PERFORMANCE-FPH | H114: MALE | I114: 45904 | J114: 1 | K114: 794 | L114: 45931 | M114: 斐樂兒童 | N114: 回流
A115: M2034 Joanna | B115: 鞋类 | C115: 跑步鞋 | D115: 儿童跑鞋 | E115: 冬季 | F115: PERFORMANCE | G115: PERFORMANCE-FPH | H115: MALE | I115: 45904 | J115: 1 | K115: 1283 | L115: 45931 | M115: 斐樂兒童 | N115: 回流
A116: M2710 Pan | B116: 鞋类 | C116: 網球鞋 | D116: 网球生活鞋 | E116: 冬季 | F116: ATHLETICS | G116: SPORT PERFORMANCE | H116: MALE | I116: 45904 | J116: 1 | K116: 748 | L116: 45931 | M116: 斐樂大貨
A117: M2710 Pan | B117: 鞋类 | C117: 網球鞋 | D117: 网球生活鞋 | E117: 冬季 | F117: ATHLETICS | G117: SPORT PERFORMANCE | H117: MALE | I117: 45904 | J117: 1 | K117: 748 | L117: 45931 | M117: 斐樂大貨
A118: M2518 Silver | B118: 鞋类 | C118: 高爾夫球鞋 | D118: 软钉高球鞋 | E118: 夏季 | F118: ATHLETICS | G118: SPORT PERFORMANCE | H118: MALE | I118: 45750 | J118: 1 | K118: 2023 | L118: 45931 | M118: 斐樂大貨 | N118: 回流
A119: M0990 Mia | B119: 鞋类 | C119: 滑板鞋 | D119: 滑板生活鞋 | E119: 冬季 | F119: FUSION | G119: SKATEBOARDING | H119: MALE | I119: 45940 | J119: 1 | K119: 882 | L119: 45931 | M119: 斐樂潮牌 | N119: 回流
A120: M2921 Grace | B120: 鞋类 | C120: 滑板鞋 | D120: 滑板生活鞋 | E120: 冬季 | F120: FUSION | G120: SKATEBOARDING | H120: MALE | I120: 45940 | J120: 1 | K120: 833 | L120: 45931 | M120: 斐樂潮牌
A121: M2034 Joanna | B121: 鞋类 | C121: 滑板鞋 | D121: 滑板生活鞋 | E121: 冬季 | F121: FUSION | G121: SKATEBOARDING | H121: FEMALE | I121: 45904 | J121: 1 | K121: 746 | L121: 45931 | M121: 斐樂潮牌 | N121: 回流
A122: M2710 Pan | B122: 鞋类 | C122: 復古跑鞋 | D122: 儿童复古跑鞋 | E122: 冬季 | F122: HERITAGE | G122: HERITAGE-FHT | H122: MALE | I122: 45904 | J122: 1 | K122: 663 | L122: 45931 | M122: 斐樂兒童 | N122: 回流
A123: M1776 Derrick | B123: 鞋类 | C123: 復古跑鞋 | D123: 儿童复古跑鞋 | E123: 冬季 | F123: HERITAGE | G123: HERITAGE-FHT | H123: MALE | I123: 45904 | J123: 1 | K123: 627 | L123: 45931 | M123: 斐樂兒童 | N123: 回流
A124: M2710 Pan | B124: 鞋类 | C124: 復古跑鞋 | D124: 儿童复古跑鞋 | E124: 秋季 | F124: HERITAGE | G124: HERITAGE-FHT | H124: MALE | I124: 45841 | J124: 1 | K124: 748 | L124: 45931 | M124: 斐樂兒童 | N124: 回流
A125: M2921 Grace | B125: 鞋类 | C125: 復古跑鞋 | D125: 儿童复古跑鞋 | E125: 秋季 | F125: HERITAGE | G125: HERITAGE-FHT | H125: MALE | I125: 45841 | J125: 1 | K125: 748 | L125: 45931 | M125: 斐樂兒童
A126: M0990 Mia | B126: 鞋类 | C126: 復古跑鞋 | D126: 儿童复古跑鞋 | E126: 秋季 | F126: HERITAGE | G126: HERITAGE-FHT | H126: MALE | I126: 45841 | J126: 1 | K126: 724 | L126: 45931 | M126: 斐樂兒童
A127: M1776 Derrick | B127: 鞋类 | C127: 復古跑鞋 | D127: 儿童复古跑鞋 | E127: 秋季 | F127: HERITAGE | G127: HERITAGE-FHT | H127: MALE | I127: 45797 | J127: 1 | K127: 880 | L127: 45931 | M127: 斐樂兒童
A128: M2710 Pan | B128: 鞋类 | C128: 復古跑鞋 | D128: 儿童复古跑鞋 | E128: 秋季 | F128: HERITAGE | G128: HERITAGE-FHT | H128: MALE | I128: 45874 | J128: 1 | K128: 833 | L128: 45931 | M128: 斐樂兒童 | N128: 回流
A129: M0990 Mia | B129: 鞋类 | C129: 復古跑鞋 | D129: 儿童复古跑鞋 | E129: 秋季 | F129: HERITAGE | G129: HERITAGE-FHT | H129: 男 | I129: 45874 | J129: 1 | K129: 926 | L129: 45931 | M129: 斐樂兒童 | N129: 回流
A130: M2710 Pan | B130: 鞋类 | C130: 復古跑鞋 | D130: 儿童复古跑鞋 | E130: 秋季 | F130: HERITAGE | G130: HERITAGE-FHT | H130: 男 | I130: 45874 | J130: 1 | K130: 969 | L130: 45931 | M130: 斐樂兒童 | N130: 回流
A131: M2710 Pan | B131: 鞋类 | C131: 復古跑鞋 | D131: 儿童复古跑鞋 | E131: 冬季 | F131: HERITAGE | G131: HERITAGE-FHT | H131: MALE | I131: 45904 | J131: 1 | K131: 748 | L131: 45931 | M131: 斐樂兒童 | N131: 回流
A132: M2518 Silver | B132: 鞋类 | C132: 復古跑鞋 | D132: 儿童复古跑鞋 | E132: 冬季 | F132: HERITAGE | G132: HERITAGE-FHT | H132: FEMALE | I132: 45904 | J132: 1 | K132: 980 | L132: 45931 | M132: 斐樂兒童
A133: M0990 Mia | B133: 鞋类 | C133: 復古跑鞋 | D133: 儿童复古跑鞋 | E133: 冬季 | F133: HERITAGE | G133: HERITAGE-FHT | H133: FEMALE | I133: 45904 | J133: 1 | K133: 713 | L133: 45931 | M133: 斐樂兒童 | N133: 回流
A134: M1776 Derrick | B134: 鞋类 | C134: 閃燈鞋 | D134: 儿童闪灯鞋 | E134: 冬季 | F134: HERITAGE | G134: HERITAGE-FHT | H134: MALE | I134: 45904 | J134: 1 | K134: 627 | L134: 45931 | M134: 斐樂兒童 | N134: 回流
A135: M0990 Mia | B135: 鞋类 | C135: 閃燈鞋 | D135: 儿童闪灯鞋 | E135: 秋季 | F135: HERITAGE | G135: HERITAGE-FHT | H135: FEMALE | I135: 45874 | J135: 1 | K135: 880 | L135: 45931 | M135: 斐樂兒童
A136: M1776 Derrick | B136: 鞋类 | C136: 潮鞋 | D136: 机能潮鞋 | E136: 冬季 | F136: FUSION | G136: SNEAKERS | H136: MALE | I136: 45923 | J136: 1 | K136: 1140 | L136: 45931 | M136: 斐樂潮牌 | N136: 回流
A137: M1776 Derrick | B137: 鞋类 | C137: 潮鞋 | D137: 厚底潮鞋 | E137: 冬季 | F137: FUSION | G137: SNEAKERS | H137: 女 | I137: 45904 | J137: 1 | K137: 980 | L137: 45931 | M137: 斐樂潮牌
A138: M0990 Mia | B138: 鞋类 | C138: 潮鞋 | D138: 厚底潮鞋 | E138: 冬季 | F138: FUSION | G138: SNEAKERS | H138: FEMALE | I138: 45939 | J138: 1 | K138: 980 | L138: 45931 | M138: 斐樂潮牌
A139: M2710 Pan | B139: 鞋类 | C139: 潮鞋 | D139: 厚底潮鞋 | E139: 冬季 | F139: FUSION | G139: SNEAKERS | H139: FEMALE | I139: 45939 | J139: 1 | K139: 980 | L139: 45931 | M139: 斐樂潮牌
A140: M2034 Joanna | B140: 鞋类 | C140: 经典篮球鞋 | D140: 儿童经典篮球鞋 | E140: 冬季 | F140: HERITAGE | G140: HERITAGE-FHT | H140: FEMALE | I140: 45904 | J140: 1 | K140: 746 | L140: 45931 | M140: 斐樂兒童 | N140: 回流
A141: M0990 Mia | B141: 鞋类 | C141: 经典篮球鞋 | D141: 儿童经典篮球鞋 | E141: 冬季 | F141: HERITAGE | G141: HERITAGE-FHT | H141: FEMALE | I141: 45904 | J141: 1 | K141: 724 | L141: 45931 | M141: 斐樂兒童
A142: M1776 Derrick | B142: 服装 | C142: 編織衫 | D142: 编织外套 | E142: 冬季 | F142: ATHLETICS | G142: GOLF | H142: 女 | I142: 45904 | J142: 1 | K142: 1940 | L142: 45931 | M142: 斐樂大貨 | N142: 回流
A143: M2921 Grace | B143: 服装 | C143: 編織衫 | D143: 编织衫 | E143: 秋季 | F143: LIFESTYLE | G143: FILA MILANO | H143: FEMALE | I143: 45888 | J143: 1 | K143: 980 | L143: 45931 | M143: 斐樂大貨
A144: M2710 Pan | B144: 服装 | C144: 短T類 | D144: 针织短袖衫 | E144: 秋季 | F144: ATHLETICS | G144: FITNESS | H144: MALE | I144: 45860 | J144: 1 | K144: 493 | L144: 45931 | M144: 斐樂大貨
A145: M2034 Joanna | B145: 服装 | C145: 短T類 | D145: 针织短袖POLO衫 | E145: 秋季 | F145: ATHLETICS | G145: GOLF | H145: MALE | I145: 45811 | J145: 1 | K145: 1051 | L145: 45931 | M145: 斐樂大貨 | N145: 回流
A146: M2921 Grace | B146: 服装 | C146: 短T類 | D146: 针织短袖POLO衫 | E146: 秋季 | F146: LIFESTYLE | G146: BLUE | H146: MALE | I146: 45827 | J146: 1 | K146: 969 | L146: 45931 | M146: 斐樂大貨 | N146: 回流
A147: M0990 Mia | B147: 服装 | C147: 短T類 | D147: 针织短袖POLO衫 | E147: 秋季 | F147: LIFESTYLE | G147: BLUE | H147: MALE | I147: 45827 | J147: 1 | K147: 938 | L147: 45931 | M147: 斐樂大貨
A148: M2921 Grace | B148: 服装 | C148: 短T類 | D148: 针织短袖衫 | E148: 秋季 | F148: LIFESTYLE | G148: WHITE | H148: MALE | I148: 45874 | J148: 1 | K148: 578 | L148: 45931 | M148: 斐樂大貨 | N148: 回流
A149: M2921 Grace | B149: 服装 | C149: 短T類 | D149: 针织短袖衫 | E149: 冬季 | F149: LIFESTYLE | G149: HERITAGE | H149: MALE | I149: 45904 | J149: 1 | K149: 493 | L149: 45931 | M149: 斐樂大貨 | N149: 回流
A150: M2710 Pan | B150: 服装 | C150: 短T類 | D150: 针织短袖衫 | E150: 冬季 | F150: LIFESTYLE | G150: HERITAGE | H150: MALE | I150: 45904 | J150: 1 | K150: 493 | L150: 45931 | M150: 斐樂大貨
A151: M2034 Joanna | B151: 服装 | C151: 短T類 | D151: 针织短袖衫 | E151: 秋季 | F151: LIFESTYLE | G151: WHITE | H151: FEMALE | I151: 45874 | J151: 1 | K151: 748 | L151: 45931 | M151: 斐樂大貨 | N151: 回流
A152: M2034 Joanna | B152: 服装 | C152: 短T類 | D152: 针织短袖衫 | E152: 秋季 | F152: LIFESTYLE | G152: FILA ORIGINALE | H152: FEMALE | I152: 45888 | J152: 1 | K152: 512 | L152: 45931 | M152: 斐樂大貨 | N152: 回流
A153: M2921 Grace | B153: 服装 | C153: 短T類 | D153: 针织短袖衫 | E153: 冬季 | F153: INLINE | G153: WORKWEAR | H153: MALE | I153: 45904 | J153: 1 | K153: 544 | L153: 45931 | M153: 斐樂潮牌
A154: M1776 Derrick | B154: 服装 | C154: 棉服 | D154: 棉马甲 | E154: 冬季 | F154: ATHLETICS | G154: GOLF | H154: MALE | I154: 45923 | J154: 1 | K154: 1926 | L154: 45931 | M154: 斐樂大貨 | N154: 回流
A155: M2518 Silver | B155: 服装 | C155: 內搭 | D155: 针织长袖上衣 | E155: 冬季 | F155: ATHLETICS | G155: FITNESS | H155: MALE | I155: 45904 | J155: 1 | K155: 663 | L155: 45931 | M155: 斐樂大貨 | N155: 回流
A156: M2518 Silver | B156: 服装 | C156: 內搭 | D156: 针织长袖上衣 | E156: 冬季 | F156: ATHLETICS | G156: FITNESS | H156: MALE | I156: 45904 | J156: 1 | K156: 880 | L156: 45931 | M156: 斐樂大貨
A157: M2518 Silver | B157: 服装 | C157: 內搭 | D157: 针织长袖上衣 | E157: 冬季 | F157: ATHLETICS | G157: FITNESS | H157: MALE | I157: 45904 | J157: 1 | K157: 717 | L157: 45931 | M157: 斐樂大貨 | N157: 回流
A158: M2518 Silver | B158: 服装 | C158: 內搭 | D158: 针织长袖POLO衫 | E158: 冬季 | F158: ATHLETICS | G158: GOLF | H158: MALE | I158: 45904 | J158: 1 | K158: 1369 | L158: 45931 | M158: 斐樂大貨 | N158: 回流
...
