Workbook

Sheet 20250730
A1: RMV店鋪退貨表格 | P1: 1
A3: To: | B3: RIS/RNT/RPC/RS2/RO4/RP4/RM1/RCG/RKT/WHR/RMD/RML/RYC
A5: Fm: | B5: RMV | L5: Date: | M5: 45868
B7: 香港轉貨 請用白色A4紙作列印地址
B9: Carton No. | C9: T/O Memo# | D9: 跟進人員 STAFF NO. | E9: 轉出店代號 | F9: No. of Items | L9: Reason | M9: RFID | O9: 備注
F10: APP | G10: FOT | H10: ACC | I10: 物料 | J10: 箱 | K10: Total | M10: 是 | N10: 否
B11: 1 | C11: .AHKAL25074809 | D11: M1815 Tim | E11: 7111 | F11: 8 | J11: 1 | K11: =SUM(F11:I11) -> 8 | L11: =VLOOKUP(E11,'店代號（勿刪）'!$B:$D,3,0) -> RIS | M11: 是
B12: 2 | C12: AHKAL25075006 | D12: M1815 Tim | E12: 7115 | F12: 2 | J12: 1 | K12: =SUM(F12:I12) -> 2 | L12: =VLOOKUP(E12,'店代號（勿刪）'!$B:$D,3,0) -> RNT | M12: 是
B13: 3 | C13: AHKAL25074798 | D13: M1815 Tim | E13: 7118 | F13: 10 | J13: 1 | K13: =SUM(F13:I13) -> 10 | L13: =VLOOKUP(E13,'店代號（勿刪）'!$B:$D,3,0) -> RPC | M13: 是
B14: 4 | C14: AHKAL25074830 | D14: M1815 Tim | E14: 7120 | F14: 15 | J14: 1 | K14: =SUM(F14:I14) -> 15 | L14: =VLOOKUP(E14,'店代號（勿刪）'!$B:$D,3,0) -> RS2 | M14: 是
B15: 5 | C15: AHKAL25074869 | D15: M1815 Tim | E15: 7132 | F15: 7 | J15: 1 | K15: =SUM(F15:I15) -> 7 | L15: =VLOOKUP(E15,'店代號（勿刪）'!$B:$D,3,0) -> RO4 | M15: 是
B16: 6 | C16: AHKAL25074803 | D16: M1815 Tim | E16: 7143 | F16: 22 | J16: 1 | K16: =SUM(F16:I16) -> 22 | L16: =VLOOKUP(E16,'店代號（勿刪）'!$B:$D,3,0) -> RP4 | M16: 是
B17: 7 | C17: AHKAL25074870 | D17: M1815 Tim | E17: 7149 | F17: 1 | J17: 1 | K17: =SUM(F17:I17) -> 1 | L17: =VLOOKUP(E17,'店代號（勿刪）'!$B:$D,3,0) -> RM1 | M17: 是
B18: 8 | C18: AHKAL25074784 | D18: M1815 Tim | E18: 7152 | F18: 14 | J18: 1 | K18: =SUM(F18:I18) -> 14 | L18: =VLOOKUP(E18,'店代號（勿刪）'!$B:$D,3,0) -> RCG | M18: 是
B19: 9 | C19: AHKAL25074835 | D19: M1815 Tim | E19: 7163 | F19: 11 | J19: 1 | K19: =SUM(F19:I19) -> 11 | L19: =VLOOKUP(E19,'店代號（勿刪）'!$B:$D,3,0) -> RKT | M19: 是
B20: 10 | C20: AHKWF2507005556 | D20: M1815 Tim | E20: 1019 | F20: 26 | J20: 1 | K20: =SUM(F20:I20) -> 26 | L20: =VLOOKUP(E20,'店代號（勿刪）'!$B:$D,3,0) -> T1-退貨處理倉 | M20: 是
B21: 11 | K21: =SUM(F21:I21) -> 0 | L21: =VLOOKUP(E21,'店代號（勿刪）'!$B:$D,3,0) -> #N/A
B22: 12 | K22: =SUM(F22:I22) -> 0 | L22: =VLOOKUP(E22,'店代號（勿刪）'!$B:$D,3,0) -> #N/A
B23: 13 | K23: =SUM(F23:I23) -> 0 | L23: =VLOOKUP(E23,'店代號（勿刪）'!$B:$D,3,0) -> #N/A
B24: 14 | K24: =SUM(F24:I24) -> 0 | L24: =VLOOKUP(E24,'店代號（勿刪）'!$B:$D,3,0) -> #N/A
B25: 15 | K25: =SUM(F25:I25) -> 0 | L25: =VLOOKUP(E25,'店代號（勿刪）'!$B:$D,3,0) -> #N/A
B26: 16 | K26: =SUM(F26:I26) -> 0 | L26: =VLOOKUP(E26,'店代號（勿刪）'!$B:$D,3,0) -> #N/A
B27: 17 | K27: =SUM(F27:I27) -> 0 | L27: =VLOOKUP(E27,'店代號（勿刪）'!$B:$D,3,0) -> #N/A
B28: 18 | K28: =SUM(F28:I28) -> 0 | L28: =VLOOKUP(E28,'店代號（勿刪）'!$B:$D,3,0) -> #N/A
B29: 19 | K29: =SUM(F29:I29) -> 0 | L29: =VLOOKUP(E29,'店代號（勿刪）'!$B:$D,3,0) -> #N/A
B30: 20 | K30: =SUM(F30:I30) -> 0 | L30: =VLOOKUP(E30,'店代號（勿刪）'!$B:$D,3,0) -> #N/A
B31: 21 | K31: =SUM(F31:I31) -> 0 | L31: =VLOOKUP(E31,'店代號（勿刪）'!$B:$D,3,0) -> #N/A
B32: 22 | K32: =SUM(F32:I32) -> 0 | L32: =VLOOKUP(E32,'店代號（勿刪）'!$B:$D,3,0) -> #N/A
... B61: 51 | K61: =SUM(F61:I61) -> 0 | L61: =VLOOKUP(E61,'店代號（勿刪）'!$B:$D,3,0) -> #N/A
B62: 澳門區內轉貨 請用黃色A4紙作列印地址
B63: Carton No. | C63: T/O Memo# | D63: 跟進人員 STAFF NO. | E63: 轉出店代號 | F63: No. of Items | L63: Reason | M63: RFID | O63: 備注
F64: APP | G64: FOT | H64: ACC | I64: 物料 | J64: 箱 | K64: Total | M64: 是 | N64: 否
B65: 1 | C65: AHKAL25074989 | D65: M1815 Tim | E65: 7215 | G65: 18 | J65: 1 | K65: =SUM(F65:I65) -> 18 | L65: =VLOOKUP(E65,'店代號（勿刪）'!$B:$D,3,0) -> RMD | M65: 是
B66: 2 | C66: AHKAL25074903 | D66: M1815 Tim | E66: 7215 | F66: 2 | J66: 1 | K66: =SUM(F66:I66) -> 2 | L66: =VLOOKUP(E66,'店代號（勿刪）'!$B:$D,3,0) -> RMD | M66: 是
B67: 3 | C67: AHKAL25074898 | D67: M1815 Tim | E67: 7215 | F67: 62 | J67: 1 | K67: =SUM(F67:I67) -> 62 | L67: =VLOOKUP(E67,'店代號（勿刪）'!$B:$D,3,0) -> RMD | M67: 是
B68: 4 | C68: AHKAL25075018 | D68: M1815 Tim | E68: 7226 | G68: 4 | J68: 1 | K68: =SUM(F68:I68) -> 4 | L68: =VLOOKUP(E68,'店代號（勿刪）'!$B:$D,3,0) -> RML | M68: 是
B69: 5 | C69: AHKAL25075011 | D69: M1815 Tim | E69: 7226 | G69: 4 | J69: 1 | K69: =SUM(F69:I69) -> 4 | L69: =VLOOKUP(E69,'店代號（勿刪）'!$B:$D,3,0) -> RML | M69: 是
B70: 6 | C70: AHKAL25075010 | D70: M1815 Tim | E70: 7227 | G70: 4 | J70: 1 | K70: =SUM(F70:I70) -> 4 | L70: =VLOOKUP(E70,'店代號（勿刪）'!$B:$D,3,0) -> RYC | M70: 是
B71: 7 | C71: AHKAL25075003 | D71: M1815 Tim | E71: 7227 | G71: 5 | J71: 1 | K71: =SUM(F71:I71) -> 5 | L71: =VLOOKUP(E71,'店代號（勿刪）'!$B:$D,3,0) -> RYC | M71: 是
B72: 8 | C72: AHKAL25075002 | D72: M1815 Tim | E72: 7227 | F72: 1 | G72: 7 | J72: 1 | K72: =SUM(F72:I72) -> 8 | L72: =VLOOKUP(E72,'店代號（勿刪）'!$B:$D,3,0) -> RYC | M72: 是
B73: 9 | C73: AHKAL25074783 | D73: M1815 Tim | E73: 7227 | F73: 29 | G73: 1 | J73: 1 | K73: =SUM(F73:I73) -> 30 | L73: =VLOOKUP(E73,'店代號（勿刪）'!$B:$D,3,0) -> RYC | M73: 是
B74: 10 | C74: 車兜佈 | D74: M1815 Tim | E74: 7215 | I74: 1 | J74: 1 | K74: =SUM(F74:I74) -> 1 | L74: =VLOOKUP(E74,'店代號（勿刪）'!$B:$D,3,0) -> RMD | M74: 否
B75: 11 | K75: =SUM(F75:I75) -> 0 | L75: =VLOOKUP(E75,'店代號（勿刪）'!$B:$D,3,0) -> #N/A
B76: 12 | K76: =SUM(F76:I76) -> 0 | L76: =VLOOKUP(E76,'店代號（勿刪）'!$B:$D,3,0) -> #N/A
B77: 13 | K77: =SUM(F77:I77) -> 0 | L77: =VLOOKUP(E77,'店代號（勿刪）'!$B:$D,3,0) -> #N/A
B78: 14 | K78: =SUM(F78:I78) -> 0 | L78: =VLOOKUP(E78,'店代號（勿刪）'!$B:$D,3,0) -> #N/A
B79: 15 | K79: =SUM(F79:I79) -> 0 | L79: =VLOOKUP(E79,'店代號（勿刪）'!$B:$D,3,0) -> #N/A
B80: 16 | K80: =SUM(F80:I80) -> 0 | L80: =VLOOKUP(E80,'店代號（勿刪）'!$B:$D,3,0) -> #N/A
B81: 17 | K81: =SUM(F81:I81) -> 0 | L81: =VLOOKUP(E81,'店代號（勿刪）'!$B:$D,3,0) -> #N/A
B82: 18 | K82: =SUM(F82:I82) -> 0 | L82: =VLOOKUP(E82,'店代號（勿刪）'!$B:$D,3,0) -> #N/A
B83: 19 | K83: =SUM(F83:I83) -> 0 | L83: =VLOOKUP(E83,'店代號（勿刪）'!$B:$D,3,0) -> #N/A
B84: 20 | K84: =SUM(F84:I84) -> 0 | L84: =VLOOKUP(E84,'店代號（勿刪）'!$B:$D,3,0) -> #N/A
B85: 21 | K85: =SUM(F85:I85) -> 0 | L85: =VLOOKUP(E85,'店代號（勿刪）'!$B:$D,3,0) -> #N/A
B86: 22 | K86: =SUM(F86:I86) -> 0 | L86: =VLOOKUP(E86,'店代號（勿刪）'!$B:$D,3,0) -> #N/A
... B116: 52 | K116: =SUM(F116:I116) -> 0 | L116: =VLOOKUP(E116,'店代號（勿刪）'!$B:$D,3,0) -> #N/A
A118: 香港箱數 | C118: =SUM(J11:J61) -> 10 | D118: 香港RFID 箱數 | F118: =COUNTIF(M11:N61,M10) -> 10
A120: 澳門箱數 | C120: =SUM(J65:J116) -> 10 | D120: 澳門 RFID 箱數 | F120: =COUNTIF(M65:N116,M64) -> 9
A122: Total箱數量 | C122: =SUM(C118,C120) -> 20
A124: 店舖經手人
A127: 收貨師傅

Sheet Sheet2
A1: RMV店鋪退貨表格 | P1: 1
A3: To:
A5: Fm: | B5: RMV | L5: Date: | M5: 2025/2/
B7: 香港轉貨 請用白色A4紙作列印地址
B9: Carton No. | C9: T/O Memo# | D9: 跟進人員 STAFF NO. | E9: 轉出店代號 | F9: No. of Items | L9: Reason | M9: RFID | O9: 備注
F10: APP | G10: FOT | H10: ACC | I10: 物料 | J10: 箱 | K10: Total | M10: 是 | N10: 否
B11: 1 | C11: . | K11: =SUM(F11:I11) -> 0 | L11: =VLOOKUP(E11,'店代號（勿刪）'!$B:$D,3,0) -> #N/A
B12: 2 | K12: =SUM(F12:I12) -> 0 | L12: =VLOOKUP(E12,'店代號（勿刪）'!$B:$D,3,0) -> #N/A
B13: 3 | K13: =SUM(F13:I13) -> 0 | L13: =VLOOKUP(E13,'店代號（勿刪）'!$B:$D,3,0) -> #N/A
B14: 4 | K14: =SUM(F14:I14) -> 0 | L14: =VLOOKUP(E14,'店代號（勿刪）'!$B:$D,3,0) -> #N/A
B15: 5 | K15: =SUM(F15:I15) -> 0 | L15: =VLOOKUP(E15,'店代號（勿刪）'!$B:$D,3,0) -> #N/A
B16: 6 | K16: =SUM(F16:I16) -> 0 | L16: =VLOOKUP(E16,'店代號（勿刪）'!$B:$D,3,0) -> #N/A
B17: 7 | K17: =SUM(F17:I17) -> 0 | L17: =VLOOKUP(E17,'店代號（勿刪）'!$B:$D,3,0) -> #N/A
B18: 8 | K18: =SUM(F18:I18) -> 0 | L18: =VLOOKUP(E18,'店代號（勿刪）'!$B:$D,3,0) -> #N/A
B19: 9 | K19: =SUM(F19:I19) -> 0 | L19: =VLOOKUP(E19,'店代號（勿刪）'!$B:$D,3,0) -> #N/A
B20: 10 | K20: =SUM(F20:I20) -> 0 | L20: =VLOOKUP(E20,'店代號（勿刪）'!$B:$D,3,0) -> #N/A
B21: 11 | K21: =SUM(F21:I21) -> 0 | L21: =VLOOKUP(E21,'店代號（勿刪）'!$B:$D,3,0) -> #N/A
B22: 12 | K22: =SUM(F22:I22) -> 0 | L22: =VLOOKUP(E22,'店代號（勿刪）'!$B:$D,3,0) -> #N/A
B23: 13 | K23: =SUM(F23:I23) -> 0 | L23: =VLOOKUP(E23,'店代號（勿刪）'!$B:$D,3,0) -> #N/A
... B61: 51 | K61: =SUM(F61:I61) -> 0 | L61: =VLOOKUP(E61,'店代號（勿刪）'!$B:$D,3,0) -> #N/A
B62: 澳門區內轉貨 請用黃色A4紙作列印地址
B63: Carton No. | C63: T/O Memo# | D63: 跟進人員 STAFF NO. | E63: 轉出店代號 | F63: No. of Items | L63: Reason | M63: RFID | O63: 備注
F64: APP | G64: FOT | H64: ACC | I64: 物料 | J64: 箱 | K64: Total | M64: 是 | N64: 否
B65: 1 | K65: =SUM(F65:I65) -> 0 | L65: =VLOOKUP(E65,'店代號（勿刪）'!$B:$D,3,0) -> #N/A
B66: 2 | K66: =SUM(F66:I66) -> 0 | L66: =VLOOKUP(E66,'店代號（勿刪）'!$B:$D,3,0) -> #N/A
B67: 3 | K67: =SUM(F67:I67) -> 0 | L67: =VLOOKUP(E67,'店代號（勿刪）'!$B:$D,3,0) -> #N/A
B68: 4 | K68: =SUM(F68:I68) -> 0 | L68: =VLOOKUP(E68,'店代號（勿刪）'!$B:$D,3,0) -> #N/A
B69: 5 | K69: =SUM(F69:I69) -> 0 | L69: =VLOOKUP(E69,'店代號（勿刪）'!$B:$D,3,0) -> #N/A
B70: 6 | K70: =SUM(F70:I70) -> 0 | L70: =VLOOKUP(E70,'店代號（勿刪）'!$B:$D,3,0) -> #N/A
B71: 7 | K71: =SUM(F71:I71) -> 0 | L71: =VLOOKUP(E71,'店代號（勿刪）'!$B:$D,3,0) -> #N/A
B72: 8 | K72: =SUM(F72:I72) -> 0 | L72: =VLOOKUP(E72,'店代號（勿刪）'!$B:$D,3,0) -> #N/A
B73: 9 | K73: =SUM(F73:I73) -> 0 | L73: =VLOOKUP(E73,'店代號（勿刪）'!$B:$D,3,0) -> #N/A
B74: 10 | K74: =SUM(F74:I74) -> 0 | L74: =VLOOKUP(E74,'店代號（勿刪）'!$B:$D,3,0) -> #N/A
B75: 11 | K75: =SUM(F75:I75) -> 0 | L75: =VLOOKUP(E75,'店代號（勿刪）'!$B:$D,3,0) -> #N/A
B76: 12 | K76: =SUM(F76:I76) -> 0 | L76: =VLOOKUP(E76,'店代號（勿刪）'!$B:$D,3,0) -> #N/A
... B116: 52 | K116: =SUM(F116:I116) -> 0 | L116: =VLOOKUP(E116,'店代號（勿刪）'!$B:$D,3,0) -> #N/A
A118: 香港箱數 | C118: =SUM(J11:J61) -> 0 | D118: 香港RFID 箱數 | F118: =COUNTIF(M11:N61,M10) -> 0
A120: 澳門箱數 | C120: =SUM(J65:J116) -> 0 | D120: 澳門 RFID 箱數 | F120: =COUNTIF(M65:N116,M64) -> 0
A122: Total箱數量 | C122: =SUM(C118,C120) -> 0
A124: 店舖經手人
A127: 收貨師傅

Sheet Sheet3
A1: RMV店鋪退貨表格 | P1: 1
A3: To:
A5: Fm: | B5: RMV | L5: Date: | M5: 2025/2/
B7: 香港轉貨 請用白色A4紙作列印地址
B9: Carton No. | C9: T/O Memo# | D9: 跟進人員 STAFF NO. | E9: 轉出店代號 | F9: No. of Items | L9: Reason | M9: RFID | O9: 備注
F10: APP | G10: FOT | H10: ACC | I10: 物料 | J10: 箱 | K10: Total | M10: 是 | N10: 否
B11: 1 | C11: . | K11: =SUM(F11:I11) -> 0 | L11: =VLOOKUP(E11,'店代號（勿刪）'!$B:$D,3,0) -> #N/A
B12: 2 | K12: =SUM(F12:I12) -> 0 | L12: =VLOOKUP(E12,'店代號（勿刪）'!$B:$D,3,0) -> #N/A
B13: 3 | K13: =SUM(F13:I13) -> 0 | L13: =VLOOKUP(E13,'店代號（勿刪）'!$B:$D,3,0) -> #N/A
B14: 4 | K14: =SUM(F14:I14) -> 0 | L14: =VLOOKUP(E14,'店代號（勿刪）'!$B:$D,3,0) -> #N/A
B15: 5 | K15: =SUM(F15:I15) -> 0 | L15: =VLOOKUP(E15,'店代號（勿刪）'!$B:$D,3,0) -> #N/A
B16: 6 | K16: =SUM(F16:I16) -> 0 | L16: =VLOOKUP(E16,'店代號（勿刪）'!$B:$D,3,0) -> #N/A
B17: 7 | K17: =SUM(F17:I17) -> 0 | L17: =VLOOKUP(E17,'店代號（勿刪）'!$B:$D,3,0) -> #N/A
B18: 8 | K18: =SUM(F18:I18) -> 0 | L18: =VLOOKUP(E18,'店代號（勿刪）'!$B:$D,3,0) -> #N/A
B19: 9 | K19: =SUM(F19:I19) -> 0 | L19: =VLOOKUP(E19,'店代號（勿刪）'!$B:$D,3,0) -> #N/A
B20: 10 | K20: =SUM(F20:I20) -> 0 | L20: =VLOOKUP(E20,'店代號（勿刪）'!$B:$D,3,0) -> #N/A
B21: 11 | K21: =SUM(F21:I21) -> 0 | L21: =VLOOKUP(E21,'店代號（勿刪）'!$B:$D,3,0) -> #N/A
B22: 12 | K22: =SUM(F22:I22) -> 0 | L22: =VLOOKUP(E22,'店代號（勿刪）'!$B:$D,3,0) -> #N/A
B23: 13 | K23: =SUM(F23:I23) -> 0 | L23: =VLOOKUP(E23,'店代號（勿刪）'!$B:$D,3,0) -> #N/A
... B61: 51 | K61: =SUM(F61:I61) -> 0 | L61: =VLOOKUP(E61,'店代號（勿刪）'!$B:$D,3,0) -> #N/A
B62: 澳門區內轉貨 請用黃色A4紙作列印地址
B63: Carton No. | C63: T/O Memo# | D63: 跟進人員 STAFF NO. | E63: 轉出店代號 | F63: No. of Items | L63: Reason | M63: RFID | O63: 備注
F64: APP | G64: FOT | H64: ACC | I64: 物料 | J64: 箱 | K64: Total | M64: 是 | N64: 否
B65: 1 | K65: =SUM(F65:I65) -> 0 | L65: =VLOOKUP(E65,'店代號（勿刪）'!$B:$D,3,0) -> #N/A
B66: 2 | K66: =SUM(F66:I66) -> 0 | L66: =VLOOKUP(E66,'店代號（勿刪）'!$B:$D,3,0) -> #N/A
B67: 3 | K67: =SUM(F67:I67) -> 0 | L67: =VLOOKUP(E67,'店代號（勿刪）'!$B:$D,3,0) -> #N/A
B68: 4 | K68: =SUM(F68:I68) -> 0 | L68: =VLOOKUP(E68,'店代號（勿刪）'!$B:$D,3,0) -> #N/A
B69: 5 | K69: =SUM(F69:I69) -> 0 | L69: =VLOOKUP(E69,'店代號（勿刪）'!$B:$D,3,0) -> #N/A
B70: 6 | K70: =SUM(F70:I70) -> 0 | L70: =VLOOKUP(E70,'店代號（勿刪）'!$B:$D,3,0) -> #N/A
B71: 7 | K71: =SUM(F71:I71) -> 0 | L71: =VLOOKUP(E71,'店代號（勿刪）'!$B:$D,3,0) -> #N/A
B72: 8 | K72: =SUM(F72:I72) -> 0 | L72: =VLOOKUP(E72,'店代號（勿刪）'!$B:$D,3,0) -> #N/A
B73: 9 | K73: =SUM(F73:I73) -> 0 | L73: =VLOOKUP(E73,'店代號（勿刪）'!$B:$D,3,0) -> #N/A
B74: 10 | K74: =SUM(F74:I74) -> 0 | L74: =VLOOKUP(E74,'店代號（勿刪）'!$B:$D,3,0) -> #N/A
B75: 11 | K75: =SUM(F75:I75) -> 0 | L75: =VLOOKUP(E75,'店代號（勿刪）'!$B:$D,3,0) -> #N/A
B76: 12 | K76: =SUM(F76:I76) -> 0 | L76: =VLOOKUP(E76,'店代號（勿刪）'!$B:$D,3,0) -> #N/A
... B116: 52 | K116: =SUM(F116:I116) -> 0 | L116: =VLOOKUP(E116,'店代號（勿刪）'!$B:$D,3,0) -> #N/A
A118: 香港箱數 | C118: =SUM(J11:J61) -> 0 | D118: 香港RFID 箱數 | F118: =COUNTIF(M11:N61,M10) -> 0
A120: 澳門箱數 | C120: =SUM(J65:J116) -> 0 | D120: 澳門 RFID 箱數 | F120: =COUNTIF(M65:N116,M64) -> 0
A122: Total箱數量 | C122: =SUM(C118,C120) -> 0
A124: 店舖經手人
A127: 收貨師傅

Sheet 店代號（勿刪）
A1: FILA CORE HK | B1: 店代號 | C1: 店名 | D1: Reason
A2: 旺角荷李活商業中心 | B2: 7149 | C2: RM1 | D2: RM1
A3: 尖沙咀 ISQUARE | B3: 7111 | C3: RIS | D3: RIS
A4: 尖沙咀海港城 海運大廈 | B4: 7132 | C4: RO4 | D4: RO4
A5: Times Square 時代廣場 | B5: 7162 | C5: RT5 | D5: RT5
A6: 沙田新城市廣場 | B6: 7115 | C6: RNT | D6: RNT
A7: 上水新都廣場 | B7: 7148 | C7: RSS | D7: RSS
A8: 元朗YOHO Mall I | B8: 7133 | C8: RYO | D8: RYO
A9: Telford Plaza Shop 德福廣場 | B9: 7165 | C9: RTC | D9: RTC
A10: 又一城Festival Walk | B10: 7130 | C10: RF4 | D10: RF4
A11: 將軍澳Popcorn | B11: 7118 | C11: RPC | D11: RPC
A12: 東涌Citygate Outlet | B12: 7152 | C12: RCG | D12: RCG
A13: 屯門V City | B13: 7128 | C13: RVC | D13: RVC
... A24: MOKO Pop up 新世紀廣場 | B24: 7192 | C24: SP2 | D24: SP2
A32: FILA KIDS HK
A33: Ocean Terminal Kids Shop 海港城童裝 | B33: 7150 | C33: RHK | D33: RHK
A34: New Town Plaza Kids Shop 新城市廣場童裝 | B34: 7136 | C34: RNK | D34: RNK
A35: Sogo Dept. Store Kids 祟光百貨 童裝 | B35: 7121 | C35: RSK | D35: RSK
A43: FILA FUSION HK
A44: Kwun Tong apm | B44: 7138 | C44: RAF | D44: RAF
A45: Citygate Fusion Outlet Shop 東薈城 | B45: 7158 | C45: RDF | D45: RDF
A46: Langham Place Fusion Shop 朗豪坊 | B46: 7140 | C46: RLF | D46: RLF
A47: V City Fusion | B47: 7157 | C47: RVF | D47: RVF
A48: Ocean Terminal LCX Fusion | B48: 7156 | C48: ROF | D48: ROF
A58: FILA WHR HK
A59: A1-正品主倉 | B59: 1001 | C59: WHR | D59: A1-正品主倉
A60: 虛擬倉-批發/寄賣業務暫存 | B60: 1002 | C60: WHR | D60: 虛擬倉-批發/寄賣業務暫存
A61: 虛擬倉-採購部門辦公室/殘次品倉 | B61: 1003 | C61: WHR | D61: 虛擬倉-採購部門辦公室/殘次品倉
A62: C1-瑕疵品倉 | B62: 1004 | C62: WHR | D62: C1-瑕疵品倉
A63: D1-報廢品倉 | B63: 1005 | C63: WHR | D63: D1-報廢品倉
A64: A2-贈品倉 | B64: 1006 | C64: WHR | D64: A2-贈品倉
A65: 虛擬倉-運營部制服 | B65: 1007 | C65: WHR | D65: 虛擬倉-運營部制服
A66: X1-中轉倉 | B66: 1009 | C66: WHR | D66: X1-中轉倉
A67: A3-貨品暫存倉 | B67: 1010 | C67: WHR | D67: A3-貨品暫存倉
A68: 虛擬倉-退貨暫存 | B68: 1011 | C68: WHR | D68: 虛擬倉-退貨暫存
A69: A4-制服倉 | B69: 1013 | C69: WHR | D69: A4-制服倉
A70: 虛擬倉-辦公室市場部貨品 | B70: 1014 | C70: WHR | D70: 虛擬倉-辦公室市場部貨品
... A77: 虛擬倉-工服處理倉 | B77: 1026 | C77: WHR | D77: 虛擬倉-工服處理倉
A85: FILA MACAU
A86: 澳門威尼斯人旗艦店 | B86: 7221 | C86: RMA | D86: RMA
A87: 澳門威尼斯人大運河店 (大貨) | B87: 7211 | C87: RMV | D87: RMV
A88: Londoner (大貨) | B88: 7226 | C88: RML | D88: RML
A89: 澳門倫敦人 (大貨) | B89: 7213 | C89: RMC | D89: RMC
A90: 澳門板樟堂 (大貨) | B90: 7215 | C90: RMD | D90: RMD
A91: 澳門新八佰伴 (大貨) | B91: 7227 | C91: RYC | D91: RYC
A92: 澳門葡京人(大貨) | B92: 7225 | C92: RMB | D92: RMB
A98: FILA MACAU KIDS
A99: 澳門倫敦人 (KIDS) | B99: 7217 | C99: RCK | D99: RCK
A100: 澳門新八佰伴 (KIDS) | B100: 7224 | C100: RYK | D100: RYK
A101: 澳門上葡京人 (KIDS) | B101: 7292 | C101: SPL | D101: SPL
A107: FILA MACAU 道具
A108: 澳門威尼斯人旗艦店 | B108: 7221-1 | C108: RMA | D108: RMA VM道具
A109: 澳門威尼斯人大運河店 (大貨) | B109: 7211-1 | C109: RMV | D109: RMV VM道具
A110: Londoner (大貨) | B110: 7226-1 | C110: RML | D110: RML VM道具
A111: 澳門倫敦人 (大貨) | B111: 7213-1 | C111: RMC | D111: RMC VM道具
A112: 澳門板樟堂 (大貨) | B112: 7215-1 | C112: RMD | D112: RMD VM道具
A113: 澳門新八佰伴 (大貨) | B113: 7227-1 | C113: RYC | D113: RYC VM道具
A114: 澳門葡京人(大貨) | B114: 7225-1 | C114: RMB | D114: RMB VM道具
A120: FILA MACAU KIDS 道具
A121: 澳門倫敦人 (KIDS) | B121: 7217-1 | C121: RCK | D121: RCK VM道具
A122: 澳門新八佰伴 (KIDS) | B122: 7224-1 | C122: RYK | D122: RYK VM道具
A123: 澳門上葡京人 (KIDS) | B123: 7292-1 | C123: SPL | D123: SPL VM道具
A129: 门店职员信息
A130: P2223 Eric | B130: 是 | D130: RMV 同事
A131: M2487 Mi | B131: 否 | D131: M1815 Tim
A132: M1996 Maggie | D132: M1776 Derrick
A133: M2651 Kris | D133: M2518 Silver
A134: M0471 Calvin | D134: M1980 Jessica
A135: M0924 Daniel | D135: M2798 Ryan
A136: M0990 Mia | D136: M2801 Fanny
A137: M1349 Kan | D137: M2172 Janet
A138: M1828 Iris | D138: M2767 Christy
A139: M2034 Joanna | D139: M2867 Nora
A140: M2172 Janet | D140: M2902 Carmen
A141: M2388 Queen | D141: P2223 Eric
A142: M2491 Keith | D142: P2370 Alan
A143: M2518 Silver | D143: P2351 Wendy
A144: M2521 Maggie
A145: M2595 Anson
A146: M2532 Nana
A147: M2661 Losa
A148: M2669 Yoyo
A149: M1442 Phoebe
A150: M0620 Miki
A151: M2382 Yuki
A152: M0989 Susanna
A153: M1758 May
A154: M2617 Hiley
A155: M0699 Bonnie
... A188: M2849 Carey

Sheet 香港
A1: FROM : RMV
A2: TO : FILA WAREHOUSE- DD102 L2918 9,
A3: Tung Tau Yuen, Yuen Long, N.T.
A4: 新田古洞路 DD102-2327
A7: NO. OF CTN : | F7: AHKAL25070198
A8: Date : | D8: =TODAY() -> 46135
A9: Remarks : | F9: CONSO TO WHR
B10: FRID : | E10: 是 | F10: ✔ | H10: 否

Sheet 香港分店
A1: FROM : RMV | H1: 店鋪代碼 | I1: 7148
A2: TO : | C2: =VLOOKUP(I1,'店代號（勿刪）'!$B:$C,2,FALSE) -> RSS
A3: FILA WAREHOUSE- DD102 L2918 9,
A4: Tung Tau Yuen, Yuen Long, N.T.
A5: 新田古洞路 DD102-2327
A7: NO. OF CTN : | F7: AHKAL25070234
A8: Date : | D8: =TODAY() -> 46135
A9: Remarks : | F9: =VLOOKUP(I1,'店代號（勿刪）'!$B:$D,3,FALSE) -> RSS
B10: FRID : | E10: 是 | F10: ✔ | H10: 否

Sheet Sales Memo
A2: FROM: | C2: 7193(SP3)
A4: TO:
A5: NO.OF CTN : | E5: 1 OF 1
A6: T/O NO. ：
A7: Date ： | E7: =TODAY() -> 46135
A8: Remarks ：
